{"text_format":"1","workbook":"xlsx","n_sheets":3,"sheets":["Presentación","Egresados","Maestros"],"not_rendered":{"charts":0,"images":5,"macros":1,"external_links":0,"defined_names":9,"comments":0,"pivot_tables":0},"unopened":[],"bounds":{"document_bytes":16777216,"sheet_cells":100000,"rows_first":2000,"rows_last":500,"rows_between":2000,"halvings":0,"cell_chars":16384,"cell_head_chars":4096},"cells_cut":0,"cells_raw":0,"read":"whole","date_system":"1900"}

{"sheet":"Presentación","index":0,"n_rows":39,"n_cols":6,"rows_kept":39,"cut":false,"hidden":false,"merged":[[15,1,15,2],[3,1,3,2],[15,4,15,5],[0,2,0,4],[1,2,1,4]]}
[null,null,"SISTEMA DE RECOLECCIÓN DE INFORMACIÓN"]
[null,null,"NÓMINA DE CARGA DE EGRESADOS"]
[]
[null,"Datos Generales"]
[null,"Institución Educativa:","Universidad Nacional de Educación Enrique Guzmán y Valle"]
[null,"Código Modular:","160000025"]
[null,"Tipo de Institución Educativa:","UNIVERSIDAD"]
[null,"Tipo de Gestión","PÚBLICA"]
[null,"Año","2020"]
[null,"Tipo de Fichero","EGRESADOS"]
[]
[]
[]
[]
[]
[null,"Descripción de las Columnas",null,null,"RECOMENDACIONES:"]
[null,"Tipo de Documento","Referido al tipo de documento de identificación del egresado: DNI, CARNÉ EXTRANJERÍA, PASAPORTE.",null,1,"El fichero excel descargado contiene Macros, por lo que al abrirlo por primera vez deberá asegurarse que la ejecución de Macros se encuentre habilitada."]
[null,"Número de Documento","Número de documento del egresado.",null,2,"Al momento de copiar información en la tabla perteneciente a un determinado fichero, se recomienda realizar el pegado de solo valores: (Pegado Especial -->Pegar Valores --> Valores(Sin formato))\n- Se recomienda el uso del botón \"Pegar Valores\"."]
[null,"Apellido Paterno","Apellido paterno del egresado.",null,3,"No debera sobreescribir el nombre del archivo generado (TXT), ni su contenido"]
[null,"Apellido Materno","Apellido materno del egresado.",null,4,"No agregar o quitar columnas de las cabeceras de los registros"]
[null,"Nombres","Nombre del egresado.",null,5,"No agregar hojas nuevas."]
[null,"Genero","Género del egresado.",null,6,"No alterar el formato del archivo."]
[null,"Fecha de nacimiento","Fecha de nacimiento del egresado."]
[null,"¿Es discapacitado?","Indicador de discapacidad del egresado, muestra los valores Si/No."]
[null,"Tipo de discapacidad","Tipo de discapacidad del egresado."]
[null,"Email","Correo electrónico del egresado."]
[null,"Teléfono","Teléfono del egresado."]
[null,"Periodo de Egreso","Periodo lectivo en el que egresó el estudiante. Por ejemplo: 2013-1, 2013-2"]
[null,"Local de carrera","Local al que pertenece la carrera bajo la cual egresó."]
[null,"Carrera","Carrera por la cual egresó el estudiante, dependiente de Facultad."]
[null,"Nota promedio","Nota promedio que presenta el egresante."]
[null,"Periodo de Ingreso","Periodo de ingreso"]
[null,"¿Es titulado?","Indicador que especifica si se trata de un titulado, muestra los valores Si/No."]
[null,"Periodo de Ingreso","Periodo lectivo de ingreso. Por ejemplo: 2013-1, 2013-2."]
[null,"Periodo de primera matricula","Periodo lectivo de la primera matricula del egresado. Por ejemplo: 2013-1, 2013-2"]
[null,"Correo institucional","Correo eletrónico brindado por su institución.\n\nTipo de dato: acepta caracteres alfanuméricos.\nRegla validación: solo acepta hasta 50 caracteres como máximo"]
[null,"Correo personal","Correo eletrónico personal.\n\nTipo de dato: acepta caracteres alfanuméricos.\nRegla validación: solo acepta hasta 50 caracteres como máximo"]
[null,"Teléfono","Nro de teléfono fijo.\n\nTipo de dato: acepta caracteres alfanuméricos.\nRegla validación: Permite solo caracteres numéricos de hasta 10 dígitos"]
[null,"Celular","Nro de celular.\n\nTipo de dato: acepta solo números enteros\nRegla validación: Permite solo caracteres numéricos de 9 dígitos, el primer número debe ser 9. ejemplo: 9xxxxxxxx, 912345678."]

{"sheet":"Egresados","index":1,"n_rows":705,"n_cols":39,"rows_kept":705,"cut":false,"hidden":false,"merged":[[0,1,0,7],[1,1,1,7]]}
[null,"Sistema de Recolección de Información"]
[null,"Egresados - Universidad Nacional de Educación Enrique Guzmán y Valle - Año 2020"]
[]
["Total\nde Filas:",697,null,null,null,null,null,"Filas Analizadas:"]
[]
["Fila","Validación","tipo_documento","numero_documento","apellido_paterno","apellido_materno","nombres","genero","fecha_nacimiento","es_discapacitado","tipo_discapacidad","email","telefono","periodo_lectivo_egreso","local_carrera","nombre_carrera","nota_promedio","indicador_esgresado","indicador_titulado","periodo_lectivo_ingreso","periodo_lectivo_primera_matricula"]
["Número","Validación","Tipo de Documento","Número de Documento","Apellido Paterno","Apellido Materno","Nombres","Genero","Fecha de nacimiento","¿Discap.?","Tipo de discapacidad","Email-hide","Teléfono-hide","Periodo de Egreso","Local de carrera","Carrera","Nota promedio","¿Es egresado?-Hide","¿Es titulado?-hide","Periodo de Ingreso","Periodo de primera matricula","Correo Institucional","Correo Personal","Teléfono","Celular","codigoperiodo","codigolocal","codigocoincidir","codigocarr","codigocoincircarr","codigo_tipodoc","codigo_genero","es_discapacitado","es_egresado","es_titulado","cod_pi","cod_ppm","cod_tipo_dis","nota"]
[{"$f":"ROW()-8","v":0},null,null,null,null,null,null,null,null,null,null,null,null,null,null,null,null,null,null,null,null,null,null,null,null,{"$f":"IF(ISERROR(VLOOKUP(Egresados!$N$8:$N$705,Maestros!$D$31:$E$530,2,0)),\"\",VLOOKUP(Egresados!$N$8:$N$705,Maestros!$D$31:$E$530,2,0))","v":""},{"$f":"IF(ISERROR(VLOOKUP(Egresados!$O8,Maestros!$G$31:$J$1030,2,0)),\"\",VLOOKUP(Egresados!$O8,Maestros!$G$31:$J$1030,2,0))","v":""},{"$f":"CONCATENATE(Egresados!$Z$8:$Z$705,\"a\",Egresados!$AA$8:$AA$705)","v":"a"},{"$f":"IF(ISERROR(VLOOKUP(Egresados!$P8,Maestros!$L$31:$Q$1030,2,0)),\"\",VLOOKUP(Egresados!$P8,Maestros!$L$31:$Q$1030,2,0))","v":""},{"$f":"CONCATENATE(Egresados!$Z$8:$Z$705,\"a\",Egresados!$AA$8:$AA$705,\"a\",Egresados!$AC$8:$AC$705)","v":"aa"},{"$f":"IF(ISERROR(VLOOKUP(Egresados!$C$8:$C$705,Maestros!$A$4:$B$21,2,0)),\"\",VLOOKUP(Egresados!$C$8:$C$705,Maestros!$A$4:$B$21,2,0))","v":""},{"$f":"IF(ISERROR(VLOOKUP(Egresados!$H$8:$H$705,Maestros!$D$4:$E$21,2,0)),\"\",VLOOKUP(Egresados!$H$8:$H$705,Maestros!$D$4:$E$21,2,0))","v":""},{"$f":"IF(OR(UPPER(Egresados!$J$8:$J$705)=\"SI\",UPPER(Egresados!$J$8:$J$705)=\"SÍ\"),1,IF(UPPER(Egresados!$J$8:$J$705)=\"NO\",0,\"\"))","v":""},{"$f":"IF(OR(UPPER(Egresados!$R$8:$R$705)=\"SI\",UPPER(Egresados!$R$8:$R$705)=\"SÍ\"),1,IF(UPPER(Egresados!$R$8:$R$705)=\"NO\",0,\"\"))","v":""},{"$f":"IF(OR(UPPER(Egresados!$S$8:$S$705)=\"SI\",UPPER(Egresados!$S$8:$S$705)=\"SÍ\"),1,IF(UPPER(Egresados!$S$8:$S$705)=\"NO\",0,\"\"))","v":""},{"$f":"IF(ISERROR(VLOOKUP(Egresados!$T$8:$T$705,Maestros!$S$31:$T$530,2,0)),\"\",VLOOKUP(Egresados!$T$8:$T$705,Maestros!$S$31:$T$530,2,0))","v":""},{"$f":"IF(ISERROR(VLOOKUP(U8,Maestros!$S$31:$T$530,2,0)),\"\",VLOOKUP(U8,Maestros!$S$31:$T$530,2,0))","v":""},{"$f":"IF(ISERROR(VLOOKUP(Egresados!$K$8:$K$705,Maestros!$A$31:$B$130,2,0)),\"\",VLOOKUP(Egresados!$K$8:$K$705,Maestros!$A$31:$B$130,2,0))","v":""},{"$f":"IF(LEN(tablaEgresados[[#This Row],[Nota promedio]])>0,ROUND(tablaEgresados[[#This Row],[Nota promedio]],2),\"\")","v":""}]
[1,null,"DNI","70692982","HUISA","COLINA","JOSE ALFREDO","MASCULINO",null,"NO",null,null,null,"2020-1","EL RIMAC","ADMINISTRACION DE EMPRESAS",14.23,null,null,"2014-1","2014-1","20140496@une.edu.pe","joseal_hc@hotmail.com",3133700,"991613584",{"$f":"IF(ISERROR(VLOOKUP(Egresados!$N$8:$N$705,Maestros!$D$31:$E$530,2,0)),\"\",VLOOKUP(Egresados!$N$8:$N$705,Maestros!$D$31:$E$530,2,0))","v":"223"},{"$f":"IF(ISERROR(VLOOKUP(Egresados!$O9,Maestros!$G$31:$J$1030,2,0)),\"\",VLOOKUP(Egresados!$O9,Maestros!$G$31:$J$1030,2,0))","v":"7"},{"$f":"CONCATENATE(Egresados!$Z$8:$Z$705,\"a\",Egresados!$AA$8:$AA$705)","v":"223a7"},{"$f":"IF(ISERROR(VLOOKUP(Egresados!$P9,Maestros!$L$31:$Q$1030,2,0)),\"\",VLOOKUP(Egresados!$P9,Maestros!$L$31:$Q$1030,2,0))","v":"60"},{"$f":"CONCATENATE(Egresados!$Z$8:$Z$705,\"a\",Egresados!$AA$8:$AA$705,\"a\",Egresados!$AC$8:$AC$705)","v":"223a7a60"},{"$f":"IF(ISERROR(VLOOKUP(Egresados!$C$8:$C$705,Maestros!$A$4:$B$21,2,0)),\"\",VLOOKUP(Egresados!$C$8:$C$705,Maestros!$A$4:$B$21,2,0))","v":"1001"},{"$f":"IF(ISERROR(VLOOKUP(Egresados!$H$8:$H$705,Maestros!$D$4:$E$21,2,0)),\"\",VLOOKUP(Egresados!$H$8:$H$705,Maestros!$D$4:$E$21,2,0))","v":"1121"},{"$f":"IF(OR(UPPER(Egresados!$J$8:$J$705)=\"SI\",UPPER(Egresados!$J$8:$J$705)=\"SÍ\"),1,IF(UPPER(Egresados!$J$8:$J$705)=\"NO\",0,\"\"))","v":0},{"$f":"IF(OR(UPPER(Egresados!$R$8:$R$705)=\"SI\",UPPER(Egresados!$R$8:$R$705)=\"SÍ\"),1,IF(UPPER(Egresados!$R$8:$R$705)=\"NO\",0,\"\"))","v":""},{"$f":"IF(OR(UPPER(Egresados!$S$8:$S$705)=\"SI\",UPPER(Egresados!$S$8:$S$705)=\"SÍ\"),1,IF(UPPER(Egresados!$S$8:$S$705)=\"NO\",0,\"\"))","v":""},{"$f":"IF(ISERROR(VLOOKUP(Egresados!$T$8:$T$705,Maestros!$S$31:$T$530,2,0)),\"\",VLOOKUP(Egresados!$T$8:$T$705,Maestros!$S$31:$T$530,2,0))","v":"58"},{"$f":"IF(ISERROR(VLOOKUP(U9,Maestros!$S$31:$T$530,2,0)),\"\",VLOOKUP(U9,Maestros!$S$31:$T$530,2,0))","v":"58"},{"$f":"IF(ISERROR(VLOOKUP(Egresados!$K$8:$K$705,Maestros!$A$31:$B$130,2,0)),\"\",VLOOKUP(Egresados!$K$8:$K$705,Maestros!$A$31:$B$130,2,0))","v":""},{"$f":"IF(LEN(tablaEgresados[[#This Row],[Nota promedio]])>0,ROUND(tablaEgresados[[#This Row],[Nota promedio]],2),\"\")","v":14.23}]
[2,null,"DNI","70605349","VILLANUEVA","PINO","DIEGO ALONSO","MASCULINO",null,"NO",null,null,null,"2020-1","EL RIMAC","ADMINISTRACION DE EMPRESAS",15.18,null,null,"2015-1","2015-1","20150554@une.edu.pe","dieguinvipi@gmail.com",3133700,976486001,{"$f":"IF(ISERROR(VLOOKUP(Egresados!$N$8:$N$705,Maestros!$D$31:$E$530,2,0)),\"\",VLOOKUP(Egresados!$N$8:$N$705,Maestros!$D$31:$E$530,2,0))","v":"223"},{"$f":"IF(ISERROR(VLOOKUP(Egresados!$O10,Maestros!$G$31:$J$1030,2,0)),\"\",VLOOKUP(Egresados!$O10,Maestros!$G$31:$J$1030,2,0))","v":"7"},{"$f":"CONCATENATE(Egresados!$Z$8:$Z$705,\"a\",Egresados!$AA$8:$AA$705)","v":"223a7"},{"$f":"IF(ISERROR(VLOOKUP(Egresados!$P10,Maestros!$L$31:$Q$1030,2,0)),\"\",VLOOKUP(Egresados!$P10,Maestros!$L$31:$Q$1030,2,0))","v":"60"},{"$f":"CONCATENATE(Egresados!$Z$8:$Z$705,\"a\",Egresados!$AA$8:$AA$705,\"a\",Egresados!$AC$8:$AC$705)","v":"223a7a60"},{"$f":"IF(ISERROR(VLOOKUP(Egresados!$C$8:$C$705,Maestros!$A$4:$B$21,2,0)),\"\",VLOOKUP(Egresados!$C$8:$C$705,Maestros!$A$4:$B$21,2,0))","v":"1001"},{"$f":"IF(ISERROR(VLOOKUP(Egresados!$H$8:$H$705,Maestros!$D$4:$E$21,2,0)),\"\",VLOOKUP(Egresados!$H$8:$H$705,Maestros!$D$4:$E$21,2,0))","v":"1121"},{"$f":"IF(OR(UPPER(Egresados!$J$8:$J$705)=\"SI\",UPPER(Egresados!$J$8:$J$705)=\"SÍ\"),1,IF(UPPER(Egresados!$J$8:$J$705)=\"NO\",0,\"\"))","v":0},{"$f":"IF(OR(UPPER(Egresados!$R$8:$R$705)=\"SI\",UPPER(Egresados!$R$8:$R$705)=\"SÍ\"),1,IF(UPPER(Egresados!$R$8:$R$705)=\"NO\",0,\"\"))","v":""},{"$f":"IF(OR(UPPER(Egresados!$S$8:$S$705)=\"SI\",UPPER(Egresados!$S$8:$S$705)=\"SÍ\"),1,IF(UPPER(Egresados!$S$8:$S$705)=\"NO\",0,\"\"))","v":""},{"$f":"IF(ISERROR(VLOOKUP(Egresados!$T$8:$T$705,Maestros!$S$31:$T$530,2,0)),\"\",VLOOKUP(Egresados!$T$8:$T$705,Maestros!$S$31:$T$530,2,0))","v":"62"},{"$f":"IF(ISERROR(VLOOKUP(U10,Maestros!$S$31:$T$530,2,0)),\"\",VLOOKUP(U10,Maestros!$S$31:$T$530,2,0))","v":"62"},{"$f":"IF(ISERROR(VLOOKUP(Egresados!$K$8:$K$705,Maestros!$A$31:$B$130,2,0)),\"\",VLOOKUP(Egresados!$K$8:$K$705,Maestros!$A$31:$B$130,2,0))","v":""},{"$f":"IF(LEN(tablaEgresados[[#This Row],[Nota promedio]])>0,ROUND(tablaEgresados[[#This Row],[Nota promedio]],2),\"\")","v":15.18}]
[3,null,"DNI","44059916","RAMOS","MACAVILCA","MOISES HARRY","MASCULINO",null,"NO",null,null,null,"2020-1","EL RIMAC","ADMINISTRACION DE EMPRESAS",16.149999999999999,null,null,"2014-1","2014-1","20140042@une.edu.pe","moises_14_85@outlook.es",3133700,"994712529",{"$f":"IF(ISERROR(VLOOKUP(Egresados!$N$8:$N$705,Maestros!$D$31:$E$530,2,0)),\"\",VLOOKUP(Egresados!$N$8:$N$705,Maestros!$D$31:$E$530,2,0))","v":"223"},{"$f":"IF(ISERROR(VLOOKUP(Egresados!$O11,Maestros!$G$31:$J$1030,2,0)),\"\",VLOOKUP(Egresados!$O11,Maestros!$G$31:$J$1030,2,0))","v":"7"},{"$f":"CONCATENATE(Egresados!$Z$8:$Z$705,\"a\",Egresados!$AA$8:$AA$705)","v":"223a7"},{"$f":"IF(ISERROR(VLOOKUP(Egresados!$P11,Maestros!$L$31:$Q$1030,2,0)),\"\",VLOOKUP(Egresados!$P11,Maestros!$L$31:$Q$1030,2,0))","v":"60"},{"$f":"CONCATENATE(Egresados!$Z$8:$Z$705,\"a\",Egresados!$AA$8:$AA$705,\"a\",Egresados!$AC$8:$AC$705)","v":"223a7a60"},{"$f":"IF(ISERROR(VLOOKUP(Egresados!$C$8:$C$705,Maestros!$A$4:$B$21,2,0)),\"\",VLOOKUP(Egresados!$C$8:$C$705,Maestros!$A$4:$B$21,2,0))","v":"1001"},{"$f":"IF(ISERROR(VLOOKUP(Egresados!$H$8:$H$705,Maestros!$D$4:$E$21,2,0)),\"\",VLOOKUP(Egresados!$H$8:$H$705,Maestros!$D$4:$E$21,2,0))","v":"1121"},{"$f":"IF(OR(UPPER(Egresados!$J$8:$J$705)=\"SI\",UPPER(Egresados!$J$8:$J$705)=\"SÍ\"),1,IF(UPPER(Egresados!$J$8:$J$705)=\"NO\",0,\"\"))","v":0},{"$f":"IF(OR(UPPER(Egresados!$R$8:$R$705)=\"SI\",UPPER(Egresados!$R$8:$R$705)=\"SÍ\"),1,IF(UPPER(Egresados!$R$8:$R$705)=\"NO\",0,\"\"))","v":""},{"$f":"IF(OR(UPPER(Egresados!$S$8:$S$705)=\"SI\",UPPER(Egresados!$S$8:$S$705)=\"SÍ\"),1,IF(UPPER(Egresados!$S$8:$S$705)=\"NO\",0,\"\"))","v":""},{"$f":"IF(ISERROR(VLOOKUP(Egresados!$T$8:$T$705,Maestros!$S$31:$T$530,2,0)),\"\",VLOOKUP(Egresados!$T$8:$T$705,Maestros!$S$31:$T$530,2,0))","v":"58"},{"$f":"IF(ISERROR(VLOOKUP(U11,Maestros!$S$31:$T$530,2,0)),\"\",VLOOKUP(U11,Maestros!$S$31:$T$530,2,0))","v":"58"},{"$f":"IF(ISERROR(VLOOKUP(Egresados!$K$8:$K$705,Maestros!$A$31:$B$130,2,0)),\"\",VLOOKUP(Egresados!$K$8:$K$705,Maestros!$A$31:$B$130,2,0))","v":""},{"$f":"IF(LEN(tablaEgresados[[#This Row],[Nota promedio]])>0,ROUND(tablaEgresados[[#This Row],[Nota promedio]],2),\"\")","v":16.149999999999999}]
[4,null,"DNI","46762829","RAMIREZ","PARI","EDWIN WILFREDO","MASCULINO",null,"NO",null,null,null,"2020-1","EL RIMAC","ADMINISTRACION DE EMPRESAS",14.16,null,null,"2009-1","2009-1","20091258@une.edu.pe","edwin_054@hotmail.com",3133700,976486001,{"$f":"IF(ISERROR(VLOOKUP(Egresados!$N$8:$N$705,Maestros!$D$31:$E$530,2,0)),\"\",VLOOKUP(Egresados!$N$8:$N$705,Maestros!$D$31:$E$530,2,0))","v":"223"},{"$f":"IF(ISERROR(VLOOKUP(Egresados!$O12,Maestros!$G$31:$J$1030,2,0)),\"\",VLOOKUP(Egresados!$O12,Maestros!$G$31:$J$1030,2,0))","v":"7"},{"$f":"CONCATENATE(Egresados!$Z$8:$Z$705,\"a\",Egresados!$AA$8:$AA$705)","v":"223a7"},{"$f":"IF(ISERROR(VLOOKUP(Egresados!$P12,Maestros!$L$31:$Q$1030,2,0)),\"\",VLOOKUP(Egresados!$P12,Maestros!$L$31:$Q$1030,2,0))","v":"60"},{"$f":"CONCATENATE(Egresados!$Z$8:$Z$705,\"a\",Egresados!$AA$8:$AA$705,\"a\",Egresados!$AC$8:$AC$705)","v":"223a7a60"},{"$f":"IF(ISERROR(VLOOKUP(Egresados!$C$8:$C$705,Maestros!$A$4:$B$21,2,0)),\"\",VLOOKUP(Egresados!$C$8:$C$705,Maestros!$A$4:$B$21,2,0))","v":"1001"},{"$f":"IF(ISERROR(VLOOKUP(Egresados!$H$8:$H$705,Maestros!$D$4:$E$21,2,0)),\"\",VLOOKUP(Egresados!$H$8:$H$705,Maestros!$D$4:$E$21,2,0))","v":"1121"},{"$f":"IF(OR(UPPER(Egresados!$J$8:$J$705)=\"SI\",UPPER(Egresados!$J$8:$J$705)=\"SÍ\"),1,IF(UPPER(Egresados!$J$8:$J$705)=\"NO\",0,\"\"))","v":0},{"$f":"IF(OR(UPPER(Egresados!$R$8:$R$705)=\"SI\",UPPER(Egresados!$R$8:$R$705)=\"SÍ\"),1,IF(UPPER(Egresados!$R$8:$R$705)=\"NO\",0,\"\"))","v":""},{"$f":"IF(OR(UPPER(Egresados!$S$8:$S$705)=\"SI\",UPPER(Egresados!$S$8:$S$705)=\"SÍ\"),1,IF(UPPER(Egresados!$S$8:$S$705)=\"NO\",0,\"\"))","v":""},{"$f":"IF(ISERROR(VLOOKUP(Egresados!$T$8:$T$705,Maestros!$S$31:$T$530,2,0)),\"\",VLOOKUP(Egresados!$T$8:$T$705,Maestros!$S$31:$T$530,2,0))","v":"38"},{"$f":"IF(ISERROR(VLOOKUP(U12,Maestros!$S$31:$T$530,2,0)),\"\",VLOOKUP(U12,Maestros!$S$31:$T$530,2,0))","v":"38"},{"$f":"IF(ISERROR(VLOOKUP(Egresados!$K$8:$K$705,Maestros!$A$31:$B$130,2,0)),\"\",VLOOKUP(Egresados!$K$8:$K$705,Maestros!$A$31:$B$130,2,0))","v":""},{"$f":"IF(LEN(tablaEgresados[[#This Row],[Nota promedio]])>0,ROUND(tablaEgresados[[#This Row],[Nota promedio]],2),\"\")","v":14.16}]
[5,null,"DNI","71870064","COTRINA","RAMOS","MISHEL GINA","FEMENINO",null,"NO",null,null,null,"2020-1","EL RIMAC","ADMINISTRACION DE EMPRESAS",16.27,null,null,"2014-1","2014-1","20140012@une.edu.pe","mishelcr16@gmail.com",3133700,976486001,{"$f":"IF(ISERROR(VLOOKUP(Egresados!$N$8:$N$705,Maestros!$D$31:$E$530,2,0)),\"\",VLOOKUP(Egresados!$N$8:$N$705,Maestros!$D$31:$E$530,2,0))","v":"223"},{"$f":"IF(ISERROR(VLOOKUP(Egresados!$O13,Maestros!$G$31:$J$1030,2,0)),\"\",VLOOKUP(Egresados!$O13,Maestros!$G$31:$J$1030,2,0))","v":"7"},{"$f":"CONCATENATE(Egresados!$Z$8:$Z$705,\"a\",Egresados!$AA$8:$AA$705)","v":"223a7"},{"$f":"IF(ISERROR(VLOOKUP(Egresados!$P13,Maestros!$L$31:$Q$1030,2,0)),\"\",VLOOKUP(Egresados!$P13,Maestros!$L$31:$Q$1030,2,0))","v":"60"},{"$f":"CONCATENATE(Egresados!$Z$8:$Z$705,\"a\",Egresados!$AA$8:$AA$705,\"a\",Egresados!$AC$8:$AC$705)","v":"223a7a60"},{"$f":"IF(ISERROR(VLOOKUP(Egresados!$C$8:$C$705,Maestros!$A$4:$B$21,2,0)),\"\",VLOOKUP(Egresados!$C$8:$C$705,Maestros!$A$4:$B$21,2,0))","v":"1001"},{"$f":"IF(ISERROR(VLOOKUP(Egresados!$H$8:$H$705,Maestros!$D$4:$E$21,2,0)),\"\",VLOOKUP(Egresados!$H$8:$H$705,Maestros!$D$4:$E$21,2,0))","v":"1122"},{"$f":"IF(OR(UPPER(Egresados!$J$8:$J$705)=\"SI\",UPPER(Egresados!$J$8:$J$705)=\"SÍ\"),1,IF(UPPER(Egresados!$J$8:$J$705)=\"NO\",0,\"\"))","v":0},{"$f":"IF(OR(UPPER(Egresados!$R$8:$R$705)=\"SI\",UPPER(Egresados!$R$8:$R$705)=\"SÍ\"),1,IF(UPPER(Egresados!$R$8:$R$705)=\"NO\",0,\"\"))","v":""},{"$f":"IF(OR(UPPER(Egresados!$S$8:$S$705)=\"SI\",UPPER(Egresados!$S$8:$S$705)=\"SÍ\"),1,IF(UPPER(Egresados!$S$8:$S$705)=\"NO\",0,\"\"))","v":""},{"$f":"IF(ISERROR(VLOOKUP(Egresados!$T$8:$T$705,Maestros!$S$31:$T$530,2,0)),\"\",VLOOKUP(Egresados!$T$8:$T$705,Maestros!$S$31:$T$530,2,0))","v":"58"},{"$f":"IF(ISERROR(VLOOKUP(U13,Maestros!$S$31:$T$530,2,0)),\"\",VLOOKUP(U13,Maestros!$S$31:$T$530,2,0))","v":"58"},{"$f":"IF(ISERROR(VLOOKUP(Egresados!$K$8:$K$705,Maestros!$A$31:$B$130,2,0)),\"\",VLOOKUP(Egresados!$K$8:$K$705,Maestros!$A$31:$B$130,2,0))","v":""},{"$f":"IF(LEN(tablaEgresados[[#This Row],[Nota promedio]])>0,ROUND(tablaEgresados[[#This Row],[Nota promedio]],2),\"\")","v":16.27}]
[6,null,"DNI","70972756","VALENZUELA","RAMIREZ","MIGUEL ANGEL","MASCULINO",null,"NO",null,null,null,"2020-1","EL RIMAC","ADMINISTRACION DE EMPRESAS",15.96,null,null,"2015-1","2015-1","20151223@une.edu.pe","mvalenzuelaramirez21@gmail.com",3133700,"983202541",{"$f":"IF(ISERROR(VLOOKUP(Egresados!$N$8:$N$705,Maestros!$D$31:$E$530,2,0)),\"\",VLOOKUP(Egresados!$N$8:$N$705,Maestros!$D$31:$E$530,2,0))","v":"223"},{"$f":"IF(ISERROR(VLOOKUP(Egresados!$O14,Maestros!$G$31:$J$1030,2,0)),\"\",VLOOKUP(Egresados!$O14,Maestros!$G$31:$J$1030,2,0))","v":"7"},{"$f":"CONCATENATE(Egresados!$Z$8:$Z$705,\"a\",Egresados!$AA$8:$AA$705)","v":"223a7"},{"$f":"IF(ISERROR(VLOOKUP(Egresados!$P14,Maestros!$L$31:$Q$1030,2,0)),\"\",VLOOKUP(Egresados!$P14,Maestros!$L$31:$Q$1030,2,0))","v":"60"},{"$f":"CONCATENATE(Egresados!$Z$8:$Z$705,\"a\",Egresados!$AA$8:$AA$705,\"a\",Egresados!$AC$8:$AC$705)","v":"223a7a60"},{"$f":"IF(ISERROR(VLOOKUP(Egresados!$C$8:$C$705,Maestros!$A$4:$B$21,2,0)),\"\",VLOOKUP(Egresados!$C$8:$C$705,Maestros!$A$4:$B$21,2,0))","v":"1001"},{"$f":"IF(ISERROR(VLOOKUP(Egresados!$H$8:$H$705,Maestros!$D$4:$E$21,2,0)),\"\",VLOOKUP(Egresados!$H$8:$H$705,Maestros!$D$4:$E$21,2,0))","v":"1121"},{"$f":"IF(OR(UPPER(Egresados!$J$8:$J$705)=\"SI\",UPPER(Egresados!$J$8:$J$705)=\"SÍ\"),1,IF(UPPER(Egresados!$J$8:$J$705)=\"NO\",0,\"\"))","v":0},{"$f":"IF(OR(UPPER(Egresados!$R$8:$R$705)=\"SI\",UPPER(Egresados!$R$8:$R$705)=\"SÍ\"),1,IF(UPPER(Egresados!$R$8:$R$705)=\"NO\",0,\"\"))","v":""},{"$f":"IF(OR(UPPER(Egresados!$S$8:$S$705)=\"SI\",UPPER(Egresados!$S$8:$S$705)=\"SÍ\"),1,IF(UPPER(Egresados!$S$8:$S$705)=\"NO\",0,\"\"))","v":""},{"$f":"IF(ISERROR(VLOOKUP(Egresados!$T$8:$T$705,Maestros!$S$31:$T$530,2,0)),\"\",VLOOKUP(Egresados!$T$8:$T$705,Maestros!$S$31:$T$530,2,0))","v":"62"},{"$f":"IF(ISERROR(VLOOKUP(U14,Maestros!$S$31:$T$530,2,0)),\"\",VLOOKUP(U14,Maestros!$S$31:$T$530,2,0))","v":"62"},{"$f":"IF(ISERROR(VLOOKUP(Egresados!$K$8:$K$705,Maestros!$A$31:$B$130,2,0)),\"\",VLOOKUP(Egresados!$K$8:$K$705,Maestros!$A$31:$B$130,2,0))","v":""},{"$f":"IF(LEN(tablaEgresados[[#This Row],[Nota promedio]])>0,ROUND(tablaEgresados[[#This Row],[Nota promedio]],2),\"\")","v":15.96}]
[7,null,"DNI","71611386","GUILLEN","GARFIAS","MERCEDES KIARA","FEMENINO",null,"NO",null,null,null,"2020-1","EL RIMAC","ADMINISTRACION DE EMPRESAS",15.29,null,null,"2015-1","2015-1","20151185@une.edu.pe","kiaraguillen.g@gmail.com",3133700,"936607971",{"$f":"IF(ISERROR(VLOOKUP(Egresados!$N$8:$N$705,Maestros!$D$31:$E$530,2,0)),\"\",VLOOKUP(Egresados!$N$8:$N$705,Maestros!$D$31:$E$530,2,0))","v":"223"},{"$f":"IF(ISERROR(VLOOKUP(Egresados!$O15,Maestros!$G$31:$J$1030,2,0)),\"\",VLOOKUP(Egresados!$O15,Maestros!$G$31:$J$1030,2,0))","v":"7"},{"$f":"CONCATENATE(Egresados!$Z$8:$Z$705,\"a\",Egresados!$AA$8:$AA$705)","v":"223a7"},{"$f":"IF(ISERROR(VLOOKUP(Egresados!$P15,Maestros!$L$31:$Q$1030,2,0)),\"\",VLOOKUP(Egresados!$P15,Maestros!$L$31:$Q$1030,2,0))","v":"60"},{"$f":"CONCATENATE(Egresados!$Z$8:$Z$705,\"a\",Egresados!$AA$8:$AA$705,\"a\",Egresados!$AC$8:$AC$705)","v":"223a7a60"},{"$f":"IF(ISERROR(VLOOKUP(Egresados!$C$8:$C$705,Maestros!$A$4:$B$21,2,0)),\"\",VLOOKUP(Egresados!$C$8:$C$705,Maestros!$A$4:$B$21,2,0))","v":"1001"},{"$f":"IF(ISERROR(VLOOKUP(Egresados!$H$8:$H$705,Maestros!$D$4:$E$21,2,0)),\"\",VLOOKUP(Egresados!$H$8:$H$705,Maestros!$D$4:$E$21,2,0))","v":"1122"},{"$f":"IF(OR(UPPER(Egresados!$J$8:$J$705)=\"SI\",UPPER(Egresados!$J$8:$J$705)=\"SÍ\"),1,IF(UPPER(Egresados!$J$8:$J$705)=\"NO\",0,\"\"))","v":0},{"$f":"IF(OR(UPPER(Egresados!$R$8:$R$705)=\"SI\",UPPER(Egresados!$R$8:$R$705)=\"SÍ\"),1,IF(UPPER(Egresados!$R$8:$R$705)=\"NO\",0,\"\"))","v":""},{"$f":"IF(OR(UPPER(Egresados!$S$8:$S$705)=\"SI\",UPPER(Egresados!$S$8:$S$705)=\"SÍ\"),1,IF(UPPER(Egresados!$S$8:$S$705)=\"NO\",0,\"\"))","v":""},{"$f":"IF(ISERROR(VLOOKUP(Egresados!$T$8:$T$705,Maestros!$S$31:$T$530,2,0)),\"\",VLOOKUP(Egresados!$T$8:$T$705,Maestros!$S$31:$T$530,2,0))","v":"62"},{"$f":"IF(ISERROR(VLOOKUP(U15,Maestros!$S$31:$T$530,2,0)),\"\",VLOOKUP(U15,Maestros!$S$31:$T$530,2,0))","v":"62"},{"$f":"IF(ISERROR(VLOOKUP(Egresados!$K$8:$K$705,Maestros!$A$31:$B$130,2,0)),\"\",VLOOKUP(Egresados!$K$8:$K$705,Maestros!$A$31:$B$130,2,0))","v":""},{"$f":"IF(LEN(tablaEgresados[[#This Row],[Nota promedio]])>0,ROUND(tablaEgresados[[#This Row],[Nota promedio]],2),\"\")","v":15.29}]
[8,null,"DNI","47768709","CCAHUANA","PILLACA","JOSSELINE LAURA","FEMENINO",null,"NO",null,null,null,"2020-1","EL RIMAC","ADMINISTRACION DE EMPRESAS",15.4,null,null,"2015-1","2015-1","20151174@une.edu.pe","laura_fairytale@hotmail.com",3133700,"920054129",{"$f":"IF(ISERROR(VLOOKUP(Egresados!$N$8:$N$705,Maestros!$D$31:$E$530,2,0)),\"\",VLOOKUP(Egresados!$N$8:$N$705,Maestros!$D$31:$E$530,2,0))","v":"223"},{"$f":"IF(ISERROR(VLOOKUP(Egresados!$O16,Maestros!$G$31:$J$1030,2,0)),\"\",VLOOKUP(Egresados!$O16,Maestros!$G$31:$J$1030,2,0))","v":"7"},{"$f":"CONCATENATE(Egresados!$Z$8:$Z$705,\"a\",Egresados!$AA$8:$AA$705)","v":"223a7"},{"$f":"IF(ISERROR(VLOOKUP(Egresados!$P16,Maestros!$L$31:$Q$1030,2,0)),\"\",VLOOKUP(Egresados!$P16,Maestros!$L$31:$Q$1030,2,0))","v":"60"},{"$f":"CONCATENATE(Egresados!$Z$8:$Z$705,\"a\",Egresados!$AA$8:$AA$705,\"a\",Egresados!$AC$8:$AC$705)","v":"223a7a60"},{"$f":"IF(ISERROR(VLOOKUP(Egresados!$C$8:$C$705,Maestros!$A$4:$B$21,2,0)),\"\",VLOOKUP(Egresados!$C$8:$C$705,Maestros!$A$4:$B$21,2,0))","v":"1001"},{"$f":"IF(ISERROR(VLOOKUP(Egresados!$H$8:$H$705,Maestros!$D$4:$E$21,2,0)),\"\",VLOOKUP(Egresados!$H$8:$H$705,Maestros!$D$4:$E$21,2,0))","v":"1122"},{"$f":"IF(OR(UPPER(Egresados!$J$8:$J$705)=\"SI\",UPPER(Egresados!$J$8:$J$705)=\"SÍ\"),1,IF(UPPER(Egresados!$J$8:$J$705)=\"NO\",0,\"\"))","v":0},{"$f":"IF(OR(UPPER(Egresados!$R$8:$R$705)=\"SI\",UPPER(Egresados!$R$8:$R$705)=\"SÍ\"),1,IF(UPPER(Egresados!$R$8:$R$705)=\"NO\",0,\"\"))","v":""},{"$f":"IF(OR(UPPER(Egresados!$S$8:$S$705)=\"SI\",UPPER(Egresados!$S$8:$S$705)=\"SÍ\"),1,IF(UPPER(Egresados!$S$8:$S$705)=\"NO\",0,\"\"))","v":""},{"$f":"IF(ISERROR(VLOOKUP(Egresados!$T$8:$T$705,Maestros!$S$31:$T$530,2,0)),\"\",VLOOKUP(Egresados!$T$8:$T$705,Maestros!$S$31:$T$530,2,0))","v":"62"},{"$f":"IF(ISERROR(VLOOKUP(U16,Maestros!$S$31:$T$530,2,0)),\"\",VLOOKUP(U16,Maestros!$S$31:$T$530,2,0))","v":"62"},{"$f":"IF(ISERROR(VLOOKUP(Egresados!$K$8:$K$705,Maestros!$A$31:$B$130,2,0)),\"\",VLOOKUP(Egresados!$K$8:$K$705,Maestros!$A$31:$B$130,2,0))","v":""},{"$f":"IF(LEN(tablaEgresados[[#This Row],[Nota promedio]])>0,ROUND(tablaEgresados[[#This Row],[Nota promedio]],2),\"\")","v":15.4}]
[9,null,"DNI","61786550","ALIAGA","CACHAY","ERIKA NATALY","FEMENINO",null,"NO",null,null,null,"2020-1","EL RIMAC","ADMINISTRACION DE EMPRESAS",14.79,null,null,"2015-1","2015-1","20151166@une.edu.pe","natyal_xd@hotmail.com",3133700,"942463786",{"$f":"IF(ISERROR(VLOOKUP(Egresados!$N$8:$N$705,Maestros!$D$31:$E$530,2,0)),\"\",VLOOKUP(Egresados!$N$8:$N$705,Maestros!$D$31:$E$530,2,0))","v":"223"},{"$f":"IF(ISERROR(VLOOKUP(Egresados!$O17,Maestros!$G$31:$J$1030,2,0)),\"\",VLOOKUP(Egresados!$O17,Maestros!$G$31:$J$1030,2,0))","v":"7"},{"$f":"CONCATENATE(Egresados!$Z$8:$Z$705,\"a\",Egresados!$AA$8:$AA$705)","v":"223a7"},{"$f":"IF(ISERROR(VLOOKUP(Egresados!$P17,Maestros!$L$31:$Q$1030,2,0)),\"\",VLOOKUP(Egresados!$P17,Maestros!$L$31:$Q$1030,2,0))","v":"60"},{"$f":"CONCATENATE(Egresados!$Z$8:$Z$705,\"a\",Egresados!$AA$8:$AA$705,\"a\",Egresados!$AC$8:$AC$705)","v":"223a7a60"},{"$f":"IF(ISERROR(VLOOKUP(Egresados!$C$8:$C$705,Maestros!$A$4:$B$21,2,0)),\"\",VLOOKUP(Egresados!$C$8:$C$705,Maestros!$A$4:$B$21,2,0))","v":"1001"},{"$f":"IF(ISERROR(VLOOKUP(Egresados!$H$8:$H$705,Maestros!$D$4:$E$21,2,0)),\"\",VLOOKUP(Egresados!$H$8:$H$705,Maestros!$D$4:$E$21,2,0))","v":"1122"},{"$f":"IF(OR(UPPER(Egresados!$J$8:$J$705)=\"SI\",UPPER(Egresados!$J$8:$J$705)=\"SÍ\"),1,IF(UPPER(Egresados!$J$8:$J$705)=\"NO\",0,\"\"))","v":0},{"$f":"IF(OR(UPPER(Egresados!$R$8:$R$705)=\"SI\",UPPER(Egresados!$R$8:$R$705)=\"SÍ\"),1,IF(UPPER(Egresados!$R$8:$R$705)=\"NO\",0,\"\"))","v":""},{"$f":"IF(OR(UPPER(Egresados!$S$8:$S$705)=\"SI\",UPPER(Egresados!$S$8:$S$705)=\"SÍ\"),1,IF(UPPER(Egresados!$S$8:$S$705)=\"NO\",0,\"\"))","v":""},{"$f":"IF(ISERROR(VLOOKUP(Egresados!$T$8:$T$705,Maestros!$S$31:$T$530,2,0)),\"\",VLOOKUP(Egresados!$T$8:$T$705,Maestros!$S$31:$T$530,2,0))","v":"62"},{"$f":"IF(ISERROR(VLOOKUP(U17,Maestros!$S$31:$T$530,2,0)),\"\",VLOOKUP(U17,Maestros!$S$31:$T$530,2,0))","v":"62"},{"$f":"IF(ISERROR(VLOOKUP(Egresados!$K$8:$K$705,Maestros!$A$31:$B$130,2,0)),\"\",VLOOKUP(Egresados!$K$8:$K$705,Maestros!$A$31:$B$130,2,0))","v":""},{"$f":"IF(LEN(tablaEgresados[[#This Row],[Nota promedio]])>0,ROUND(tablaEgresados[[#This Row],[Nota promedio]],2),\"\")","v":14.79}]
[10,null,"DNI","71924788","ALVARADO","SULLCA","VICKY","FEMENINO",null,"NO",null,null,null,"2020-1","EL RIMAC","ADMINISTRACION DE EMPRESAS",14.79,null,null,"2015-1","2015-1","20150219@une.edu.pe","vicky.acuario01@gmail.com",3133700,"972291055",{"$f":"IF(ISERROR(VLOOKUP(Egresados!$N$8:$N$705,Maestros!$D$31:$E$530,2,0)),\"\",VLOOKUP(Egresados!$N$8:$N$705,Maestros!$D$31:$E$530,2,0))","v":"223"},{"$f":"IF(ISERROR(VLOOKUP(Egresados!$O18,Maestros!$G$31:$J$1030,2,0)),\"\",VLOOKUP(Egresados!$O18,Maestros!$G$31:$J$1030,2,0))","v":"7"},{"$f":"CONCATENATE(Egresados!$Z$8:$Z$705,\"a\",Egresados!$AA$8:$AA$705)","v":"223a7"},{"$f":"IF(ISERROR(VLOOKUP(Egresados!$P18,Maestros!$L$31:$Q$1030,2,0)),\"\",VLOOKUP(Egresados!$P18,Maestros!$L$31:$Q$1030,2,0))","v":"60"},{"$f":"CONCATENATE(Egresados!$Z$8:$Z$705,\"a\",Egresados!$AA$8:$AA$705,\"a\",Egresados!$AC$8:$AC$705)","v":"223a7a60"},{"$f":"IF(ISERROR(VLOOKUP(Egresados!$C$8:$C$705,Maestros!$A$4:$B$21,2,0)),\"\",VLOOKUP(Egresados!$C$8:$C$705,Maestros!$A$4:$B$21,2,0))","v":"1001"},{"$f":"IF(ISERROR(VLOOKUP(Egresados!$H$8:$H$705,Maestros!$D$4:$E$21,2,0)),\"\",VLOOKUP(Egresados!$H$8:$H$705,Maestros!$D$4:$E$21,2,0))","v":"1122"},{"$f":"IF(OR(UPPER(Egresados!$J$8:$J$705)=\"SI\",UPPER(Egresados!$J$8:$J$705)=\"SÍ\"),1,IF(UPPER(Egresados!$J$8:$J$705)=\"NO\",0,\"\"))","v":0},{"$f":"IF(OR(UPPER(Egresados!$R$8:$R$705)=\"SI\",UPPER(Egresados!$R$8:$R$705)=\"SÍ\"),1,IF(UPPER(Egresados!$R$8:$R$705)=\"NO\",0,\"\"))","v":""},{"$f":"IF(OR(UPPER(Egresados!$S$8:$S$705)=\"SI\",UPPER(Egresados!$S$8:$S$705)=\"SÍ\"),1,IF(UPPER(Egresados!$S$8:$S$705)=\"NO\",0,\"\"))","v":""},{"$f":"IF(ISERROR(VLOOKUP(Egresados!$T$8:$T$705,Maestros!$S$31:$T$530,2,0)),\"\",VLOOKUP(Egresados!$T$8:$T$705,Maestros!$S$31:$T$530,2,0))","v":"62"},{"$f":"IF(ISERROR(VLOOKUP(U18,Maestros!$S$31:$T$530,2,0)),\"\",VLOOKUP(U18,Maestros!$S$31:$T$530,2,0))","v":"62"},{"$f":"IF(ISERROR(VLOOKUP(Egresados!$K$8:$K$705,Maestros!$A$31:$B$130,2,0)),\"\",VLOOKUP(Egresados!$K$8:$K$705,Maestros!$A$31:$B$130,2,0))","v":""},{"$f":"IF(LEN(tablaEgresados[[#This Row],[Nota promedio]])>0,ROUND(tablaEgresados[[#This Row],[Nota promedio]],2),\"\")","v":14.79}]
[11,null,"DNI","72651126","CURO","HUARCAYA","ELMER","MASCULINO",null,"NO",null,null,null,"2020-1","EL RIMAC","ADMINISTRACION DE EMPRESAS",13.32,null,null,"2014-1","2014-1","20140014@une.edu.pe","elmer.ch@hotmail.com",3133700,"991975522",{"$f":"IF(ISERROR(VLOOKUP(Egresados!$N$8:$N$705,Maestros!$D$31:$E$530,2,0)),\"\",VLOOKUP(Egresados!$N$8:$N$705,Maestros!$D$31:$E$530,2,0))","v":"223"},{"$f":"IF(ISERROR(VLOOKUP(Egresados!$O19,Maestros!$G$31:$J$1030,2,0)),\"\",VLOOKUP(Egresados!$O19,Maestros!$G$31:$J$1030,2,0))","v":"7"},{"$f":"CONCATENATE(Egresados!$Z$8:$Z$705,\"a\",Egresados!$AA$8:$AA$705)","v":"223a7"},{"$f":"IF(ISERROR(VLOOKUP(Egresados!$P19,Maestros!$L$31:$Q$1030,2,0)),\"\",VLOOKUP(Egresados!$P19,Maestros!$L$31:$Q$1030,2,0))","v":"60"},{"$f":"CONCATENATE(Egresados!$Z$8:$Z$705,\"a\",Egresados!$AA$8:$AA$705,\"a\",Egresados!$AC$8:$AC$705)","v":"223a7a60"},{"$f":"IF(ISERROR(VLOOKUP(Egresados!$C$8:$C$705,Maestros!$A$4:$B$21,2,0)),\"\",VLOOKUP(Egresados!$C$8:$C$705,Maestros!$A$4:$B$21,2,0))","v":"1001"},{"$f":"IF(ISERROR(VLOOKUP(Egresados!$H$8:$H$705,Maestros!$D$4:$E$21,2,0)),\"\",VLOOKUP(Egresados!$H$8:$H$705,Maestros!$D$4:$E$21,2,0))","v":"1121"},{"$f":"IF(OR(UPPER(Egresados!$J$8:$J$705)=\"SI\",UPPER(Egresados!$J$8:$J$705)=\"SÍ\"),1,IF(UPPER(Egresados!$J$8:$J$705)=\"NO\",0,\"\"))","v":0},{"$f":"IF(OR(UPPER(Egresados!$R$8:$R$705)=\"SI\",UPPER(Egresados!$R$8:$R$705)=\"SÍ\"),1,IF(UPPER(Egresados!$R$8:$R$705)=\"NO\",0,\"\"))","v":""},{"$f":"IF(OR(UPPER(Egresados!$S$8:$S$705)=\"SI\",UPPER(Egresados!$S$8:$S$705)=\"SÍ\"),1,IF(UPPER(Egresados!$S$8:$S$705)=\"NO\",0,\"\"))","v":""},{"$f":"IF(ISERROR(VLOOKUP(Egresados!$T$8:$T$705,Maestros!$S$31:$T$530,2,0)),\"\",VLOOKUP(Egresados!$T$8:$T$705,Maestros!$S$31:$T$530,2,0))","v":"58"},{"$f":"IF(ISERROR(VLOOKUP(U19,Maestros!$S$31:$T$530,2,0)),\"\",VLOOKUP(U19,Maestros!$S$31:$T$530,2,0))","v":"58"},{"$f":"IF(ISERROR(VLOOKUP(Egresados!$K$8:$K$705,Maestros!$A$31:$B$130,2,0)),\"\",VLOOKUP(Egresados!$K$8:$K$705,Maestros!$A$31:$B$130,2,0))","v":""},{"$f":"IF(LEN(tablaEgresados[[#This Row],[Nota promedio]])>0,ROUND(tablaEgresados[[#This Row],[Nota promedio]],2),\"\")","v":13.32}]
[12,null,"DNI","74869928","RODRIGUEZ","ZEGARRA","PAOLO GONZALO","MASCULINO",null,"NO",null,null,null,"2020-1","EL RIMAC","ADMINISTRACION DE EMPRESAS",15.17,null,null,"2015-1","2015-1","20151207@une.edu.pe","gonzalorodriguezzegarra@gmail.com",3133700,"989864441",{"$f":"IF(ISERROR(VLOOKUP(Egresados!$N$8:$N$705,Maestros!$D$31:$E$530,2,0)),\"\",VLOOKUP(Egresados!$N$8:$N$705,Maestros!$D$31:$E$530,2,0))","v":"223"},{"$f":"IF(ISERROR(VLOOKUP(Egresados!$O20,Maestros!$G$31:$J$1030,2,0)),\"\",VLOOKUP(Egresados!$O20,Maestros!$G$31:$J$1030,2,0))","v":"7"},{"$f":"CONCATENATE(Egresados!$Z$8:$Z$705,\"a\",Egresados!$AA$8:$AA$705)","v":"223a7"},{"$f":"IF(ISERROR(VLOOKUP(Egresados!$P20,Maestros!$L$31:$Q$1030,2,0)),\"\",VLOOKUP(Egresados!$P20,Maestros!$L$31:$Q$1030,2,0))","v":"60"},{"$f":"CONCATENATE(Egresados!$Z$8:$Z$705,\"a\",Egresados!$AA$8:$AA$705,\"a\",Egresados!$AC$8:$AC$705)","v":"223a7a60"},{"$f":"IF(ISERROR(VLOOKUP(Egresados!$C$8:$C$705,Maestros!$A$4:$B$21,2,0)),\"\",VLOOKUP(Egresados!$C$8:$C$705,Maestros!$A$4:$B$21,2,0))","v":"1001"},{"$f":"IF(ISERROR(VLOOKUP(Egresados!$H$8:$H$705,Maestros!$D$4:$E$21,2,0)),\"\",VLOOKUP(Egresados!$H$8:$H$705,Maestros!$D$4:$E$21,2,0))","v":"1121"},{"$f":"IF(OR(UPPER(Egresados!$J$8:$J$705)=\"SI\",UPPER(Egresados!$J$8:$J$705)=\"SÍ\"),1,IF(UPPER(Egresados!$J$8:$J$705)=\"NO\",0,\"\"))","v":0},{"$f":"IF(OR(UPPER(Egresados!$R$8:$R$705)=\"SI\",UPPER(Egresados!$R$8:$R$705)=\"SÍ\"),1,IF(UPPER(Egresados!$R$8:$R$705)=\"NO\",0,\"\"))","v":""},{"$f":"IF(OR(UPPER(Egresados!$S$8:$S$705)=\"SI\",UPPER(Egresados!$S$8:$S$705)=\"SÍ\"),1,IF(UPPER(Egresados!$S$8:$S$705)=\"NO\",0,\"\"))","v":""},{"$f":"IF(ISERROR(VLOOKUP(Egresados!$T$8:$T$705,Maestros!$S$31:$T$530,2,0)),\"\",VLOOKUP(Egresados!$T$8:$T$705,Maestros!$S$31:$T$530,2,0))","v":"62"},{"$f":"IF(ISERROR(VLOOKUP(U20,Maestros!$S$31:$T$530,2,0)),\"\",VLOOKUP(U20,Maestros!$S$31:$T$530,2,0))","v":"62"},{"$f":"IF(ISERROR(VLOOKUP(Egresados!$K$8:$K$705,Maestros!$A$31:$B$130,2,0)),\"\",VLOOKUP(Egresados!$K$8:$K$705,Maestros!$A$31:$B$130,2,0))","v":""},{"$f":"IF(LEN(tablaEgresados[[#This Row],[Nota promedio]])>0,ROUND(tablaEgresados[[#This Row],[Nota promedio]],2),\"\")","v":15.17}]
[13,null,"DNI","73239047","DE LA CRUZ","RAMOS","ANGELO RENZO","MASCULINO",null,"NO",null,null,null,"2020-1","EL RIMAC","ADMINISTRACION DE EMPRESAS",16.46,null,null,"2015-1","2015-1","20151178@une.edu.pe","loquito_angie@hotmail.com",3133700,"983925299",{"$f":"IF(ISERROR(VLOOKUP(Egresados!$N$8:$N$705,Maestros!$D$31:$E$530,2,0)),\"\",VLOOKUP(Egresados!$N$8:$N$705,Maestros!$D$31:$E$530,2,0))","v":"223"},{"$f":"IF(ISERROR(VLOOKUP(Egresados!$O21,Maestros!$G$31:$J$1030,2,0)),\"\",VLOOKUP(Egresados!$O21,Maestros!$G$31:$J$1030,2,0))","v":"7"},{"$f":"CONCATENATE(Egresados!$Z$8:$Z$705,\"a\",Egresados!$AA$8:$AA$705)","v":"223a7"},{"$f":"IF(ISERROR(VLOOKUP(Egresados!$P21,Maestros!$L$31:$Q$1030,2,0)),\"\",VLOOKUP(Egresados!$P21,Maestros!$L$31:$Q$1030,2,0))","v":"60"},{"$f":"CONCATENATE(Egresados!$Z$8:$Z$705,\"a\",Egresados!$AA$8:$AA$705,\"a\",Egresados!$AC$8:$AC$705)","v":"223a7a60"},{"$f":"IF(ISERROR(VLOOKUP(Egresados!$C$8:$C$705,Maestros!$A$4:$B$21,2,0)),\"\",VLOOKUP(Egresados!$C$8:$C$705,Maestros!$A$4:$B$21,2,0))","v":"1001"},{"$f":"IF(ISERROR(VLOOKUP(Egresados!$H$8:$H$705,Maestros!$D$4:$E$21,2,0)),\"\",VLOOKUP(Egresados!$H$8:$H$705,Maestros!$D$4:$E$21,2,0))","v":"1121"},{"$f":"IF(OR(UPPER(Egresados!$J$8:$J$705)=\"SI\",UPPER(Egresados!$J$8:$J$705)=\"SÍ\"),1,IF(UPPER(Egresados!$J$8:$J$705)=\"NO\",0,\"\"))","v":0},{"$f":"IF(OR(UPPER(Egresados!$R$8:$R$705)=\"SI\",UPPER(Egresados!$R$8:$R$705)=\"SÍ\"),1,IF(UPPER(Egresados!$R$8:$R$705)=\"NO\",0,\"\"))","v":""},{"$f":"IF(OR(UPPER(Egresados!$S$8:$S$705)=\"SI\",UPPER(Egresados!$S$8:$S$705)=\"SÍ\"),1,IF(UPPER(Egresados!$S$8:$S$705)=\"NO\",0,\"\"))","v":""},{"$f":"IF(ISERROR(VLOOKUP(Egresados!$T$8:$T$705,Maestros!$S$31:$T$530,2,0)),\"\",VLOOKUP(Egresados!$T$8:$T$705,Maestros!$S$31:$T$530,2,0))","v":"62"},{"$f":"IF(ISERROR(VLOOKUP(U21,Maestros!$S$31:$T$530,2,0)),\"\",VLOOKUP(U21,Maestros!$S$31:$T$530,2,0))","v":"62"},{"$f":"IF(ISERROR(VLOOKUP(Egresados!$K$8:$K$705,Maestros!$A$31:$B$130,2,0)),\"\",VLOOKUP(Egresados!$K$8:$K$705,Maestros!$A$31:$B$130,2,0))","v":""},{"$f":"IF(LEN(tablaEgresados[[#This Row],[Nota promedio]])>0,ROUND(tablaEgresados[[#This Row],[Nota promedio]],2),\"\")","v":16.46}]
[14,null,"DNI","75451678","RODRIGUEZ","VILCA","BRENDA NOEMI","FEMENINO",null,"NO",null,null,null,"2020-1","EL RIMAC","ADMINISTRACION DE EMPRESAS",14.94,null,null,"2015-1","2015-1","20151206@une.edu.pe","brenda_lovexd@hotmail.com",3133700,"930246402",{"$f":"IF(ISERROR(VLOOKUP(Egresados!$N$8:$N$705,Maestros!$D$31:$E$530,2,0)),\"\",VLOOKUP(Egresados!$N$8:$N$705,Maestros!$D$31:$E$530,2,0))","v":"223"},{"$f":"IF(ISERROR(VLOOKUP(Egresados!$O22,Maestros!$G$31:$J$1030,2,0)),\"\",VLOOKUP(Egresados!$O22,Maestros!$G$31:$J$1030,2,0))","v":"7"},{"$f":"CONCATENATE(Egresados!$Z$8:$Z$705,\"a\",Egresados!$AA$8:$AA$705)","v":"223a7"},{"$f":"IF(ISERROR(VLOOKUP(Egresados!$P22,Maestros!$L$31:$Q$1030,2,0)),\"\",VLOOKUP(Egresados!$P22,Maestros!$L$31:$Q$1030,2,0))","v":"60"},{"$f":"CONCATENATE(Egresados!$Z$8:$Z$705,\"a\",Egresados!$AA$8:$AA$705,\"a\",Egresados!$AC$8:$AC$705)","v":"223a7a60"},{"$f":"IF(ISERROR(VLOOKUP(Egresados!$C$8:$C$705,Maestros!$A$4:$B$21,2,0)),\"\",VLOOKUP(Egresados!$C$8:$C$705,Maestros!$A$4:$B$21,2,0))","v":"1001"},{"$f":"IF(ISERROR(VLOOKUP(Egresados!$H$8:$H$705,Maestros!$D$4:$E$21,2,0)),\"\",VLOOKUP(Egresados!$H$8:$H$705,Maestros!$D$4:$E$21,2,0))","v":"1122"},{"$f":"IF(OR(UPPER(Egresados!$J$8:$J$705)=\"SI\",UPPER(Egresados!$J$8:$J$705)=\"SÍ\"),1,IF(UPPER(Egresados!$J$8:$J$705)=\"NO\",0,\"\"))","v":0},{"$f":"IF(OR(UPPER(Egresados!$R$8:$R$705)=\"SI\",UPPER(Egresados!$R$8:$R$705)=\"SÍ\"),1,IF(UPPER(Egresados!$R$8:$R$705)=\"NO\",0,\"\"))","v":""},{"$f":"IF(OR(UPPER(Egresados!$S$8:$S$705)=\"SI\",UPPER(Egresados!$S$8:$S$705)=\"SÍ\"),1,IF(UPPER(Egresados!$S$8:$S$705)=\"NO\",0,\"\"))","v":""},{"$f":"IF(ISERROR(VLOOKUP(Egresados!$T$8:$T$705,Maestros!$S$31:$T$530,2,0)),\"\",VLOOKUP(Egresados!$T$8:$T$705,Maestros!$S$31:$T$530,2,0))","v":"62"},{"$f":"IF(ISERROR(VLOOKUP(U22,Maestros!$S$31:$T$530,2,0)),\"\",VLOOKUP(U22,Maestros!$S$31:$T$530,2,0))","v":"62"},{"$f":"IF(ISERROR(VLOOKUP(Egresados!$K$8:$K$705,Maestros!$A$31:$B$130,2,0)),\"\",VLOOKUP(Egresados!$K$8:$K$705,Maestros!$A$31:$B$130,2,0))","v":""},{"$f":"IF(LEN(tablaEgresados[[#This Row],[Nota promedio]])>0,ROUND(tablaEgresados[[#This Row],[Nota promedio]],2),\"\")","v":14.94}]
[15,null,"DNI","73977089","CONTRERAS","ESCOBAR","SANTA VERONICA","FEMENINO",null,"NO",null,null,null,"2020-1","EL RIMAC","ADMINISTRACION DE EMPRESAS",15,null,null,"2014-1","2014-1","20140009@une.edu.pe","svcontrerase12@gmail.com",3133700,"934804991",{"$f":"IF(ISERROR(VLOOKUP(Egresados!$N$8:$N$705,Maestros!$D$31:$E$530,2,0)),\"\",VLOOKUP(Egresados!$N$8:$N$705,Maestros!$D$31:$E$530,2,0))","v":"223"},{"$f":"IF(ISERROR(VLOOKUP(Egresados!$O23,Maestros!$G$31:$J$1030,2,0)),\"\",VLOOKUP(Egresados!$O23,Maestros!$G$31:$J$1030,2,0))","v":"7"},{"$f":"CONCATENATE(Egresados!$Z$8:$Z$705,\"a\",Egresados!$AA$8:$AA$705)","v":"223a7"},{"$f":"IF(ISERROR(VLOOKUP(Egresados!$P23,Maestros!$L$31:$Q$1030,2,0)),\"\",VLOOKUP(Egresados!$P23,Maestros!$L$31:$Q$1030,2,0))","v":"60"},{"$f":"CONCATENATE(Egresados!$Z$8:$Z$705,\"a\",Egresados!$AA$8:$AA$705,\"a\",Egresados!$AC$8:$AC$705)","v":"223a7a60"},{"$f":"IF(ISERROR(VLOOKUP(Egresados!$C$8:$C$705,Maestros!$A$4:$B$21,2,0)),\"\",VLOOKUP(Egresados!$C$8:$C$705,Maestros!$A$4:$B$21,2,0))","v":"1001"},{"$f":"IF(ISERROR(VLOOKUP(Egresados!$H$8:$H$705,Maestros!$D$4:$E$21,2,0)),\"\",VLOOKUP(Egresados!$H$8:$H$705,Maestros!$D$4:$E$21,2,0))","v":"1122"},{"$f":"IF(OR(UPPER(Egresados!$J$8:$J$705)=\"SI\",UPPER(Egresados!$J$8:$J$705)=\"SÍ\"),1,IF(UPPER(Egresados!$J$8:$J$705)=\"NO\",0,\"\"))","v":0},{"$f":"IF(OR(UPPER(Egresados!$R$8:$R$705)=\"SI\",UPPER(Egresados!$R$8:$R$705)=\"SÍ\"),1,IF(UPPER(Egresados!$R$8:$R$705)=\"NO\",0,\"\"))","v":""},{"$f":"IF(OR(UPPER(Egresados!$S$8:$S$705)=\"SI\",UPPER(Egresados!$S$8:$S$705)=\"SÍ\"),1,IF(UPPER(Egresados!$S$8:$S$705)=\"NO\",0,\"\"))","v":""},{"$f":"IF(ISERROR(VLOOKUP(Egresados!$T$8:$T$705,Maestros!$S$31:$T$530,2,0)),\"\",VLOOKUP(Egresados!$T$8:$T$705,Maestros!$S$31:$T$530,2,0))","v":"58"},{"$f":"IF(ISERROR(VLOOKUP(U23,Maestros!$S$31:$T$530,2,0)),\"\",VLOOKUP(U23,Maestros!$S$31:$T$530,2,0))","v":"58"},{"$f":"IF(ISERROR(VLOOKUP(Egresados!$K$8:$K$705,Maestros!$A$31:$B$130,2,0)),\"\",VLOOKUP(Egresados!$K$8:$K$705,Maestros!$A$31:$B$130,2,0))","v":""},{"$f":"IF(LEN(tablaEgresados[[#This Row],[Nota promedio]])>0,ROUND(tablaEgresados[[#This Row],[Nota promedio]],2),\"\")","v":15}]
[16,null,"DNI","75176165","VALERIO","CIEZA","MANUEL WALTER","MASCULINO",null,"NO",null,null,null,"2020-1","EL RIMAC","ADMINISTRACION DE EMPRESAS",14.25,null,null,"2015-1","2015-1","20151224@une.edu.pe","manuel_vale1296@hotmail.com",3133700,"993823829",{"$f":"IF(ISERROR(VLOOKUP(Egresados!$N$8:$N$705,Maestros!$D$31:$E$530,2,0)),\"\",VLOOKUP(Egresados!$N$8:$N$705,Maestros!$D$31:$E$530,2,0))","v":"223"},{"$f":"IF(ISERROR(VLOOKUP(Egresados!$O24,Maestros!$G$31:$J$1030,2,0)),\"\",VLOOKUP(Egresados!$O24,Maestros!$G$31:$J$1030,2,0))","v":"7"},{"$f":"CONCATENATE(Egresados!$Z$8:$Z$705,\"a\",Egresados!$AA$8:$AA$705)","v":"223a7"},{"$f":"IF(ISERROR(VLOOKUP(Egresados!$P24,Maestros!$L$31:$Q$1030,2,0)),\"\",VLOOKUP(Egresados!$P24,Maestros!$L$31:$Q$1030,2,0))","v":"60"},{"$f":"CONCATENATE(Egresados!$Z$8:$Z$705,\"a\",Egresados!$AA$8:$AA$705,\"a\",Egresados!$AC$8:$AC$705)","v":"223a7a60"},{"$f":"IF(ISERROR(VLOOKUP(Egresados!$C$8:$C$705,Maestros!$A$4:$B$21,2,0)),\"\",VLOOKUP(Egresados!$C$8:$C$705,Maestros!$A$4:$B$21,2,0))","v":"1001"},{"$f":"IF(ISERROR(VLOOKUP(Egresados!$H$8:$H$705,Maestros!$D$4:$E$21,2,0)),\"\",VLOOKUP(Egresados!$H$8:$H$705,Maestros!$D$4:$E$21,2,0))","v":"1121"},{"$f":"IF(OR(UPPER(Egresados!$J$8:$J$705)=\"SI\",UPPER(Egresados!$J$8:$J$705)=\"SÍ\"),1,IF(UPPER(Egresados!$J$8:$J$705)=\"NO\",0,\"\"))","v":0},{"$f":"IF(OR(UPPER(Egresados!$R$8:$R$705)=\"SI\",UPPER(Egresados!$R$8:$R$705)=\"SÍ\"),1,IF(UPPER(Egresados!$R$8:$R$705)=\"NO\",0,\"\"))","v":""},{"$f":"IF(OR(UPPER(Egresados!$S$8:$S$705)=\"SI\",UPPER(Egresados!$S$8:$S$705)=\"SÍ\"),1,IF(UPPER(Egresados!$S$8:$S$705)=\"NO\",0,\"\"))","v":""},{"$f":"IF(ISERROR(VLOOKUP(Egresados!$T$8:$T$705,Maestros!$S$31:$T$530,2,0)),\"\",VLOOKUP(Egresados!$T$8:$T$705,Maestros!$S$31:$T$530,2,0))","v":"62"},{"$f":"IF(ISERROR(VLOOKUP(U24,Maestros!$S$31:$T$530,2,0)),\"\",VLOOKUP(U24,Maestros!$S$31:$T$530,2,0))","v":"62"},{"$f":"IF(ISERROR(VLOOKUP(Egresados!$K$8:$K$705,Maestros!$A$31:$B$130,2,0)),\"\",VLOOKUP(Egresados!$K$8:$K$705,Maestros!$A$31:$B$130,2,0))","v":""},{"$f":"IF(LEN(tablaEgresados[[#This Row],[Nota promedio]])>0,ROUND(tablaEgresados[[#This Row],[Nota promedio]],2),\"\")","v":14.25}]
[17,null,"DNI","72164818","LOYOLA","PINTO","MARLENI MARGARITA","FEMENINO",null,"NO",null,null,null,"2020-1","EL RIMAC","ADMINISTRACION DE EMPRESAS",14.92,null,null,"2015-1","2015-1","20151187@une.edu.pe","marleni19_07@hotmail.com",3133700,"956313949",{"$f":"IF(ISERROR(VLOOKUP(Egresados!$N$8:$N$705,Maestros!$D$31:$E$530,2,0)),\"\",VLOOKUP(Egresados!$N$8:$N$705,Maestros!$D$31:$E$530,2,0))","v":"223"},{"$f":"IF(ISERROR(VLOOKUP(Egresados!$O25,Maestros!$G$31:$J$1030,2,0)),\"\",VLOOKUP(Egresados!$O25,Maestros!$G$31:$J$1030,2,0))","v":"7"},{"$f":"CONCATENATE(Egresados!$Z$8:$Z$705,\"a\",Egresados!$AA$8:$AA$705)","v":"223a7"},{"$f":"IF(ISERROR(VLOOKUP(Egresados!$P25,Maestros!$L$31:$Q$1030,2,0)),\"\",VLOOKUP(Egresados!$P25,Maestros!$L$31:$Q$1030,2,0))","v":"60"},{"$f":"CONCATENATE(Egresados!$Z$8:$Z$705,\"a\",Egresados!$AA$8:$AA$705,\"a\",Egresados!$AC$8:$AC$705)","v":"223a7a60"},{"$f":"IF(ISERROR(VLOOKUP(Egresados!$C$8:$C$705,Maestros!$A$4:$B$21,2,0)),\"\",VLOOKUP(Egresados!$C$8:$C$705,Maestros!$A$4:$B$21,2,0))","v":"1001"},{"$f":"IF(ISERROR(VLOOKUP(Egresados!$H$8:$H$705,Maestros!$D$4:$E$21,2,0)),\"\",VLOOKUP(Egresados!$H$8:$H$705,Maestros!$D$4:$E$21,2,0))","v":"1122"},{"$f":"IF(OR(UPPER(Egresados!$J$8:$J$705)=\"SI\",UPPER(Egresados!$J$8:$J$705)=\"SÍ\"),1,IF(UPPER(Egresados!$J$8:$J$705)=\"NO\",0,\"\"))","v":0},{"$f":"IF(OR(UPPER(Egresados!$R$8:$R$705)=\"SI\",UPPER(Egresados!$R$8:$R$705)=\"SÍ\"),1,IF(UPPER(Egresados!$R$8:$R$705)=\"NO\",0,\"\"))","v":""},{"$f":"IF(OR(UPPER(Egresados!$S$8:$S$705)=\"SI\",UPPER(Egresados!$S$8:$S$705)=\"SÍ\"),1,IF(UPPER(Egresados!$S$8:$S$705)=\"NO\",0,\"\"))","v":""},{"$f":"IF(ISERROR(VLOOKUP(Egresados!$T$8:$T$705,Maestros!$S$31:$T$530,2,0)),\"\",VLOOKUP(Egresados!$T$8:$T$705,Maestros!$S$31:$T$530,2,0))","v":"62"},{"$f":"IF(ISERROR(VLOOKUP(U25,Maestros!$S$31:$T$530,2,0)),\"\",VLOOKUP(U25,Maestros!$S$31:$T$530,2,0))","v":"62"},{"$f":"IF(ISERROR(VLOOKUP(Egresados!$K$8:$K$705,Maestros!$A$31:$B$130,2,0)),\"\",VLOOKUP(Egresados!$K$8:$K$705,Maestros!$A$31:$B$130,2,0))","v":""},{"$f":"IF(LEN(tablaEgresados[[#This Row],[Nota promedio]])>0,ROUND(tablaEgresados[[#This Row],[Nota promedio]],2),\"\")","v":14.92}]
[18,null,"DNI","70037720","ROQUE","PASION","PEDRO ROBERTO","MASCULINO",null,"NO",null,null,null,"2020-1","EL RIMAC","ADMINISTRACION DE EMPRESAS",14.46,null,null,"2015-1","2015-1","20151211@une.edu.pe","cassiel.25.1093@gmail.com",3133700,"955410959",{"$f":"IF(ISERROR(VLOOKUP(Egresados!$N$8:$N$705,Maestros!$D$31:$E$530,2,0)),\"\",VLOOKUP(Egresados!$N$8:$N$705,Maestros!$D$31:$E$530,2,0))","v":"223"},{"$f":"IF(ISERROR(VLOOKUP(Egresados!$O26,Maestros!$G$31:$J$1030,2,0)),\"\",VLOOKUP(Egresados!$O26,Maestros!$G$31:$J$1030,2,0))","v":"7"},{"$f":"CONCATENATE(Egresados!$Z$8:$Z$705,\"a\",Egresados!$AA$8:$AA$705)","v":"223a7"},{"$f":"IF(ISERROR(VLOOKUP(Egresados!$P26,Maestros!$L$31:$Q$1030,2,0)),\"\",VLOOKUP(Egresados!$P26,Maestros!$L$31:$Q$1030,2,0))","v":"60"},{"$f":"CONCATENATE(Egresados!$Z$8:$Z$705,\"a\",Egresados!$AA$8:$AA$705,\"a\",Egresados!$AC$8:$AC$705)","v":"223a7a60"},{"$f":"IF(ISERROR(VLOOKUP(Egresados!$C$8:$C$705,Maestros!$A$4:$B$21,2,0)),\"\",VLOOKUP(Egresados!$C$8:$C$705,Maestros!$A$4:$B$21,2,0))","v":"1001"},{"$f":"IF(ISERROR(VLOOKUP(Egresados!$H$8:$H$705,Maestros!$D$4:$E$21,2,0)),\"\",VLOOKUP(Egresados!$H$8:$H$705,Maestros!$D$4:$E$21,2,0))","v":"1121"},{"$f":"IF(OR(UPPER(Egresados!$J$8:$J$705)=\"SI\",UPPER(Egresados!$J$8:$J$705)=\"SÍ\"),1,IF(UPPER(Egresados!$J$8:$J$705)=\"NO\",0,\"\"))","v":0},{"$f":"IF(OR(UPPER(Egresados!$R$8:$R$705)=\"SI\",UPPER(Egresados!$R$8:$R$705)=\"SÍ\"),1,IF(UPPER(Egresados!$R$8:$R$705)=\"NO\",0,\"\"))","v":""},{"$f":"IF(OR(UPPER(Egresados!$S$8:$S$705)=\"SI\",UPPER(Egresados!$S$8:$S$705)=\"SÍ\"),1,IF(UPPER(Egresados!$S$8:$S$705)=\"NO\",0,\"\"))","v":""},{"$f":"IF(ISERROR(VLOOKUP(Egresados!$T$8:$T$705,Maestros!$S$31:$T$530,2,0)),\"\",VLOOKUP(Egresados!$T$8:$T$705,Maestros!$S$31:$T$530,2,0))","v":"62"},{"$f":"IF(ISERROR(VLOOKUP(U26,Maestros!$S$31:$T$530,2,0)),\"\",VLOOKUP(U26,Maestros!$S$31:$T$530,2,0))","v":"62"},{"$f":"IF(ISERROR(VLOOKUP(Egresados!$K$8:$K$705,Maestros!$A$31:$B$130,2,0)),\"\",VLOOKUP(Egresados!$K$8:$K$705,Maestros!$A$31:$B$130,2,0))","v":""},{"$f":"IF(LEN(tablaEgresados[[#This Row],[Nota promedio]])>0,ROUND(tablaEgresados[[#This Row],[Nota promedio]],2),\"\")","v":14.46}]
[19,null,"DNI","44210417","SANGAMA","ACHO","SEGUNDO CARLOS","MASCULINO",null,"NO",null,null,null,"2020-1","EL RIMAC","ADMINISTRACION DE EMPRESAS",8.11,null,null,"2014-1","2014-1","20140051@une.edu.pe","segundocarlossangama@gmail.com",3133700,"986452066",{"$f":"IF(ISERROR(VLOOKUP(Egresados!$N$8:$N$705,Maestros!$D$31:$E$530,2,0)),\"\",VLOOKUP(Egresados!$N$8:$N$705,Maestros!$D$31:$E$530,2,0))","v":"223"},{"$f":"IF(ISERROR(VLOOKUP(Egresados!$O27,Maestros!$G$31:$J$1030,2,0)),\"\",VLOOKUP(Egresados!$O27,Maestros!$G$31:$J$1030,2,0))","v":"7"},{"$f":"CONCATENATE(Egresados!$Z$8:$Z$705,\"a\",Egresados!$AA$8:$AA$705)","v":"223a7"},{"$f":"IF(ISERROR(VLOOKUP(Egresados!$P27,Maestros!$L$31:$Q$1030,2,0)),\"\",VLOOKUP(Egresados!$P27,Maestros!$L$31:$Q$1030,2,0))","v":"60"},{"$f":"CONCATENATE(Egresados!$Z$8:$Z$705,\"a\",Egresados!$AA$8:$AA$705,\"a\",Egresados!$AC$8:$AC$705)","v":"223a7a60"},{"$f":"IF(ISERROR(VLOOKUP(Egresados!$C$8:$C$705,Maestros!$A$4:$B$21,2,0)),\"\",VLOOKUP(Egresados!$C$8:$C$705,Maestros!$A$4:$B$21,2,0))","v":"1001"},{"$f":"IF(ISERROR(VLOOKUP(Egresados!$H$8:$H$705,Maestros!$D$4:$E$21,2,0)),\"\",VLOOKUP(Egresados!$H$8:$H$705,Maestros!$D$4:$E$21,2,0))","v":"1121"},{"$f":"IF(OR(UPPER(Egresados!$J$8:$J$705)=\"SI\",UPPER(Egresados!$J$8:$J$705)=\"SÍ\"),1,IF(UPPER(Egresados!$J$8:$J$705)=\"NO\",0,\"\"))","v":0},{"$f":"IF(OR(UPPER(Egresados!$R$8:$R$705)=\"SI\",UPPER(Egresados!$R$8:$R$705)=\"SÍ\"),1,IF(UPPER(Egresados!$R$8:$R$705)=\"NO\",0,\"\"))","v":""},{"$f":"IF(OR(UPPER(Egresados!$S$8:$S$705)=\"SI\",UPPER(Egresados!$S$8:$S$705)=\"SÍ\"),1,IF(UPPER(Egresados!$S$8:$S$705)=\"NO\",0,\"\"))","v":""},{"$f":"IF(ISERROR(VLOOKUP(Egresados!$T$8:$T$705,Maestros!$S$31:$T$530,2,0)),\"\",VLOOKUP(Egresados!$T$8:$T$705,Maestros!$S$31:$T$530,2,0))","v":"58"},{"$f":"IF(ISERROR(VLOOKUP(U27,Maestros!$S$31:$T$530,2,0)),\"\",VLOOKUP(U27,Maestros!$S$31:$T$530,2,0))","v":"58"},{"$f":"IF(ISERROR(VLOOKUP(Egresados!$K$8:$K$705,Maestros!$A$31:$B$130,2,0)),\"\",VLOOKUP(Egresados!$K$8:$K$705,Maestros!$A$31:$B$130,2,0))","v":""},{"$f":"IF(LEN(tablaEgresados[[#This Row],[Nota promedio]])>0,ROUND(tablaEgresados[[#This Row],[Nota promedio]],2),\"\")","v":8.11}]
[20,null,"DNI","74807480","DE LA CRUZ","POMAHUALI","FIORELA","FEMENINO",null,"NO",null,null,null,"2020-1","EL RIMAC","ADMINISTRACION DE EMPRESAS",15.05,null,null,"2015-1","2015-1","20151177@une.edu.pe","fioreladelacruz.a1@gmail.com",3133700,"946164995",{"$f":"IF(ISERROR(VLOOKUP(Egresados!$N$8:$N$705,Maestros!$D$31:$E$530,2,0)),\"\",VLOOKUP(Egresados!$N$8:$N$705,Maestros!$D$31:$E$530,2,0))","v":"223"},{"$f":"IF(ISERROR(VLOOKUP(Egresados!$O28,Maestros!$G$31:$J$1030,2,0)),\"\",VLOOKUP(Egresados!$O28,Maestros!$G$31:$J$1030,2,0))","v":"7"},{"$f":"CONCATENATE(Egresados!$Z$8:$Z$705,\"a\",Egresados!$AA$8:$AA$705)","v":"223a7"},{"$f":"IF(ISERROR(VLOOKUP(Egresados!$P28,Maestros!$L$31:$Q$1030,2,0)),\"\",VLOOKUP(Egresados!$P28,Maestros!$L$31:$Q$1030,2,0))","v":"60"},{"$f":"CONCATENATE(Egresados!$Z$8:$Z$705,\"a\",Egresados!$AA$8:$AA$705,\"a\",Egresados!$AC$8:$AC$705)","v":"223a7a60"},{"$f":"IF(ISERROR(VLOOKUP(Egresados!$C$8:$C$705,Maestros!$A$4:$B$21,2,0)),\"\",VLOOKUP(Egresados!$C$8:$C$705,Maestros!$A$4:$B$21,2,0))","v":"1001"},{"$f":"IF(ISERROR(VLOOKUP(Egresados!$H$8:$H$705,Maestros!$D$4:$E$21,2,0)),\"\",VLOOKUP(Egresados!$H$8:$H$705,Maestros!$D$4:$E$21,2,0))","v":"1122"},{"$f":"IF(OR(UPPER(Egresados!$J$8:$J$705)=\"SI\",UPPER(Egresados!$J$8:$J$705)=\"SÍ\"),1,IF(UPPER(Egresados!$J$8:$J$705)=\"NO\",0,\"\"))","v":0},{"$f":"IF(OR(UPPER(Egresados!$R$8:$R$705)=\"SI\",UPPER(Egresados!$R$8:$R$705)=\"SÍ\"),1,IF(UPPER(Egresados!$R$8:$R$705)=\"NO\",0,\"\"))","v":""},{"$f":"IF(OR(UPPER(Egresados!$S$8:$S$705)=\"SI\",UPPER(Egresados!$S$8:$S$705)=\"SÍ\"),1,IF(UPPER(Egresados!$S$8:$S$705)=\"NO\",0,\"\"))","v":""},{"$f":"IF(ISERROR(VLOOKUP(Egresados!$T$8:$T$705,Maestros!$S$31:$T$530,2,0)),\"\",VLOOKUP(Egresados!$T$8:$T$705,Maestros!$S$31:$T$530,2,0))","v":"62"},{"$f":"IF(ISERROR(VLOOKUP(U28,Maestros!$S$31:$T$530,2,0)),\"\",VLOOKUP(U28,Maestros!$S$31:$T$530,2,0))","v":"62"},{"$f":"IF(ISERROR(VLOOKUP(Egresados!$K$8:$K$705,Maestros!$A$31:$B$130,2,0)),\"\",VLOOKUP(Egresados!$K$8:$K$705,Maestros!$A$31:$B$130,2,0))","v":""},{"$f":"IF(LEN(tablaEgresados[[#This Row],[Nota promedio]])>0,ROUND(tablaEgresados[[#This Row],[Nota promedio]],2),\"\")","v":15.05}]
[21,null,"DNI","70422747","PARIONA","HUAMAN","HUGO ADRIEL","MASCULINO",null,"NO",null,null,null,"2020-1","EL RIMAC","ADMINISTRACION DE EMPRESAS",14.72,null,null,"2014-1","2014-1","20141162@une.edu.pe","adriel.hp@hotmail.com",3133700,"914137934",{"$f":"IF(ISERROR(VLOOKUP(Egresados!$N$8:$N$705,Maestros!$D$31:$E$530,2,0)),\"\",VLOOKUP(Egresados!$N$8:$N$705,Maestros!$D$31:$E$530,2,0))","v":"223"},{"$f":"IF(ISERROR(VLOOKUP(Egresados!$O29,Maestros!$G$31:$J$1030,2,0)),\"\",VLOOKUP(Egresados!$O29,Maestros!$G$31:$J$1030,2,0))","v":"7"},{"$f":"CONCATENATE(Egresados!$Z$8:$Z$705,\"a\",Egresados!$AA$8:$AA$705)","v":"223a7"},{"$f":"IF(ISERROR(VLOOKUP(Egresados!$P29,Maestros!$L$31:$Q$1030,2,0)),\"\",VLOOKUP(Egresados!$P29,Maestros!$L$31:$Q$1030,2,0))","v":"60"},{"$f":"CONCATENATE(Egresados!$Z$8:$Z$705,\"a\",Egresados!$AA$8:$AA$705,\"a\",Egresados!$AC$8:$AC$705)","v":"223a7a60"},{"$f":"IF(ISERROR(VLOOKUP(Egresados!$C$8:$C$705,Maestros!$A$4:$B$21,2,0)),\"\",VLOOKUP(Egresados!$C$8:$C$705,Maestros!$A$4:$B$21,2,0))","v":"1001"},{"$f":"IF(ISERROR(VLOOKUP(Egresados!$H$8:$H$705,Maestros!$D$4:$E$21,2,0)),\"\",VLOOKUP(Egresados!$H$8:$H$705,Maestros!$D$4:$E$21,2,0))","v":"1121"},{"$f":"IF(OR(UPPER(Egresados!$J$8:$J$705)=\"SI\",UPPER(Egresados!$J$8:$J$705)=\"SÍ\"),1,IF(UPPER(Egresados!$J$8:$J$705)=\"NO\",0,\"\"))","v":0},{"$f":"IF(OR(UPPER(Egresados!$R$8:$R$705)=\"SI\",UPPER(Egresados!$R$8:$R$705)=\"SÍ\"),1,IF(UPPER(Egresados!$R$8:$R$705)=\"NO\",0,\"\"))","v":""},{"$f":"IF(OR(UPPER(Egresados!$S$8:$S$705)=\"SI\",UPPER(Egresados!$S$8:$S$705)=\"SÍ\"),1,IF(UPPER(Egresados!$S$8:$S$705)=\"NO\",0,\"\"))","v":""},{"$f":"IF(ISERROR(VLOOKUP(Egresados!$T$8:$T$705,Maestros!$S$31:$T$530,2,0)),\"\",VLOOKUP(Egresados!$T$8:$T$705,Maestros!$S$31:$T$530,2,0))","v":"58"},{"$f":"IF(ISERROR(VLOOKUP(U29,Maestros!$S$31:$T$530,2,0)),\"\",VLOOKUP(U29,Maestros!$S$31:$T$530,2,0))","v":"58"},{"$f":"IF(ISERROR(VLOOKUP(Egresados!$K$8:$K$705,Maestros!$A$31:$B$130,2,0)),\"\",VLOOKUP(Egresados!$K$8:$K$705,Maestros!$A$31:$B$130,2,0))","v":""},{"$f":"IF(LEN(tablaEgresados[[#This Row],[Nota promedio]])>0,ROUND(tablaEgresados[[#This Row],[Nota promedio]],2),\"\")","v":14.72}]
[22,null,"DNI","76782735","BENITO","CONDORI","EDITH YULISA","FEMENINO",null,"NO",null,null,null,"2020-1","EL RIMAC","ADMINISTRACION DE EMPRESAS",15.43,null,null,"2015-1","2015-1","20151170@une.edu.pe","amor-12_98@hotmail.com",3133700,"921877266",{"$f":"IF(ISERROR(VLOOKUP(Egresados!$N$8:$N$705,Maestros!$D$31:$E$530,2,0)),\"\",VLOOKUP(Egresados!$N$8:$N$705,Maestros!$D$31:$E$530,2,0))","v":"223"},{"$f":"IF(ISERROR(VLOOKUP(Egresados!$O30,Maestros!$G$31:$J$1030,2,0)),\"\",VLOOKUP(Egresados!$O30,Maestros!$G$31:$J$1030,2,0))","v":"7"},{"$f":"CONCATENATE(Egresados!$Z$8:$Z$705,\"a\",Egresados!$AA$8:$AA$705)","v":"223a7"},{"$f":"IF(ISERROR(VLOOKUP(Egresados!$P30,Maestros!$L$31:$Q$1030,2,0)),\"\",VLOOKUP(Egresados!$P30,Maestros!$L$31:$Q$1030,2,0))","v":"60"},{"$f":"CONCATENATE(Egresados!$Z$8:$Z$705,\"a\",Egresados!$AA$8:$AA$705,\"a\",Egresados!$AC$8:$AC$705)","v":"223a7a60"},{"$f":"IF(ISERROR(VLOOKUP(Egresados!$C$8:$C$705,Maestros!$A$4:$B$21,2,0)),\"\",VLOOKUP(Egresados!$C$8:$C$705,Maestros!$A$4:$B$21,2,0))","v":"1001"},{"$f":"IF(ISERROR(VLOOKUP(Egresados!$H$8:$H$705,Maestros!$D$4:$E$21,2,0)),\"\",VLOOKUP(Egresados!$H$8:$H$705,Maestros!$D$4:$E$21,2,0))","v":"1122"},{"$f":"IF(OR(UPPER(Egresados!$J$8:$J$705)=\"SI\",UPPER(Egresados!$J$8:$J$705)=\"SÍ\"),1,IF(UPPER(Egresados!$J$8:$J$705)=\"NO\",0,\"\"))","v":0},{"$f":"IF(OR(UPPER(Egresados!$R$8:$R$705)=\"SI\",UPPER(Egresados!$R$8:$R$705)=\"SÍ\"),1,IF(UPPER(Egresados!$R$8:$R$705)=\"NO\",0,\"\"))","v":""},{"$f":"IF(OR(UPPER(Egresados!$S$8:$S$705)=\"SI\",UPPER(Egresados!$S$8:$S$705)=\"SÍ\"),1,IF(UPPER(Egresados!$S$8:$S$705)=\"NO\",0,\"\"))","v":""},{"$f":"IF(ISERROR(VLOOKUP(Egresados!$T$8:$T$705,Maestros!$S$31:$T$530,2,0)),\"\",VLOOKUP(Egresados!$T$8:$T$705,Maestros!$S$31:$T$530,2,0))","v":"62"},{"$f":"IF(ISERROR(VLOOKUP(U30,Maestros!$S$31:$T$530,2,0)),\"\",VLOOKUP(U30,Maestros!$S$31:$T$530,2,0))","v":"62"},{"$f":"IF(ISERROR(VLOOKUP(Egresados!$K$8:$K$705,Maestros!$A$31:$B$130,2,0)),\"\",VLOOKUP(Egresados!$K$8:$K$705,Maestros!$A$31:$B$130,2,0))","v":""},{"$f":"IF(LEN(tablaEgresados[[#This Row],[Nota promedio]])>0,ROUND(tablaEgresados[[#This Row],[Nota promedio]],2),\"\")","v":15.43}]
[23,null,"DNI","74845398","VENTURA","ESPINOZA","JULIO ROMARIO","MASCULINO",null,"NO",null,null,null,"2020-1","EL RIMAC","ADMINISTRACION DE EMPRESAS",13.77,null,null,"2014-1","2014-1","20140059@une.edu.pe","julio_jrve@hotmail.com",3133700,"920247127",{"$f":"IF(ISERROR(VLOOKUP(Egresados!$N$8:$N$705,Maestros!$D$31:$E$530,2,0)),\"\",VLOOKUP(Egresados!$N$8:$N$705,Maestros!$D$31:$E$530,2,0))","v":"223"},{"$f":"IF(ISERROR(VLOOKUP(Egresados!$O31,Maestros!$G$31:$J$1030,2,0)),\"\",VLOOKUP(Egresados!$O31,Maestros!$G$31:$J$1030,2,0))","v":"7"},{"$f":"CONCATENATE(Egresados!$Z$8:$Z$705,\"a\",Egresados!$AA$8:$AA$705)","v":"223a7"},{"$f":"IF(ISERROR(VLOOKUP(Egresados!$P31,Maestros!$L$31:$Q$1030,2,0)),\"\",VLOOKUP(Egresados!$P31,Maestros!$L$31:$Q$1030,2,0))","v":"60"},{"$f":"CONCATENATE(Egresados!$Z$8:$Z$705,\"a\",Egresados!$AA$8:$AA$705,\"a\",Egresados!$AC$8:$AC$705)","v":"223a7a60"},{"$f":"IF(ISERROR(VLOOKUP(Egresados!$C$8:$C$705,Maestros!$A$4:$B$21,2,0)),\"\",VLOOKUP(Egresados!$C$8:$C$705,Maestros!$A$4:$B$21,2,0))","v":"1001"},{"$f":"IF(ISERROR(VLOOKUP(Egresados!$H$8:$H$705,Maestros!$D$4:$E$21,2,0)),\"\",VLOOKUP(Egresados!$H$8:$H$705,Maestros!$D$4:$E$21,2,0))","v":"1121"},{"$f":"IF(OR(UPPER(Egresados!$J$8:$J$705)=\"SI\",UPPER(Egresados!$J$8:$J$705)=\"SÍ\"),1,IF(UPPER(Egresados!$J$8:$J$705)=\"NO\",0,\"\"))","v":0},{"$f":"IF(OR(UPPER(Egresados!$R$8:$R$705)=\"SI\",UPPER(Egresados!$R$8:$R$705)=\"SÍ\"),1,IF(UPPER(Egresados!$R$8:$R$705)=\"NO\",0,\"\"))","v":""},{"$f":"IF(OR(UPPER(Egresados!$S$8:$S$705)=\"SI\",UPPER(Egresados!$S$8:$S$705)=\"SÍ\"),1,IF(UPPER(Egresados!$S$8:$S$705)=\"NO\",0,\"\"))","v":""},{"$f":"IF(ISERROR(VLOOKUP(Egresados!$T$8:$T$705,Maestros!$S$31:$T$530,2,0)),\"\",VLOOKUP(Egresados!$T$8:$T$705,Maestros!$S$31:$T$530,2,0))","v":"58"},{"$f":"IF(ISERROR(VLOOKUP(U31,Maestros!$S$31:$T$530,2,0)),\"\",VLOOKUP(U31,Maestros!$S$31:$T$530,2,0))","v":"58"},{"$f":"IF(ISERROR(VLOOKUP(Egresados!$K$8:$K$705,Maestros!$A$31:$B$130,2,0)),\"\",VLOOKUP(Egresados!$K$8:$K$705,Maestros!$A$31:$B$130,2,0))","v":""},{"$f":"IF(LEN(tablaEgresados[[#This Row],[Nota promedio]])>0,ROUND(tablaEgresados[[#This Row],[Nota promedio]],2),\"\")","v":13.77}]
[24,null,"DNI","73111432","INGARUCA","CHAVEZ","JOEL LEONARD","MASCULINO",null,"NO",null,null,null,"2020-1","EL RIMAC","ADMINISTRACION DE EMPRESAS",15.16,null,null,"2013-1","2013-1","20130022@une.edu.pe","jleonardic@gmail.com",3133700,"991567609",{"$f":"IF(ISERROR(VLOOKUP(Egresados!$N$8:$N$705,Maestros!$D$31:$E$530,2,0)),\"\",VLOOKUP(Egresados!$N$8:$N$705,Maestros!$D$31:$E$530,2,0))","v":"223"},{"$f":"IF(ISERROR(VLOOKUP(Egresados!$O32,Maestros!$G$31:$J$1030,2,0)),\"\",VLOOKUP(Egresados!$O32,Maestros!$G$31:$J$1030,2,0))","v":"7"},{"$f":"CONCATENATE(Egresados!$Z$8:$Z$705,\"a\",Egresados!$AA$8:$AA$705)","v":"223a7"},{"$f":"IF(ISERROR(VLOOKUP(Egresados!$P32,Maestros!$L$31:$Q$1030,2,0)),\"\",VLOOKUP(Egresados!$P32,Maestros!$L$31:$Q$1030,2,0))","v":"60"},{"$f":"CONCATENATE(Egresados!$Z$8:$Z$705,\"a\",Egresados!$AA$8:$AA$705,\"a\",Egresados!$AC$8:$AC$705)","v":"223a7a60"},{"$f":"IF(ISERROR(VLOOKUP(Egresados!$C$8:$C$705,Maestros!$A$4:$B$21,2,0)),\"\",VLOOKUP(Egresados!$C$8:$C$705,Maestros!$A$4:$B$21,2,0))","v":"1001"},{"$f":"IF(ISERROR(VLOOKUP(Egresados!$H$8:$H$705,Maestros!$D$4:$E$21,2,0)),\"\",VLOOKUP(Egresados!$H$8:$H$705,Maestros!$D$4:$E$21,2,0))","v":"1121"},{"$f":"IF(OR(UPPER(Egresados!$J$8:$J$705)=\"SI\",UPPER(Egresados!$J$8:$J$705)=\"SÍ\"),1,IF(UPPER(Egresados!$J$8:$J$705)=\"NO\",0,\"\"))","v":0},{"$f":"IF(OR(UPPER(Egresados!$R$8:$R$705)=\"SI\",UPPER(Egresados!$R$8:$R$705)=\"SÍ\"),1,IF(UPPER(Egresados!$R$8:$R$705)=\"NO\",0,\"\"))","v":""},{"$f":"IF(OR(UPPER(Egresados!$S$8:$S$705)=\"SI\",UPPER(Egresados!$S$8:$S$705)=\"SÍ\"),1,IF(UPPER(Egresados!$S$8:$S$705)=\"NO\",0,\"\"))","v":""},{"$f":"IF(ISERROR(VLOOKUP(Egresados!$T$8:$T$705,Maestros!$S$31:$T$530,2,0)),\"\",VLOOKUP(Egresados!$T$8:$T$705,Maestros!$S$31:$T$530,2,0))","v":"54"},{"$f":"IF(ISERROR(VLOOKUP(U32,Maestros!$S$31:$T$530,2,0)),\"\",VLOOKUP(U32,Maestros!$S$31:$T$530,2,0))","v":"54"},{"$f":"IF(ISERROR(VLOOKUP(Egresados!$K$8:$K$705,Maestros!$A$31:$B$130,2,0)),\"\",VLOOKUP(Egresados!$K$8:$K$705,Maestros!$A$31:$B$130,2,0))","v":""},{"$f":"IF(LEN(tablaEgresados[[#This Row],[Nota promedio]])>0,ROUND(tablaEgresados[[#This Row],[Nota promedio]],2),\"\")","v":15.16}]
[25,null,"DNI","72800059","CARRILLO","ARIAS","ROSARIO VANESSA","FEMENINO",null,"NO",null,null,null,"2020-1","EL RIMAC","ADMINISTRACION DE EMPRESAS",15.53,null,null,"2015-1","2015-1","20151172@une.edu.pe","vanishk.94@gmail.com",3133700,"998634105",{"$f":"IF(ISERROR(VLOOKUP(Egresados!$N$8:$N$705,Maestros!$D$31:$E$530,2,0)),\"\",VLOOKUP(Egresados!$N$8:$N$705,Maestros!$D$31:$E$530,2,0))","v":"223"},{"$f":"IF(ISERROR(VLOOKUP(Egresados!$O33,Maestros!$G$31:$J$1030,2,0)),\"\",VLOOKUP(Egresados!$O33,Maestros!$G$31:$J$1030,2,0))","v":"7"},{"$f":"CONCATENATE(Egresados!$Z$8:$Z$705,\"a\",Egresados!$AA$8:$AA$705)","v":"223a7"},{"$f":"IF(ISERROR(VLOOKUP(Egresados!$P33,Maestros!$L$31:$Q$1030,2,0)),\"\",VLOOKUP(Egresados!$P33,Maestros!$L$31:$Q$1030,2,0))","v":"60"},{"$f":"CONCATENATE(Egresados!$Z$8:$Z$705,\"a\",Egresados!$AA$8:$AA$705,\"a\",Egresados!$AC$8:$AC$705)","v":"223a7a60"},{"$f":"IF(ISERROR(VLOOKUP(Egresados!$C$8:$C$705,Maestros!$A$4:$B$21,2,0)),\"\",VLOOKUP(Egresados!$C$8:$C$705,Maestros!$A$4:$B$21,2,0))","v":"1001"},{"$f":"IF(ISERROR(VLOOKUP(Egresados!$H$8:$H$705,Maestros!$D$4:$E$21,2,0)),\"\",VLOOKUP(Egresados!$H$8:$H$705,Maestros!$D$4:$E$21,2,0))","v":"1122"},{"$f":"IF(OR(UPPER(Egresados!$J$8:$J$705)=\"SI\",UPPER(Egresados!$J$8:$J$705)=\"SÍ\"),1,IF(UPPER(Egresados!$J$8:$J$705)=\"NO\",0,\"\"))","v":0},{"$f":"IF(OR(UPPER(Egresados!$R$8:$R$705)=\"SI\",UPPER(Egresados!$R$8:$R$705)=\"SÍ\"),1,IF(UPPER(Egresados!$R$8:$R$705)=\"NO\",0,\"\"))","v":""},{"$f":"IF(OR(UPPER(Egresados!$S$8:$S$705)=\"SI\",UPPER(Egresados!$S$8:$S$705)=\"SÍ\"),1,IF(UPPER(Egresados!$S$8:$S$705)=\"NO\",0,\"\"))","v":""},{"$f":"IF(ISERROR(VLOOKUP(Egresados!$T$8:$T$705,Maestros!$S$31:$T$530,2,0)),\"\",VLOOKUP(Egresados!$T$8:$T$705,Maestros!$S$31:$T$530,2,0))","v":"62"},{"$f":"IF(ISERROR(VLOOKUP(U33,Maestros!$S$31:$T$530,2,0)),\"\",VLOOKUP(U33,Maestros!$S$31:$T$530,2,0))","v":"62"},{"$f":"IF(ISERROR(VLOOKUP(Egresados!$K$8:$K$705,Maestros!$A$31:$B$130,2,0)),\"\",VLOOKUP(Egresados!$K$8:$K$705,Maestros!$A$31:$B$130,2,0))","v":""},{"$f":"IF(LEN(tablaEgresados[[#This Row],[Nota promedio]])>0,ROUND(tablaEgresados[[#This Row],[Nota promedio]],2),\"\")","v":15.53}]
[26,null,"DNI","43996642","RIVERA","APARICIO","ROSMERY","FEMENINO",null,"NO",null,null,null,"2020-1","EL RIMAC","ADMINISTRACION DE EMPRESAS",14.94,null,null,"2012-1","2012-1","20123863@une.edu.pe","rosmy_160@hotmail.com",3133700,"984470991",{"$f":"IF(ISERROR(VLOOKUP(Egresados!$N$8:$N$705,Maestros!$D$31:$E$530,2,0)),\"\",VLOOKUP(Egresados!$N$8:$N$705,Maestros!$D$31:$E$530,2,0))","v":"223"},{"$f":"IF(ISERROR(VLOOKUP(Egresados!$O34,Maestros!$G$31:$J$1030,2,0)),\"\",VLOOKUP(Egresados!$O34,Maestros!$G$31:$J$1030,2,0))","v":"7"},{"$f":"CONCATENATE(Egresados!$Z$8:$Z$705,\"a\",Egresados!$AA$8:$AA$705)","v":"223a7"},{"$f":"IF(ISERROR(VLOOKUP(Egresados!$P34,Maestros!$L$31:$Q$1030,2,0)),\"\",VLOOKUP(Egresados!$P34,Maestros!$L$31:$Q$1030,2,0))","v":"60"},{"$f":"CONCATENATE(Egresados!$Z$8:$Z$705,\"a\",Egresados!$AA$8:$AA$705,\"a\",Egresados!$AC$8:$AC$705)","v":"223a7a60"},{"$f":"IF(ISERROR(VLOOKUP(Egresados!$C$8:$C$705,Maestros!$A$4:$B$21,2,0)),\"\",VLOOKUP(Egresados!$C$8:$C$705,Maestros!$A$4:$B$21,2,0))","v":"1001"},{"$f":"IF(ISERROR(VLOOKUP(Egresados!$H$8:$H$705,Maestros!$D$4:$E$21,2,0)),\"\",VLOOKUP(Egresados!$H$8:$H$705,Maestros!$D$4:$E$21,2,0))","v":"1122"},{"$f":"IF(OR(UPPER(Egresados!$J$8:$J$705)=\"SI\",UPPER(Egresados!$J$8:$J$705)=\"SÍ\"),1,IF(UPPER(Egresados!$J$8:$J$705)=\"NO\",0,\"\"))","v":0},{"$f":"IF(OR(UPPER(Egresados!$R$8:$R$705)=\"SI\",UPPER(Egresados!$R$8:$R$705)=\"SÍ\"),1,IF(UPPER(Egresados!$R$8:$R$705)=\"NO\",0,\"\"))","v":""},{"$f":"IF(OR(UPPER(Egresados!$S$8:$S$705)=\"SI\",UPPER(Egresados!$S$8:$S$705)=\"SÍ\"),1,IF(UPPER(Egresados!$S$8:$S$705)=\"NO\",0,\"\"))","v":""},{"$f":"IF(ISERROR(VLOOKUP(Egresados!$T$8:$T$705,Maestros!$S$31:$T$530,2,0)),\"\",VLOOKUP(Egresados!$T$8:$T$705,Maestros!$S$31:$T$530,2,0))","v":"50"},{"$f":"IF(ISERROR(VLOOKUP(U34,Maestros!$S$31:$T$530,2,0)),\"\",VLOOKUP(U34,Maestros!$S$31:$T$530,2,0))","v":"50"},{"$f":"IF(ISERROR(VLOOKUP(Egresados!$K$8:$K$705,Maestros!$A$31:$B$130,2,0)),\"\",VLOOKUP(Egresados!$K$8:$K$705,Maestros!$A$31:$B$130,2,0))","v":""},{"$f":"IF(LEN(tablaEgresados[[#This Row],[Nota promedio]])>0,ROUND(tablaEgresados[[#This Row],[Nota promedio]],2),\"\")","v":14.94}]
[27,null,"DNI","72192249","HERNANDEZ","SERNA","FATIMA DEL ROSARIO","FEMENINO",null,"NO",null,null,null,"2020-1","EL RIMAC","ADMINISTRACION DE EMPRESAS",15.2,null,null,"2015-1","2015-1","20151186@une.edu.pe","rosarioherse@gmail.com",3133700,"949732933",{"$f":"IF(ISERROR(VLOOKUP(Egresados!$N$8:$N$705,Maestros!$D$31:$E$530,2,0)),\"\",VLOOKUP(Egresados!$N$8:$N$705,Maestros!$D$31:$E$530,2,0))","v":"223"},{"$f":"IF(ISERROR(VLOOKUP(Egresados!$O35,Maestros!$G$31:$J$1030,2,0)),\"\",VLOOKUP(Egresados!$O35,Maestros!$G$31:$J$1030,2,0))","v":"7"},{"$f":"CONCATENATE(Egresados!$Z$8:$Z$705,\"a\",Egresados!$AA$8:$AA$705)","v":"223a7"},{"$f":"IF(ISERROR(VLOOKUP(Egresados!$P35,Maestros!$L$31:$Q$1030,2,0)),\"\",VLOOKUP(Egresados!$P35,Maestros!$L$31:$Q$1030,2,0))","v":"60"},{"$f":"CONCATENATE(Egresados!$Z$8:$Z$705,\"a\",Egresados!$AA$8:$AA$705,\"a\",Egresados!$AC$8:$AC$705)","v":"223a7a60"},{"$f":"IF(ISERROR(VLOOKUP(Egresados!$C$8:$C$705,Maestros!$A$4:$B$21,2,0)),\"\",VLOOKUP(Egresados!$C$8:$C$705,Maestros!$A$4:$B$21,2,0))","v":"1001"},{"$f":"IF(ISERROR(VLOOKUP(Egresados!$H$8:$H$705,Maestros!$D$4:$E$21,2,0)),\"\",VLOOKUP(Egresados!$H$8:$H$705,Maestros!$D$4:$E$21,2,0))","v":"1122"},{"$f":"IF(OR(UPPER(Egresados!$J$8:$J$705)=\"SI\",UPPER(Egresados!$J$8:$J$705)=\"SÍ\"),1,IF(UPPER(Egresados!$J$8:$J$705)=\"NO\",0,\"\"))","v":0},{"$f":"IF(OR(UPPER(Egresados!$R$8:$R$705)=\"SI\",UPPER(Egresados!$R$8:$R$705)=\"SÍ\"),1,IF(UPPER(Egresados!$R$8:$R$705)=\"NO\",0,\"\"))","v":""},{"$f":"IF(OR(UPPER(Egresados!$S$8:$S$705)=\"SI\",UPPER(Egresados!$S$8:$S$705)=\"SÍ\"),1,IF(UPPER(Egresados!$S$8:$S$705)=\"NO\",0,\"\"))","v":""},{"$f":"IF(ISERROR(VLOOKUP(Egresados!$T$8:$T$705,Maestros!$S$31:$T$530,2,0)),\"\",VLOOKUP(Egresados!$T$8:$T$705,Maestros!$S$31:$T$530,2,0))","v":"62"},{"$f":"IF(ISERROR(VLOOKUP(U35,Maestros!$S$31:$T$530,2,0)),\"\",VLOOKUP(U35,Maestros!$S$31:$T$530,2,0))","v":"62"},{"$f":"IF(ISERROR(VLOOKUP(Egresados!$K$8:$K$705,Maestros!$A$31:$B$130,2,0)),\"\",VLOOKUP(Egresados!$K$8:$K$705,Maestros!$A$31:$B$130,2,0))","v":""},{"$f":"IF(LEN(tablaEgresados[[#This Row],[Nota promedio]])>0,ROUND(tablaEgresados[[#This Row],[Nota promedio]],2),\"\")","v":15.2}]
[28,null,"DNI","75529165","DIAZ","GRANDEZ","ESTHER MARIBEL","FEMENINO",null,"NO",null,null,null,"2020-1","EL RIMAC","ADMINISTRACION DE EMPRESAS",15.53,null,null,"2015-1","2015-1","20151179@une.edu.pe","esthe.12@hotmail.com",3133700,"933350691",{"$f":"IF(ISERROR(VLOOKUP(Egresados!$N$8:$N$705,Maestros!$D$31:$E$530,2,0)),\"\",VLOOKUP(Egresados!$N$8:$N$705,Maestros!$D$31:$E$530,2,0))","v":"223"},{"$f":"IF(ISERROR(VLOOKUP(Egresados!$O36,Maestros!$G$31:$J$1030,2,0)),\"\",VLOOKUP(Egresados!$O36,Maestros!$G$31:$J$1030,2,0))","v":"7"},{"$f":"CONCATENATE(Egresados!$Z$8:$Z$705,\"a\",Egresados!$AA$8:$AA$705)","v":"223a7"},{"$f":"IF(ISERROR(VLOOKUP(Egresados!$P36,Maestros!$L$31:$Q$1030,2,0)),\"\",VLOOKUP(Egresados!$P36,Maestros!$L$31:$Q$1030,2,0))","v":"60"},{"$f":"CONCATENATE(Egresados!$Z$8:$Z$705,\"a\",Egresados!$AA$8:$AA$705,\"a\",Egresados!$AC$8:$AC$705)","v":"223a7a60"},{"$f":"IF(ISERROR(VLOOKUP(Egresados!$C$8:$C$705,Maestros!$A$4:$B$21,2,0)),\"\",VLOOKUP(Egresados!$C$8:$C$705,Maestros!$A$4:$B$21,2,0))","v":"1001"},{"$f":"IF(ISERROR(VLOOKUP(Egresados!$H$8:$H$705,Maestros!$D$4:$E$21,2,0)),\"\",VLOOKUP(Egresados!$H$8:$H$705,Maestros!$D$4:$E$21,2,0))","v":"1122"},{"$f":"IF(OR(UPPER(Egresados!$J$8:$J$705)=\"SI\",UPPER(Egresados!$J$8:$J$705)=\"SÍ\"),1,IF(UPPER(Egresados!$J$8:$J$705)=\"NO\",0,\"\"))","v":0},{"$f":"IF(OR(UPPER(Egresados!$R$8:$R$705)=\"SI\",UPPER(Egresados!$R$8:$R$705)=\"SÍ\"),1,IF(UPPER(Egresados!$R$8:$R$705)=\"NO\",0,\"\"))","v":""},{"$f":"IF(OR(UPPER(Egresados!$S$8:$S$705)=\"SI\",UPPER(Egresados!$S$8:$S$705)=\"SÍ\"),1,IF(UPPER(Egresados!$S$8:$S$705)=\"NO\",0,\"\"))","v":""},{"$f":"IF(ISERROR(VLOOKUP(Egresados!$T$8:$T$705,Maestros!$S$31:$T$530,2,0)),\"\",VLOOKUP(Egresados!$T$8:$T$705,Maestros!$S$31:$T$530,2,0))","v":"62"},{"$f":"IF(ISERROR(VLOOKUP(U36,Maestros!$S$31:$T$530,2,0)),\"\",VLOOKUP(U36,Maestros!$S$31:$T$530,2,0))","v":"62"},{"$f":"IF(ISERROR(VLOOKUP(Egresados!$K$8:$K$705,Maestros!$A$31:$B$130,2,0)),\"\",VLOOKUP(Egresados!$K$8:$K$705,Maestros!$A$31:$B$130,2,0))","v":""},{"$f":"IF(LEN(tablaEgresados[[#This Row],[Nota promedio]])>0,ROUND(tablaEgresados[[#This Row],[Nota promedio]],2),\"\")","v":15.53}]
[29,null,"DNI","76309400","GUERRA","SEGURA","SHARON RAQUEL","FEMENINO",null,"NO",null,null,null,"2020-1","EL RIMAC","ADMINISTRACION DE EMPRESAS",14.99,null,null,"2015-1","2015-1","20151183@une.edu.pe","sharonguerra.S2597@gmail.com",3133700,"952184382",{"$f":"IF(ISERROR(VLOOKUP(Egresados!$N$8:$N$705,Maestros!$D$31:$E$530,2,0)),\"\",VLOOKUP(Egresados!$N$8:$N$705,Maestros!$D$31:$E$530,2,0))","v":"223"},{"$f":"IF(ISERROR(VLOOKUP(Egresados!$O37,Maestros!$G$31:$J$1030,2,0)),\"\",VLOOKUP(Egresados!$O37,Maestros!$G$31:$J$1030,2,0))","v":"7"},{"$f":"CONCATENATE(Egresados!$Z$8:$Z$705,\"a\",Egresados!$AA$8:$AA$705)","v":"223a7"},{"$f":"IF(ISERROR(VLOOKUP(Egresados!$P37,Maestros!$L$31:$Q$1030,2,0)),\"\",VLOOKUP(Egresados!$P37,Maestros!$L$31:$Q$1030,2,0))","v":"60"},{"$f":"CONCATENATE(Egresados!$Z$8:$Z$705,\"a\",Egresados!$AA$8:$AA$705,\"a\",Egresados!$AC$8:$AC$705)","v":"223a7a60"},{"$f":"IF(ISERROR(VLOOKUP(Egresados!$C$8:$C$705,Maestros!$A$4:$B$21,2,0)),\"\",VLOOKUP(Egresados!$C$8:$C$705,Maestros!$A$4:$B$21,2,0))","v":"1001"},{"$f":"IF(ISERROR(VLOOKUP(Egresados!$H$8:$H$705,Maestros!$D$4:$E$21,2,0)),\"\",VLOOKUP(Egresados!$H$8:$H$705,Maestros!$D$4:$E$21,2,0))","v":"1122"},{"$f":"IF(OR(UPPER(Egresados!$J$8:$J$705)=\"SI\",UPPER(Egresados!$J$8:$J$705)=\"SÍ\"),1,IF(UPPER(Egresados!$J$8:$J$705)=\"NO\",0,\"\"))","v":0},{"$f":"IF(OR(UPPER(Egresados!$R$8:$R$705)=\"SI\",UPPER(Egresados!$R$8:$R$705)=\"SÍ\"),1,IF(UPPER(Egresados!$R$8:$R$705)=\"NO\",0,\"\"))","v":""},{"$f":"IF(OR(UPPER(Egresados!$S$8:$S$705)=\"SI\",UPPER(Egresados!$S$8:$S$705)=\"SÍ\"),1,IF(UPPER(Egresados!$S$8:$S$705)=\"NO\",0,\"\"))","v":""},{"$f":"IF(ISERROR(VLOOKUP(Egresados!$T$8:$T$705,Maestros!$S$31:$T$530,2,0)),\"\",VLOOKUP(Egresados!$T$8:$T$705,Maestros!$S$31:$T$530,2,0))","v":"62"},{"$f":"IF(ISERROR(VLOOKUP(U37,Maestros!$S$31:$T$530,2,0)),\"\",VLOOKUP(U37,Maestros!$S$31:$T$530,2,0))","v":"62"},{"$f":"IF(ISERROR(VLOOKUP(Egresados!$K$8:$K$705,Maestros!$A$31:$B$130,2,0)),\"\",VLOOKUP(Egresados!$K$8:$K$705,Maestros!$A$31:$B$130,2,0))","v":""},{"$f":"IF(LEN(tablaEgresados[[#This Row],[Nota promedio]])>0,ROUND(tablaEgresados[[#This Row],[Nota promedio]],2),\"\")","v":14.99}]
[30,null,"DNI","40559931","ESPEJO","RIMAPA","JUAN CARLOS","MASCULINO",null,"NO",null,null,null,"2020-1","EL RIMAC","ADMINISTRACION DE EMPRESAS",15.96,null,null,"2012-1","2012-1","20123950@une.edu.pe","jceper@hotmail.com",3133700,"966238296",{"$f":"IF(ISERROR(VLOOKUP(Egresados!$N$8:$N$705,Maestros!$D$31:$E$530,2,0)),\"\",VLOOKUP(Egresados!$N$8:$N$705,Maestros!$D$31:$E$530,2,0))","v":"223"},{"$f":"IF(ISERROR(VLOOKUP(Egresados!$O38,Maestros!$G$31:$J$1030,2,0)),\"\",VLOOKUP(Egresados!$O38,Maestros!$G$31:$J$1030,2,0))","v":"7"},{"$f":"CONCATENATE(Egresados!$Z$8:$Z$705,\"a\",Egresados!$AA$8:$AA$705)","v":"223a7"},{"$f":"IF(ISERROR(VLOOKUP(Egresados!$P38,Maestros!$L$31:$Q$1030,2,0)),\"\",VLOOKUP(Egresados!$P38,Maestros!$L$31:$Q$1030,2,0))","v":"60"},{"$f":"CONCATENATE(Egresados!$Z$8:$Z$705,\"a\",Egresados!$AA$8:$AA$705,\"a\",Egresados!$AC$8:$AC$705)","v":"223a7a60"},{"$f":"IF(ISERROR(VLOOKUP(Egresados!$C$8:$C$705,Maestros!$A$4:$B$21,2,0)),\"\",VLOOKUP(Egresados!$C$8:$C$705,Maestros!$A$4:$B$21,2,0))","v":"1001"},{"$f":"IF(ISERROR(VLOOKUP(Egresados!$H$8:$H$705,Maestros!$D$4:$E$21,2,0)),\"\",VLOOKUP(Egresados!$H$8:$H$705,Maestros!$D$4:$E$21,2,0))","v":"1121"},{"$f":"IF(OR(UPPER(Egresados!$J$8:$J$705)=\"SI\",UPPER(Egresados!$J$8:$J$705)=\"SÍ\"),1,IF(UPPER(Egresados!$J$8:$J$705)=\"NO\",0,\"\"))","v":0},{"$f":"IF(OR(UPPER(Egresados!$R$8:$R$705)=\"SI\",UPPER(Egresados!$R$8:$R$705)=\"SÍ\"),1,IF(UPPER(Egresados!$R$8:$R$705)=\"NO\",0,\"\"))","v":""},{"$f":"IF(OR(UPPER(Egresados!$S$8:$S$705)=\"SI\",UPPER(Egresados!$S$8:$S$705)=\"SÍ\"),1,IF(UPPER(Egresados!$S$8:$S$705)=\"NO\",0,\"\"))","v":""},{"$f":"IF(ISERROR(VLOOKUP(Egresados!$T$8:$T$705,Maestros!$S$31:$T$530,2,0)),\"\",VLOOKUP(Egresados!$T$8:$T$705,Maestros!$S$31:$T$530,2,0))","v":"50"},{"$f":"IF(ISERROR(VLOOKUP(U38,Maestros!$S$31:$T$530,2,0)),\"\",VLOOKUP(U38,Maestros!$S$31:$T$530,2,0))","v":"50"},{"$f":"IF(ISERROR(VLOOKUP(Egresados!$K$8:$K$705,Maestros!$A$31:$B$130,2,0)),\"\",VLOOKUP(Egresados!$K$8:$K$705,Maestros!$A$31:$B$130,2,0))","v":""},{"$f":"IF(LEN(tablaEgresados[[#This Row],[Nota promedio]])>0,ROUND(tablaEgresados[[#This Row],[Nota promedio]],2),\"\")","v":15.96}]
[31,null,"DNI","77531587","SIMEON","ENRIQUEZ","MARIA ISABEL","FEMENINO",null,"NO",null,null,null,"2020-1","EL RIMAC","ADMINISTRACION DE EMPRESAS",14.76,null,null,"2015-1","2015-1","20151217@une.edu.pe","mise5797@hotmail.com",3133700,"975446542",{"$f":"IF(ISERROR(VLOOKUP(Egresados!$N$8:$N$705,Maestros!$D$31:$E$530,2,0)),\"\",VLOOKUP(Egresados!$N$8:$N$705,Maestros!$D$31:$E$530,2,0))","v":"223"},{"$f":"IF(ISERROR(VLOOKUP(Egresados!$O39,Maestros!$G$31:$J$1030,2,0)),\"\",VLOOKUP(Egresados!$O39,Maestros!$G$31:$J$1030,2,0))","v":"7"},{"$f":"CONCATENATE(Egresados!$Z$8:$Z$705,\"a\",Egresados!$AA$8:$AA$705)","v":"223a7"},{"$f":"IF(ISERROR(VLOOKUP(Egresados!$P39,Maestros!$L$31:$Q$1030,2,0)),\"\",VLOOKUP(Egresados!$P39,Maestros!$L$31:$Q$1030,2,0))","v":"60"},{"$f":"CONCATENATE(Egresados!$Z$8:$Z$705,\"a\",Egresados!$AA$8:$AA$705,\"a\",Egresados!$AC$8:$AC$705)","v":"223a7a60"},{"$f":"IF(ISERROR(VLOOKUP(Egresados!$C$8:$C$705,Maestros!$A$4:$B$21,2,0)),\"\",VLOOKUP(Egresados!$C$8:$C$705,Maestros!$A$4:$B$21,2,0))","v":"1001"},{"$f":"IF(ISERROR(VLOOKUP(Egresados!$H$8:$H$705,Maestros!$D$4:$E$21,2,0)),\"\",VLOOKUP(Egresados!$H$8:$H$705,Maestros!$D$4:$E$21,2,0))","v":"1122"},{"$f":"IF(OR(UPPER(Egresados!$J$8:$J$705)=\"SI\",UPPER(Egresados!$J$8:$J$705)=\"SÍ\"),1,IF(UPPER(Egresados!$J$8:$J$705)=\"NO\",0,\"\"))","v":0},{"$f":"IF(OR(UPPER(Egresados!$R$8:$R$705)=\"SI\",UPPER(Egresados!$R$8:$R$705)=\"SÍ\"),1,IF(UPPER(Egresados!$R$8:$R$705)=\"NO\",0,\"\"))","v":""},{"$f":"IF(OR(UPPER(Egresados!$S$8:$S$705)=\"SI\",UPPER(Egresados!$S$8:$S$705)=\"SÍ\"),1,IF(UPPER(Egresados!$S$8:$S$705)=\"NO\",0,\"\"))","v":""},{"$f":"IF(ISERROR(VLOOKUP(Egresados!$T$8:$T$705,Maestros!$S$31:$T$530,2,0)),\"\",VLOOKUP(Egresados!$T$8:$T$705,Maestros!$S$31:$T$530,2,0))","v":"62"},{"$f":"IF(ISERROR(VLOOKUP(U39,Maestros!$S$31:$T$530,2,0)),\"\",VLOOKUP(U39,Maestros!$S$31:$T$530,2,0))","v":"62"},{"$f":"IF(ISERROR(VLOOKUP(Egresados!$K$8:$K$705,Maestros!$A$31:$B$130,2,0)),\"\",VLOOKUP(Egresados!$K$8:$K$705,Maestros!$A$31:$B$130,2,0))","v":""},{"$f":"IF(LEN(tablaEgresados[[#This Row],[Nota promedio]])>0,ROUND(tablaEgresados[[#This Row],[Nota promedio]],2),\"\")","v":14.76}]
[32,null,"DNI","07572401","FELIPE","PAREDES","MARCELO BERARDO","MASCULINO",null,"NO",null,null,null,"2020-1","EL RIMAC","ADMINISTRACION DE EMPRESAS",12.89,null,null,"1994-1","1994-1","19946108@une.edu.pe","19946108@une.edu.pe",3133700,976486001,{"$f":"IF(ISERROR(VLOOKUP(Egresados!$N$8:$N$705,Maestros!$D$31:$E$530,2,0)),\"\",VLOOKUP(Egresados!$N$8:$N$705,Maestros!$D$31:$E$530,2,0))","v":"223"},{"$f":"IF(ISERROR(VLOOKUP(Egresados!$O40,Maestros!$G$31:$J$1030,2,0)),\"\",VLOOKUP(Egresados!$O40,Maestros!$G$31:$J$1030,2,0))","v":"7"},{"$f":"CONCATENATE(Egresados!$Z$8:$Z$705,\"a\",Egresados!$AA$8:$AA$705)","v":"223a7"},{"$f":"IF(ISERROR(VLOOKUP(Egresados!$P40,Maestros!$L$31:$Q$1030,2,0)),\"\",VLOOKUP(Egresados!$P40,Maestros!$L$31:$Q$1030,2,0))","v":"60"},{"$f":"CONCATENATE(Egresados!$Z$8:$Z$705,\"a\",Egresados!$AA$8:$AA$705,\"a\",Egresados!$AC$8:$AC$705)","v":"223a7a60"},{"$f":"IF(ISERROR(VLOOKUP(Egresados!$C$8:$C$705,Maestros!$A$4:$B$21,2,0)),\"\",VLOOKUP(Egresados!$C$8:$C$705,Maestros!$A$4:$B$21,2,0))","v":"1001"},{"$f":"IF(ISERROR(VLOOKUP(Egresados!$H$8:$H$705,Maestros!$D$4:$E$21,2,0)),\"\",VLOOKUP(Egresados!$H$8:$H$705,Maestros!$D$4:$E$21,2,0))","v":"1121"},{"$f":"IF(OR(UPPER(Egresados!$J$8:$J$705)=\"SI\",UPPER(Egresados!$J$8:$J$705)=\"SÍ\"),1,IF(UPPER(Egresados!$J$8:$J$705)=\"NO\",0,\"\"))","v":0},{"$f":"IF(OR(UPPER(Egresados!$R$8:$R$705)=\"SI\",UPPER(Egresados!$R$8:$R$705)=\"SÍ\"),1,IF(UPPER(Egresados!$R$8:$R$705)=\"NO\",0,\"\"))","v":""},{"$f":"IF(OR(UPPER(Egresados!$S$8:$S$705)=\"SI\",UPPER(Egresados!$S$8:$S$705)=\"SÍ\"),1,IF(UPPER(Egresados!$S$8:$S$705)=\"NO\",0,\"\"))","v":""},{"$f":"IF(ISERROR(VLOOKUP(Egresados!$T$8:$T$705,Maestros!$S$31:$T$530,2,0)),\"\",VLOOKUP(Egresados!$T$8:$T$705,Maestros!$S$31:$T$530,2,0))","v":"81"},{"$f":"IF(ISERROR(VLOOKUP(U40,Maestros!$S$31:$T$530,2,0)),\"\",VLOOKUP(U40,Maestros!$S$31:$T$530,2,0))","v":"81"},{"$f":"IF(ISERROR(VLOOKUP(Egresados!$K$8:$K$705,Maestros!$A$31:$B$130,2,0)),\"\",VLOOKUP(Egresados!$K$8:$K$705,Maestros!$A$31:$B$130,2,0))","v":""},{"$f":"IF(LEN(tablaEgresados[[#This Row],[Nota promedio]])>0,ROUND(tablaEgresados[[#This Row],[Nota promedio]],2),\"\")","v":12.89}]
[33,null,"DNI","09931059","GARCIA","MORAN","JORGE EBERT","MASCULINO",null,"NO",null,null,null,"2020-1","EL RIMAC","ADMINISTRACION DE EMPRESAS",15.17,null,null,"2011-1","2011-1","20113338@une.edu.pe","20113338@une.edu.pe",3133700,976486001,{"$f":"IF(ISERROR(VLOOKUP(Egresados!$N$8:$N$705,Maestros!$D$31:$E$530,2,0)),\"\",VLOOKUP(Egresados!$N$8:$N$705,Maestros!$D$31:$E$530,2,0))","v":"223"},{"$f":"IF(ISERROR(VLOOKUP(Egresados!$O41,Maestros!$G$31:$J$1030,2,0)),\"\",VLOOKUP(Egresados!$O41,Maestros!$G$31:$J$1030,2,0))","v":"7"},{"$f":"CONCATENATE(Egresados!$Z$8:$Z$705,\"a\",Egresados!$AA$8:$AA$705)","v":"223a7"},{"$f":"IF(ISERROR(VLOOKUP(Egresados!$P41,Maestros!$L$31:$Q$1030,2,0)),\"\",VLOOKUP(Egresados!$P41,Maestros!$L$31:$Q$1030,2,0))","v":"60"},{"$f":"CONCATENATE(Egresados!$Z$8:$Z$705,\"a\",Egresados!$AA$8:$AA$705,\"a\",Egresados!$AC$8:$AC$705)","v":"223a7a60"},{"$f":"IF(ISERROR(VLOOKUP(Egresados!$C$8:$C$705,Maestros!$A$4:$B$21,2,0)),\"\",VLOOKUP(Egresados!$C$8:$C$705,Maestros!$A$4:$B$21,2,0))","v":"1001"},{"$f":"IF(ISERROR(VLOOKUP(Egresados!$H$8:$H$705,Maestros!$D$4:$E$21,2,0)),\"\",VLOOKUP(Egresados!$H$8:$H$705,Maestros!$D$4:$E$21,2,0))","v":"1121"},{"$f":"IF(OR(UPPER(Egresados!$J$8:$J$705)=\"SI\",UPPER(Egresados!$J$8:$J$705)=\"SÍ\"),1,IF(UPPER(Egresados!$J$8:$J$705)=\"NO\",0,\"\"))","v":0},{"$f":"IF(OR(UPPER(Egresados!$R$8:$R$705)=\"SI\",UPPER(Egresados!$R$8:$R$705)=\"SÍ\"),1,IF(UPPER(Egresados!$R$8:$R$705)=\"NO\",0,\"\"))","v":""},{"$f":"IF(OR(UPPER(Egresados!$S$8:$S$705)=\"SI\",UPPER(Egresados!$S$8:$S$705)=\"SÍ\"),1,IF(UPPER(Egresados!$S$8:$S$705)=\"NO\",0,\"\"))","v":""},{"$f":"IF(ISERROR(VLOOKUP(Egresados!$T$8:$T$705,Maestros!$S$31:$T$530,2,0)),\"\",VLOOKUP(Egresados!$T$8:$T$705,Maestros!$S$31:$T$530,2,0))","v":"46"},{"$f":"IF(ISERROR(VLOOKUP(U41,Maestros!$S$31:$T$530,2,0)),\"\",VLOOKUP(U41,Maestros!$S$31:$T$530,2,0))","v":"46"},{"$f":"IF(ISERROR(VLOOKUP(Egresados!$K$8:$K$705,Maestros!$A$31:$B$130,2,0)),\"\",VLOOKUP(Egresados!$K$8:$K$705,Maestros!$A$31:$B$130,2,0))","v":""},{"$f":"IF(LEN(tablaEgresados[[#This Row],[Nota promedio]])>0,ROUND(tablaEgresados[[#This Row],[Nota promedio]],2),\"\")","v":15.17}]
[34,null,"DNI","48268200","PABLO","ESTACIO","BETSY YARINETH","FEMENINO",null,"NO",null,null,null,"2020-1","EL RIMAC","ADMINISTRACION DE NEGOCIOS INTERNACIONALES",15.3,null,null,"2015-1","2015-1","20151387@une.edu.pe","betsy_yari@hotmail.com",3133700,"916472768",{"$f":"IF(ISERROR(VLOOKUP(Egresados!$N$8:$N$705,Maestros!$D$31:$E$530,2,0)),\"\",VLOOKUP(Egresados!$N$8:$N$705,Maestros!$D$31:$E$530,2,0))","v":"223"},{"$f":"IF(ISERROR(VLOOKUP(Egresados!$O42,Maestros!$G$31:$J$1030,2,0)),\"\",VLOOKUP(Egresados!$O42,Maestros!$G$31:$J$1030,2,0))","v":"7"},{"$f":"CONCATENATE(Egresados!$Z$8:$Z$705,\"a\",Egresados!$AA$8:$AA$705)","v":"223a7"},{"$f":"IF(ISERROR(VLOOKUP(Egresados!$P42,Maestros!$L$31:$Q$1030,2,0)),\"\",VLOOKUP(Egresados!$P42,Maestros!$L$31:$Q$1030,2,0))","v":"215"},{"$f":"CONCATENATE(Egresados!$Z$8:$Z$705,\"a\",Egresados!$AA$8:$AA$705,\"a\",Egresados!$AC$8:$AC$705)","v":"223a7a215"},{"$f":"IF(ISERROR(VLOOKUP(Egresados!$C$8:$C$705,Maestros!$A$4:$B$21,2,0)),\"\",VLOOKUP(Egresados!$C$8:$C$705,Maestros!$A$4:$B$21,2,0))","v":"1001"},{"$f":"IF(ISERROR(VLOOKUP(Egresados!$H$8:$H$705,Maestros!$D$4:$E$21,2,0)),\"\",VLOOKUP(Egresados!$H$8:$H$705,Maestros!$D$4:$E$21,2,0))","v":"1122"},{"$f":"IF(OR(UPPER(Egresados!$J$8:$J$705)=\"SI\",UPPER(Egresados!$J$8:$J$705)=\"SÍ\"),1,IF(UPPER(Egresados!$J$8:$J$705)=\"NO\",0,\"\"))","v":0},{"$f":"IF(OR(UPPER(Egresados!$R$8:$R$705)=\"SI\",UPPER(Egresados!$R$8:$R$705)=\"SÍ\"),1,IF(UPPER(Egresados!$R$8:$R$705)=\"NO\",0,\"\"))","v":""},{"$f":"IF(OR(UPPER(Egresados!$S$8:$S$705)=\"SI\",UPPER(Egresados!$S$8:$S$705)=\"SÍ\"),1,IF(UPPER(Egresados!$S$8:$S$705)=\"NO\",0,\"\"))","v":""},{"$f":"IF(ISERROR(VLOOKUP(Egresados!$T$8:$T$705,Maestros!$S$31:$T$530,2,0)),\"\",VLOOKUP(Egresados!$T$8:$T$705,Maestros!$S$31:$T$530,2,0))","v":"62"},{"$f":"IF(ISERROR(VLOOKUP(U42,Maestros!$S$31:$T$530,2,0)),\"\",VLOOKUP(U42,Maestros!$S$31:$T$530,2,0))","v":"62"},{"$f":"IF(ISERROR(VLOOKUP(Egresados!$K$8:$K$705,Maestros!$A$31:$B$130,2,0)),\"\",VLOOKUP(Egresados!$K$8:$K$705,Maestros!$A$31:$B$130,2,0))","v":""},{"$f":"IF(LEN(tablaEgresados[[#This Row],[Nota promedio]])>0,ROUND(tablaEgresados[[#This Row],[Nota promedio]],2),\"\")","v":15.3}]
[35,null,"DNI","47861591","ALFARO","CARHUAVILCA","MIRIAN ELISA","FEMENINO",null,"NO",null,null,null,"2020-1","EL RIMAC","ADMINISTRACION DE NEGOCIOS INTERNACIONALES",15.38,null,null,"2015-1","2015-1","20151354@une.edu.pe","miriam23elisa@gmail.com",3133700,"935322904",{"$f":"IF(ISERROR(VLOOKUP(Egresados!$N$8:$N$705,Maestros!$D$31:$E$530,2,0)),\"\",VLOOKUP(Egresados!$N$8:$N$705,Maestros!$D$31:$E$530,2,0))","v":"223"},{"$f":"IF(ISERROR(VLOOKUP(Egresados!$O43,Maestros!$G$31:$J$1030,2,0)),\"\",VLOOKUP(Egresados!$O43,Maestros!$G$31:$J$1030,2,0))","v":"7"},{"$f":"CONCATENATE(Egresados!$Z$8:$Z$705,\"a\",Egresados!$AA$8:$AA$705)","v":"223a7"},{"$f":"IF(ISERROR(VLOOKUP(Egresados!$P43,Maestros!$L$31:$Q$1030,2,0)),\"\",VLOOKUP(Egresados!$P43,Maestros!$L$31:$Q$1030,2,0))","v":"215"},{"$f":"CONCATENATE(Egresados!$Z$8:$Z$705,\"a\",Egresados!$AA$8:$AA$705,\"a\",Egresados!$AC$8:$AC$705)","v":"223a7a215"},{"$f":"IF(ISERROR(VLOOKUP(Egresados!$C$8:$C$705,Maestros!$A$4:$B$21,2,0)),\"\",VLOOKUP(Egresados!$C$8:$C$705,Maestros!$A$4:$B$21,2,0))","v":"1001"},{"$f":"IF(ISERROR(VLOOKUP(Egresados!$H$8:$H$705,Maestros!$D$4:$E$21,2,0)),\"\",VLOOKUP(Egresados!$H$8:$H$705,Maestros!$D$4:$E$21,2,0))","v":"1122"},{"$f":"IF(OR(UPPER(Egresados!$J$8:$J$705)=\"SI\",UPPER(Egresados!$J$8:$J$705)=\"SÍ\"),1,IF(UPPER(Egresados!$J$8:$J$705)=\"NO\",0,\"\"))","v":0},{"$f":"IF(OR(UPPER(Egresados!$R$8:$R$705)=\"SI\",UPPER(Egresados!$R$8:$R$705)=\"SÍ\"),1,IF(UPPER(Egresados!$R$8:$R$705)=\"NO\",0,\"\"))","v":""},{"$f":"IF(OR(UPPER(Egresados!$S$8:$S$705)=\"SI\",UPPER(Egresados!$S$8:$S$705)=\"SÍ\"),1,IF(UPPER(Egresados!$S$8:$S$705)=\"NO\",0,\"\"))","v":""},{"$f":"IF(ISERROR(VLOOKUP(Egresados!$T$8:$T$705,Maestros!$S$31:$T$530,2,0)),\"\",VLOOKUP(Egresados!$T$8:$T$705,Maestros!$S$31:$T$530,2,0))","v":"62"},{"$f":"IF(ISERROR(VLOOKUP(U43,Maestros!$S$31:$T$530,2,0)),\"\",VLOOKUP(U43,Maestros!$S$31:$T$530,2,0))","v":"62"},{"$f":"IF(ISERROR(VLOOKUP(Egresados!$K$8:$K$705,Maestros!$A$31:$B$130,2,0)),\"\",VLOOKUP(Egresados!$K$8:$K$705,Maestros!$A$31:$B$130,2,0))","v":""},{"$f":"IF(LEN(tablaEgresados[[#This Row],[Nota promedio]])>0,ROUND(tablaEgresados[[#This Row],[Nota promedio]],2),\"\")","v":15.38}]
[36,null,"DNI","72959295","MARTINEZ","LULO","CARLA MILAGROS","FEMENINO",null,"NO",null,null,null,"2020-1","EL RIMAC","ADMINISTRACION DE NEGOCIOS INTERNACIONALES",15.81,null,null,"2014-1","2014-1","20140210@une.edu.pe","karla_milagros116@hotmail.com",3133700,"988952616",{"$f":"IF(ISERROR(VLOOKUP(Egresados!$N$8:$N$705,Maestros!$D$31:$E$530,2,0)),\"\",VLOOKUP(Egresados!$N$8:$N$705,Maestros!$D$31:$E$530,2,0))","v":"223"},{"$f":"IF(ISERROR(VLOOKUP(Egresados!$O44,Maestros!$G$31:$J$1030,2,0)),\"\",VLOOKUP(Egresados!$O44,Maestros!$G$31:$J$1030,2,0))","v":"7"},{"$f":"CONCATENATE(Egresados!$Z$8:$Z$705,\"a\",Egresados!$AA$8:$AA$705)","v":"223a7"},{"$f":"IF(ISERROR(VLOOKUP(Egresados!$P44,Maestros!$L$31:$Q$1030,2,0)),\"\",VLOOKUP(Egresados!$P44,Maestros!$L$31:$Q$1030,2,0))","v":"215"},{"$f":"CONCATENATE(Egresados!$Z$8:$Z$705,\"a\",Egresados!$AA$8:$AA$705,\"a\",Egresados!$AC$8:$AC$705)","v":"223a7a215"},{"$f":"IF(ISERROR(VLOOKUP(Egresados!$C$8:$C$705,Maestros!$A$4:$B$21,2,0)),\"\",VLOOKUP(Egresados!$C$8:$C$705,Maestros!$A$4:$B$21,2,0))","v":"1001"},{"$f":"IF(ISERROR(VLOOKUP(Egresados!$H$8:$H$705,Maestros!$D$4:$E$21,2,0)),\"\",VLOOKUP(Egresados!$H$8:$H$705,Maestros!$D$4:$E$21,2,0))","v":"1122"},{"$f":"IF(OR(UPPER(Egresados!$J$8:$J$705)=\"SI\",UPPER(Egresados!$J$8:$J$705)=\"SÍ\"),1,IF(UPPER(Egresados!$J$8:$J$705)=\"NO\",0,\"\"))","v":0},{"$f":"IF(OR(UPPER(Egresados!$R$8:$R$705)=\"SI\",UPPER(Egresados!$R$8:$R$705)=\"SÍ\"),1,IF(UPPER(Egresados!$R$8:$R$705)=\"NO\",0,\"\"))","v":""},{"$f":"IF(OR(UPPER(Egresados!$S$8:$S$705)=\"SI\",UPPER(Egresados!$S$8:$S$705)=\"SÍ\"),1,IF(UPPER(Egresados!$S$8:$S$705)=\"NO\",0,\"\"))","v":""},{"$f":"IF(ISERROR(VLOOKUP(Egresados!$T$8:$T$705,Maestros!$S$31:$T$530,2,0)),\"\",VLOOKUP(Egresados!$T$8:$T$705,Maestros!$S$31:$T$530,2,0))","v":"58"},{"$f":"IF(ISERROR(VLOOKUP(U44,Maestros!$S$31:$T$530,2,0)),\"\",VLOOKUP(U44,Maestros!$S$31:$T$530,2,0))","v":"58"},{"$f":"IF(ISERROR(VLOOKUP(Egresados!$K$8:$K$705,Maestros!$A$31:$B$130,2,0)),\"\",VLOOKUP(Egresados!$K$8:$K$705,Maestros!$A$31:$B$130,2,0))","v":""},{"$f":"IF(LEN(tablaEgresados[[#This Row],[Nota promedio]])>0,ROUND(tablaEgresados[[#This Row],[Nota promedio]],2),\"\")","v":15.81}]
[37,null,"DNI","71666052","MENDOZA","CASTRO","LUIS FERNANDO","MASCULINO",null,"NO",null,null,null,"2020-1","EL RIMAC","ADMINISTRACION DE NEGOCIOS INTERNACIONALES",14.6,null,null,"2015-1","2015-1","20151381@une.edu.pe","luis_joe10@hotmail.com",3133700,976486001,{"$f":"IF(ISERROR(VLOOKUP(Egresados!$N$8:$N$705,Maestros!$D$31:$E$530,2,0)),\"\",VLOOKUP(Egresados!$N$8:$N$705,Maestros!$D$31:$E$530,2,0))","v":"223"},{"$f":"IF(ISERROR(VLOOKUP(Egresados!$O45,Maestros!$G$31:$J$1030,2,0)),\"\",VLOOKUP(Egresados!$O45,Maestros!$G$31:$J$1030,2,0))","v":"7"},{"$f":"CONCATENATE(Egresados!$Z$8:$Z$705,\"a\",Egresados!$AA$8:$AA$705)","v":"223a7"},{"$f":"IF(ISERROR(VLOOKUP(Egresados!$P45,Maestros!$L$31:$Q$1030,2,0)),\"\",VLOOKUP(Egresados!$P45,Maestros!$L$31:$Q$1030,2,0))","v":"215"},{"$f":"CONCATENATE(Egresados!$Z$8:$Z$705,\"a\",Egresados!$AA$8:$AA$705,\"a\",Egresados!$AC$8:$AC$705)","v":"223a7a215"},{"$f":"IF(ISERROR(VLOOKUP(Egresados!$C$8:$C$705,Maestros!$A$4:$B$21,2,0)),\"\",VLOOKUP(Egresados!$C$8:$C$705,Maestros!$A$4:$B$21,2,0))","v":"1001"},{"$f":"IF(ISERROR(VLOOKUP(Egresados!$H$8:$H$705,Maestros!$D$4:$E$21,2,0)),\"\",VLOOKUP(Egresados!$H$8:$H$705,Maestros!$D$4:$E$21,2,0))","v":"1121"},{"$f":"IF(OR(UPPER(Egresados!$J$8:$J$705)=\"SI\",UPPER(Egresados!$J$8:$J$705)=\"SÍ\"),1,IF(UPPER(Egresados!$J$8:$J$705)=\"NO\",0,\"\"))","v":0},{"$f":"IF(OR(UPPER(Egresados!$R$8:$R$705)=\"SI\",UPPER(Egresados!$R$8:$R$705)=\"SÍ\"),1,IF(UPPER(Egresados!$R$8:$R$705)=\"NO\",0,\"\"))","v":""},{"$f":"IF(OR(UPPER(Egresados!$S$8:$S$705)=\"SI\",UPPER(Egresados!$S$8:$S$705)=\"SÍ\"),1,IF(UPPER(Egresados!$S$8:$S$705)=\"NO\",0,\"\"))","v":""},{"$f":"IF(ISERROR(VLOOKUP(Egresados!$T$8:$T$705,Maestros!$S$31:$T$530,2,0)),\"\",VLOOKUP(Egresados!$T$8:$T$705,Maestros!$S$31:$T$530,2,0))","v":"62"},{"$f":"IF(ISERROR(VLOOKUP(U45,Maestros!$S$31:$T$530,2,0)),\"\",VLOOKUP(U45,Maestros!$S$31:$T$530,2,0))","v":"62"},{"$f":"IF(ISERROR(VLOOKUP(Egresados!$K$8:$K$705,Maestros!$A$31:$B$130,2,0)),\"\",VLOOKUP(Egresados!$K$8:$K$705,Maestros!$A$31:$B$130,2,0))","v":""},{"$f":"IF(LEN(tablaEgresados[[#This Row],[Nota promedio]])>0,ROUND(tablaEgresados[[#This Row],[Nota promedio]],2),\"\")","v":14.6}]
[38,null,"DNI","70370993","ACHICAHUALA","MAMANI","CARMEN YANIRA","FEMENINO",null,"NO",null,null,null,"2020-1","EL RIMAC","ADMINISTRACION DE NEGOCIOS INTERNACIONALES",16.600000000000001,null,null,"2015-1","2015-1","20151350@une.edu.pe","carmenachicahuala@outlook.es",3133700,"986594775",{"$f":"IF(ISERROR(VLOOKUP(Egresados!$N$8:$N$705,Maestros!$D$31:$E$530,2,0)),\"\",VLOOKUP(Egresados!$N$8:$N$705,Maestros!$D$31:$E$530,2,0))","v":"223"},{"$f":"IF(ISERROR(VLOOKUP(Egresados!$O46,Maestros!$G$31:$J$1030,2,0)),\"\",VLOOKUP(Egresados!$O46,Maestros!$G$31:$J$1030,2,0))","v":"7"},{"$f":"CONCATENATE(Egresados!$Z$8:$Z$705,\"a\",Egresados!$AA$8:$AA$705)","v":"223a7"},{"$f":"IF(ISERROR(VLOOKUP(Egresados!$P46,Maestros!$L$31:$Q$1030,2,0)),\"\",VLOOKUP(Egresados!$P46,Maestros!$L$31:$Q$1030,2,0))","v":"215"},{"$f":"CONCATENATE(Egresados!$Z$8:$Z$705,\"a\",Egresados!$AA$8:$AA$705,\"a\",Egresados!$AC$8:$AC$705)","v":"223a7a215"},{"$f":"IF(ISERROR(VLOOKUP(Egresados!$C$8:$C$705,Maestros!$A$4:$B$21,2,0)),\"\",VLOOKUP(Egresados!$C$8:$C$705,Maestros!$A$4:$B$21,2,0))","v":"1001"},{"$f":"IF(ISERROR(VLOOKUP(Egresados!$H$8:$H$705,Maestros!$D$4:$E$21,2,0)),\"\",VLOOKUP(Egresados!$H$8:$H$705,Maestros!$D$4:$E$21,2,0))","v":"1122"},{"$f":"IF(OR(UPPER(Egresados!$J$8:$J$705)=\"SI\",UPPER(Egresados!$J$8:$J$705)=\"SÍ\"),1,IF(UPPER(Egresados!$J$8:$J$705)=\"NO\",0,\"\"))","v":0},{"$f":"IF(OR(UPPER(Egresados!$R$8:$R$705)=\"SI\",UPPER(Egresados!$R$8:$R$705)=\"SÍ\"),1,IF(UPPER(Egresados!$R$8:$R$705)=\"NO\",0,\"\"))","v":""},{"$f":"IF(OR(UPPER(Egresados!$S$8:$S$705)=\"SI\",UPPER(Egresados!$S$8:$S$705)=\"SÍ\"),1,IF(UPPER(Egresados!$S$8:$S$705)=\"NO\",0,\"\"))","v":""},{"$f":"IF(ISERROR(VLOOKUP(Egresados!$T$8:$T$705,Maestros!$S$31:$T$530,2,0)),\"\",VLOOKUP(Egresados!$T$8:$T$705,Maestros!$S$31:$T$530,2,0))","v":"62"},{"$f":"IF(ISERROR(VLOOKUP(U46,Maestros!$S$31:$T$530,2,0)),\"\",VLOOKUP(U46,Maestros!$S$31:$T$530,2,0))","v":"62"},{"$f":"IF(ISERROR(VLOOKUP(Egresados!$K$8:$K$705,Maestros!$A$31:$B$130,2,0)),\"\",VLOOKUP(Egresados!$K$8:$K$705,Maestros!$A$31:$B$130,2,0))","v":""},{"$f":"IF(LEN(tablaEgresados[[#This Row],[Nota promedio]])>0,ROUND(tablaEgresados[[#This Row],[Nota promedio]],2),\"\")","v":16.600000000000001}]
[39,null,"DNI","75654394","QUISPE","VILCAS","KELLY FANY","FEMENINO",null,"NO",null,null,null,"2020-1","EL RIMAC","ADMINISTRACION DE NEGOCIOS INTERNACIONALES",14.19,null,null,"2012-1","2012-1","20121679@une.edu.pe","kellyquispe95@gmail.com",3133700,976486001,{"$f":"IF(ISERROR(VLOOKUP(Egresados!$N$8:$N$705,Maestros!$D$31:$E$530,2,0)),\"\",VLOOKUP(Egresados!$N$8:$N$705,Maestros!$D$31:$E$530,2,0))","v":"223"},{"$f":"IF(ISERROR(VLOOKUP(Egresados!$O47,Maestros!$G$31:$J$1030,2,0)),\"\",VLOOKUP(Egresados!$O47,Maestros!$G$31:$J$1030,2,0))","v":"7"},{"$f":"CONCATENATE(Egresados!$Z$8:$Z$705,\"a\",Egresados!$AA$8:$AA$705)","v":"223a7"},{"$f":"IF(ISERROR(VLOOKUP(Egresados!$P47,Maestros!$L$31:$Q$1030,2,0)),\"\",VLOOKUP(Egresados!$P47,Maestros!$L$31:$Q$1030,2,0))","v":"215"},{"$f":"CONCATENATE(Egresados!$Z$8:$Z$705,\"a\",Egresados!$AA$8:$AA$705,\"a\",Egresados!$AC$8:$AC$705)","v":"223a7a215"},{"$f":"IF(ISERROR(VLOOKUP(Egresados!$C$8:$C$705,Maestros!$A$4:$B$21,2,0)),\"\",VLOOKUP(Egresados!$C$8:$C$705,Maestros!$A$4:$B$21,2,0))","v":"1001"},{"$f":"IF(ISERROR(VLOOKUP(Egresados!$H$8:$H$705,Maestros!$D$4:$E$21,2,0)),\"\",VLOOKUP(Egresados!$H$8:$H$705,Maestros!$D$4:$E$21,2,0))","v":"1122"},{"$f":"IF(OR(UPPER(Egresados!$J$8:$J$705)=\"SI\",UPPER(Egresados!$J$8:$J$705)=\"SÍ\"),1,IF(UPPER(Egresados!$J$8:$J$705)=\"NO\",0,\"\"))","v":0},{"$f":"IF(OR(UPPER(Egresados!$R$8:$R$705)=\"SI\",UPPER(Egresados!$R$8:$R$705)=\"SÍ\"),1,IF(UPPER(Egresados!$R$8:$R$705)=\"NO\",0,\"\"))","v":""},{"$f":"IF(OR(UPPER(Egresados!$S$8:$S$705)=\"SI\",UPPER(Egresados!$S$8:$S$705)=\"SÍ\"),1,IF(UPPER(Egresados!$S$8:$S$705)=\"NO\",0,\"\"))","v":""},{"$f":"IF(ISERROR(VLOOKUP(Egresados!$T$8:$T$705,Maestros!$S$31:$T$530,2,0)),\"\",VLOOKUP(Egresados!$T$8:$T$705,Maestros!$S$31:$T$530,2,0))","v":"50"},{"$f":"IF(ISERROR(VLOOKUP(U47,Maestros!$S$31:$T$530,2,0)),\"\",VLOOKUP(U47,Maestros!$S$31:$T$530,2,0))","v":"50"},{"$f":"IF(ISERROR(VLOOKUP(Egresados!$K$8:$K$705,Maestros!$A$31:$B$130,2,0)),\"\",VLOOKUP(Egresados!$K$8:$K$705,Maestros!$A$31:$B$130,2,0))","v":""},{"$f":"IF(LEN(tablaEgresados[[#This Row],[Nota promedio]])>0,ROUND(tablaEgresados[[#This Row],[Nota promedio]],2),\"\")","v":14.19}]
[40,null,"DNI","09598320","BAUTISTA","ALMONACID","JACINTO","MASCULINO",null,"NO",null,null,null,"2020-1","EL RIMAC","ADMINISTRACION DE NEGOCIOS INTERNACIONALES",15.43,null,null,"2015-1","2015-1","20151295@une.edu.pe","insergebperu@gmail.com",3133700,"993278387",{"$f":"IF(ISERROR(VLOOKUP(Egresados!$N$8:$N$705,Maestros!$D$31:$E$530,2,0)),\"\",VLOOKUP(Egresados!$N$8:$N$705,Maestros!$D$31:$E$530,2,0))","v":"223"},{"$f":"IF(ISERROR(VLOOKUP(Egresados!$O48,Maestros!$G$31:$J$1030,2,0)),\"\",VLOOKUP(Egresados!$O48,Maestros!$G$31:$J$1030,2,0))","v":"7"},{"$f":"CONCATENATE(Egresados!$Z$8:$Z$705,\"a\",Egresados!$AA$8:$AA$705)","v":"223a7"},{"$f":"IF(ISERROR(VLOOKUP(Egresados!$P48,Maestros!$L$31:$Q$1030,2,0)),\"\",VLOOKUP(Egresados!$P48,Maestros!$L$31:$Q$1030,2,0))","v":"215"},{"$f":"CONCATENATE(Egresados!$Z$8:$Z$705,\"a\",Egresados!$AA$8:$AA$705,\"a\",Egresados!$AC$8:$AC$705)","v":"223a7a215"},{"$f":"IF(ISERROR(VLOOKUP(Egresados!$C$8:$C$705,Maestros!$A$4:$B$21,2,0)),\"\",VLOOKUP(Egresados!$C$8:$C$705,Maestros!$A$4:$B$21,2,0))","v":"1001"},{"$f":"IF(ISERROR(VLOOKUP(Egresados!$H$8:$H$705,Maestros!$D$4:$E$21,2,0)),\"\",VLOOKUP(Egresados!$H$8:$H$705,Maestros!$D$4:$E$21,2,0))","v":"1121"},{"$f":"IF(OR(UPPER(Egresados!$J$8:$J$705)=\"SI\",UPPER(Egresados!$J$8:$J$705)=\"SÍ\"),1,IF(UPPER(Egresados!$J$8:$J$705)=\"NO\",0,\"\"))","v":0},{"$f":"IF(OR(UPPER(Egresados!$R$8:$R$705)=\"SI\",UPPER(Egresados!$R$8:$R$705)=\"SÍ\"),1,IF(UPPER(Egresados!$R$8:$R$705)=\"NO\",0,\"\"))","v":""},{"$f":"IF(OR(UPPER(Egresados!$S$8:$S$705)=\"SI\",UPPER(Egresados!$S$8:$S$705)=\"SÍ\"),1,IF(UPPER(Egresados!$S$8:$S$705)=\"NO\",0,\"\"))","v":""},{"$f":"IF(ISERROR(VLOOKUP(Egresados!$T$8:$T$705,Maestros!$S$31:$T$530,2,0)),\"\",VLOOKUP(Egresados!$T$8:$T$705,Maestros!$S$31:$T$530,2,0))","v":"62"},{"$f":"IF(ISERROR(VLOOKUP(U48,Maestros!$S$31:$T$530,2,0)),\"\",VLOOKUP(U48,Maestros!$S$31:$T$530,2,0))","v":"62"},{"$f":"IF(ISERROR(VLOOKUP(Egresados!$K$8:$K$705,Maestros!$A$31:$B$130,2,0)),\"\",VLOOKUP(Egresados!$K$8:$K$705,Maestros!$A$31:$B$130,2,0))","v":""},{"$f":"IF(LEN(tablaEgresados[[#This Row],[Nota promedio]])>0,ROUND(tablaEgresados[[#This Row],[Nota promedio]],2),\"\")","v":15.43}]
[41,null,"DNI","43429838","LOPEZ","LOZANO","ISELLE","FEMENINO",null,"NO",null,null,null,"2020-1","EL RIMAC","ADMINISTRACION DE NEGOCIOS INTERNACIONALES",16.059999999999999,null,null,"2015-1","2015-1","20151378@une.edu.pe","isue00786@gmail.com",3133700,"983150055",{"$f":"IF(ISERROR(VLOOKUP(Egresados!$N$8:$N$705,Maestros!$D$31:$E$530,2,0)),\"\",VLOOKUP(Egresados!$N$8:$N$705,Maestros!$D$31:$E$530,2,0))","v":"223"},{"$f":"IF(ISERROR(VLOOKUP(Egresados!$O49,Maestros!$G$31:$J$1030,2,0)),\"\",VLOOKUP(Egresados!$O49,Maestros!$G$31:$J$1030,2,0))","v":"7"},{"$f":"CONCATENATE(Egresados!$Z$8:$Z$705,\"a\",Egresados!$AA$8:$AA$705)","v":"223a7"},{"$f":"IF(ISERROR(VLOOKUP(Egresados!$P49,Maestros!$L$31:$Q$1030,2,0)),\"\",VLOOKUP(Egresados!$P49,Maestros!$L$31:$Q$1030,2,0))","v":"215"},{"$f":"CONCATENATE(Egresados!$Z$8:$Z$705,\"a\",Egresados!$AA$8:$AA$705,\"a\",Egresados!$AC$8:$AC$705)","v":"223a7a215"},{"$f":"IF(ISERROR(VLOOKUP(Egresados!$C$8:$C$705,Maestros!$A$4:$B$21,2,0)),\"\",VLOOKUP(Egresados!$C$8:$C$705,Maestros!$A$4:$B$21,2,0))","v":"1001"},{"$f":"IF(ISERROR(VLOOKUP(Egresados!$H$8:$H$705,Maestros!$D$4:$E$21,2,0)),\"\",VLOOKUP(Egresados!$H$8:$H$705,Maestros!$D$4:$E$21,2,0))","v":"1122"},{"$f":"IF(OR(UPPER(Egresados!$J$8:$J$705)=\"SI\",UPPER(Egresados!$J$8:$J$705)=\"SÍ\"),1,IF(UPPER(Egresados!$J$8:$J$705)=\"NO\",0,\"\"))","v":0},{"$f":"IF(OR(UPPER(Egresados!$R$8:$R$705)=\"SI\",UPPER(Egresados!$R$8:$R$705)=\"SÍ\"),1,IF(UPPER(Egresados!$R$8:$R$705)=\"NO\",0,\"\"))","v":""},{"$f":"IF(OR(UPPER(Egresados!$S$8:$S$705)=\"SI\",UPPER(Egresados!$S$8:$S$705)=\"SÍ\"),1,IF(UPPER(Egresados!$S$8:$S$705)=\"NO\",0,\"\"))","v":""},{"$f":"IF(ISERROR(VLOOKUP(Egresados!$T$8:$T$705,Maestros!$S$31:$T$530,2,0)),\"\",VLOOKUP(Egresados!$T$8:$T$705,Maestros!$S$31:$T$530,2,0))","v":"62"},{"$f":"IF(ISERROR(VLOOKUP(U49,Maestros!$S$31:$T$530,2,0)),\"\",VLOOKUP(U49,Maestros!$S$31:$T$530,2,0))","v":"62"},{"$f":"IF(ISERROR(VLOOKUP(Egresados!$K$8:$K$705,Maestros!$A$31:$B$130,2,0)),\"\",VLOOKUP(Egresados!$K$8:$K$705,Maestros!$A$31:$B$130,2,0))","v":""},{"$f":"IF(LEN(tablaEgresados[[#This Row],[Nota promedio]])>0,ROUND(tablaEgresados[[#This Row],[Nota promedio]],2),\"\")","v":16.059999999999999}]
[42,null,"DNI","75436903","ORE","TELLO","SACHE ALONDRA SANDIBEL","FEMENINO",null,"NO",null,null,null,"2020-1","EL RIMAC","ADMINISTRACION DE NEGOCIOS INTERNACIONALES",14.83,null,null,"2014-1","2014-1","20140214@une.edu.pe","sandy_tello18@hotmail.com",3133700,"996771373",{"$f":"IF(ISERROR(VLOOKUP(Egresados!$N$8:$N$705,Maestros!$D$31:$E$530,2,0)),\"\",VLOOKUP(Egresados!$N$8:$N$705,Maestros!$D$31:$E$530,2,0))","v":"223"},{"$f":"IF(ISERROR(VLOOKUP(Egresados!$O50,Maestros!$G$31:$J$1030,2,0)),\"\",VLOOKUP(Egresados!$O50,Maestros!$G$31:$J$1030,2,0))","v":"7"},{"$f":"CONCATENATE(Egresados!$Z$8:$Z$705,\"a\",Egresados!$AA$8:$AA$705)","v":"223a7"},{"$f":"IF(ISERROR(VLOOKUP(Egresados!$P50,Maestros!$L$31:$Q$1030,2,0)),\"\",VLOOKUP(Egresados!$P50,Maestros!$L$31:$Q$1030,2,0))","v":"215"},{"$f":"CONCATENATE(Egresados!$Z$8:$Z$705,\"a\",Egresados!$AA$8:$AA$705,\"a\",Egresados!$AC$8:$AC$705)","v":"223a7a215"},{"$f":"IF(ISERROR(VLOOKUP(Egresados!$C$8:$C$705,Maestros!$A$4:$B$21,2,0)),\"\",VLOOKUP(Egresados!$C$8:$C$705,Maestros!$A$4:$B$21,2,0))","v":"1001"},{"$f":"IF(ISERROR(VLOOKUP(Egresados!$H$8:$H$705,Maestros!$D$4:$E$21,2,0)),\"\",VLOOKUP(Egresados!$H$8:$H$705,Maestros!$D$4:$E$21,2,0))","v":"1122"},{"$f":"IF(OR(UPPER(Egresados!$J$8:$J$705)=\"SI\",UPPER(Egresados!$J$8:$J$705)=\"SÍ\"),1,IF(UPPER(Egresados!$J$8:$J$705)=\"NO\",0,\"\"))","v":0},{"$f":"IF(OR(UPPER(Egresados!$R$8:$R$705)=\"SI\",UPPER(Egresados!$R$8:$R$705)=\"SÍ\"),1,IF(UPPER(Egresados!$R$8:$R$705)=\"NO\",0,\"\"))","v":""},{"$f":"IF(OR(UPPER(Egresados!$S$8:$S$705)=\"SI\",UPPER(Egresados!$S$8:$S$705)=\"SÍ\"),1,IF(UPPER(Egresados!$S$8:$S$705)=\"NO\",0,\"\"))","v":""},{"$f":"IF(ISERROR(VLOOKUP(Egresados!$T$8:$T$705,Maestros!$S$31:$T$530,2,0)),\"\",VLOOKUP(Egresados!$T$8:$T$705,Maestros!$S$31:$T$530,2,0))","v":"58"},{"$f":"IF(ISERROR(VLOOKUP(U50,Maestros!$S$31:$T$530,2,0)),\"\",VLOOKUP(U50,Maestros!$S$31:$T$530,2,0))","v":"58"},{"$f":"IF(ISERROR(VLOOKUP(Egresados!$K$8:$K$705,Maestros!$A$31:$B$130,2,0)),\"\",VLOOKUP(Egresados!$K$8:$K$705,Maestros!$A$31:$B$130,2,0))","v":""},{"$f":"IF(LEN(tablaEgresados[[#This Row],[Nota promedio]])>0,ROUND(tablaEgresados[[#This Row],[Nota promedio]],2),\"\")","v":14.83}]
[43,null,"DNI","48617642","ROQUE","VELAZCO","LUIS ALEJANDRO","MASCULINO",null,"NO",null,null,null,"2020-1","EL RIMAC","ADMINISTRACION DE NEGOCIOS INTERNACIONALES",14.78,null,null,"2015-1","2015-1","20151397@une.edu.pe","luis94_08_14@hotmail.com",3133700,"991964565",{"$f":"IF(ISERROR(VLOOKUP(Egresados!$N$8:$N$705,Maestros!$D$31:$E$530,2,0)),\"\",VLOOKUP(Egresados!$N$8:$N$705,Maestros!$D$31:$E$530,2,0))","v":"223"},{"$f":"IF(ISERROR(VLOOKUP(Egresados!$O51,Maestros!$G$31:$J$1030,2,0)),\"\",VLOOKUP(Egresados!$O51,Maestros!$G$31:$J$1030,2,0))","v":"7"},{"$f":"CONCATENATE(Egresados!$Z$8:$Z$705,\"a\",Egresados!$AA$8:$AA$705)","v":"223a7"},{"$f":"IF(ISERROR(VLOOKUP(Egresados!$P51,Maestros!$L$31:$Q$1030,2,0)),\"\",VLOOKUP(Egresados!$P51,Maestros!$L$31:$Q$1030,2,0))","v":"215"},{"$f":"CONCATENATE(Egresados!$Z$8:$Z$705,\"a\",Egresados!$AA$8:$AA$705,\"a\",Egresados!$AC$8:$AC$705)","v":"223a7a215"},{"$f":"IF(ISERROR(VLOOKUP(Egresados!$C$8:$C$705,Maestros!$A$4:$B$21,2,0)),\"\",VLOOKUP(Egresados!$C$8:$C$705,Maestros!$A$4:$B$21,2,0))","v":"1001"},{"$f":"IF(ISERROR(VLOOKUP(Egresados!$H$8:$H$705,Maestros!$D$4:$E$21,2,0)),\"\",VLOOKUP(Egresados!$H$8:$H$705,Maestros!$D$4:$E$21,2,0))","v":"1121"},{"$f":"IF(OR(UPPER(Egresados!$J$8:$J$705)=\"SI\",UPPER(Egresados!$J$8:$J$705)=\"SÍ\"),1,IF(UPPER(Egresados!$J$8:$J$705)=\"NO\",0,\"\"))","v":0},{"$f":"IF(OR(UPPER(Egresados!$R$8:$R$705)=\"SI\",UPPER(Egresados!$R$8:$R$705)=\"SÍ\"),1,IF(UPPER(Egresados!$R$8:$R$705)=\"NO\",0,\"\"))","v":""},{"$f":"IF(OR(UPPER(Egresados!$S$8:$S$705)=\"SI\",UPPER(Egresados!$S$8:$S$705)=\"SÍ\"),1,IF(UPPER(Egresados!$S$8:$S$705)=\"NO\",0,\"\"))","v":""},{"$f":"IF(ISERROR(VLOOKUP(Egresados!$T$8:$T$705,Maestros!$S$31:$T$530,2,0)),\"\",VLOOKUP(Egresados!$T$8:$T$705,Maestros!$S$31:$T$530,2,0))","v":"62"},{"$f":"IF(ISERROR(VLOOKUP(U51,Maestros!$S$31:$T$530,2,0)),\"\",VLOOKUP(U51,Maestros!$S$31:$T$530,2,0))","v":"62"},{"$f":"IF(ISERROR(VLOOKUP(Egresados!$K$8:$K$705,Maestros!$A$31:$B$130,2,0)),\"\",VLOOKUP(Egresados!$K$8:$K$705,Maestros!$A$31:$B$130,2,0))","v":""},{"$f":"IF(LEN(tablaEgresados[[#This Row],[Nota promedio]])>0,ROUND(tablaEgresados[[#This Row],[Nota promedio]],2),\"\")","v":14.78}]
[44,null,"DNI","73462276","QUISPE","PEÑA","MARIMAR RAMIA","FEMENINO",null,"NO",null,null,null,"2020-1","EL RIMAC","ADMINISTRACION DE NEGOCIOS INTERNACIONALES",14.94,null,null,"2015-1","2015-1","20151394@une.edu.pe","silvia_up20@hotmail.com",3133700,"992422656",{"$f":"IF(ISERROR(VLOOKUP(Egresados!$N$8:$N$705,Maestros!$D$31:$E$530,2,0)),\"\",VLOOKUP(Egresados!$N$8:$N$705,Maestros!$D$31:$E$530,2,0))","v":"223"},{"$f":"IF(ISERROR(VLOOKUP(Egresados!$O52,Maestros!$G$31:$J$1030,2,0)),\"\",VLOOKUP(Egresados!$O52,Maestros!$G$31:$J$1030,2,0))","v":"7"},{"$f":"CONCATENATE(Egresados!$Z$8:$Z$705,\"a\",Egresados!$AA$8:$AA$705)","v":"223a7"},{"$f":"IF(ISERROR(VLOOKUP(Egresados!$P52,Maestros!$L$31:$Q$1030,2,0)),\"\",VLOOKUP(Egresados!$P52,Maestros!$L$31:$Q$1030,2,0))","v":"215"},{"$f":"CONCATENATE(Egresados!$Z$8:$Z$705,\"a\",Egresados!$AA$8:$AA$705,\"a\",Egresados!$AC$8:$AC$705)","v":"223a7a215"},{"$f":"IF(ISERROR(VLOOKUP(Egresados!$C$8:$C$705,Maestros!$A$4:$B$21,2,0)),\"\",VLOOKUP(Egresados!$C$8:$C$705,Maestros!$A$4:$B$21,2,0))","v":"1001"},{"$f":"IF(ISERROR(VLOOKUP(Egresados!$H$8:$H$705,Maestros!$D$4:$E$21,2,0)),\"\",VLOOKUP(Egresados!$H$8:$H$705,Maestros!$D$4:$E$21,2,0))","v":"1122"},{"$f":"IF(OR(UPPER(Egresados!$J$8:$J$705)=\"SI\",UPPER(Egresados!$J$8:$J$705)=\"SÍ\"),1,IF(UPPER(Egresados!$J$8:$J$705)=\"NO\",0,\"\"))","v":0},{"$f":"IF(OR(UPPER(Egresados!$R$8:$R$705)=\"SI\",UPPER(Egresados!$R$8:$R$705)=\"SÍ\"),1,IF(UPPER(Egresados!$R$8:$R$705)=\"NO\",0,\"\"))","v":""},{"$f":"IF(OR(UPPER(Egresados!$S$8:$S$705)=\"SI\",UPPER(Egresados!$S$8:$S$705)=\"SÍ\"),1,IF(UPPER(Egresados!$S$8:$S$705)=\"NO\",0,\"\"))","v":""},{"$f":"IF(ISERROR(VLOOKUP(Egresados!$T$8:$T$705,Maestros!$S$31:$T$530,2,0)),\"\",VLOOKUP(Egresados!$T$8:$T$705,Maestros!$S$31:$T$530,2,0))","v":"62"},{"$f":"IF(ISERROR(VLOOKUP(U52,Maestros!$S$31:$T$530,2,0)),\"\",VLOOKUP(U52,Maestros!$S$31:$T$530,2,0))","v":"62"},{"$f":"IF(ISERROR(VLOOKUP(Egresados!$K$8:$K$705,Maestros!$A$31:$B$130,2,0)),\"\",VLOOKUP(Egresados!$K$8:$K$705,Maestros!$A$31:$B$130,2,0))","v":""},{"$f":"IF(LEN(tablaEgresados[[#This Row],[Nota promedio]])>0,ROUND(tablaEgresados[[#This Row],[Nota promedio]],2),\"\")","v":14.94}]
[45,null,"DNI","75096407","SOTO","ROSSELL","ESTIVEN BUENAVENTURA","MASCULINO",null,"NO",null,null,null,"2020-1","EL RIMAC","ADMINISTRACION DE NEGOCIOS INTERNACIONALES",15.38,null,null,"2015-1","2015-1","20151402@une.edu.pe","estiven.bsotor@hotmail.com",3133700,"941560856",{"$f":"IF(ISERROR(VLOOKUP(Egresados!$N$8:$N$705,Maestros!$D$31:$E$530,2,0)),\"\",VLOOKUP(Egresados!$N$8:$N$705,Maestros!$D$31:$E$530,2,0))","v":"223"},{"$f":"IF(ISERROR(VLOOKUP(Egresados!$O53,Maestros!$G$31:$J$1030,2,0)),\"\",VLOOKUP(Egresados!$O53,Maestros!$G$31:$J$1030,2,0))","v":"7"},{"$f":"CONCATENATE(Egresados!$Z$8:$Z$705,\"a\",Egresados!$AA$8:$AA$705)","v":"223a7"},{"$f":"IF(ISERROR(VLOOKUP(Egresados!$P53,Maestros!$L$31:$Q$1030,2,0)),\"\",VLOOKUP(Egresados!$P53,Maestros!$L$31:$Q$1030,2,0))","v":"215"},{"$f":"CONCATENATE(Egresados!$Z$8:$Z$705,\"a\",Egresados!$AA$8:$AA$705,\"a\",Egresados!$AC$8:$AC$705)","v":"223a7a215"},{"$f":"IF(ISERROR(VLOOKUP(Egresados!$C$8:$C$705,Maestros!$A$4:$B$21,2,0)),\"\",VLOOKUP(Egresados!$C$8:$C$705,Maestros!$A$4:$B$21,2,0))","v":"1001"},{"$f":"IF(ISERROR(VLOOKUP(Egresados!$H$8:$H$705,Maestros!$D$4:$E$21,2,0)),\"\",VLOOKUP(Egresados!$H$8:$H$705,Maestros!$D$4:$E$21,2,0))","v":"1121"},{"$f":"IF(OR(UPPER(Egresados!$J$8:$J$705)=\"SI\",UPPER(Egresados!$J$8:$J$705)=\"SÍ\"),1,IF(UPPER(Egresados!$J$8:$J$705)=\"NO\",0,\"\"))","v":0},{"$f":"IF(OR(UPPER(Egresados!$R$8:$R$705)=\"SI\",UPPER(Egresados!$R$8:$R$705)=\"SÍ\"),1,IF(UPPER(Egresados!$R$8:$R$705)=\"NO\",0,\"\"))","v":""},{"$f":"IF(OR(UPPER(Egresados!$S$8:$S$705)=\"SI\",UPPER(Egresados!$S$8:$S$705)=\"SÍ\"),1,IF(UPPER(Egresados!$S$8:$S$705)=\"NO\",0,\"\"))","v":""},{"$f":"IF(ISERROR(VLOOKUP(Egresados!$T$8:$T$705,Maestros!$S$31:$T$530,2,0)),\"\",VLOOKUP(Egresados!$T$8:$T$705,Maestros!$S$31:$T$530,2,0))","v":"62"},{"$f":"IF(ISERROR(VLOOKUP(U53,Maestros!$S$31:$T$530,2,0)),\"\",VLOOKUP(U53,Maestros!$S$31:$T$530,2,0))","v":"62"},{"$f":"IF(ISERROR(VLOOKUP(Egresados!$K$8:$K$705,Maestros!$A$31:$B$130,2,0)),\"\",VLOOKUP(Egresados!$K$8:$K$705,Maestros!$A$31:$B$130,2,0))","v":""},{"$f":"IF(LEN(tablaEgresados[[#This Row],[Nota promedio]])>0,ROUND(tablaEgresados[[#This Row],[Nota promedio]],2),\"\")","v":15.38}]
[46,null,"DNI","74022820","VASQUEZ","LAURENTE","DAYSI LIZ","FEMENINO",null,"NO",null,null,null,"2020-1","EL RIMAC","ADMINISTRACION DE NEGOCIOS INTERNACIONALES",15.66,null,null,"2015-1","2015-1","20151289@une.edu.pe","deysilaurente45@gmail.com",3133700,"959548624",{"$f":"IF(ISERROR(VLOOKUP(Egresados!$N$8:$N$705,Maestros!$D$31:$E$530,2,0)),\"\",VLOOKUP(Egresados!$N$8:$N$705,Maestros!$D$31:$E$530,2,0))","v":"223"},{"$f":"IF(ISERROR(VLOOKUP(Egresados!$O54,Maestros!$G$31:$J$1030,2,0)),\"\",VLOOKUP(Egresados!$O54,Maestros!$G$31:$J$1030,2,0))","v":"7"},{"$f":"CONCATENATE(Egresados!$Z$8:$Z$705,\"a\",Egresados!$AA$8:$AA$705)","v":"223a7"},{"$f":"IF(ISERROR(VLOOKUP(Egresados!$P54,Maestros!$L$31:$Q$1030,2,0)),\"\",VLOOKUP(Egresados!$P54,Maestros!$L$31:$Q$1030,2,0))","v":"215"},{"$f":"CONCATENATE(Egresados!$Z$8:$Z$705,\"a\",Egresados!$AA$8:$AA$705,\"a\",Egresados!$AC$8:$AC$705)","v":"223a7a215"},{"$f":"IF(ISERROR(VLOOKUP(Egresados!$C$8:$C$705,Maestros!$A$4:$B$21,2,0)),\"\",VLOOKUP(Egresados!$C$8:$C$705,Maestros!$A$4:$B$21,2,0))","v":"1001"},{"$f":"IF(ISERROR(VLOOKUP(Egresados!$H$8:$H$705,Maestros!$D$4:$E$21,2,0)),\"\",VLOOKUP(Egresados!$H$8:$H$705,Maestros!$D$4:$E$21,2,0))","v":"1122"},{"$f":"IF(OR(UPPER(Egresados!$J$8:$J$705)=\"SI\",UPPER(Egresados!$J$8:$J$705)=\"SÍ\"),1,IF(UPPER(Egresados!$J$8:$J$705)=\"NO\",0,\"\"))","v":0},{"$f":"IF(OR(UPPER(Egresados!$R$8:$R$705)=\"SI\",UPPER(Egresados!$R$8:$R$705)=\"SÍ\"),1,IF(UPPER(Egresados!$R$8:$R$705)=\"NO\",0,\"\"))","v":""},{"$f":"IF(OR(UPPER(Egresados!$S$8:$S$705)=\"SI\",UPPER(Egresados!$S$8:$S$705)=\"SÍ\"),1,IF(UPPER(Egresados!$S$8:$S$705)=\"NO\",0,\"\"))","v":""},{"$f":"IF(ISERROR(VLOOKUP(Egresados!$T$8:$T$705,Maestros!$S$31:$T$530,2,0)),\"\",VLOOKUP(Egresados!$T$8:$T$705,Maestros!$S$31:$T$530,2,0))","v":"62"},{"$f":"IF(ISERROR(VLOOKUP(U54,Maestros!$S$31:$T$530,2,0)),\"\",VLOOKUP(U54,Maestros!$S$31:$T$530,2,0))","v":"62"},{"$f":"IF(ISERROR(VLOOKUP(Egresados!$K$8:$K$705,Maestros!$A$31:$B$130,2,0)),\"\",VLOOKUP(Egresados!$K$8:$K$705,Maestros!$A$31:$B$130,2,0))","v":""},{"$f":"IF(LEN(tablaEgresados[[#This Row],[Nota promedio]])>0,ROUND(tablaEgresados[[#This Row],[Nota promedio]],2),\"\")","v":15.66}]
[47,null,"DNI","72130688","HUAMAN","CURAS","EDITH TALIA","FEMENINO",null,"NO",null,null,null,"2020-1","EL RIMAC","ADMINISTRACION DE NEGOCIOS INTERNACIONALES",15.1,null,null,"2015-1","2015-1","20151374@une.edu.pe","EDITH_TALIAHC@hotmail.com",3133700,"969145138",{"$f":"IF(ISERROR(VLOOKUP(Egresados!$N$8:$N$705,Maestros!$D$31:$E$530,2,0)),\"\",VLOOKUP(Egresados!$N$8:$N$705,Maestros!$D$31:$E$530,2,0))","v":"223"},{"$f":"IF(ISERROR(VLOOKUP(Egresados!$O55,Maestros!$G$31:$J$1030,2,0)),\"\",VLOOKUP(Egresados!$O55,Maestros!$G$31:$J$1030,2,0))","v":"7"},{"$f":"CONCATENATE(Egresados!$Z$8:$Z$705,\"a\",Egresados!$AA$8:$AA$705)","v":"223a7"},{"$f":"IF(ISERROR(VLOOKUP(Egresados!$P55,Maestros!$L$31:$Q$1030,2,0)),\"\",VLOOKUP(Egresados!$P55,Maestros!$L$31:$Q$1030,2,0))","v":"215"},{"$f":"CONCATENATE(Egresados!$Z$8:$Z$705,\"a\",Egresados!$AA$8:$AA$705,\"a\",Egresados!$AC$8:$AC$705)","v":"223a7a215"},{"$f":"IF(ISERROR(VLOOKUP(Egresados!$C$8:$C$705,Maestros!$A$4:$B$21,2,0)),\"\",VLOOKUP(Egresados!$C$8:$C$705,Maestros!$A$4:$B$21,2,0))","v":"1001"},{"$f":"IF(ISERROR(VLOOKUP(Egresados!$H$8:$H$705,Maestros!$D$4:$E$21,2,0)),\"\",VLOOKUP(Egresados!$H$8:$H$705,Maestros!$D$4:$E$21,2,0))","v":"1122"},{"$f":"IF(OR(UPPER(Egresados!$J$8:$J$705)=\"SI\",UPPER(Egresados!$J$8:$J$705)=\"SÍ\"),1,IF(UPPER(Egresados!$J$8:$J$705)=\"NO\",0,\"\"))","v":0},{"$f":"IF(OR(UPPER(Egresados!$R$8:$R$705)=\"SI\",UPPER(Egresados!$R$8:$R$705)=\"SÍ\"),1,IF(UPPER(Egresados!$R$8:$R$705)=\"NO\",0,\"\"))","v":""},{"$f":"IF(OR(UPPER(Egresados!$S$8:$S$705)=\"SI\",UPPER(Egresados!$S$8:$S$705)=\"SÍ\"),1,IF(UPPER(Egresados!$S$8:$S$705)=\"NO\",0,\"\"))","v":""},{"$f":"IF(ISERROR(VLOOKUP(Egresados!$T$8:$T$705,Maestros!$S$31:$T$530,2,0)),\"\",VLOOKUP(Egresados!$T$8:$T$705,Maestros!$S$31:$T$530,2,0))","v":"62"},{"$f":"IF(ISERROR(VLOOKUP(U55,Maestros!$S$31:$T$530,2,0)),\"\",VLOOKUP(U55,Maestros!$S$31:$T$530,2,0))","v":"62"},{"$f":"IF(ISERROR(VLOOKUP(Egresados!$K$8:$K$705,Maestros!$A$31:$B$130,2,0)),\"\",VLOOKUP(Egresados!$K$8:$K$705,Maestros!$A$31:$B$130,2,0))","v":""},{"$f":"IF(LEN(tablaEgresados[[#This Row],[Nota promedio]])>0,ROUND(tablaEgresados[[#This Row],[Nota promedio]],2),\"\")","v":15.1}]
[48,null,"DNI","75148972","LUJAN","ADERIANO","YESSY SHIRLEY","FEMENINO",null,"NO",null,null,null,"2020-1","EL RIMAC","ADMINISTRACION DE NEGOCIOS INTERNACIONALES",15.98,null,null,"2015-1","2015-1","20151379@une.edu.pe","yessysh28leo@hotmail.com",3133700,"921511328",{"$f":"IF(ISERROR(VLOOKUP(Egresados!$N$8:$N$705,Maestros!$D$31:$E$530,2,0)),\"\",VLOOKUP(Egresados!$N$8:$N$705,Maestros!$D$31:$E$530,2,0))","v":"223"},{"$f":"IF(ISERROR(VLOOKUP(Egresados!$O56,Maestros!$G$31:$J$1030,2,0)),\"\",VLOOKUP(Egresados!$O56,Maestros!$G$31:$J$1030,2,0))","v":"7"},{"$f":"CONCATENATE(Egresados!$Z$8:$Z$705,\"a\",Egresados!$AA$8:$AA$705)","v":"223a7"},{"$f":"IF(ISERROR(VLOOKUP(Egresados!$P56,Maestros!$L$31:$Q$1030,2,0)),\"\",VLOOKUP(Egresados!$P56,Maestros!$L$31:$Q$1030,2,0))","v":"215"},{"$f":"CONCATENATE(Egresados!$Z$8:$Z$705,\"a\",Egresados!$AA$8:$AA$705,\"a\",Egresados!$AC$8:$AC$705)","v":"223a7a215"},{"$f":"IF(ISERROR(VLOOKUP(Egresados!$C$8:$C$705,Maestros!$A$4:$B$21,2,0)),\"\",VLOOKUP(Egresados!$C$8:$C$705,Maestros!$A$4:$B$21,2,0))","v":"1001"},{"$f":"IF(ISERROR(VLOOKUP(Egresados!$H$8:$H$705,Maestros!$D$4:$E$21,2,0)),\"\",VLOOKUP(Egresados!$H$8:$H$705,Maestros!$D$4:$E$21,2,0))","v":"1122"},{"$f":"IF(OR(UPPER(Egresados!$J$8:$J$705)=\"SI\",UPPER(Egresados!$J$8:$J$705)=\"SÍ\"),1,IF(UPPER(Egresados!$J$8:$J$705)=\"NO\",0,\"\"))","v":0},{"$f":"IF(OR(UPPER(Egresados!$R$8:$R$705)=\"SI\",UPPER(Egresados!$R$8:$R$705)=\"SÍ\"),1,IF(UPPER(Egresados!$R$8:$R$705)=\"NO\",0,\"\"))","v":""},{"$f":"IF(OR(UPPER(Egresados!$S$8:$S$705)=\"SI\",UPPER(Egresados!$S$8:$S$705)=\"SÍ\"),1,IF(UPPER(Egresados!$S$8:$S$705)=\"NO\",0,\"\"))","v":""},{"$f":"IF(ISERROR(VLOOKUP(Egresados!$T$8:$T$705,Maestros!$S$31:$T$530,2,0)),\"\",VLOOKUP(Egresados!$T$8:$T$705,Maestros!$S$31:$T$530,2,0))","v":"62"},{"$f":"IF(ISERROR(VLOOKUP(U56,Maestros!$S$31:$T$530,2,0)),\"\",VLOOKUP(U56,Maestros!$S$31:$T$530,2,0))","v":"62"},{"$f":"IF(ISERROR(VLOOKUP(Egresados!$K$8:$K$705,Maestros!$A$31:$B$130,2,0)),\"\",VLOOKUP(Egresados!$K$8:$K$705,Maestros!$A$31:$B$130,2,0))","v":""},{"$f":"IF(LEN(tablaEgresados[[#This Row],[Nota promedio]])>0,ROUND(tablaEgresados[[#This Row],[Nota promedio]],2),\"\")","v":15.98}]
[49,null,"DNI","70801665","SICHA","CHAVEZ","KELY GABRIELA","FEMENINO",null,"NO",null,null,null,"2020-1","EL RIMAC","ADMINISTRACION DE NEGOCIOS INTERNACIONALES",15.91,null,null,"2015-1","2015-1","20151400@une.edu.pe","kelgabi.2016@gmail.com",3133700,"979968312",{"$f":"IF(ISERROR(VLOOKUP(Egresados!$N$8:$N$705,Maestros!$D$31:$E$530,2,0)),\"\",VLOOKUP(Egresados!$N$8:$N$705,Maestros!$D$31:$E$530,2,0))","v":"223"},{"$f":"IF(ISERROR(VLOOKUP(Egresados!$O57,Maestros!$G$31:$J$1030,2,0)),\"\",VLOOKUP(Egresados!$O57,Maestros!$G$31:$J$1030,2,0))","v":"7"},{"$f":"CONCATENATE(Egresados!$Z$8:$Z$705,\"a\",Egresados!$AA$8:$AA$705)","v":"223a7"},{"$f":"IF(ISERROR(VLOOKUP(Egresados!$P57,Maestros!$L$31:$Q$1030,2,0)),\"\",VLOOKUP(Egresados!$P57,Maestros!$L$31:$Q$1030,2,0))","v":"215"},{"$f":"CONCATENATE(Egresados!$Z$8:$Z$705,\"a\",Egresados!$AA$8:$AA$705,\"a\",Egresados!$AC$8:$AC$705)","v":"223a7a215"},{"$f":"IF(ISERROR(VLOOKUP(Egresados!$C$8:$C$705,Maestros!$A$4:$B$21,2,0)),\"\",VLOOKUP(Egresados!$C$8:$C$705,Maestros!$A$4:$B$21,2,0))","v":"1001"},{"$f":"IF(ISERROR(VLOOKUP(Egresados!$H$8:$H$705,Maestros!$D$4:$E$21,2,0)),\"\",VLOOKUP(Egresados!$H$8:$H$705,Maestros!$D$4:$E$21,2,0))","v":"1122"},{"$f":"IF(OR(UPPER(Egresados!$J$8:$J$705)=\"SI\",UPPER(Egresados!$J$8:$J$705)=\"SÍ\"),1,IF(UPPER(Egresados!$J$8:$J$705)=\"NO\",0,\"\"))","v":0},{"$f":"IF(OR(UPPER(Egresados!$R$8:$R$705)=\"SI\",UPPER(Egresados!$R$8:$R$705)=\"SÍ\"),1,IF(UPPER(Egresados!$R$8:$R$705)=\"NO\",0,\"\"))","v":""},{"$f":"IF(OR(UPPER(Egresados!$S$8:$S$705)=\"SI\",UPPER(Egresados!$S$8:$S$705)=\"SÍ\"),1,IF(UPPER(Egresados!$S$8:$S$705)=\"NO\",0,\"\"))","v":""},{"$f":"IF(ISERROR(VLOOKUP(Egresados!$T$8:$T$705,Maestros!$S$31:$T$530,2,0)),\"\",VLOOKUP(Egresados!$T$8:$T$705,Maestros!$S$31:$T$530,2,0))","v":"62"},{"$f":"IF(ISERROR(VLOOKUP(U57,Maestros!$S$31:$T$530,2,0)),\"\",VLOOKUP(U57,Maestros!$S$31:$T$530,2,0))","v":"62"},{"$f":"IF(ISERROR(VLOOKUP(Egresados!$K$8:$K$705,Maestros!$A$31:$B$130,2,0)),\"\",VLOOKUP(Egresados!$K$8:$K$705,Maestros!$A$31:$B$130,2,0))","v":""},{"$f":"IF(LEN(tablaEgresados[[#This Row],[Nota promedio]])>0,ROUND(tablaEgresados[[#This Row],[Nota promedio]],2),\"\")","v":15.91}]
[50,null,"DNI","70207584","CCAHUANA","HERRERA","EDILBERTO ELIO","MASCULINO",null,"NO",null,null,null,"2020-1","EL RIMAC","ADMINISTRACION DE NEGOCIOS INTERNACIONALES",14.83,null,null,"2015-1","2015-1","20151362@une.edu.pe","edilbertoccahuna@gmail.com",3133700,"940822664",{"$f":"IF(ISERROR(VLOOKUP(Egresados!$N$8:$N$705,Maestros!$D$31:$E$530,2,0)),\"\",VLOOKUP(Egresados!$N$8:$N$705,Maestros!$D$31:$E$530,2,0))","v":"223"},{"$f":"IF(ISERROR(VLOOKUP(Egresados!$O58,Maestros!$G$31:$J$1030,2,0)),\"\",VLOOKUP(Egresados!$O58,Maestros!$G$31:$J$1030,2,0))","v":"7"},{"$f":"CONCATENATE(Egresados!$Z$8:$Z$705,\"a\",Egresados!$AA$8:$AA$705)","v":"223a7"},{"$f":"IF(ISERROR(VLOOKUP(Egresados!$P58,Maestros!$L$31:$Q$1030,2,0)),\"\",VLOOKUP(Egresados!$P58,Maestros!$L$31:$Q$1030,2,0))","v":"215"},{"$f":"CONCATENATE(Egresados!$Z$8:$Z$705,\"a\",Egresados!$AA$8:$AA$705,\"a\",Egresados!$AC$8:$AC$705)","v":"223a7a215"},{"$f":"IF(ISERROR(VLOOKUP(Egresados!$C$8:$C$705,Maestros!$A$4:$B$21,2,0)),\"\",VLOOKUP(Egresados!$C$8:$C$705,Maestros!$A$4:$B$21,2,0))","v":"1001"},{"$f":"IF(ISERROR(VLOOKUP(Egresados!$H$8:$H$705,Maestros!$D$4:$E$21,2,0)),\"\",VLOOKUP(Egresados!$H$8:$H$705,Maestros!$D$4:$E$21,2,0))","v":"1121"},{"$f":"IF(OR(UPPER(Egresados!$J$8:$J$705)=\"SI\",UPPER(Egresados!$J$8:$J$705)=\"SÍ\"),1,IF(UPPER(Egresados!$J$8:$J$705)=\"NO\",0,\"\"))","v":0},{"$f":"IF(OR(UPPER(Egresados!$R$8:$R$705)=\"SI\",UPPER(Egresados!$R$8:$R$705)=\"SÍ\"),1,IF(UPPER(Egresados!$R$8:$R$705)=\"NO\",0,\"\"))","v":""},{"$f":"IF(OR(UPPER(Egresados!$S$8:$S$705)=\"SI\",UPPER(Egresados!$S$8:$S$705)=\"SÍ\"),1,IF(UPPER(Egresados!$S$8:$S$705)=\"NO\",0,\"\"))","v":""},{"$f":"IF(ISERROR(VLOOKUP(Egresados!$T$8:$T$705,Maestros!$S$31:$T$530,2,0)),\"\",VLOOKUP(Egresados!$T$8:$T$705,Maestros!$S$31:$T$530,2,0))","v":"62"},{"$f":"IF(ISERROR(VLOOKUP(U58,Maestros!$S$31:$T$530,2,0)),\"\",VLOOKUP(U58,Maestros!$S$31:$T$530,2,0))","v":"62"},{"$f":"IF(ISERROR(VLOOKUP(Egresados!$K$8:$K$705,Maestros!$A$31:$B$130,2,0)),\"\",VLOOKUP(Egresados!$K$8:$K$705,Maestros!$A$31:$B$130,2,0))","v":""},{"$f":"IF(LEN(tablaEgresados[[#This Row],[Nota promedio]])>0,ROUND(tablaEgresados[[#This Row],[Nota promedio]],2),\"\")","v":14.83}]
[51,null,"DNI","72743979","VELA","DEL SOLAR","GINGER ORIETA","FEMENINO",null,"NO",null,null,null,"2020-1","EL RIMAC","ADMINISTRACION DE NEGOCIOS INTERNACIONALES",13.86,null,null,"2015-1","2015-1","20151227@une.edu.pe","vela_g@outlook.com",3133700,"960062000",{"$f":"IF(ISERROR(VLOOKUP(Egresados!$N$8:$N$705,Maestros!$D$31:$E$530,2,0)),\"\",VLOOKUP(Egresados!$N$8:$N$705,Maestros!$D$31:$E$530,2,0))","v":"223"},{"$f":"IF(ISERROR(VLOOKUP(Egresados!$O59,Maestros!$G$31:$J$1030,2,0)),\"\",VLOOKUP(Egresados!$O59,Maestros!$G$31:$J$1030,2,0))","v":"7"},{"$f":"CONCATENATE(Egresados!$Z$8:$Z$705,\"a\",Egresados!$AA$8:$AA$705)","v":"223a7"},{"$f":"IF(ISERROR(VLOOKUP(Egresados!$P59,Maestros!$L$31:$Q$1030,2,0)),\"\",VLOOKUP(Egresados!$P59,Maestros!$L$31:$Q$1030,2,0))","v":"215"},{"$f":"CONCATENATE(Egresados!$Z$8:$Z$705,\"a\",Egresados!$AA$8:$AA$705,\"a\",Egresados!$AC$8:$AC$705)","v":"223a7a215"},{"$f":"IF(ISERROR(VLOOKUP(Egresados!$C$8:$C$705,Maestros!$A$4:$B$21,2,0)),\"\",VLOOKUP(Egresados!$C$8:$C$705,Maestros!$A$4:$B$21,2,0))","v":"1001"},{"$f":"IF(ISERROR(VLOOKUP(Egresados!$H$8:$H$705,Maestros!$D$4:$E$21,2,0)),\"\",VLOOKUP(Egresados!$H$8:$H$705,Maestros!$D$4:$E$21,2,0))","v":"1122"},{"$f":"IF(OR(UPPER(Egresados!$J$8:$J$705)=\"SI\",UPPER(Egresados!$J$8:$J$705)=\"SÍ\"),1,IF(UPPER(Egresados!$J$8:$J$705)=\"NO\",0,\"\"))","v":0},{"$f":"IF(OR(UPPER(Egresados!$R$8:$R$705)=\"SI\",UPPER(Egresados!$R$8:$R$705)=\"SÍ\"),1,IF(UPPER(Egresados!$R$8:$R$705)=\"NO\",0,\"\"))","v":""},{"$f":"IF(OR(UPPER(Egresados!$S$8:$S$705)=\"SI\",UPPER(Egresados!$S$8:$S$705)=\"SÍ\"),1,IF(UPPER(Egresados!$S$8:$S$705)=\"NO\",0,\"\"))","v":""},{"$f":"IF(ISERROR(VLOOKUP(Egresados!$T$8:$T$705,Maestros!$S$31:$T$530,2,0)),\"\",VLOOKUP(Egresados!$T$8:$T$705,Maestros!$S$31:$T$530,2,0))","v":"62"},{"$f":"IF(ISERROR(VLOOKUP(U59,Maestros!$S$31:$T$530,2,0)),\"\",VLOOKUP(U59,Maestros!$S$31:$T$530,2,0))","v":"62"},{"$f":"IF(ISERROR(VLOOKUP(Egresados!$K$8:$K$705,Maestros!$A$31:$B$130,2,0)),\"\",VLOOKUP(Egresados!$K$8:$K$705,Maestros!$A$31:$B$130,2,0))","v":""},{"$f":"IF(LEN(tablaEgresados[[#This Row],[Nota promedio]])>0,ROUND(tablaEgresados[[#This Row],[Nota promedio]],2),\"\")","v":13.86}]
[52,null,"DNI","70827117","ORDOÑEZ","CCALLA","ROSIEL BEATRIZ","FEMENINO",null,"NO",null,null,null,"2020-1","EL RIMAC","ADMINISTRACION DE NEGOCIOS INTERNACIONALES",15.93,null,null,"2015-1","2015-1","20151385@une.edu.pe","nadeshko_9_9@hotmail.com",3133700,"912274624",{"$f":"IF(ISERROR(VLOOKUP(Egresados!$N$8:$N$705,Maestros!$D$31:$E$530,2,0)),\"\",VLOOKUP(Egresados!$N$8:$N$705,Maestros!$D$31:$E$530,2,0))","v":"223"},{"$f":"IF(ISERROR(VLOOKUP(Egresados!$O60,Maestros!$G$31:$J$1030,2,0)),\"\",VLOOKUP(Egresados!$O60,Maestros!$G$31:$J$1030,2,0))","v":"7"},{"$f":"CONCATENATE(Egresados!$Z$8:$Z$705,\"a\",Egresados!$AA$8:$AA$705)","v":"223a7"},{"$f":"IF(ISERROR(VLOOKUP(Egresados!$P60,Maestros!$L$31:$Q$1030,2,0)),\"\",VLOOKUP(Egresados!$P60,Maestros!$L$31:$Q$1030,2,0))","v":"215"},{"$f":"CONCATENATE(Egresados!$Z$8:$Z$705,\"a\",Egresados!$AA$8:$AA$705,\"a\",Egresados!$AC$8:$AC$705)","v":"223a7a215"},{"$f":"IF(ISERROR(VLOOKUP(Egresados!$C$8:$C$705,Maestros!$A$4:$B$21,2,0)),\"\",VLOOKUP(Egresados!$C$8:$C$705,Maestros!$A$4:$B$21,2,0))","v":"1001"},{"$f":"IF(ISERROR(VLOOKUP(Egresados!$H$8:$H$705,Maestros!$D$4:$E$21,2,0)),\"\",VLOOKUP(Egresados!$H$8:$H$705,Maestros!$D$4:$E$21,2,0))","v":"1122"},{"$f":"IF(OR(UPPER(Egresados!$J$8:$J$705)=\"SI\",UPPER(Egresados!$J$8:$J$705)=\"SÍ\"),1,IF(UPPER(Egresados!$J$8:$J$705)=\"NO\",0,\"\"))","v":0},{"$f":"IF(OR(UPPER(Egresados!$R$8:$R$705)=\"SI\",UPPER(Egresados!$R$8:$R$705)=\"SÍ\"),1,IF(UPPER(Egresados!$R$8:$R$705)=\"NO\",0,\"\"))","v":""},{"$f":"IF(OR(UPPER(Egresados!$S$8:$S$705)=\"SI\",UPPER(Egresados!$S$8:$S$705)=\"SÍ\"),1,IF(UPPER(Egresados!$S$8:$S$705)=\"NO\",0,\"\"))","v":""},{"$f":"IF(ISERROR(VLOOKUP(Egresados!$T$8:$T$705,Maestros!$S$31:$T$530,2,0)),\"\",VLOOKUP(Egresados!$T$8:$T$705,Maestros!$S$31:$T$530,2,0))","v":"62"},{"$f":"IF(ISERROR(VLOOKUP(U60,Maestros!$S$31:$T$530,2,0)),\"\",VLOOKUP(U60,Maestros!$S$31:$T$530,2,0))","v":"62"},{"$f":"IF(ISERROR(VLOOKUP(Egresados!$K$8:$K$705,Maestros!$A$31:$B$130,2,0)),\"\",VLOOKUP(Egresados!$K$8:$K$705,Maestros!$A$31:$B$130,2,0))","v":""},{"$f":"IF(LEN(tablaEgresados[[#This Row],[Nota promedio]])>0,ROUND(tablaEgresados[[#This Row],[Nota promedio]],2),\"\")","v":15.93}]
[53,null,"DNI","73898127","PEREZ","MERCADO","MARJORIE ANGELA DEL ROSARIO","FEMENINO",null,"NO",null,null,null,"2020-1","EL RIMAC","ADMINISTRACION DE NEGOCIOS INTERNACIONALES",15.33,null,null,"2015-1","2015-1","20151391@une.edu.pe","pmarjorie53@gmail.com",3133700,"932318250",{"$f":"IF(ISERROR(VLOOKUP(Egresados!$N$8:$N$705,Maestros!$D$31:$E$530,2,0)),\"\",VLOOKUP(Egresados!$N$8:$N$705,Maestros!$D$31:$E$530,2,0))","v":"223"},{"$f":"IF(ISERROR(VLOOKUP(Egresados!$O61,Maestros!$G$31:$J$1030,2,0)),\"\",VLOOKUP(Egresados!$O61,Maestros!$G$31:$J$1030,2,0))","v":"7"},{"$f":"CONCATENATE(Egresados!$Z$8:$Z$705,\"a\",Egresados!$AA$8:$AA$705)","v":"223a7"},{"$f":"IF(ISERROR(VLOOKUP(Egresados!$P61,Maestros!$L$31:$Q$1030,2,0)),\"\",VLOOKUP(Egresados!$P61,Maestros!$L$31:$Q$1030,2,0))","v":"215"},{"$f":"CONCATENATE(Egresados!$Z$8:$Z$705,\"a\",Egresados!$AA$8:$AA$705,\"a\",Egresados!$AC$8:$AC$705)","v":"223a7a215"},{"$f":"IF(ISERROR(VLOOKUP(Egresados!$C$8:$C$705,Maestros!$A$4:$B$21,2,0)),\"\",VLOOKUP(Egresados!$C$8:$C$705,Maestros!$A$4:$B$21,2,0))","v":"1001"},{"$f":"IF(ISERROR(VLOOKUP(Egresados!$H$8:$H$705,Maestros!$D$4:$E$21,2,0)),\"\",VLOOKUP(Egresados!$H$8:$H$705,Maestros!$D$4:$E$21,2,0))","v":"1122"},{"$f":"IF(OR(UPPER(Egresados!$J$8:$J$705)=\"SI\",UPPER(Egresados!$J$8:$J$705)=\"SÍ\"),1,IF(UPPER(Egresados!$J$8:$J$705)=\"NO\",0,\"\"))","v":0},{"$f":"IF(OR(UPPER(Egresados!$R$8:$R$705)=\"SI\",UPPER(Egresados!$R$8:$R$705)=\"SÍ\"),1,IF(UPPER(Egresados!$R$8:$R$705)=\"NO\",0,\"\"))","v":""},{"$f":"IF(OR(UPPER(Egresados!$S$8:$S$705)=\"SI\",UPPER(Egresados!$S$8:$S$705)=\"SÍ\"),1,IF(UPPER(Egresados!$S$8:$S$705)=\"NO\",0,\"\"))","v":""},{"$f":"IF(ISERROR(VLOOKUP(Egresados!$T$8:$T$705,Maestros!$S$31:$T$530,2,0)),\"\",VLOOKUP(Egresados!$T$8:$T$705,Maestros!$S$31:$T$530,2,0))","v":"62"},{"$f":"IF(ISERROR(VLOOKUP(U61,Maestros!$S$31:$T$530,2,0)),\"\",VLOOKUP(U61,Maestros!$S$31:$T$530,2,0))","v":"62"},{"$f":"IF(ISERROR(VLOOKUP(Egresados!$K$8:$K$705,Maestros!$A$31:$B$130,2,0)),\"\",VLOOKUP(Egresados!$K$8:$K$705,Maestros!$A$31:$B$130,2,0))","v":""},{"$f":"IF(LEN(tablaEgresados[[#This Row],[Nota promedio]])>0,ROUND(tablaEgresados[[#This Row],[Nota promedio]],2),\"\")","v":15.33}]
[54,null,"DNI","71837497","VARGAS","FLORES","JHUDY EVITH","FEMENINO",null,"NO",null,null,null,"2020-1","EL RIMAC","ADMINISTRACION DE NEGOCIOS INTERNACIONALES",14.99,null,null,"2015-1","2015-1","20151225@une.edu.pe","jhudy11-@hotmail.com",3133700,"967968831",{"$f":"IF(ISERROR(VLOOKUP(Egresados!$N$8:$N$705,Maestros!$D$31:$E$530,2,0)),\"\",VLOOKUP(Egresados!$N$8:$N$705,Maestros!$D$31:$E$530,2,0))","v":"223"},{"$f":"IF(ISERROR(VLOOKUP(Egresados!$O62,Maestros!$G$31:$J$1030,2,0)),\"\",VLOOKUP(Egresados!$O62,Maestros!$G$31:$J$1030,2,0))","v":"7"},{"$f":"CONCATENATE(Egresados!$Z$8:$Z$705,\"a\",Egresados!$AA$8:$AA$705)","v":"223a7"},{"$f":"IF(ISERROR(VLOOKUP(Egresados!$P62,Maestros!$L$31:$Q$1030,2,0)),\"\",VLOOKUP(Egresados!$P62,Maestros!$L$31:$Q$1030,2,0))","v":"215"},{"$f":"CONCATENATE(Egresados!$Z$8:$Z$705,\"a\",Egresados!$AA$8:$AA$705,\"a\",Egresados!$AC$8:$AC$705)","v":"223a7a215"},{"$f":"IF(ISERROR(VLOOKUP(Egresados!$C$8:$C$705,Maestros!$A$4:$B$21,2,0)),\"\",VLOOKUP(Egresados!$C$8:$C$705,Maestros!$A$4:$B$21,2,0))","v":"1001"},{"$f":"IF(ISERROR(VLOOKUP(Egresados!$H$8:$H$705,Maestros!$D$4:$E$21,2,0)),\"\",VLOOKUP(Egresados!$H$8:$H$705,Maestros!$D$4:$E$21,2,0))","v":"1122"},{"$f":"IF(OR(UPPER(Egresados!$J$8:$J$705)=\"SI\",UPPER(Egresados!$J$8:$J$705)=\"SÍ\"),1,IF(UPPER(Egresados!$J$8:$J$705)=\"NO\",0,\"\"))","v":0},{"$f":"IF(OR(UPPER(Egresados!$R$8:$R$705)=\"SI\",UPPER(Egresados!$R$8:$R$705)=\"SÍ\"),1,IF(UPPER(Egresados!$R$8:$R$705)=\"NO\",0,\"\"))","v":""},{"$f":"IF(OR(UPPER(Egresados!$S$8:$S$705)=\"SI\",UPPER(Egresados!$S$8:$S$705)=\"SÍ\"),1,IF(UPPER(Egresados!$S$8:$S$705)=\"NO\",0,\"\"))","v":""},{"$f":"IF(ISERROR(VLOOKUP(Egresados!$T$8:$T$705,Maestros!$S$31:$T$530,2,0)),\"\",VLOOKUP(Egresados!$T$8:$T$705,Maestros!$S$31:$T$530,2,0))","v":"62"},{"$f":"IF(ISERROR(VLOOKUP(U62,Maestros!$S$31:$T$530,2,0)),\"\",VLOOKUP(U62,Maestros!$S$31:$T$530,2,0))","v":"62"},{"$f":"IF(ISERROR(VLOOKUP(Egresados!$K$8:$K$705,Maestros!$A$31:$B$130,2,0)),\"\",VLOOKUP(Egresados!$K$8:$K$705,Maestros!$A$31:$B$130,2,0))","v":""},{"$f":"IF(LEN(tablaEgresados[[#This Row],[Nota promedio]])>0,ROUND(tablaEgresados[[#This Row],[Nota promedio]],2),\"\")","v":14.99}]
[55,null,"DNI","75514931","SEGOVIA","SALGADO","DAYANI MACIEL","FEMENINO",null,"NO",null,null,null,"2020-1","EL RIMAC","ADMINISTRACION DE NEGOCIOS INTERNACIONALES",16.22,null,null,"2015-1","2015-1","20151399@une.edu.pe","dayanimss@gmail.com",3133700,"992158635",{"$f":"IF(ISERROR(VLOOKUP(Egresados!$N$8:$N$705,Maestros!$D$31:$E$530,2,0)),\"\",VLOOKUP(Egresados!$N$8:$N$705,Maestros!$D$31:$E$530,2,0))","v":"223"},{"$f":"IF(ISERROR(VLOOKUP(Egresados!$O63,Maestros!$G$31:$J$1030,2,0)),\"\",VLOOKUP(Egresados!$O63,Maestros!$G$31:$J$1030,2,0))","v":"7"},{"$f":"CONCATENATE(Egresados!$Z$8:$Z$705,\"a\",Egresados!$AA$8:$AA$705)","v":"223a7"},{"$f":"IF(ISERROR(VLOOKUP(Egresados!$P63,Maestros!$L$31:$Q$1030,2,0)),\"\",VLOOKUP(Egresados!$P63,Maestros!$L$31:$Q$1030,2,0))","v":"215"},{"$f":"CONCATENATE(Egresados!$Z$8:$Z$705,\"a\",Egresados!$AA$8:$AA$705,\"a\",Egresados!$AC$8:$AC$705)","v":"223a7a215"},{"$f":"IF(ISERROR(VLOOKUP(Egresados!$C$8:$C$705,Maestros!$A$4:$B$21,2,0)),\"\",VLOOKUP(Egresados!$C$8:$C$705,Maestros!$A$4:$B$21,2,0))","v":"1001"},{"$f":"IF(ISERROR(VLOOKUP(Egresados!$H$8:$H$705,Maestros!$D$4:$E$21,2,0)),\"\",VLOOKUP(Egresados!$H$8:$H$705,Maestros!$D$4:$E$21,2,0))","v":"1122"},{"$f":"IF(OR(UPPER(Egresados!$J$8:$J$705)=\"SI\",UPPER(Egresados!$J$8:$J$705)=\"SÍ\"),1,IF(UPPER(Egresados!$J$8:$J$705)=\"NO\",0,\"\"))","v":0},{"$f":"IF(OR(UPPER(Egresados!$R$8:$R$705)=\"SI\",UPPER(Egresados!$R$8:$R$705)=\"SÍ\"),1,IF(UPPER(Egresados!$R$8:$R$705)=\"NO\",0,\"\"))","v":""},{"$f":"IF(OR(UPPER(Egresados!$S$8:$S$705)=\"SI\",UPPER(Egresados!$S$8:$S$705)=\"SÍ\"),1,IF(UPPER(Egresados!$S$8:$S$705)=\"NO\",0,\"\"))","v":""},{"$f":"IF(ISERROR(VLOOKUP(Egresados!$T$8:$T$705,Maestros!$S$31:$T$530,2,0)),\"\",VLOOKUP(Egresados!$T$8:$T$705,Maestros!$S$31:$T$530,2,0))","v":"62"},{"$f":"IF(ISERROR(VLOOKUP(U63,Maestros!$S$31:$T$530,2,0)),\"\",VLOOKUP(U63,Maestros!$S$31:$T$530,2,0))","v":"62"},{"$f":"IF(ISERROR(VLOOKUP(Egresados!$K$8:$K$705,Maestros!$A$31:$B$130,2,0)),\"\",VLOOKUP(Egresados!$K$8:$K$705,Maestros!$A$31:$B$130,2,0))","v":""},{"$f":"IF(LEN(tablaEgresados[[#This Row],[Nota promedio]])>0,ROUND(tablaEgresados[[#This Row],[Nota promedio]],2),\"\")","v":16.22}]
[56,null,"DNI","73199259","GONZALEZ","CHAMBILLA","JESUS JEAN PAUL","MASCULINO",null,"NO",null,null,null,"2020-1","EL RIMAC","ADMINISTRACION DE NEGOCIOS INTERNACIONALES",14.2,null,null,"2014-1","2014-1","20140198@une.edu.pe","yisusgonzalez1@gmail.com",3133700,"995458237",{"$f":"IF(ISERROR(VLOOKUP(Egresados!$N$8:$N$705,Maestros!$D$31:$E$530,2,0)),\"\",VLOOKUP(Egresados!$N$8:$N$705,Maestros!$D$31:$E$530,2,0))","v":"223"},{"$f":"IF(ISERROR(VLOOKUP(Egresados!$O64,Maestros!$G$31:$J$1030,2,0)),\"\",VLOOKUP(Egresados!$O64,Maestros!$G$31:$J$1030,2,0))","v":"7"},{"$f":"CONCATENATE(Egresados!$Z$8:$Z$705,\"a\",Egresados!$AA$8:$AA$705)","v":"223a7"},{"$f":"IF(ISERROR(VLOOKUP(Egresados!$P64,Maestros!$L$31:$Q$1030,2,0)),\"\",VLOOKUP(Egresados!$P64,Maestros!$L$31:$Q$1030,2,0))","v":"215"},{"$f":"CONCATENATE(Egresados!$Z$8:$Z$705,\"a\",Egresados!$AA$8:$AA$705,\"a\",Egresados!$AC$8:$AC$705)","v":"223a7a215"},{"$f":"IF(ISERROR(VLOOKUP(Egresados!$C$8:$C$705,Maestros!$A$4:$B$21,2,0)),\"\",VLOOKUP(Egresados!$C$8:$C$705,Maestros!$A$4:$B$21,2,0))","v":"1001"},{"$f":"IF(ISERROR(VLOOKUP(Egresados!$H$8:$H$705,Maestros!$D$4:$E$21,2,0)),\"\",VLOOKUP(Egresados!$H$8:$H$705,Maestros!$D$4:$E$21,2,0))","v":"1121"},{"$f":"IF(OR(UPPER(Egresados!$J$8:$J$705)=\"SI\",UPPER(Egresados!$J$8:$J$705)=\"SÍ\"),1,IF(UPPER(Egresados!$J$8:$J$705)=\"NO\",0,\"\"))","v":0},{"$f":"IF(OR(UPPER(Egresados!$R$8:$R$705)=\"SI\",UPPER(Egresados!$R$8:$R$705)=\"SÍ\"),1,IF(UPPER(Egresados!$R$8:$R$705)=\"NO\",0,\"\"))","v":""},{"$f":"IF(OR(UPPER(Egresados!$S$8:$S$705)=\"SI\",UPPER(Egresados!$S$8:$S$705)=\"SÍ\"),1,IF(UPPER(Egresados!$S$8:$S$705)=\"NO\",0,\"\"))","v":""},{"$f":"IF(ISERROR(VLOOKUP(Egresados!$T$8:$T$705,Maestros!$S$31:$T$530,2,0)),\"\",VLOOKUP(Egresados!$T$8:$T$705,Maestros!$S$31:$T$530,2,0))","v":"58"},{"$f":"IF(ISERROR(VLOOKUP(U64,Maestros!$S$31:$T$530,2,0)),\"\",VLOOKUP(U64,Maestros!$S$31:$T$530,2,0))","v":"58"},{"$f":"IF(ISERROR(VLOOKUP(Egresados!$K$8:$K$705,Maestros!$A$31:$B$130,2,0)),\"\",VLOOKUP(Egresados!$K$8:$K$705,Maestros!$A$31:$B$130,2,0))","v":""},{"$f":"IF(LEN(tablaEgresados[[#This Row],[Nota promedio]])>0,ROUND(tablaEgresados[[#This Row],[Nota promedio]],2),\"\")","v":14.2}]
[57,null,"DNI","77437303","GUTIERREZ","HUAMAN","YULISA","FEMENINO",null,"NO",null,null,null,"2020-1","EL RIMAC","ADMINISTRACION DE NEGOCIOS INTERNACIONALES",14,null,null,"2014-1","2014-1","20140199@une.edu.pe","yulisa_cancer18@outlook.es",3133700,"996527197",{"$f":"IF(ISERROR(VLOOKUP(Egresados!$N$8:$N$705,Maestros!$D$31:$E$530,2,0)),\"\",VLOOKUP(Egresados!$N$8:$N$705,Maestros!$D$31:$E$530,2,0))","v":"223"},{"$f":"IF(ISERROR(VLOOKUP(Egresados!$O65,Maestros!$G$31:$J$1030,2,0)),\"\",VLOOKUP(Egresados!$O65,Maestros!$G$31:$J$1030,2,0))","v":"7"},{"$f":"CONCATENATE(Egresados!$Z$8:$Z$705,\"a\",Egresados!$AA$8:$AA$705)","v":"223a7"},{"$f":"IF(ISERROR(VLOOKUP(Egresados!$P65,Maestros!$L$31:$Q$1030,2,0)),\"\",VLOOKUP(Egresados!$P65,Maestros!$L$31:$Q$1030,2,0))","v":"215"},{"$f":"CONCATENATE(Egresados!$Z$8:$Z$705,\"a\",Egresados!$AA$8:$AA$705,\"a\",Egresados!$AC$8:$AC$705)","v":"223a7a215"},{"$f":"IF(ISERROR(VLOOKUP(Egresados!$C$8:$C$705,Maestros!$A$4:$B$21,2,0)),\"\",VLOOKUP(Egresados!$C$8:$C$705,Maestros!$A$4:$B$21,2,0))","v":"1001"},{"$f":"IF(ISERROR(VLOOKUP(Egresados!$H$8:$H$705,Maestros!$D$4:$E$21,2,0)),\"\",VLOOKUP(Egresados!$H$8:$H$705,Maestros!$D$4:$E$21,2,0))","v":"1122"},{"$f":"IF(OR(UPPER(Egresados!$J$8:$J$705)=\"SI\",UPPER(Egresados!$J$8:$J$705)=\"SÍ\"),1,IF(UPPER(Egresados!$J$8:$J$705)=\"NO\",0,\"\"))","v":0},{"$f":"IF(OR(UPPER(Egresados!$R$8:$R$705)=\"SI\",UPPER(Egresados!$R$8:$R$705)=\"SÍ\"),1,IF(UPPER(Egresados!$R$8:$R$705)=\"NO\",0,\"\"))","v":""},{"$f":"IF(OR(UPPER(Egresados!$S$8:$S$705)=\"SI\",UPPER(Egresados!$S$8:$S$705)=\"SÍ\"),1,IF(UPPER(Egresados!$S$8:$S$705)=\"NO\",0,\"\"))","v":""},{"$f":"IF(ISERROR(VLOOKUP(Egresados!$T$8:$T$705,Maestros!$S$31:$T$530,2,0)),\"\",VLOOKUP(Egresados!$T$8:$T$705,Maestros!$S$31:$T$530,2,0))","v":"58"},{"$f":"IF(ISERROR(VLOOKUP(U65,Maestros!$S$31:$T$530,2,0)),\"\",VLOOKUP(U65,Maestros!$S$31:$T$530,2,0))","v":"58"},{"$f":"IF(ISERROR(VLOOKUP(Egresados!$K$8:$K$705,Maestros!$A$31:$B$130,2,0)),\"\",VLOOKUP(Egresados!$K$8:$K$705,Maestros!$A$31:$B$130,2,0))","v":""},{"$f":"IF(LEN(tablaEgresados[[#This Row],[Nota promedio]])>0,ROUND(tablaEgresados[[#This Row],[Nota promedio]],2),\"\")","v":14}]
[58,null,"DNI","48495920","PARIONA","LAZO","JHON FREDDY","MASCULINO",null,"NO",null,null,null,"2020-1","EL RIMAC","ADMINISTRACION DE NEGOCIOS INTERNACIONALES",14.88,null,null,"2015-1","2015-1","20151389@une.edu.pe","ryan_lazobase2015@hotmail.com",3133700,"964837290",{"$f":"IF(ISERROR(VLOOKUP(Egresados!$N$8:$N$705,Maestros!$D$31:$E$530,2,0)),\"\",VLOOKUP(Egresados!$N$8:$N$705,Maestros!$D$31:$E$530,2,0))","v":"223"},{"$f":"IF(ISERROR(VLOOKUP(Egresados!$O66,Maestros!$G$31:$J$1030,2,0)),\"\",VLOOKUP(Egresados!$O66,Maestros!$G$31:$J$1030,2,0))","v":"7"},{"$f":"CONCATENATE(Egresados!$Z$8:$Z$705,\"a\",Egresados!$AA$8:$AA$705)","v":"223a7"},{"$f":"IF(ISERROR(VLOOKUP(Egresados!$P66,Maestros!$L$31:$Q$1030,2,0)),\"\",VLOOKUP(Egresados!$P66,Maestros!$L$31:$Q$1030,2,0))","v":"215"},{"$f":"CONCATENATE(Egresados!$Z$8:$Z$705,\"a\",Egresados!$AA$8:$AA$705,\"a\",Egresados!$AC$8:$AC$705)","v":"223a7a215"},{"$f":"IF(ISERROR(VLOOKUP(Egresados!$C$8:$C$705,Maestros!$A$4:$B$21,2,0)),\"\",VLOOKUP(Egresados!$C$8:$C$705,Maestros!$A$4:$B$21,2,0))","v":"1001"},{"$f":"IF(ISERROR(VLOOKUP(Egresados!$H$8:$H$705,Maestros!$D$4:$E$21,2,0)),\"\",VLOOKUP(Egresados!$H$8:$H$705,Maestros!$D$4:$E$21,2,0))","v":"1121"},{"$f":"IF(OR(UPPER(Egresados!$J$8:$J$705)=\"SI\",UPPER(Egresados!$J$8:$J$705)=\"SÍ\"),1,IF(UPPER(Egresados!$J$8:$J$705)=\"NO\",0,\"\"))","v":0},{"$f":"IF(OR(UPPER(Egresados!$R$8:$R$705)=\"SI\",UPPER(Egresados!$R$8:$R$705)=\"SÍ\"),1,IF(UPPER(Egresados!$R$8:$R$705)=\"NO\",0,\"\"))","v":""},{"$f":"IF(OR(UPPER(Egresados!$S$8:$S$705)=\"SI\",UPPER(Egresados!$S$8:$S$705)=\"SÍ\"),1,IF(UPPER(Egresados!$S$8:$S$705)=\"NO\",0,\"\"))","v":""},{"$f":"IF(ISERROR(VLOOKUP(Egresados!$T$8:$T$705,Maestros!$S$31:$T$530,2,0)),\"\",VLOOKUP(Egresados!$T$8:$T$705,Maestros!$S$31:$T$530,2,0))","v":"62"},{"$f":"IF(ISERROR(VLOOKUP(U66,Maestros!$S$31:$T$530,2,0)),\"\",VLOOKUP(U66,Maestros!$S$31:$T$530,2,0))","v":"62"},{"$f":"IF(ISERROR(VLOOKUP(Egresados!$K$8:$K$705,Maestros!$A$31:$B$130,2,0)),\"\",VLOOKUP(Egresados!$K$8:$K$705,Maestros!$A$31:$B$130,2,0))","v":""},{"$f":"IF(LEN(tablaEgresados[[#This Row],[Nota promedio]])>0,ROUND(tablaEgresados[[#This Row],[Nota promedio]],2),\"\")","v":14.88}]
[59,null,"DNI","77701332","PEREZ","HERRERA","GLADIS","MASCULINO",null,"NO",null,null,null,"2020-1","EL RIMAC","ADMINISTRACION DE NEGOCIOS INTERNACIONALES",15.4,null,null,"2015-1","2015-1","20151390@une.edu.pe","gladisperezh@gmail.com",3133700,"951756044",{"$f":"IF(ISERROR(VLOOKUP(Egresados!$N$8:$N$705,Maestros!$D$31:$E$530,2,0)),\"\",VLOOKUP(Egresados!$N$8:$N$705,Maestros!$D$31:$E$530,2,0))","v":"223"},{"$f":"IF(ISERROR(VLOOKUP(Egresados!$O67,Maestros!$G$31:$J$1030,2,0)),\"\",VLOOKUP(Egresados!$O67,Maestros!$G$31:$J$1030,2,0))","v":"7"},{"$f":"CONCATENATE(Egresados!$Z$8:$Z$705,\"a\",Egresados!$AA$8:$AA$705)","v":"223a7"},{"$f":"IF(ISERROR(VLOOKUP(Egresados!$P67,Maestros!$L$31:$Q$1030,2,0)),\"\",VLOOKUP(Egresados!$P67,Maestros!$L$31:$Q$1030,2,0))","v":"215"},{"$f":"CONCATENATE(Egresados!$Z$8:$Z$705,\"a\",Egresados!$AA$8:$AA$705,\"a\",Egresados!$AC$8:$AC$705)","v":"223a7a215"},{"$f":"IF(ISERROR(VLOOKUP(Egresados!$C$8:$C$705,Maestros!$A$4:$B$21,2,0)),\"\",VLOOKUP(Egresados!$C$8:$C$705,Maestros!$A$4:$B$21,2,0))","v":"1001"},{"$f":"IF(ISERROR(VLOOKUP(Egresados!$H$8:$H$705,Maestros!$D$4:$E$21,2,0)),\"\",VLOOKUP(Egresados!$H$8:$H$705,Maestros!$D$4:$E$21,2,0))","v":"1121"},{"$f":"IF(OR(UPPER(Egresados!$J$8:$J$705)=\"SI\",UPPER(Egresados!$J$8:$J$705)=\"SÍ\"),1,IF(UPPER(Egresados!$J$8:$J$705)=\"NO\",0,\"\"))","v":0},{"$f":"IF(OR(UPPER(Egresados!$R$8:$R$705)=\"SI\",UPPER(Egresados!$R$8:$R$705)=\"SÍ\"),1,IF(UPPER(Egresados!$R$8:$R$705)=\"NO\",0,\"\"))","v":""},{"$f":"IF(OR(UPPER(Egresados!$S$8:$S$705)=\"SI\",UPPER(Egresados!$S$8:$S$705)=\"SÍ\"),1,IF(UPPER(Egresados!$S$8:$S$705)=\"NO\",0,\"\"))","v":""},{"$f":"IF(ISERROR(VLOOKUP(Egresados!$T$8:$T$705,Maestros!$S$31:$T$530,2,0)),\"\",VLOOKUP(Egresados!$T$8:$T$705,Maestros!$S$31:$T$530,2,0))","v":"62"},{"$f":"IF(ISERROR(VLOOKUP(U67,Maestros!$S$31:$T$530,2,0)),\"\",VLOOKUP(U67,Maestros!$S$31:$T$530,2,0))","v":"62"},{"$f":"IF(ISERROR(VLOOKUP(Egresados!$K$8:$K$705,Maestros!$A$31:$B$130,2,0)),\"\",VLOOKUP(Egresados!$K$8:$K$705,Maestros!$A$31:$B$130,2,0))","v":""},{"$f":"IF(LEN(tablaEgresados[[#This Row],[Nota promedio]])>0,ROUND(tablaEgresados[[#This Row],[Nota promedio]],2),\"\")","v":15.4}]
[60,null,"DNI","75832205","CARDENAL","VENTURA","ANA","FEMENINO",null,"NO",null,null,null,"2020-1","EL RIMAC","ADMINISTRACION DE NEGOCIOS INTERNACIONALES",15.81,null,null,"2015-1","2015-1","20151359@une.edu.pe","ana_ventura_2010@hotmail.com",3133700,"941502158",{"$f":"IF(ISERROR(VLOOKUP(Egresados!$N$8:$N$705,Maestros!$D$31:$E$530,2,0)),\"\",VLOOKUP(Egresados!$N$8:$N$705,Maestros!$D$31:$E$530,2,0))","v":"223"},{"$f":"IF(ISERROR(VLOOKUP(Egresados!$O68,Maestros!$G$31:$J$1030,2,0)),\"\",VLOOKUP(Egresados!$O68,Maestros!$G$31:$J$1030,2,0))","v":"7"},{"$f":"CONCATENATE(Egresados!$Z$8:$Z$705,\"a\",Egresados!$AA$8:$AA$705)","v":"223a7"},{"$f":"IF(ISERROR(VLOOKUP(Egresados!$P68,Maestros!$L$31:$Q$1030,2,0)),\"\",VLOOKUP(Egresados!$P68,Maestros!$L$31:$Q$1030,2,0))","v":"215"},{"$f":"CONCATENATE(Egresados!$Z$8:$Z$705,\"a\",Egresados!$AA$8:$AA$705,\"a\",Egresados!$AC$8:$AC$705)","v":"223a7a215"},{"$f":"IF(ISERROR(VLOOKUP(Egresados!$C$8:$C$705,Maestros!$A$4:$B$21,2,0)),\"\",VLOOKUP(Egresados!$C$8:$C$705,Maestros!$A$4:$B$21,2,0))","v":"1001"},{"$f":"IF(ISERROR(VLOOKUP(Egresados!$H$8:$H$705,Maestros!$D$4:$E$21,2,0)),\"\",VLOOKUP(Egresados!$H$8:$H$705,Maestros!$D$4:$E$21,2,0))","v":"1122"},{"$f":"IF(OR(UPPER(Egresados!$J$8:$J$705)=\"SI\",UPPER(Egresados!$J$8:$J$705)=\"SÍ\"),1,IF(UPPER(Egresados!$J$8:$J$705)=\"NO\",0,\"\"))","v":0},{"$f":"IF(OR(UPPER(Egresados!$R$8:$R$705)=\"SI\",UPPER(Egresados!$R$8:$R$705)=\"SÍ\"),1,IF(UPPER(Egresados!$R$8:$R$705)=\"NO\",0,\"\"))","v":""},{"$f":"IF(OR(UPPER(Egresados!$S$8:$S$705)=\"SI\",UPPER(Egresados!$S$8:$S$705)=\"SÍ\"),1,IF(UPPER(Egresados!$S$8:$S$705)=\"NO\",0,\"\"))","v":""},{"$f":"IF(ISERROR(VLOOKUP(Egresados!$T$8:$T$705,Maestros!$S$31:$T$530,2,0)),\"\",VLOOKUP(Egresados!$T$8:$T$705,Maestros!$S$31:$T$530,2,0))","v":"62"},{"$f":"IF(ISERROR(VLOOKUP(U68,Maestros!$S$31:$T$530,2,0)),\"\",VLOOKUP(U68,Maestros!$S$31:$T$530,2,0))","v":"62"},{"$f":"IF(ISERROR(VLOOKUP(Egresados!$K$8:$K$705,Maestros!$A$31:$B$130,2,0)),\"\",VLOOKUP(Egresados!$K$8:$K$705,Maestros!$A$31:$B$130,2,0))","v":""},{"$f":"IF(LEN(tablaEgresados[[#This Row],[Nota promedio]])>0,ROUND(tablaEgresados[[#This Row],[Nota promedio]],2),\"\")","v":15.81}]
[61,null,"DNI","72451944","RAMOS","ORTIZ","LIZBETH PAMELA","FEMENINO",null,"NO",null,null,null,"2020-1","EL RIMAC","ADMINISTRACION DE NEGOCIOS INTERNACIONALES",15.07,null,null,"2015-1","2015-1","20151395@une.edu.pe","lpro_3@hotmail.com",3133700,"950616478",{"$f":"IF(ISERROR(VLOOKUP(Egresados!$N$8:$N$705,Maestros!$D$31:$E$530,2,0)),\"\",VLOOKUP(Egresados!$N$8:$N$705,Maestros!$D$31:$E$530,2,0))","v":"223"},{"$f":"IF(ISERROR(VLOOKUP(Egresados!$O69,Maestros!$G$31:$J$1030,2,0)),\"\",VLOOKUP(Egresados!$O69,Maestros!$G$31:$J$1030,2,0))","v":"7"},{"$f":"CONCATENATE(Egresados!$Z$8:$Z$705,\"a\",Egresados!$AA$8:$AA$705)","v":"223a7"},{"$f":"IF(ISERROR(VLOOKUP(Egresados!$P69,Maestros!$L$31:$Q$1030,2,0)),\"\",VLOOKUP(Egresados!$P69,Maestros!$L$31:$Q$1030,2,0))","v":"215"},{"$f":"CONCATENATE(Egresados!$Z$8:$Z$705,\"a\",Egresados!$AA$8:$AA$705,\"a\",Egresados!$AC$8:$AC$705)","v":"223a7a215"},{"$f":"IF(ISERROR(VLOOKUP(Egresados!$C$8:$C$705,Maestros!$A$4:$B$21,2,0)),\"\",VLOOKUP(Egresados!$C$8:$C$705,Maestros!$A$4:$B$21,2,0))","v":"1001"},{"$f":"IF(ISERROR(VLOOKUP(Egresados!$H$8:$H$705,Maestros!$D$4:$E$21,2,0)),\"\",VLOOKUP(Egresados!$H$8:$H$705,Maestros!$D$4:$E$21,2,0))","v":"1122"},{"$f":"IF(OR(UPPER(Egresados!$J$8:$J$705)=\"SI\",UPPER(Egresados!$J$8:$J$705)=\"SÍ\"),1,IF(UPPER(Egresados!$J$8:$J$705)=\"NO\",0,\"\"))","v":0},{"$f":"IF(OR(UPPER(Egresados!$R$8:$R$705)=\"SI\",UPPER(Egresados!$R$8:$R$705)=\"SÍ\"),1,IF(UPPER(Egresados!$R$8:$R$705)=\"NO\",0,\"\"))","v":""},{"$f":"IF(OR(UPPER(Egresados!$S$8:$S$705)=\"SI\",UPPER(Egresados!$S$8:$S$705)=\"SÍ\"),1,IF(UPPER(Egresados!$S$8:$S$705)=\"NO\",0,\"\"))","v":""},{"$f":"IF(ISERROR(VLOOKUP(Egresados!$T$8:$T$705,Maestros!$S$31:$T$530,2,0)),\"\",VLOOKUP(Egresados!$T$8:$T$705,Maestros!$S$31:$T$530,2,0))","v":"62"},{"$f":"IF(ISERROR(VLOOKUP(U69,Maestros!$S$31:$T$530,2,0)),\"\",VLOOKUP(U69,Maestros!$S$31:$T$530,2,0))","v":"62"},{"$f":"IF(ISERROR(VLOOKUP(Egresados!$K$8:$K$705,Maestros!$A$31:$B$130,2,0)),\"\",VLOOKUP(Egresados!$K$8:$K$705,Maestros!$A$31:$B$130,2,0))","v":""},{"$f":"IF(LEN(tablaEgresados[[#This Row],[Nota promedio]])>0,ROUND(tablaEgresados[[#This Row],[Nota promedio]],2),\"\")","v":15.07}]
[62,null,"DNI","48388058","FERNANDEZ","GONZALES","MARIA BENIGNA","FEMENINO",null,"NO",null,null,null,"2020-1","EL RIMAC","ADMINISTRACION DE NEGOCIOS INTERNACIONALES",14.89,null,null,"2015-1","2015-1","20151368@une.edu.pe","mari_fer.93@hotmail.com",3133700,"949514151",{"$f":"IF(ISERROR(VLOOKUP(Egresados!$N$8:$N$705,Maestros!$D$31:$E$530,2,0)),\"\",VLOOKUP(Egresados!$N$8:$N$705,Maestros!$D$31:$E$530,2,0))","v":"223"},{"$f":"IF(ISERROR(VLOOKUP(Egresados!$O70,Maestros!$G$31:$J$1030,2,0)),\"\",VLOOKUP(Egresados!$O70,Maestros!$G$31:$J$1030,2,0))","v":"7"},{"$f":"CONCATENATE(Egresados!$Z$8:$Z$705,\"a\",Egresados!$AA$8:$AA$705)","v":"223a7"},{"$f":"IF(ISERROR(VLOOKUP(Egresados!$P70,Maestros!$L$31:$Q$1030,2,0)),\"\",VLOOKUP(Egresados!$P70,Maestros!$L$31:$Q$1030,2,0))","v":"215"},{"$f":"CONCATENATE(Egresados!$Z$8:$Z$705,\"a\",Egresados!$AA$8:$AA$705,\"a\",Egresados!$AC$8:$AC$705)","v":"223a7a215"},{"$f":"IF(ISERROR(VLOOKUP(Egresados!$C$8:$C$705,Maestros!$A$4:$B$21,2,0)),\"\",VLOOKUP(Egresados!$C$8:$C$705,Maestros!$A$4:$B$21,2,0))","v":"1001"},{"$f":"IF(ISERROR(VLOOKUP(Egresados!$H$8:$H$705,Maestros!$D$4:$E$21,2,0)),\"\",VLOOKUP(Egresados!$H$8:$H$705,Maestros!$D$4:$E$21,2,0))","v":"1122"},{"$f":"IF(OR(UPPER(Egresados!$J$8:$J$705)=\"SI\",UPPER(Egresados!$J$8:$J$705)=\"SÍ\"),1,IF(UPPER(Egresados!$J$8:$J$705)=\"NO\",0,\"\"))","v":0},{"$f":"IF(OR(UPPER(Egresados!$R$8:$R$705)=\"SI\",UPPER(Egresados!$R$8:$R$705)=\"SÍ\"),1,IF(UPPER(Egresados!$R$8:$R$705)=\"NO\",0,\"\"))","v":""},{"$f":"IF(OR(UPPER(Egresados!$S$8:$S$705)=\"SI\",UPPER(Egresados!$S$8:$S$705)=\"SÍ\"),1,IF(UPPER(Egresados!$S$8:$S$705)=\"NO\",0,\"\"))","v":""},{"$f":"IF(ISERROR(VLOOKUP(Egresados!$T$8:$T$705,Maestros!$S$31:$T$530,2,0)),\"\",VLOOKUP(Egresados!$T$8:$T$705,Maestros!$S$31:$T$530,2,0))","v":"62"},{"$f":"IF(ISERROR(VLOOKUP(U70,Maestros!$S$31:$T$530,2,0)),\"\",VLOOKUP(U70,Maestros!$S$31:$T$530,2,0))","v":"62"},{"$f":"IF(ISERROR(VLOOKUP(Egresados!$K$8:$K$705,Maestros!$A$31:$B$130,2,0)),\"\",VLOOKUP(Egresados!$K$8:$K$705,Maestros!$A$31:$B$130,2,0))","v":""},{"$f":"IF(LEN(tablaEgresados[[#This Row],[Nota promedio]])>0,ROUND(tablaEgresados[[#This Row],[Nota promedio]],2),\"\")","v":14.89}]
[63,null,"DNI","74699856","MATOS","HUAMANYAURI","RENZO MARCELO","MASCULINO",null,"NO",null,null,null,"2020-1","SEDE CENTRAL","AGROPECUARIA",15.91,null,null,"2015-1","2015-1","20151031@une.edu.pe","renso_31_d@hotmail.com",3133700,"949722974",{"$f":"IF(ISERROR(VLOOKUP(Egresados!$N$8:$N$705,Maestros!$D$31:$E$530,2,0)),\"\",VLOOKUP(Egresados!$N$8:$N$705,Maestros!$D$31:$E$530,2,0))","v":"223"},{"$f":"IF(ISERROR(VLOOKUP(Egresados!$O71,Maestros!$G$31:$J$1030,2,0)),\"\",VLOOKUP(Egresados!$O71,Maestros!$G$31:$J$1030,2,0))","v":"8"},{"$f":"CONCATENATE(Egresados!$Z$8:$Z$705,\"a\",Egresados!$AA$8:$AA$705)","v":"223a8"},{"$f":"IF(ISERROR(VLOOKUP(Egresados!$P71,Maestros!$L$31:$Q$1030,2,0)),\"\",VLOOKUP(Egresados!$P71,Maestros!$L$31:$Q$1030,2,0))","v":"217"},{"$f":"CONCATENATE(Egresados!$Z$8:$Z$705,\"a\",Egresados!$AA$8:$AA$705,\"a\",Egresados!$AC$8:$AC$705)","v":"223a8a217"},{"$f":"IF(ISERROR(VLOOKUP(Egresados!$C$8:$C$705,Maestros!$A$4:$B$21,2,0)),\"\",VLOOKUP(Egresados!$C$8:$C$705,Maestros!$A$4:$B$21,2,0))","v":"1001"},{"$f":"IF(ISERROR(VLOOKUP(Egresados!$H$8:$H$705,Maestros!$D$4:$E$21,2,0)),\"\",VLOOKUP(Egresados!$H$8:$H$705,Maestros!$D$4:$E$21,2,0))","v":"1121"},{"$f":"IF(OR(UPPER(Egresados!$J$8:$J$705)=\"SI\",UPPER(Egresados!$J$8:$J$705)=\"SÍ\"),1,IF(UPPER(Egresados!$J$8:$J$705)=\"NO\",0,\"\"))","v":0},{"$f":"IF(OR(UPPER(Egresados!$R$8:$R$705)=\"SI\",UPPER(Egresados!$R$8:$R$705)=\"SÍ\"),1,IF(UPPER(Egresados!$R$8:$R$705)=\"NO\",0,\"\"))","v":""},{"$f":"IF(OR(UPPER(Egresados!$S$8:$S$705)=\"SI\",UPPER(Egresados!$S$8:$S$705)=\"SÍ\"),1,IF(UPPER(Egresados!$S$8:$S$705)=\"NO\",0,\"\"))","v":""},{"$f":"IF(ISERROR(VLOOKUP(Egresados!$T$8:$T$705,Maestros!$S$31:$T$530,2,0)),\"\",VLOOKUP(Egresados!$T$8:$T$705,Maestros!$S$31:$T$530,2,0))","v":"62"},{"$f":"IF(ISERROR(VLOOKUP(U71,Maestros!$S$31:$T$530,2,0)),\"\",VLOOKUP(U71,Maestros!$S$31:$T$530,2,0))","v":"62"},{"$f":"IF(ISERROR(VLOOKUP(Egresados!$K$8:$K$705,Maestros!$A$31:$B$130,2,0)),\"\",VLOOKUP(Egresados!$K$8:$K$705,Maestros!$A$31:$B$130,2,0))","v":""},{"$f":"IF(LEN(tablaEgresados[[#This Row],[Nota promedio]])>0,ROUND(tablaEgresados[[#This Row],[Nota promedio]],2),\"\")","v":15.91}]
[{"$f":"ROW()-8","v":64},null,"DNI","76265298","CORONADO","OBANDO","JOSUE","MASCULINO",null,"NO",null,null,null,"2020-1","SEDE CENTRAL","AGROPECUARIA",15.63,null,null,"2014-1","2014-1","20140918@une.edu.pe","fonsi_joss2020@hotmail.com",3133700,"931525851",{"$f":"IF(ISERROR(VLOOKUP(Egresados!$N$8:$N$705,Maestros!$D$31:$E$530,2,0)),\"\",VLOOKUP(Egresados!$N$8:$N$705,Maestros!$D$31:$E$530,2,0))","v":"223"},{"$f":"IF(ISERROR(VLOOKUP(Egresados!$O72,Maestros!$G$31:$J$1030,2,0)),\"\",VLOOKUP(Egresados!$O72,Maestros!$G$31:$J$1030,2,0))","v":"8"},{"$f":"CONCATENATE(Egresados!$Z$8:$Z$705,\"a\",Egresados!$AA$8:$AA$705)","v":"223a8"},{"$f":"IF(ISERROR(VLOOKUP(Egresados!$P72,Maestros!$L$31:$Q$1030,2,0)),\"\",VLOOKUP(Egresados!$P72,Maestros!$L$31:$Q$1030,2,0))","v":"217"},{"$f":"CONCATENATE(Egresados!$Z$8:$Z$705,\"a\",Egresados!$AA$8:$AA$705,\"a\",Egresados!$AC$8:$AC$705)","v":"223a8a217"},{"$f":"IF(ISERROR(VLOOKUP(Egresados!$C$8:$C$705,Maestros!$A$4:$B$21,2,0)),\"\",VLOOKUP(Egresados!$C$8:$C$705,Maestros!$A$4:$B$21,2,0))","v":"1001"},{"$f":"IF(ISERROR(VLOOKUP(Egresados!$H$8:$H$705,Maestros!$D$4:$E$21,2,0)),\"\",VLOOKUP(Egresados!$H$8:$H$705,Maestros!$D$4:$E$21,2,0))","v":"1121"},{"$f":"IF(OR(UPPER(Egresados!$J$8:$J$705)=\"SI\",UPPER(Egresados!$J$8:$J$705)=\"SÍ\"),1,IF(UPPER(Egresados!$J$8:$J$705)=\"NO\",0,\"\"))","v":0},{"$f":"IF(OR(UPPER(Egresados!$R$8:$R$705)=\"SI\",UPPER(Egresados!$R$8:$R$705)=\"SÍ\"),1,IF(UPPER(Egresados!$R$8:$R$705)=\"NO\",0,\"\"))","v":""},{"$f":"IF(OR(UPPER(Egresados!$S$8:$S$705)=\"SI\",UPPER(Egresados!$S$8:$S$705)=\"SÍ\"),1,IF(UPPER(Egresados!$S$8:$S$705)=\"NO\",0,\"\"))","v":""},{"$f":"IF(ISERROR(VLOOKUP(Egresados!$T$8:$T$705,Maestros!$S$31:$T$530,2,0)),\"\",VLOOKUP(Egresados!$T$8:$T$705,Maestros!$S$31:$T$530,2,0))","v":"58"},{"$f":"IF(ISERROR(VLOOKUP(U72,Maestros!$S$31:$T$530,2,0)),\"\",VLOOKUP(U72,Maestros!$S$31:$T$530,2,0))","v":"58"},{"$f":"IF(ISERROR(VLOOKUP(Egresados!$K$8:$K$705,Maestros!$A$31:$B$130,2,0)),\"\",VLOOKUP(Egresados!$K$8:$K$705,Maestros!$A$31:$B$130,2,0))","v":""},{"$f":"IF(LEN(tablaEgresados[[#This Row],[Nota promedio]])>0,ROUND(tablaEgresados[[#This Row],[Nota promedio]],2),\"\")","v":15.63}]
[65,null,"DNI","72391855","MARIN","RODRIGUEZ","JOSE MARCO","MASCULINO",null,"NO",null,null,null,"2020-1","SEDE CENTRAL","AGROPECUARIA",15.41,null,null,"2015-1","2015-1","20151030@une.edu.pe","joze.marin@hotmail.com",3133700,"977362103",{"$f":"IF(ISERROR(VLOOKUP(Egresados!$N$8:$N$705,Maestros!$D$31:$E$530,2,0)),\"\",VLOOKUP(Egresados!$N$8:$N$705,Maestros!$D$31:$E$530,2,0))","v":"223"},{"$f":"IF(ISERROR(VLOOKUP(Egresados!$O73,Maestros!$G$31:$J$1030,2,0)),\"\",VLOOKUP(Egresados!$O73,Maestros!$G$31:$J$1030,2,0))","v":"8"},{"$f":"CONCATENATE(Egresados!$Z$8:$Z$705,\"a\",Egresados!$AA$8:$AA$705)","v":"223a8"},{"$f":"IF(ISERROR(VLOOKUP(Egresados!$P73,Maestros!$L$31:$Q$1030,2,0)),\"\",VLOOKUP(Egresados!$P73,Maestros!$L$31:$Q$1030,2,0))","v":"217"},{"$f":"CONCATENATE(Egresados!$Z$8:$Z$705,\"a\",Egresados!$AA$8:$AA$705,\"a\",Egresados!$AC$8:$AC$705)","v":"223a8a217"},{"$f":"IF(ISERROR(VLOOKUP(Egresados!$C$8:$C$705,Maestros!$A$4:$B$21,2,0)),\"\",VLOOKUP(Egresados!$C$8:$C$705,Maestros!$A$4:$B$21,2,0))","v":"1001"},{"$f":"IF(ISERROR(VLOOKUP(Egresados!$H$8:$H$705,Maestros!$D$4:$E$21,2,0)),\"\",VLOOKUP(Egresados!$H$8:$H$705,Maestros!$D$4:$E$21,2,0))","v":"1121"},{"$f":"IF(OR(UPPER(Egresados!$J$8:$J$705)=\"SI\",UPPER(Egresados!$J$8:$J$705)=\"SÍ\"),1,IF(UPPER(Egresados!$J$8:$J$705)=\"NO\",0,\"\"))","v":0},{"$f":"IF(OR(UPPER(Egresados!$R$8:$R$705)=\"SI\",UPPER(Egresados!$R$8:$R$705)=\"SÍ\"),1,IF(UPPER(Egresados!$R$8:$R$705)=\"NO\",0,\"\"))","v":""},{"$f":"IF(OR(UPPER(Egresados!$S$8:$S$705)=\"SI\",UPPER(Egresados!$S$8:$S$705)=\"SÍ\"),1,IF(UPPER(Egresados!$S$8:$S$705)=\"NO\",0,\"\"))","v":""},{"$f":"IF(ISERROR(VLOOKUP(Egresados!$T$8:$T$705,Maestros!$S$31:$T$530,2,0)),\"\",VLOOKUP(Egresados!$T$8:$T$705,Maestros!$S$31:$T$530,2,0))","v":"62"},{"$f":"IF(ISERROR(VLOOKUP(U73,Maestros!$S$31:$T$530,2,0)),\"\",VLOOKUP(U73,Maestros!$S$31:$T$530,2,0))","v":"62"},{"$f":"IF(ISERROR(VLOOKUP(Egresados!$K$8:$K$705,Maestros!$A$31:$B$130,2,0)),\"\",VLOOKUP(Egresados!$K$8:$K$705,Maestros!$A$31:$B$130,2,0))","v":""},{"$f":"IF(LEN(tablaEgresados[[#This Row],[Nota promedio]])>0,ROUND(tablaEgresados[[#This Row],[Nota promedio]],2),\"\")","v":15.41}]
[66,null,"DNI","48098517","ROMERO","HUAMAN","NOEMI ELIZABETH","FEMENINO",null,"NO",null,null,null,"2020-1","SEDE CENTRAL","AGROPECUARIA",16.57,null,null,"2015-1","2015-1","20151039@une.edu.pe","romero_une1216@hotmail.com",3133700,"959195670",{"$f":"IF(ISERROR(VLOOKUP(Egresados!$N$8:$N$705,Maestros!$D$31:$E$530,2,0)),\"\",VLOOKUP(Egresados!$N$8:$N$705,Maestros!$D$31:$E$530,2,0))","v":"223"},{"$f":"IF(ISERROR(VLOOKUP(Egresados!$O74,Maestros!$G$31:$J$1030,2,0)),\"\",VLOOKUP(Egresados!$O74,Maestros!$G$31:$J$1030,2,0))","v":"8"},{"$f":"CONCATENATE(Egresados!$Z$8:$Z$705,\"a\",Egresados!$AA$8:$AA$705)","v":"223a8"},{"$f":"IF(ISERROR(VLOOKUP(Egresados!$P74,Maestros!$L$31:$Q$1030,2,0)),\"\",VLOOKUP(Egresados!$P74,Maestros!$L$31:$Q$1030,2,0))","v":"217"},{"$f":"CONCATENATE(Egresados!$Z$8:$Z$705,\"a\",Egresados!$AA$8:$AA$705,\"a\",Egresados!$AC$8:$AC$705)","v":"223a8a217"},{"$f":"IF(ISERROR(VLOOKUP(Egresados!$C$8:$C$705,Maestros!$A$4:$B$21,2,0)),\"\",VLOOKUP(Egresados!$C$8:$C$705,Maestros!$A$4:$B$21,2,0))","v":"1001"},{"$f":"IF(ISERROR(VLOOKUP(Egresados!$H$8:$H$705,Maestros!$D$4:$E$21,2,0)),\"\",VLOOKUP(Egresados!$H$8:$H$705,Maestros!$D$4:$E$21,2,0))","v":"1122"},{"$f":"IF(OR(UPPER(Egresados!$J$8:$J$705)=\"SI\",UPPER(Egresados!$J$8:$J$705)=\"SÍ\"),1,IF(UPPER(Egresados!$J$8:$J$705)=\"NO\",0,\"\"))","v":0},{"$f":"IF(OR(UPPER(Egresados!$R$8:$R$705)=\"SI\",UPPER(Egresados!$R$8:$R$705)=\"SÍ\"),1,IF(UPPER(Egresados!$R$8:$R$705)=\"NO\",0,\"\"))","v":""},{"$f":"IF(OR(UPPER(Egresados!$S$8:$S$705)=\"SI\",UPPER(Egresados!$S$8:$S$705)=\"SÍ\"),1,IF(UPPER(Egresados!$S$8:$S$705)=\"NO\",0,\"\"))","v":""},{"$f":"IF(ISERROR(VLOOKUP(Egresados!$T$8:$T$705,Maestros!$S$31:$T$530,2,0)),\"\",VLOOKUP(Egresados!$T$8:$T$705,Maestros!$S$31:$T$530,2,0))","v":"62"},{"$f":"IF(ISERROR(VLOOKUP(U74,Maestros!$S$31:$T$530,2,0)),\"\",VLOOKUP(U74,Maestros!$S$31:$T$530,2,0))","v":"62"},{"$f":"IF(ISERROR(VLOOKUP(Egresados!$K$8:$K$705,Maestros!$A$31:$B$130,2,0)),\"\",VLOOKUP(Egresados!$K$8:$K$705,Maestros!$A$31:$B$130,2,0))","v":""},{"$f":"IF(LEN(tablaEgresados[[#This Row],[Nota promedio]])>0,ROUND(tablaEgresados[[#This Row],[Nota promedio]],2),\"\")","v":16.57}]
[67,null,"DNI","48393546","VELA","VILLAORDUÑA","JORAM","MASCULINO",null,"NO",null,null,null,"2020-1","SEDE CENTRAL","AGROPECUARIA",15.54,null,null,"2014-1","2014-1","20140951@une.edu.pe","joram.v05@hotmail.com",3133700,"953576130",{"$f":"IF(ISERROR(VLOOKUP(Egresados!$N$8:$N$705,Maestros!$D$31:$E$530,2,0)),\"\",VLOOKUP(Egresados!$N$8:$N$705,Maestros!$D$31:$E$530,2,0))","v":"223"},{"$f":"IF(ISERROR(VLOOKUP(Egresados!$O75,Maestros!$G$31:$J$1030,2,0)),\"\",VLOOKUP(Egresados!$O75,Maestros!$G$31:$J$1030,2,0))","v":"8"},{"$f":"CONCATENATE(Egresados!$Z$8:$Z$705,\"a\",Egresados!$AA$8:$AA$705)","v":"223a8"},{"$f":"IF(ISERROR(VLOOKUP(Egresados!$P75,Maestros!$L$31:$Q$1030,2,0)),\"\",VLOOKUP(Egresados!$P75,Maestros!$L$31:$Q$1030,2,0))","v":"217"},{"$f":"CONCATENATE(Egresados!$Z$8:$Z$705,\"a\",Egresados!$AA$8:$AA$705,\"a\",Egresados!$AC$8:$AC$705)","v":"223a8a217"},{"$f":"IF(ISERROR(VLOOKUP(Egresados!$C$8:$C$705,Maestros!$A$4:$B$21,2,0)),\"\",VLOOKUP(Egresados!$C$8:$C$705,Maestros!$A$4:$B$21,2,0))","v":"1001"},{"$f":"IF(ISERROR(VLOOKUP(Egresados!$H$8:$H$705,Maestros!$D$4:$E$21,2,0)),\"\",VLOOKUP(Egresados!$H$8:$H$705,Maestros!$D$4:$E$21,2,0))","v":"1121"},{"$f":"IF(OR(UPPER(Egresados!$J$8:$J$705)=\"SI\",UPPER(Egresados!$J$8:$J$705)=\"SÍ\"),1,IF(UPPER(Egresados!$J$8:$J$705)=\"NO\",0,\"\"))","v":0},{"$f":"IF(OR(UPPER(Egresados!$R$8:$R$705)=\"SI\",UPPER(Egresados!$R$8:$R$705)=\"SÍ\"),1,IF(UPPER(Egresados!$R$8:$R$705)=\"NO\",0,\"\"))","v":""},{"$f":"IF(OR(UPPER(Egresados!$S$8:$S$705)=\"SI\",UPPER(Egresados!$S$8:$S$705)=\"SÍ\"),1,IF(UPPER(Egresados!$S$8:$S$705)=\"NO\",0,\"\"))","v":""},{"$f":"IF(ISERROR(VLOOKUP(Egresados!$T$8:$T$705,Maestros!$S$31:$T$530,2,0)),\"\",VLOOKUP(Egresados!$T$8:$T$705,Maestros!$S$31:$T$530,2,0))","v":"58"},{"$f":"IF(ISERROR(VLOOKUP(U75,Maestros!$S$31:$T$530,2,0)),\"\",VLOOKUP(U75,Maestros!$S$31:$T$530,2,0))","v":"58"},{"$f":"IF(ISERROR(VLOOKUP(Egresados!$K$8:$K$705,Maestros!$A$31:$B$130,2,0)),\"\",VLOOKUP(Egresados!$K$8:$K$705,Maestros!$A$31:$B$130,2,0))","v":""},{"$f":"IF(LEN(tablaEgresados[[#This Row],[Nota promedio]])>0,ROUND(tablaEgresados[[#This Row],[Nota promedio]],2),\"\")","v":15.54}]
[68,null,"DNI","10373593","LAVADO","TINTAYA","LUCIA ODELIA","FEMENINO",null,"NO",null,null,null,"2020-1","SEDE CENTRAL","AGROPECUARIA",16.12,null,null,"2015-1","2015-1","20150060@une.edu.pe","lucialat28@gmail.com",3133700,"921467204",{"$f":"IF(ISERROR(VLOOKUP(Egresados!$N$8:$N$705,Maestros!$D$31:$E$530,2,0)),\"\",VLOOKUP(Egresados!$N$8:$N$705,Maestros!$D$31:$E$530,2,0))","v":"223"},{"$f":"IF(ISERROR(VLOOKUP(Egresados!$O76,Maestros!$G$31:$J$1030,2,0)),\"\",VLOOKUP(Egresados!$O76,Maestros!$G$31:$J$1030,2,0))","v":"8"},{"$f":"CONCATENATE(Egresados!$Z$8:$Z$705,\"a\",Egresados!$AA$8:$AA$705)","v":"223a8"},{"$f":"IF(ISERROR(VLOOKUP(Egresados!$P76,Maestros!$L$31:$Q$1030,2,0)),\"\",VLOOKUP(Egresados!$P76,Maestros!$L$31:$Q$1030,2,0))","v":"217"},{"$f":"CONCATENATE(Egresados!$Z$8:$Z$705,\"a\",Egresados!$AA$8:$AA$705,\"a\",Egresados!$AC$8:$AC$705)","v":"223a8a217"},{"$f":"IF(ISERROR(VLOOKUP(Egresados!$C$8:$C$705,Maestros!$A$4:$B$21,2,0)),\"\",VLOOKUP(Egresados!$C$8:$C$705,Maestros!$A$4:$B$21,2,0))","v":"1001"},{"$f":"IF(ISERROR(VLOOKUP(Egresados!$H$8:$H$705,Maestros!$D$4:$E$21,2,0)),\"\",VLOOKUP(Egresados!$H$8:$H$705,Maestros!$D$4:$E$21,2,0))","v":"1122"},{"$f":"IF(OR(UPPER(Egresados!$J$8:$J$705)=\"SI\",UPPER(Egresados!$J$8:$J$705)=\"SÍ\"),1,IF(UPPER(Egresados!$J$8:$J$705)=\"NO\",0,\"\"))","v":0},{"$f":"IF(OR(UPPER(Egresados!$R$8:$R$705)=\"SI\",UPPER(Egresados!$R$8:$R$705)=\"SÍ\"),1,IF(UPPER(Egresados!$R$8:$R$705)=\"NO\",0,\"\"))","v":""},{"$f":"IF(OR(UPPER(Egresados!$S$8:$S$705)=\"SI\",UPPER(Egresados!$S$8:$S$705)=\"SÍ\"),1,IF(UPPER(Egresados!$S$8:$S$705)=\"NO\",0,\"\"))","v":""},{"$f":"IF(ISERROR(VLOOKUP(Egresados!$T$8:$T$705,Maestros!$S$31:$T$530,2,0)),\"\",VLOOKUP(Egresados!$T$8:$T$705,Maestros!$S$31:$T$530,2,0))","v":"62"},{"$f":"IF(ISERROR(VLOOKUP(U76,Maestros!$S$31:$T$530,2,0)),\"\",VLOOKUP(U76,Maestros!$S$31:$T$530,2,0))","v":"62"},{"$f":"IF(ISERROR(VLOOKUP(Egresados!$K$8:$K$705,Maestros!$A$31:$B$130,2,0)),\"\",VLOOKUP(Egresados!$K$8:$K$705,Maestros!$A$31:$B$130,2,0))","v":""},{"$f":"IF(LEN(tablaEgresados[[#This Row],[Nota promedio]])>0,ROUND(tablaEgresados[[#This Row],[Nota promedio]],2),\"\")","v":16.12}]
[69,null,"DNI","77045239","DE LA CRUZ","QUISPE","TERESA","FEMENINO",null,"NO",null,null,null,"2020-1","SEDE CENTRAL","AGROPECUARIA",16.43,null,null,"2015-1","2015-1","20151022@une.edu.pe","evaluna_14_tlv@hotmail.com",3133700,"927745253",{"$f":"IF(ISERROR(VLOOKUP(Egresados!$N$8:$N$705,Maestros!$D$31:$E$530,2,0)),\"\",VLOOKUP(Egresados!$N$8:$N$705,Maestros!$D$31:$E$530,2,0))","v":"223"},{"$f":"IF(ISERROR(VLOOKUP(Egresados!$O77,Maestros!$G$31:$J$1030,2,0)),\"\",VLOOKUP(Egresados!$O77,Maestros!$G$31:$J$1030,2,0))","v":"8"},{"$f":"CONCATENATE(Egresados!$Z$8:$Z$705,\"a\",Egresados!$AA$8:$AA$705)","v":"223a8"},{"$f":"IF(ISERROR(VLOOKUP(Egresados!$P77,Maestros!$L$31:$Q$1030,2,0)),\"\",VLOOKUP(Egresados!$P77,Maestros!$L$31:$Q$1030,2,0))","v":"217"},{"$f":"CONCATENATE(Egresados!$Z$8:$Z$705,\"a\",Egresados!$AA$8:$AA$705,\"a\",Egresados!$AC$8:$AC$705)","v":"223a8a217"},{"$f":"IF(ISERROR(VLOOKUP(Egresados!$C$8:$C$705,Maestros!$A$4:$B$21,2,0)),\"\",VLOOKUP(Egresados!$C$8:$C$705,Maestros!$A$4:$B$21,2,0))","v":"1001"},{"$f":"IF(ISERROR(VLOOKUP(Egresados!$H$8:$H$705,Maestros!$D$4:$E$21,2,0)),\"\",VLOOKUP(Egresados!$H$8:$H$705,Maestros!$D$4:$E$21,2,0))","v":"1122"},{"$f":"IF(OR(UPPER(Egresados!$J$8:$J$705)=\"SI\",UPPER(Egresados!$J$8:$J$705)=\"SÍ\"),1,IF(UPPER(Egresados!$J$8:$J$705)=\"NO\",0,\"\"))","v":0},{"$f":"IF(OR(UPPER(Egresados!$R$8:$R$705)=\"SI\",UPPER(Egresados!$R$8:$R$705)=\"SÍ\"),1,IF(UPPER(Egresados!$R$8:$R$705)=\"NO\",0,\"\"))","v":""},{"$f":"IF(OR(UPPER(Egresados!$S$8:$S$705)=\"SI\",UPPER(Egresados!$S$8:$S$705)=\"SÍ\"),1,IF(UPPER(Egresados!$S$8:$S$705)=\"NO\",0,\"\"))","v":""},{"$f":"IF(ISERROR(VLOOKUP(Egresados!$T$8:$T$705,Maestros!$S$31:$T$530,2,0)),\"\",VLOOKUP(Egresados!$T$8:$T$705,Maestros!$S$31:$T$530,2,0))","v":"62"},{"$f":"IF(ISERROR(VLOOKUP(U77,Maestros!$S$31:$T$530,2,0)),\"\",VLOOKUP(U77,Maestros!$S$31:$T$530,2,0))","v":"62"},{"$f":"IF(ISERROR(VLOOKUP(Egresados!$K$8:$K$705,Maestros!$A$31:$B$130,2,0)),\"\",VLOOKUP(Egresados!$K$8:$K$705,Maestros!$A$31:$B$130,2,0))","v":""},{"$f":"IF(LEN(tablaEgresados[[#This Row],[Nota promedio]])>0,ROUND(tablaEgresados[[#This Row],[Nota promedio]],2),\"\")","v":16.43}]
[70,null,"DNI","70373572","BONILLA","ORTEGA","ARASELI AMELIA","FEMENINO",null,"NO",null,null,null,"2020-1","SEDE CENTRAL","AGROPECUARIA",16.02,null,null,"2015-1","2015-1","20151015@une.edu.pe","forever_ara96@hotmail.com",3133700,"921318259",{"$f":"IF(ISERROR(VLOOKUP(Egresados!$N$8:$N$705,Maestros!$D$31:$E$530,2,0)),\"\",VLOOKUP(Egresados!$N$8:$N$705,Maestros!$D$31:$E$530,2,0))","v":"223"},{"$f":"IF(ISERROR(VLOOKUP(Egresados!$O78,Maestros!$G$31:$J$1030,2,0)),\"\",VLOOKUP(Egresados!$O78,Maestros!$G$31:$J$1030,2,0))","v":"8"},{"$f":"CONCATENATE(Egresados!$Z$8:$Z$705,\"a\",Egresados!$AA$8:$AA$705)","v":"223a8"},{"$f":"IF(ISERROR(VLOOKUP(Egresados!$P78,Maestros!$L$31:$Q$1030,2,0)),\"\",VLOOKUP(Egresados!$P78,Maestros!$L$31:$Q$1030,2,0))","v":"217"},{"$f":"CONCATENATE(Egresados!$Z$8:$Z$705,\"a\",Egresados!$AA$8:$AA$705,\"a\",Egresados!$AC$8:$AC$705)","v":"223a8a217"},{"$f":"IF(ISERROR(VLOOKUP(Egresados!$C$8:$C$705,Maestros!$A$4:$B$21,2,0)),\"\",VLOOKUP(Egresados!$C$8:$C$705,Maestros!$A$4:$B$21,2,0))","v":"1001"},{"$f":"IF(ISERROR(VLOOKUP(Egresados!$H$8:$H$705,Maestros!$D$4:$E$21,2,0)),\"\",VLOOKUP(Egresados!$H$8:$H$705,Maestros!$D$4:$E$21,2,0))","v":"1122"},{"$f":"IF(OR(UPPER(Egresados!$J$8:$J$705)=\"SI\",UPPER(Egresados!$J$8:$J$705)=\"SÍ\"),1,IF(UPPER(Egresados!$J$8:$J$705)=\"NO\",0,\"\"))","v":0},{"$f":"IF(OR(UPPER(Egresados!$R$8:$R$705)=\"SI\",UPPER(Egresados!$R$8:$R$705)=\"SÍ\"),1,IF(UPPER(Egresados!$R$8:$R$705)=\"NO\",0,\"\"))","v":""},{"$f":"IF(OR(UPPER(Egresados!$S$8:$S$705)=\"SI\",UPPER(Egresados!$S$8:$S$705)=\"SÍ\"),1,IF(UPPER(Egresados!$S$8:$S$705)=\"NO\",0,\"\"))","v":""},{"$f":"IF(ISERROR(VLOOKUP(Egresados!$T$8:$T$705,Maestros!$S$31:$T$530,2,0)),\"\",VLOOKUP(Egresados!$T$8:$T$705,Maestros!$S$31:$T$530,2,0))","v":"62"},{"$f":"IF(ISERROR(VLOOKUP(U78,Maestros!$S$31:$T$530,2,0)),\"\",VLOOKUP(U78,Maestros!$S$31:$T$530,2,0))","v":"62"},{"$f":"IF(ISERROR(VLOOKUP(Egresados!$K$8:$K$705,Maestros!$A$31:$B$130,2,0)),\"\",VLOOKUP(Egresados!$K$8:$K$705,Maestros!$A$31:$B$130,2,0))","v":""},{"$f":"IF(LEN(tablaEgresados[[#This Row],[Nota promedio]])>0,ROUND(tablaEgresados[[#This Row],[Nota promedio]],2),\"\")","v":16.02}]
[71,null,"DNI","48553136","BERMUDO","ARONES","ABEL","MASCULINO",null,"NO",null,null,null,"2020-1","SEDE CENTRAL","AGROPECUARIA",15.54,null,null,"2012-1","2012-1","20121272@une.edu.pe","abel_papi27@hotmail.com",3133700,976486001,{"$f":"IF(ISERROR(VLOOKUP(Egresados!$N$8:$N$705,Maestros!$D$31:$E$530,2,0)),\"\",VLOOKUP(Egresados!$N$8:$N$705,Maestros!$D$31:$E$530,2,0))","v":"223"},{"$f":"IF(ISERROR(VLOOKUP(Egresados!$O79,Maestros!$G$31:$J$1030,2,0)),\"\",VLOOKUP(Egresados!$O79,Maestros!$G$31:$J$1030,2,0))","v":"8"},{"$f":"CONCATENATE(Egresados!$Z$8:$Z$705,\"a\",Egresados!$AA$8:$AA$705)","v":"223a8"},{"$f":"IF(ISERROR(VLOOKUP(Egresados!$P79,Maestros!$L$31:$Q$1030,2,0)),\"\",VLOOKUP(Egresados!$P79,Maestros!$L$31:$Q$1030,2,0))","v":"217"},{"$f":"CONCATENATE(Egresados!$Z$8:$Z$705,\"a\",Egresados!$AA$8:$AA$705,\"a\",Egresados!$AC$8:$AC$705)","v":"223a8a217"},{"$f":"IF(ISERROR(VLOOKUP(Egresados!$C$8:$C$705,Maestros!$A$4:$B$21,2,0)),\"\",VLOOKUP(Egresados!$C$8:$C$705,Maestros!$A$4:$B$21,2,0))","v":"1001"},{"$f":"IF(ISERROR(VLOOKUP(Egresados!$H$8:$H$705,Maestros!$D$4:$E$21,2,0)),\"\",VLOOKUP(Egresados!$H$8:$H$705,Maestros!$D$4:$E$21,2,0))","v":"1121"},{"$f":"IF(OR(UPPER(Egresados!$J$8:$J$705)=\"SI\",UPPER(Egresados!$J$8:$J$705)=\"SÍ\"),1,IF(UPPER(Egresados!$J$8:$J$705)=\"NO\",0,\"\"))","v":0},{"$f":"IF(OR(UPPER(Egresados!$R$8:$R$705)=\"SI\",UPPER(Egresados!$R$8:$R$705)=\"SÍ\"),1,IF(UPPER(Egresados!$R$8:$R$705)=\"NO\",0,\"\"))","v":""},{"$f":"IF(OR(UPPER(Egresados!$S$8:$S$705)=\"SI\",UPPER(Egresados!$S$8:$S$705)=\"SÍ\"),1,IF(UPPER(Egresados!$S$8:$S$705)=\"NO\",0,\"\"))","v":""},{"$f":"IF(ISERROR(VLOOKUP(Egresados!$T$8:$T$705,Maestros!$S$31:$T$530,2,0)),\"\",VLOOKUP(Egresados!$T$8:$T$705,Maestros!$S$31:$T$530,2,0))","v":"50"},{"$f":"IF(ISERROR(VLOOKUP(U79,Maestros!$S$31:$T$530,2,0)),\"\",VLOOKUP(U79,Maestros!$S$31:$T$530,2,0))","v":"50"},{"$f":"IF(ISERROR(VLOOKUP(Egresados!$K$8:$K$705,Maestros!$A$31:$B$130,2,0)),\"\",VLOOKUP(Egresados!$K$8:$K$705,Maestros!$A$31:$B$130,2,0))","v":""},{"$f":"IF(LEN(tablaEgresados[[#This Row],[Nota promedio]])>0,ROUND(tablaEgresados[[#This Row],[Nota promedio]],2),\"\")","v":15.54}]
[72,null,"DNI",41931142,"MARTINEZ","OBISPO","OZIEL MIRKO","MASCULINO",null,"NO",null,null,null,"2020-1","SEDE CENTRAL","AGROPECUARIA",14.47,null,null,"2009-1","2009-1","20093033@une.edu.pe","20093033@une.edu.pe",3133700,976486001,{"$f":"IF(ISERROR(VLOOKUP(Egresados!$N$8:$N$705,Maestros!$D$31:$E$530,2,0)),\"\",VLOOKUP(Egresados!$N$8:$N$705,Maestros!$D$31:$E$530,2,0))","v":"223"},{"$f":"IF(ISERROR(VLOOKUP(Egresados!$O80,Maestros!$G$31:$J$1030,2,0)),\"\",VLOOKUP(Egresados!$O80,Maestros!$G$31:$J$1030,2,0))","v":"8"},{"$f":"CONCATENATE(Egresados!$Z$8:$Z$705,\"a\",Egresados!$AA$8:$AA$705)","v":"223a8"},{"$f":"IF(ISERROR(VLOOKUP(Egresados!$P80,Maestros!$L$31:$Q$1030,2,0)),\"\",VLOOKUP(Egresados!$P80,Maestros!$L$31:$Q$1030,2,0))","v":"217"},{"$f":"CONCATENATE(Egresados!$Z$8:$Z$705,\"a\",Egresados!$AA$8:$AA$705,\"a\",Egresados!$AC$8:$AC$705)","v":"223a8a217"},{"$f":"IF(ISERROR(VLOOKUP(Egresados!$C$8:$C$705,Maestros!$A$4:$B$21,2,0)),\"\",VLOOKUP(Egresados!$C$8:$C$705,Maestros!$A$4:$B$21,2,0))","v":"1001"},{"$f":"IF(ISERROR(VLOOKUP(Egresados!$H$8:$H$705,Maestros!$D$4:$E$21,2,0)),\"\",VLOOKUP(Egresados!$H$8:$H$705,Maestros!$D$4:$E$21,2,0))","v":"1121"},{"$f":"IF(OR(UPPER(Egresados!$J$8:$J$705)=\"SI\",UPPER(Egresados!$J$8:$J$705)=\"SÍ\"),1,IF(UPPER(Egresados!$J$8:$J$705)=\"NO\",0,\"\"))","v":0},{"$f":"IF(OR(UPPER(Egresados!$R$8:$R$705)=\"SI\",UPPER(Egresados!$R$8:$R$705)=\"SÍ\"),1,IF(UPPER(Egresados!$R$8:$R$705)=\"NO\",0,\"\"))","v":""},{"$f":"IF(OR(UPPER(Egresados!$S$8:$S$705)=\"SI\",UPPER(Egresados!$S$8:$S$705)=\"SÍ\"),1,IF(UPPER(Egresados!$S$8:$S$705)=\"NO\",0,\"\"))","v":""},{"$f":"IF(ISERROR(VLOOKUP(Egresados!$T$8:$T$705,Maestros!$S$31:$T$530,2,0)),\"\",VLOOKUP(Egresados!$T$8:$T$705,Maestros!$S$31:$T$530,2,0))","v":"38"},{"$f":"IF(ISERROR(VLOOKUP(U80,Maestros!$S$31:$T$530,2,0)),\"\",VLOOKUP(U80,Maestros!$S$31:$T$530,2,0))","v":"38"},{"$f":"IF(ISERROR(VLOOKUP(Egresados!$K$8:$K$705,Maestros!$A$31:$B$130,2,0)),\"\",VLOOKUP(Egresados!$K$8:$K$705,Maestros!$A$31:$B$130,2,0))","v":""},{"$f":"IF(LEN(tablaEgresados[[#This Row],[Nota promedio]])>0,ROUND(tablaEgresados[[#This Row],[Nota promedio]],2),\"\")","v":14.47}]
[73,null,"DNI","31764020","FERNANDEZ","CHAVEZ","HILARIA NOLASCA","FEMENINO",null,"NO",null,null,null,"2020-1","SEDE CENTRAL","AGROPECUARIA",13.6,null,null,"2014-1","2014-1","20142986@une.edu.pe","20142986@une.edu.pe",3133700,976486001,{"$f":"IF(ISERROR(VLOOKUP(Egresados!$N$8:$N$705,Maestros!$D$31:$E$530,2,0)),\"\",VLOOKUP(Egresados!$N$8:$N$705,Maestros!$D$31:$E$530,2,0))","v":"223"},{"$f":"IF(ISERROR(VLOOKUP(Egresados!$O81,Maestros!$G$31:$J$1030,2,0)),\"\",VLOOKUP(Egresados!$O81,Maestros!$G$31:$J$1030,2,0))","v":"8"},{"$f":"CONCATENATE(Egresados!$Z$8:$Z$705,\"a\",Egresados!$AA$8:$AA$705)","v":"223a8"},{"$f":"IF(ISERROR(VLOOKUP(Egresados!$P81,Maestros!$L$31:$Q$1030,2,0)),\"\",VLOOKUP(Egresados!$P81,Maestros!$L$31:$Q$1030,2,0))","v":"217"},{"$f":"CONCATENATE(Egresados!$Z$8:$Z$705,\"a\",Egresados!$AA$8:$AA$705,\"a\",Egresados!$AC$8:$AC$705)","v":"223a8a217"},{"$f":"IF(ISERROR(VLOOKUP(Egresados!$C$8:$C$705,Maestros!$A$4:$B$21,2,0)),\"\",VLOOKUP(Egresados!$C$8:$C$705,Maestros!$A$4:$B$21,2,0))","v":"1001"},{"$f":"IF(ISERROR(VLOOKUP(Egresados!$H$8:$H$705,Maestros!$D$4:$E$21,2,0)),\"\",VLOOKUP(Egresados!$H$8:$H$705,Maestros!$D$4:$E$21,2,0))","v":"1122"},{"$f":"IF(OR(UPPER(Egresados!$J$8:$J$705)=\"SI\",UPPER(Egresados!$J$8:$J$705)=\"SÍ\"),1,IF(UPPER(Egresados!$J$8:$J$705)=\"NO\",0,\"\"))","v":0},{"$f":"IF(OR(UPPER(Egresados!$R$8:$R$705)=\"SI\",UPPER(Egresados!$R$8:$R$705)=\"SÍ\"),1,IF(UPPER(Egresados!$R$8:$R$705)=\"NO\",0,\"\"))","v":""},{"$f":"IF(OR(UPPER(Egresados!$S$8:$S$705)=\"SI\",UPPER(Egresados!$S$8:$S$705)=\"SÍ\"),1,IF(UPPER(Egresados!$S$8:$S$705)=\"NO\",0,\"\"))","v":""},{"$f":"IF(ISERROR(VLOOKUP(Egresados!$T$8:$T$705,Maestros!$S$31:$T$530,2,0)),\"\",VLOOKUP(Egresados!$T$8:$T$705,Maestros!$S$31:$T$530,2,0))","v":"58"},{"$f":"IF(ISERROR(VLOOKUP(U81,Maestros!$S$31:$T$530,2,0)),\"\",VLOOKUP(U81,Maestros!$S$31:$T$530,2,0))","v":"58"},{"$f":"IF(ISERROR(VLOOKUP(Egresados!$K$8:$K$705,Maestros!$A$31:$B$130,2,0)),\"\",VLOOKUP(Egresados!$K$8:$K$705,Maestros!$A$31:$B$130,2,0))","v":""},{"$f":"IF(LEN(tablaEgresados[[#This Row],[Nota promedio]])>0,ROUND(tablaEgresados[[#This Row],[Nota promedio]],2),\"\")","v":13.6}]
[74,null,"DNI","21552364","URIBE","PISCONTI","JUAN EMILIO","MASCULINO",null,"NO",null,null,null,"2020-1","SEDE CENTRAL","EDUCACION ARTISTICA - ARTES PLASTICAS-TEATRO - MUSICA",13.74,null,null,"2004-1","2004-1","20044922@une.edu.pe","20044922@une.edu.pe",3133700,976486001,{"$f":"IF(ISERROR(VLOOKUP(Egresados!$N$8:$N$705,Maestros!$D$31:$E$530,2,0)),\"\",VLOOKUP(Egresados!$N$8:$N$705,Maestros!$D$31:$E$530,2,0))","v":"223"},{"$f":"IF(ISERROR(VLOOKUP(Egresados!$O82,Maestros!$G$31:$J$1030,2,0)),\"\",VLOOKUP(Egresados!$O82,Maestros!$G$31:$J$1030,2,0))","v":"8"},{"$f":"CONCATENATE(Egresados!$Z$8:$Z$705,\"a\",Egresados!$AA$8:$AA$705)","v":"223a8"},{"$f":"IF(ISERROR(VLOOKUP(Egresados!$P82,Maestros!$L$31:$Q$1030,2,0)),\"\",VLOOKUP(Egresados!$P82,Maestros!$L$31:$Q$1030,2,0))","v":"330"},{"$f":"CONCATENATE(Egresados!$Z$8:$Z$705,\"a\",Egresados!$AA$8:$AA$705,\"a\",Egresados!$AC$8:$AC$705)","v":"223a8a330"},{"$f":"IF(ISERROR(VLOOKUP(Egresados!$C$8:$C$705,Maestros!$A$4:$B$21,2,0)),\"\",VLOOKUP(Egresados!$C$8:$C$705,Maestros!$A$4:$B$21,2,0))","v":"1001"},{"$f":"IF(ISERROR(VLOOKUP(Egresados!$H$8:$H$705,Maestros!$D$4:$E$21,2,0)),\"\",VLOOKUP(Egresados!$H$8:$H$705,Maestros!$D$4:$E$21,2,0))","v":"1121"},{"$f":"IF(OR(UPPER(Egresados!$J$8:$J$705)=\"SI\",UPPER(Egresados!$J$8:$J$705)=\"SÍ\"),1,IF(UPPER(Egresados!$J$8:$J$705)=\"NO\",0,\"\"))","v":0},{"$f":"IF(OR(UPPER(Egresados!$R$8:$R$705)=\"SI\",UPPER(Egresados!$R$8:$R$705)=\"SÍ\"),1,IF(UPPER(Egresados!$R$8:$R$705)=\"NO\",0,\"\"))","v":""},{"$f":"IF(OR(UPPER(Egresados!$S$8:$S$705)=\"SI\",UPPER(Egresados!$S$8:$S$705)=\"SÍ\"),1,IF(UPPER(Egresados!$S$8:$S$705)=\"NO\",0,\"\"))","v":""},{"$f":"IF(ISERROR(VLOOKUP(Egresados!$T$8:$T$705,Maestros!$S$31:$T$530,2,0)),\"\",VLOOKUP(Egresados!$T$8:$T$705,Maestros!$S$31:$T$530,2,0))","v":"18"},{"$f":"IF(ISERROR(VLOOKUP(U82,Maestros!$S$31:$T$530,2,0)),\"\",VLOOKUP(U82,Maestros!$S$31:$T$530,2,0))","v":"18"},{"$f":"IF(ISERROR(VLOOKUP(Egresados!$K$8:$K$705,Maestros!$A$31:$B$130,2,0)),\"\",VLOOKUP(Egresados!$K$8:$K$705,Maestros!$A$31:$B$130,2,0))","v":""},{"$f":"IF(LEN(tablaEgresados[[#This Row],[Nota promedio]])>0,ROUND(tablaEgresados[[#This Row],[Nota promedio]],2),\"\")","v":13.74}]
[75,null,"DNI","75283641","QUISPE","CCOPA","DAVID ESTEBAN","MASCULINO",null,"NO",null,null,null,"2020-1","SEDE CENTRAL","AUTOMATIZACION INDUSTRIAL",15.43,null,null,"2015-1","2015-1","20150950@une.edu.pe","kisspe.10@hotmail.com",3133700,"965095397",{"$f":"IF(ISERROR(VLOOKUP(Egresados!$N$8:$N$705,Maestros!$D$31:$E$530,2,0)),\"\",VLOOKUP(Egresados!$N$8:$N$705,Maestros!$D$31:$E$530,2,0))","v":"223"},{"$f":"IF(ISERROR(VLOOKUP(Egresados!$O83,Maestros!$G$31:$J$1030,2,0)),\"\",VLOOKUP(Egresados!$O83,Maestros!$G$31:$J$1030,2,0))","v":"8"},{"$f":"CONCATENATE(Egresados!$Z$8:$Z$705,\"a\",Egresados!$AA$8:$AA$705)","v":"223a8"},{"$f":"IF(ISERROR(VLOOKUP(Egresados!$P83,Maestros!$L$31:$Q$1030,2,0)),\"\",VLOOKUP(Egresados!$P83,Maestros!$L$31:$Q$1030,2,0))","v":"320"},{"$f":"CONCATENATE(Egresados!$Z$8:$Z$705,\"a\",Egresados!$AA$8:$AA$705,\"a\",Egresados!$AC$8:$AC$705)","v":"223a8a320"},{"$f":"IF(ISERROR(VLOOKUP(Egresados!$C$8:$C$705,Maestros!$A$4:$B$21,2,0)),\"\",VLOOKUP(Egresados!$C$8:$C$705,Maestros!$A$4:$B$21,2,0))","v":"1001"},{"$f":"IF(ISERROR(VLOOKUP(Egresados!$H$8:$H$705,Maestros!$D$4:$E$21,2,0)),\"\",VLOOKUP(Egresados!$H$8:$H$705,Maestros!$D$4:$E$21,2,0))","v":"1121"},{"$f":"IF(OR(UPPER(Egresados!$J$8:$J$705)=\"SI\",UPPER(Egresados!$J$8:$J$705)=\"SÍ\"),1,IF(UPPER(Egresados!$J$8:$J$705)=\"NO\",0,\"\"))","v":0},{"$f":"IF(OR(UPPER(Egresados!$R$8:$R$705)=\"SI\",UPPER(Egresados!$R$8:$R$705)=\"SÍ\"),1,IF(UPPER(Egresados!$R$8:$R$705)=\"NO\",0,\"\"))","v":""},{"$f":"IF(OR(UPPER(Egresados!$S$8:$S$705)=\"SI\",UPPER(Egresados!$S$8:$S$705)=\"SÍ\"),1,IF(UPPER(Egresados!$S$8:$S$705)=\"NO\",0,\"\"))","v":""},{"$f":"IF(ISERROR(VLOOKUP(Egresados!$T$8:$T$705,Maestros!$S$31:$T$530,2,0)),\"\",VLOOKUP(Egresados!$T$8:$T$705,Maestros!$S$31:$T$530,2,0))","v":"62"},{"$f":"IF(ISERROR(VLOOKUP(U83,Maestros!$S$31:$T$530,2,0)),\"\",VLOOKUP(U83,Maestros!$S$31:$T$530,2,0))","v":"62"},{"$f":"IF(ISERROR(VLOOKUP(Egresados!$K$8:$K$705,Maestros!$A$31:$B$130,2,0)),\"\",VLOOKUP(Egresados!$K$8:$K$705,Maestros!$A$31:$B$130,2,0))","v":""},{"$f":"IF(LEN(tablaEgresados[[#This Row],[Nota promedio]])>0,ROUND(tablaEgresados[[#This Row],[Nota promedio]],2),\"\")","v":15.43}]
[76,null,"DNI","72076765","LUNA","VENTOCILLA","OSCAR ABAD","MASCULINO",null,"NO",null,null,null,"2020-1","SEDE CENTRAL","AUTOMATIZACION INDUSTRIAL",14.99,null,null,"2013-1","2013-1","20130722@une.edu.pe","escorpiotlv_05@hotmail.com.pe",3133700,976486001,{"$f":"IF(ISERROR(VLOOKUP(Egresados!$N$8:$N$705,Maestros!$D$31:$E$530,2,0)),\"\",VLOOKUP(Egresados!$N$8:$N$705,Maestros!$D$31:$E$530,2,0))","v":"223"},{"$f":"IF(ISERROR(VLOOKUP(Egresados!$O84,Maestros!$G$31:$J$1030,2,0)),\"\",VLOOKUP(Egresados!$O84,Maestros!$G$31:$J$1030,2,0))","v":"8"},{"$f":"CONCATENATE(Egresados!$Z$8:$Z$705,\"a\",Egresados!$AA$8:$AA$705)","v":"223a8"},{"$f":"IF(ISERROR(VLOOKUP(Egresados!$P84,Maestros!$L$31:$Q$1030,2,0)),\"\",VLOOKUP(Egresados!$P84,Maestros!$L$31:$Q$1030,2,0))","v":"320"},{"$f":"CONCATENATE(Egresados!$Z$8:$Z$705,\"a\",Egresados!$AA$8:$AA$705,\"a\",Egresados!$AC$8:$AC$705)","v":"223a8a320"},{"$f":"IF(ISERROR(VLOOKUP(Egresados!$C$8:$C$705,Maestros!$A$4:$B$21,2,0)),\"\",VLOOKUP(Egresados!$C$8:$C$705,Maestros!$A$4:$B$21,2,0))","v":"1001"},{"$f":"IF(ISERROR(VLOOKUP(Egresados!$H$8:$H$705,Maestros!$D$4:$E$21,2,0)),\"\",VLOOKUP(Egresados!$H$8:$H$705,Maestros!$D$4:$E$21,2,0))","v":"1121"},{"$f":"IF(OR(UPPER(Egresados!$J$8:$J$705)=\"SI\",UPPER(Egresados!$J$8:$J$705)=\"SÍ\"),1,IF(UPPER(Egresados!$J$8:$J$705)=\"NO\",0,\"\"))","v":0},{"$f":"IF(OR(UPPER(Egresados!$R$8:$R$705)=\"SI\",UPPER(Egresados!$R$8:$R$705)=\"SÍ\"),1,IF(UPPER(Egresados!$R$8:$R$705)=\"NO\",0,\"\"))","v":""},{"$f":"IF(OR(UPPER(Egresados!$S$8:$S$705)=\"SI\",UPPER(Egresados!$S$8:$S$705)=\"SÍ\"),1,IF(UPPER(Egresados!$S$8:$S$705)=\"NO\",0,\"\"))","v":""},{"$f":"IF(ISERROR(VLOOKUP(Egresados!$T$8:$T$705,Maestros!$S$31:$T$530,2,0)),\"\",VLOOKUP(Egresados!$T$8:$T$705,Maestros!$S$31:$T$530,2,0))","v":"54"},{"$f":"IF(ISERROR(VLOOKUP(U84,Maestros!$S$31:$T$530,2,0)),\"\",VLOOKUP(U84,Maestros!$S$31:$T$530,2,0))","v":"54"},{"$f":"IF(ISERROR(VLOOKUP(Egresados!$K$8:$K$705,Maestros!$A$31:$B$130,2,0)),\"\",VLOOKUP(Egresados!$K$8:$K$705,Maestros!$A$31:$B$130,2,0))","v":""},{"$f":"IF(LEN(tablaEgresados[[#This Row],[Nota promedio]])>0,ROUND(tablaEgresados[[#This Row],[Nota promedio]],2),\"\")","v":14.99}]
[77,null,"DNI","73457224","BALBOA","CABEZAS","REBECA","FEMENINO",null,"NO",null,null,null,"2020-1","SEDE CENTRAL","AUTOMATIZACION INDUSTRIAL",14.34,null,null,"2014-1","2014-1","20141382@une.edu.pe","balboa.2020une@gmail.com",3133700,"98427407",{"$f":"IF(ISERROR(VLOOKUP(Egresados!$N$8:$N$705,Maestros!$D$31:$E$530,2,0)),\"\",VLOOKUP(Egresados!$N$8:$N$705,Maestros!$D$31:$E$530,2,0))","v":"223"},{"$f":"IF(ISERROR(VLOOKUP(Egresados!$O85,Maestros!$G$31:$J$1030,2,0)),\"\",VLOOKUP(Egresados!$O85,Maestros!$G$31:$J$1030,2,0))","v":"8"},{"$f":"CONCATENATE(Egresados!$Z$8:$Z$705,\"a\",Egresados!$AA$8:$AA$705)","v":"223a8"},{"$f":"IF(ISERROR(VLOOKUP(Egresados!$P85,Maestros!$L$31:$Q$1030,2,0)),\"\",VLOOKUP(Egresados!$P85,Maestros!$L$31:$Q$1030,2,0))","v":"320"},{"$f":"CONCATENATE(Egresados!$Z$8:$Z$705,\"a\",Egresados!$AA$8:$AA$705,\"a\",Egresados!$AC$8:$AC$705)","v":"223a8a320"},{"$f":"IF(ISERROR(VLOOKUP(Egresados!$C$8:$C$705,Maestros!$A$4:$B$21,2,0)),\"\",VLOOKUP(Egresados!$C$8:$C$705,Maestros!$A$4:$B$21,2,0))","v":"1001"},{"$f":"IF(ISERROR(VLOOKUP(Egresados!$H$8:$H$705,Maestros!$D$4:$E$21,2,0)),\"\",VLOOKUP(Egresados!$H$8:$H$705,Maestros!$D$4:$E$21,2,0))","v":"1122"},{"$f":"IF(OR(UPPER(Egresados!$J$8:$J$705)=\"SI\",UPPER(Egresados!$J$8:$J$705)=\"SÍ\"),1,IF(UPPER(Egresados!$J$8:$J$705)=\"NO\",0,\"\"))","v":0},{"$f":"IF(OR(UPPER(Egresados!$R$8:$R$705)=\"SI\",UPPER(Egresados!$R$8:$R$705)=\"SÍ\"),1,IF(UPPER(Egresados!$R$8:$R$705)=\"NO\",0,\"\"))","v":""},{"$f":"IF(OR(UPPER(Egresados!$S$8:$S$705)=\"SI\",UPPER(Egresados!$S$8:$S$705)=\"SÍ\"),1,IF(UPPER(Egresados!$S$8:$S$705)=\"NO\",0,\"\"))","v":""},{"$f":"IF(ISERROR(VLOOKUP(Egresados!$T$8:$T$705,Maestros!$S$31:$T$530,2,0)),\"\",VLOOKUP(Egresados!$T$8:$T$705,Maestros!$S$31:$T$530,2,0))","v":"58"},{"$f":"IF(ISERROR(VLOOKUP(U85,Maestros!$S$31:$T$530,2,0)),\"\",VLOOKUP(U85,Maestros!$S$31:$T$530,2,0))","v":"58"},{"$f":"IF(ISERROR(VLOOKUP(Egresados!$K$8:$K$705,Maestros!$A$31:$B$130,2,0)),\"\",VLOOKUP(Egresados!$K$8:$K$705,Maestros!$A$31:$B$130,2,0))","v":""},{"$f":"IF(LEN(tablaEgresados[[#This Row],[Nota promedio]])>0,ROUND(tablaEgresados[[#This Row],[Nota promedio]],2),\"\")","v":14.34}]
[78,null,"DNI","45023671","GUISADO","FARFAN","PETER KEVIN","MASCULINO",null,"NO",null,null,null,"2020-1","SEDE CENTRAL","AUTOMATIZACION INDUSTRIAL",14.64,null,null,"2008-1","2008-1","20080981@une.edu.pe","peterguisadof@gmail.com",3133700,"965183898",{"$f":"IF(ISERROR(VLOOKUP(Egresados!$N$8:$N$705,Maestros!$D$31:$E$530,2,0)),\"\",VLOOKUP(Egresados!$N$8:$N$705,Maestros!$D$31:$E$530,2,0))","v":"223"},{"$f":"IF(ISERROR(VLOOKUP(Egresados!$O86,Maestros!$G$31:$J$1030,2,0)),\"\",VLOOKUP(Egresados!$O86,Maestros!$G$31:$J$1030,2,0))","v":"8"},{"$f":"CONCATENATE(Egresados!$Z$8:$Z$705,\"a\",Egresados!$AA$8:$AA$705)","v":"223a8"},{"$f":"IF(ISERROR(VLOOKUP(Egresados!$P86,Maestros!$L$31:$Q$1030,2,0)),\"\",VLOOKUP(Egresados!$P86,Maestros!$L$31:$Q$1030,2,0))","v":"320"},{"$f":"CONCATENATE(Egresados!$Z$8:$Z$705,\"a\",Egresados!$AA$8:$AA$705,\"a\",Egresados!$AC$8:$AC$705)","v":"223a8a320"},{"$f":"IF(ISERROR(VLOOKUP(Egresados!$C$8:$C$705,Maestros!$A$4:$B$21,2,0)),\"\",VLOOKUP(Egresados!$C$8:$C$705,Maestros!$A$4:$B$21,2,0))","v":"1001"},{"$f":"IF(ISERROR(VLOOKUP(Egresados!$H$8:$H$705,Maestros!$D$4:$E$21,2,0)),\"\",VLOOKUP(Egresados!$H$8:$H$705,Maestros!$D$4:$E$21,2,0))","v":"1121"},{"$f":"IF(OR(UPPER(Egresados!$J$8:$J$705)=\"SI\",UPPER(Egresados!$J$8:$J$705)=\"SÍ\"),1,IF(UPPER(Egresados!$J$8:$J$705)=\"NO\",0,\"\"))","v":0},{"$f":"IF(OR(UPPER(Egresados!$R$8:$R$705)=\"SI\",UPPER(Egresados!$R$8:$R$705)=\"SÍ\"),1,IF(UPPER(Egresados!$R$8:$R$705)=\"NO\",0,\"\"))","v":""},{"$f":"IF(OR(UPPER(Egresados!$S$8:$S$705)=\"SI\",UPPER(Egresados!$S$8:$S$705)=\"SÍ\"),1,IF(UPPER(Egresados!$S$8:$S$705)=\"NO\",0,\"\"))","v":""},{"$f":"IF(ISERROR(VLOOKUP(Egresados!$T$8:$T$705,Maestros!$S$31:$T$530,2,0)),\"\",VLOOKUP(Egresados!$T$8:$T$705,Maestros!$S$31:$T$530,2,0))","v":"34"},{"$f":"IF(ISERROR(VLOOKUP(U86,Maestros!$S$31:$T$530,2,0)),\"\",VLOOKUP(U86,Maestros!$S$31:$T$530,2,0))","v":"34"},{"$f":"IF(ISERROR(VLOOKUP(Egresados!$K$8:$K$705,Maestros!$A$31:$B$130,2,0)),\"\",VLOOKUP(Egresados!$K$8:$K$705,Maestros!$A$31:$B$130,2,0))","v":""},{"$f":"IF(LEN(tablaEgresados[[#This Row],[Nota promedio]])>0,ROUND(tablaEgresados[[#This Row],[Nota promedio]],2),\"\")","v":14.64}]
[79,null,"DNI","75538762","SOTO","IGUIA","ANGELICA VENTURA","FEMENINO",null,"NO",null,null,null,"2020-1","SEDE CENTRAL","AUTOMATIZACION INDUSTRIAL",16.170000000000002,null,null,"2015-1","2015-1","20150954@une.edu.pe","angelica.ventura@live.com",3133700,"936838247",{"$f":"IF(ISERROR(VLOOKUP(Egresados!$N$8:$N$705,Maestros!$D$31:$E$530,2,0)),\"\",VLOOKUP(Egresados!$N$8:$N$705,Maestros!$D$31:$E$530,2,0))","v":"223"},{"$f":"IF(ISERROR(VLOOKUP(Egresados!$O87,Maestros!$G$31:$J$1030,2,0)),\"\",VLOOKUP(Egresados!$O87,Maestros!$G$31:$J$1030,2,0))","v":"8"},{"$f":"CONCATENATE(Egresados!$Z$8:$Z$705,\"a\",Egresados!$AA$8:$AA$705)","v":"223a8"},{"$f":"IF(ISERROR(VLOOKUP(Egresados!$P87,Maestros!$L$31:$Q$1030,2,0)),\"\",VLOOKUP(Egresados!$P87,Maestros!$L$31:$Q$1030,2,0))","v":"320"},{"$f":"CONCATENATE(Egresados!$Z$8:$Z$705,\"a\",Egresados!$AA$8:$AA$705,\"a\",Egresados!$AC$8:$AC$705)","v":"223a8a320"},{"$f":"IF(ISERROR(VLOOKUP(Egresados!$C$8:$C$705,Maestros!$A$4:$B$21,2,0)),\"\",VLOOKUP(Egresados!$C$8:$C$705,Maestros!$A$4:$B$21,2,0))","v":"1001"},{"$f":"IF(ISERROR(VLOOKUP(Egresados!$H$8:$H$705,Maestros!$D$4:$E$21,2,0)),\"\",VLOOKUP(Egresados!$H$8:$H$705,Maestros!$D$4:$E$21,2,0))","v":"1122"},{"$f":"IF(OR(UPPER(Egresados!$J$8:$J$705)=\"SI\",UPPER(Egresados!$J$8:$J$705)=\"SÍ\"),1,IF(UPPER(Egresados!$J$8:$J$705)=\"NO\",0,\"\"))","v":0},{"$f":"IF(OR(UPPER(Egresados!$R$8:$R$705)=\"SI\",UPPER(Egresados!$R$8:$R$705)=\"SÍ\"),1,IF(UPPER(Egresados!$R$8:$R$705)=\"NO\",0,\"\"))","v":""},{"$f":"IF(OR(UPPER(Egresados!$S$8:$S$705)=\"SI\",UPPER(Egresados!$S$8:$S$705)=\"SÍ\"),1,IF(UPPER(Egresados!$S$8:$S$705)=\"NO\",0,\"\"))","v":""},{"$f":"IF(ISERROR(VLOOKUP(Egresados!$T$8:$T$705,Maestros!$S$31:$T$530,2,0)),\"\",VLOOKUP(Egresados!$T$8:$T$705,Maestros!$S$31:$T$530,2,0))","v":"62"},{"$f":"IF(ISERROR(VLOOKUP(U87,Maestros!$S$31:$T$530,2,0)),\"\",VLOOKUP(U87,Maestros!$S$31:$T$530,2,0))","v":"62"},{"$f":"IF(ISERROR(VLOOKUP(Egresados!$K$8:$K$705,Maestros!$A$31:$B$130,2,0)),\"\",VLOOKUP(Egresados!$K$8:$K$705,Maestros!$A$31:$B$130,2,0))","v":""},{"$f":"IF(LEN(tablaEgresados[[#This Row],[Nota promedio]])>0,ROUND(tablaEgresados[[#This Row],[Nota promedio]],2),\"\")","v":16.170000000000002}]
[80,null,"DNI","72709045","PUERTA","TORRES","JONATHAN JARET","MASCULINO",null,"NO",null,null,null,"2020-1","SEDE CENTRAL","AUTOMATIZACION INDUSTRIAL",15.04,null,null,"2015-1","2015-1","20150949@une.edu.pe","jonapuerta@gmail.com",3133700,"910526649",{"$f":"IF(ISERROR(VLOOKUP(Egresados!$N$8:$N$705,Maestros!$D$31:$E$530,2,0)),\"\",VLOOKUP(Egresados!$N$8:$N$705,Maestros!$D$31:$E$530,2,0))","v":"223"},{"$f":"IF(ISERROR(VLOOKUP(Egresados!$O88,Maestros!$G$31:$J$1030,2,0)),\"\",VLOOKUP(Egresados!$O88,Maestros!$G$31:$J$1030,2,0))","v":"8"},{"$f":"CONCATENATE(Egresados!$Z$8:$Z$705,\"a\",Egresados!$AA$8:$AA$705)","v":"223a8"},{"$f":"IF(ISERROR(VLOOKUP(Egresados!$P88,Maestros!$L$31:$Q$1030,2,0)),\"\",VLOOKUP(Egresados!$P88,Maestros!$L$31:$Q$1030,2,0))","v":"320"},{"$f":"CONCATENATE(Egresados!$Z$8:$Z$705,\"a\",Egresados!$AA$8:$AA$705,\"a\",Egresados!$AC$8:$AC$705)","v":"223a8a320"},{"$f":"IF(ISERROR(VLOOKUP(Egresados!$C$8:$C$705,Maestros!$A$4:$B$21,2,0)),\"\",VLOOKUP(Egresados!$C$8:$C$705,Maestros!$A$4:$B$21,2,0))","v":"1001"},{"$f":"IF(ISERROR(VLOOKUP(Egresados!$H$8:$H$705,Maestros!$D$4:$E$21,2,0)),\"\",VLOOKUP(Egresados!$H$8:$H$705,Maestros!$D$4:$E$21,2,0))","v":"1121"},{"$f":"IF(OR(UPPER(Egresados!$J$8:$J$705)=\"SI\",UPPER(Egresados!$J$8:$J$705)=\"SÍ\"),1,IF(UPPER(Egresados!$J$8:$J$705)=\"NO\",0,\"\"))","v":0},{"$f":"IF(OR(UPPER(Egresados!$R$8:$R$705)=\"SI\",UPPER(Egresados!$R$8:$R$705)=\"SÍ\"),1,IF(UPPER(Egresados!$R$8:$R$705)=\"NO\",0,\"\"))","v":""},{"$f":"IF(OR(UPPER(Egresados!$S$8:$S$705)=\"SI\",UPPER(Egresados!$S$8:$S$705)=\"SÍ\"),1,IF(UPPER(Egresados!$S$8:$S$705)=\"NO\",0,\"\"))","v":""},{"$f":"IF(ISERROR(VLOOKUP(Egresados!$T$8:$T$705,Maestros!$S$31:$T$530,2,0)),\"\",VLOOKUP(Egresados!$T$8:$T$705,Maestros!$S$31:$T$530,2,0))","v":"62"},{"$f":"IF(ISERROR(VLOOKUP(U88,Maestros!$S$31:$T$530,2,0)),\"\",VLOOKUP(U88,Maestros!$S$31:$T$530,2,0))","v":"62"},{"$f":"IF(ISERROR(VLOOKUP(Egresados!$K$8:$K$705,Maestros!$A$31:$B$130,2,0)),\"\",VLOOKUP(Egresados!$K$8:$K$705,Maestros!$A$31:$B$130,2,0))","v":""},{"$f":"IF(LEN(tablaEgresados[[#This Row],[Nota promedio]])>0,ROUND(tablaEgresados[[#This Row],[Nota promedio]],2),\"\")","v":15.04}]
[81,null,"DNI","73874637","PEREZ","QUISPE","GREGORIO ANGEL","MASCULINO",null,"NO",null,null,null,"2020-1","SEDE CENTRAL","BIOLOGIA - CIENCIAS NATURALES",14.67,null,null,"2015-1","2015-1","20151529@une.edu.pe","angelpq_10@hotmail.com",3133700,"951829227",{"$f":"IF(ISERROR(VLOOKUP(Egresados!$N$8:$N$705,Maestros!$D$31:$E$530,2,0)),\"\",VLOOKUP(Egresados!$N$8:$N$705,Maestros!$D$31:$E$530,2,0))","v":"223"},{"$f":"IF(ISERROR(VLOOKUP(Egresados!$O89,Maestros!$G$31:$J$1030,2,0)),\"\",VLOOKUP(Egresados!$O89,Maestros!$G$31:$J$1030,2,0))","v":"8"},{"$f":"CONCATENATE(Egresados!$Z$8:$Z$705,\"a\",Egresados!$AA$8:$AA$705)","v":"223a8"},{"$f":"IF(ISERROR(VLOOKUP(Egresados!$P89,Maestros!$L$31:$Q$1030,2,0)),\"\",VLOOKUP(Egresados!$P89,Maestros!$L$31:$Q$1030,2,0))","v":"346"},{"$f":"CONCATENATE(Egresados!$Z$8:$Z$705,\"a\",Egresados!$AA$8:$AA$705,\"a\",Egresados!$AC$8:$AC$705)","v":"223a8a346"},{"$f":"IF(ISERROR(VLOOKUP(Egresados!$C$8:$C$705,Maestros!$A$4:$B$21,2,0)),\"\",VLOOKUP(Egresados!$C$8:$C$705,Maestros!$A$4:$B$21,2,0))","v":"1001"},{"$f":"IF(ISERROR(VLOOKUP(Egresados!$H$8:$H$705,Maestros!$D$4:$E$21,2,0)),\"\",VLOOKUP(Egresados!$H$8:$H$705,Maestros!$D$4:$E$21,2,0))","v":"1121"},{"$f":"IF(OR(UPPER(Egresados!$J$8:$J$705)=\"SI\",UPPER(Egresados!$J$8:$J$705)=\"SÍ\"),1,IF(UPPER(Egresados!$J$8:$J$705)=\"NO\",0,\"\"))","v":0},{"$f":"IF(OR(UPPER(Egresados!$R$8:$R$705)=\"SI\",UPPER(Egresados!$R$8:$R$705)=\"SÍ\"),1,IF(UPPER(Egresados!$R$8:$R$705)=\"NO\",0,\"\"))","v":""},{"$f":"IF(OR(UPPER(Egresados!$S$8:$S$705)=\"SI\",UPPER(Egresados!$S$8:$S$705)=\"SÍ\"),1,IF(UPPER(Egresados!$S$8:$S$705)=\"NO\",0,\"\"))","v":""},{"$f":"IF(ISERROR(VLOOKUP(Egresados!$T$8:$T$705,Maestros!$S$31:$T$530,2,0)),\"\",VLOOKUP(Egresados!$T$8:$T$705,Maestros!$S$31:$T$530,2,0))","v":"62"},{"$f":"IF(ISERROR(VLOOKUP(U89,Maestros!$S$31:$T$530,2,0)),\"\",VLOOKUP(U89,Maestros!$S$31:$T$530,2,0))","v":"62"},{"$f":"IF(ISERROR(VLOOKUP(Egresados!$K$8:$K$705,Maestros!$A$31:$B$130,2,0)),\"\",VLOOKUP(Egresados!$K$8:$K$705,Maestros!$A$31:$B$130,2,0))","v":""},{"$f":"IF(LEN(tablaEgresados[[#This Row],[Nota promedio]])>0,ROUND(tablaEgresados[[#This Row],[Nota promedio]],2),\"\")","v":14.67}]
[82,null,"DNI","72957605","PORTILLA","CORTEZ","ROCIO","FEMENINO",null,"NO",null,null,null,"2020-1","SEDE CENTRAL","BIOLOGIA - CIENCIAS NATURALES",15.11,null,null,"2013-1","2013-1","20131523@une.edu.pe","portillarocio800@gmail.com",3133700,"989904721",{"$f":"IF(ISERROR(VLOOKUP(Egresados!$N$8:$N$705,Maestros!$D$31:$E$530,2,0)),\"\",VLOOKUP(Egresados!$N$8:$N$705,Maestros!$D$31:$E$530,2,0))","v":"223"},{"$f":"IF(ISERROR(VLOOKUP(Egresados!$O90,Maestros!$G$31:$J$1030,2,0)),\"\",VLOOKUP(Egresados!$O90,Maestros!$G$31:$J$1030,2,0))","v":"8"},{"$f":"CONCATENATE(Egresados!$Z$8:$Z$705,\"a\",Egresados!$AA$8:$AA$705)","v":"223a8"},{"$f":"IF(ISERROR(VLOOKUP(Egresados!$P90,Maestros!$L$31:$Q$1030,2,0)),\"\",VLOOKUP(Egresados!$P90,Maestros!$L$31:$Q$1030,2,0))","v":"346"},{"$f":"CONCATENATE(Egresados!$Z$8:$Z$705,\"a\",Egresados!$AA$8:$AA$705,\"a\",Egresados!$AC$8:$AC$705)","v":"223a8a346"},{"$f":"IF(ISERROR(VLOOKUP(Egresados!$C$8:$C$705,Maestros!$A$4:$B$21,2,0)),\"\",VLOOKUP(Egresados!$C$8:$C$705,Maestros!$A$4:$B$21,2,0))","v":"1001"},{"$f":"IF(ISERROR(VLOOKUP(Egresados!$H$8:$H$705,Maestros!$D$4:$E$21,2,0)),\"\",VLOOKUP(Egresados!$H$8:$H$705,Maestros!$D$4:$E$21,2,0))","v":"1122"},{"$f":"IF(OR(UPPER(Egresados!$J$8:$J$705)=\"SI\",UPPER(Egresados!$J$8:$J$705)=\"SÍ\"),1,IF(UPPER(Egresados!$J$8:$J$705)=\"NO\",0,\"\"))","v":0},{"$f":"IF(OR(UPPER(Egresados!$R$8:$R$705)=\"SI\",UPPER(Egresados!$R$8:$R$705)=\"SÍ\"),1,IF(UPPER(Egresados!$R$8:$R$705)=\"NO\",0,\"\"))","v":""},{"$f":"IF(OR(UPPER(Egresados!$S$8:$S$705)=\"SI\",UPPER(Egresados!$S$8:$S$705)=\"SÍ\"),1,IF(UPPER(Egresados!$S$8:$S$705)=\"NO\",0,\"\"))","v":""},{"$f":"IF(ISERROR(VLOOKUP(Egresados!$T$8:$T$705,Maestros!$S$31:$T$530,2,0)),\"\",VLOOKUP(Egresados!$T$8:$T$705,Maestros!$S$31:$T$530,2,0))","v":"54"},{"$f":"IF(ISERROR(VLOOKUP(U90,Maestros!$S$31:$T$530,2,0)),\"\",VLOOKUP(U90,Maestros!$S$31:$T$530,2,0))","v":"54"},{"$f":"IF(ISERROR(VLOOKUP(Egresados!$K$8:$K$705,Maestros!$A$31:$B$130,2,0)),\"\",VLOOKUP(Egresados!$K$8:$K$705,Maestros!$A$31:$B$130,2,0))","v":""},{"$f":"IF(LEN(tablaEgresados[[#This Row],[Nota promedio]])>0,ROUND(tablaEgresados[[#This Row],[Nota promedio]],2),\"\")","v":15.11}]
[83,null,"DNI","08408580","CASTRO","CENTURION","MARILU MARLENY","FEMENINO",null,"NO",null,null,null,"2020-1","SEDE CENTRAL","BIOLOGIA - CIENCIAS NATURALES",14.16,null,null,"2014-1","2014-1","20142731@une.edu.pe","solaris123@gmail.com",3133700,976486001,{"$f":"IF(ISERROR(VLOOKUP(Egresados!$N$8:$N$705,Maestros!$D$31:$E$530,2,0)),\"\",VLOOKUP(Egresados!$N$8:$N$705,Maestros!$D$31:$E$530,2,0))","v":"223"},{"$f":"IF(ISERROR(VLOOKUP(Egresados!$O91,Maestros!$G$31:$J$1030,2,0)),\"\",VLOOKUP(Egresados!$O91,Maestros!$G$31:$J$1030,2,0))","v":"8"},{"$f":"CONCATENATE(Egresados!$Z$8:$Z$705,\"a\",Egresados!$AA$8:$AA$705)","v":"223a8"},{"$f":"IF(ISERROR(VLOOKUP(Egresados!$P91,Maestros!$L$31:$Q$1030,2,0)),\"\",VLOOKUP(Egresados!$P91,Maestros!$L$31:$Q$1030,2,0))","v":"346"},{"$f":"CONCATENATE(Egresados!$Z$8:$Z$705,\"a\",Egresados!$AA$8:$AA$705,\"a\",Egresados!$AC$8:$AC$705)","v":"223a8a346"},{"$f":"IF(ISERROR(VLOOKUP(Egresados!$C$8:$C$705,Maestros!$A$4:$B$21,2,0)),\"\",VLOOKUP(Egresados!$C$8:$C$705,Maestros!$A$4:$B$21,2,0))","v":"1001"},{"$f":"IF(ISERROR(VLOOKUP(Egresados!$H$8:$H$705,Maestros!$D$4:$E$21,2,0)),\"\",VLOOKUP(Egresados!$H$8:$H$705,Maestros!$D$4:$E$21,2,0))","v":"1122"},{"$f":"IF(OR(UPPER(Egresados!$J$8:$J$705)=\"SI\",UPPER(Egresados!$J$8:$J$705)=\"SÍ\"),1,IF(UPPER(Egresados!$J$8:$J$705)=\"NO\",0,\"\"))","v":0},{"$f":"IF(OR(UPPER(Egresados!$R$8:$R$705)=\"SI\",UPPER(Egresados!$R$8:$R$705)=\"SÍ\"),1,IF(UPPER(Egresados!$R$8:$R$705)=\"NO\",0,\"\"))","v":""},{"$f":"IF(OR(UPPER(Egresados!$S$8:$S$705)=\"SI\",UPPER(Egresados!$S$8:$S$705)=\"SÍ\"),1,IF(UPPER(Egresados!$S$8:$S$705)=\"NO\",0,\"\"))","v":""},{"$f":"IF(ISERROR(VLOOKUP(Egresados!$T$8:$T$705,Maestros!$S$31:$T$530,2,0)),\"\",VLOOKUP(Egresados!$T$8:$T$705,Maestros!$S$31:$T$530,2,0))","v":"58"},{"$f":"IF(ISERROR(VLOOKUP(U91,Maestros!$S$31:$T$530,2,0)),\"\",VLOOKUP(U91,Maestros!$S$31:$T$530,2,0))","v":"58"},{"$f":"IF(ISERROR(VLOOKUP(Egresados!$K$8:$K$705,Maestros!$A$31:$B$130,2,0)),\"\",VLOOKUP(Egresados!$K$8:$K$705,Maestros!$A$31:$B$130,2,0))","v":""},{"$f":"IF(LEN(tablaEgresados[[#This Row],[Nota promedio]])>0,ROUND(tablaEgresados[[#This Row],[Nota promedio]],2),\"\")","v":14.16}]
[84,null,"DNI","73654780","CHAHUAYLA","SULLCARAY","AMANDA","FEMENINO",null,"NO",null,null,null,"2020-1","SEDE CENTRAL","BIOLOGIA - CIENCIAS NATURALES",14.31,null,null,"2015-1","2015-1","20150766@une.edu.pe","chahuaylaamanda81@gmail.com",3133700,"992950368",{"$f":"IF(ISERROR(VLOOKUP(Egresados!$N$8:$N$705,Maestros!$D$31:$E$530,2,0)),\"\",VLOOKUP(Egresados!$N$8:$N$705,Maestros!$D$31:$E$530,2,0))","v":"223"},{"$f":"IF(ISERROR(VLOOKUP(Egresados!$O92,Maestros!$G$31:$J$1030,2,0)),\"\",VLOOKUP(Egresados!$O92,Maestros!$G$31:$J$1030,2,0))","v":"8"},{"$f":"CONCATENATE(Egresados!$Z$8:$Z$705,\"a\",Egresados!$AA$8:$AA$705)","v":"223a8"},{"$f":"IF(ISERROR(VLOOKUP(Egresados!$P92,Maestros!$L$31:$Q$1030,2,0)),\"\",VLOOKUP(Egresados!$P92,Maestros!$L$31:$Q$1030,2,0))","v":"346"},{"$f":"CONCATENATE(Egresados!$Z$8:$Z$705,\"a\",Egresados!$AA$8:$AA$705,\"a\",Egresados!$AC$8:$AC$705)","v":"223a8a346"},{"$f":"IF(ISERROR(VLOOKUP(Egresados!$C$8:$C$705,Maestros!$A$4:$B$21,2,0)),\"\",VLOOKUP(Egresados!$C$8:$C$705,Maestros!$A$4:$B$21,2,0))","v":"1001"},{"$f":"IF(ISERROR(VLOOKUP(Egresados!$H$8:$H$705,Maestros!$D$4:$E$21,2,0)),\"\",VLOOKUP(Egresados!$H$8:$H$705,Maestros!$D$4:$E$21,2,0))","v":"1122"},{"$f":"IF(OR(UPPER(Egresados!$J$8:$J$705)=\"SI\",UPPER(Egresados!$J$8:$J$705)=\"SÍ\"),1,IF(UPPER(Egresados!$J$8:$J$705)=\"NO\",0,\"\"))","v":0},{"$f":"IF(OR(UPPER(Egresados!$R$8:$R$705)=\"SI\",UPPER(Egresados!$R$8:$R$705)=\"SÍ\"),1,IF(UPPER(Egresados!$R$8:$R$705)=\"NO\",0,\"\"))","v":""},{"$f":"IF(OR(UPPER(Egresados!$S$8:$S$705)=\"SI\",UPPER(Egresados!$S$8:$S$705)=\"SÍ\"),1,IF(UPPER(Egresados!$S$8:$S$705)=\"NO\",0,\"\"))","v":""},{"$f":"IF(ISERROR(VLOOKUP(Egresados!$T$8:$T$705,Maestros!$S$31:$T$530,2,0)),\"\",VLOOKUP(Egresados!$T$8:$T$705,Maestros!$S$31:$T$530,2,0))","v":"62"},{"$f":"IF(ISERROR(VLOOKUP(U92,Maestros!$S$31:$T$530,2,0)),\"\",VLOOKUP(U92,Maestros!$S$31:$T$530,2,0))","v":"62"},{"$f":"IF(ISERROR(VLOOKUP(Egresados!$K$8:$K$705,Maestros!$A$31:$B$130,2,0)),\"\",VLOOKUP(Egresados!$K$8:$K$705,Maestros!$A$31:$B$130,2,0))","v":""},{"$f":"IF(LEN(tablaEgresados[[#This Row],[Nota promedio]])>0,ROUND(tablaEgresados[[#This Row],[Nota promedio]],2),\"\")","v":14.31}]
[85,null,"DNI","70284196","MASGO","CHOQUEHUANCA","MANUEL GIOVANY","MASCULINO",null,"NO",null,null,null,"2020-1","SEDE CENTRAL","BIOLOGIA - CIENCIAS NATURALES",15.67,null,null,"2015-1","2015-1","20151524@une.edu.pe","28masman@gmail.com",3133700,976486001,{"$f":"IF(ISERROR(VLOOKUP(Egresados!$N$8:$N$705,Maestros!$D$31:$E$530,2,0)),\"\",VLOOKUP(Egresados!$N$8:$N$705,Maestros!$D$31:$E$530,2,0))","v":"223"},{"$f":"IF(ISERROR(VLOOKUP(Egresados!$O93,Maestros!$G$31:$J$1030,2,0)),\"\",VLOOKUP(Egresados!$O93,Maestros!$G$31:$J$1030,2,0))","v":"8"},{"$f":"CONCATENATE(Egresados!$Z$8:$Z$705,\"a\",Egresados!$AA$8:$AA$705)","v":"223a8"},{"$f":"IF(ISERROR(VLOOKUP(Egresados!$P93,Maestros!$L$31:$Q$1030,2,0)),\"\",VLOOKUP(Egresados!$P93,Maestros!$L$31:$Q$1030,2,0))","v":"346"},{"$f":"CONCATENATE(Egresados!$Z$8:$Z$705,\"a\",Egresados!$AA$8:$AA$705,\"a\",Egresados!$AC$8:$AC$705)","v":"223a8a346"},{"$f":"IF(ISERROR(VLOOKUP(Egresados!$C$8:$C$705,Maestros!$A$4:$B$21,2,0)),\"\",VLOOKUP(Egresados!$C$8:$C$705,Maestros!$A$4:$B$21,2,0))","v":"1001"},{"$f":"IF(ISERROR(VLOOKUP(Egresados!$H$8:$H$705,Maestros!$D$4:$E$21,2,0)),\"\",VLOOKUP(Egresados!$H$8:$H$705,Maestros!$D$4:$E$21,2,0))","v":"1121"},{"$f":"IF(OR(UPPER(Egresados!$J$8:$J$705)=\"SI\",UPPER(Egresados!$J$8:$J$705)=\"SÍ\"),1,IF(UPPER(Egresados!$J$8:$J$705)=\"NO\",0,\"\"))","v":0},{"$f":"IF(OR(UPPER(Egresados!$R$8:$R$705)=\"SI\",UPPER(Egresados!$R$8:$R$705)=\"SÍ\"),1,IF(UPPER(Egresados!$R$8:$R$705)=\"NO\",0,\"\"))","v":""},{"$f":"IF(OR(UPPER(Egresados!$S$8:$S$705)=\"SI\",UPPER(Egresados!$S$8:$S$705)=\"SÍ\"),1,IF(UPPER(Egresados!$S$8:$S$705)=\"NO\",0,\"\"))","v":""},{"$f":"IF(ISERROR(VLOOKUP(Egresados!$T$8:$T$705,Maestros!$S$31:$T$530,2,0)),\"\",VLOOKUP(Egresados!$T$8:$T$705,Maestros!$S$31:$T$530,2,0))","v":"62"},{"$f":"IF(ISERROR(VLOOKUP(U93,Maestros!$S$31:$T$530,2,0)),\"\",VLOOKUP(U93,Maestros!$S$31:$T$530,2,0))","v":"62"},{"$f":"IF(ISERROR(VLOOKUP(Egresados!$K$8:$K$705,Maestros!$A$31:$B$130,2,0)),\"\",VLOOKUP(Egresados!$K$8:$K$705,Maestros!$A$31:$B$130,2,0))","v":""},{"$f":"IF(LEN(tablaEgresados[[#This Row],[Nota promedio]])>0,ROUND(tablaEgresados[[#This Row],[Nota promedio]],2),\"\")","v":15.67}]
[86,null,"DNI","76284189","LOERA","BALENZUELA","DIANA MELISSA","FEMENINO",null,"NO",null,null,null,"2020-1","SEDE CENTRAL","BIOLOGIA - CIENCIAS NATURALES",15.94,null,null,"2014-1","2014-1","20140811@une.edu.pe","loerabalenzueladiana@gmail.com",3133700,"997667855",{"$f":"IF(ISERROR(VLOOKUP(Egresados!$N$8:$N$705,Maestros!$D$31:$E$530,2,0)),\"\",VLOOKUP(Egresados!$N$8:$N$705,Maestros!$D$31:$E$530,2,0))","v":"223"},{"$f":"IF(ISERROR(VLOOKUP(Egresados!$O94,Maestros!$G$31:$J$1030,2,0)),\"\",VLOOKUP(Egresados!$O94,Maestros!$G$31:$J$1030,2,0))","v":"8"},{"$f":"CONCATENATE(Egresados!$Z$8:$Z$705,\"a\",Egresados!$AA$8:$AA$705)","v":"223a8"},{"$f":"IF(ISERROR(VLOOKUP(Egresados!$P94,Maestros!$L$31:$Q$1030,2,0)),\"\",VLOOKUP(Egresados!$P94,Maestros!$L$31:$Q$1030,2,0))","v":"346"},{"$f":"CONCATENATE(Egresados!$Z$8:$Z$705,\"a\",Egresados!$AA$8:$AA$705,\"a\",Egresados!$AC$8:$AC$705)","v":"223a8a346"},{"$f":"IF(ISERROR(VLOOKUP(Egresados!$C$8:$C$705,Maestros!$A$4:$B$21,2,0)),\"\",VLOOKUP(Egresados!$C$8:$C$705,Maestros!$A$4:$B$21,2,0))","v":"1001"},{"$f":"IF(ISERROR(VLOOKUP(Egresados!$H$8:$H$705,Maestros!$D$4:$E$21,2,0)),\"\",VLOOKUP(Egresados!$H$8:$H$705,Maestros!$D$4:$E$21,2,0))","v":"1122"},{"$f":"IF(OR(UPPER(Egresados!$J$8:$J$705)=\"SI\",UPPER(Egresados!$J$8:$J$705)=\"SÍ\"),1,IF(UPPER(Egresados!$J$8:$J$705)=\"NO\",0,\"\"))","v":0},{"$f":"IF(OR(UPPER(Egresados!$R$8:$R$705)=\"SI\",UPPER(Egresados!$R$8:$R$705)=\"SÍ\"),1,IF(UPPER(Egresados!$R$8:$R$705)=\"NO\",0,\"\"))","v":""},{"$f":"IF(OR(UPPER(Egresados!$S$8:$S$705)=\"SI\",UPPER(Egresados!$S$8:$S$705)=\"SÍ\"),1,IF(UPPER(Egresados!$S$8:$S$705)=\"NO\",0,\"\"))","v":""},{"$f":"IF(ISERROR(VLOOKUP(Egresados!$T$8:$T$705,Maestros!$S$31:$T$530,2,0)),\"\",VLOOKUP(Egresados!$T$8:$T$705,Maestros!$S$31:$T$530,2,0))","v":"58"},{"$f":"IF(ISERROR(VLOOKUP(U94,Maestros!$S$31:$T$530,2,0)),\"\",VLOOKUP(U94,Maestros!$S$31:$T$530,2,0))","v":"58"},{"$f":"IF(ISERROR(VLOOKUP(Egresados!$K$8:$K$705,Maestros!$A$31:$B$130,2,0)),\"\",VLOOKUP(Egresados!$K$8:$K$705,Maestros!$A$31:$B$130,2,0))","v":""},{"$f":"IF(LEN(tablaEgresados[[#This Row],[Nota promedio]])>0,ROUND(tablaEgresados[[#This Row],[Nota promedio]],2),\"\")","v":15.94}]
[87,null,"DNI","77690629","JANAMPA","RAMIREZ","YELSIN YOSIYAMA","MASCULINO",null,"NO",null,null,null,"2020-1","SEDE CENTRAL","BIOLOGIA - CIENCIAS NATURALES",14.84,null,null,"2015-1","2015-1","20151523@une.edu.pe","yelsinjr123@gmail.com",3133700,"933249462",{"$f":"IF(ISERROR(VLOOKUP(Egresados!$N$8:$N$705,Maestros!$D$31:$E$530,2,0)),\"\",VLOOKUP(Egresados!$N$8:$N$705,Maestros!$D$31:$E$530,2,0))","v":"223"},{"$f":"IF(ISERROR(VLOOKUP(Egresados!$O95,Maestros!$G$31:$J$1030,2,0)),\"\",VLOOKUP(Egresados!$O95,Maestros!$G$31:$J$1030,2,0))","v":"8"},{"$f":"CONCATENATE(Egresados!$Z$8:$Z$705,\"a\",Egresados!$AA$8:$AA$705)","v":"223a8"},{"$f":"IF(ISERROR(VLOOKUP(Egresados!$P95,Maestros!$L$31:$Q$1030,2,0)),\"\",VLOOKUP(Egresados!$P95,Maestros!$L$31:$Q$1030,2,0))","v":"346"},{"$f":"CONCATENATE(Egresados!$Z$8:$Z$705,\"a\",Egresados!$AA$8:$AA$705,\"a\",Egresados!$AC$8:$AC$705)","v":"223a8a346"},{"$f":"IF(ISERROR(VLOOKUP(Egresados!$C$8:$C$705,Maestros!$A$4:$B$21,2,0)),\"\",VLOOKUP(Egresados!$C$8:$C$705,Maestros!$A$4:$B$21,2,0))","v":"1001"},{"$f":"IF(ISERROR(VLOOKUP(Egresados!$H$8:$H$705,Maestros!$D$4:$E$21,2,0)),\"\",VLOOKUP(Egresados!$H$8:$H$705,Maestros!$D$4:$E$21,2,0))","v":"1121"},{"$f":"IF(OR(UPPER(Egresados!$J$8:$J$705)=\"SI\",UPPER(Egresados!$J$8:$J$705)=\"SÍ\"),1,IF(UPPER(Egresados!$J$8:$J$705)=\"NO\",0,\"\"))","v":0},{"$f":"IF(OR(UPPER(Egresados!$R$8:$R$705)=\"SI\",UPPER(Egresados!$R$8:$R$705)=\"SÍ\"),1,IF(UPPER(Egresados!$R$8:$R$705)=\"NO\",0,\"\"))","v":""},{"$f":"IF(OR(UPPER(Egresados!$S$8:$S$705)=\"SI\",UPPER(Egresados!$S$8:$S$705)=\"SÍ\"),1,IF(UPPER(Egresados!$S$8:$S$705)=\"NO\",0,\"\"))","v":""},{"$f":"IF(ISERROR(VLOOKUP(Egresados!$T$8:$T$705,Maestros!$S$31:$T$530,2,0)),\"\",VLOOKUP(Egresados!$T$8:$T$705,Maestros!$S$31:$T$530,2,0))","v":"62"},{"$f":"IF(ISERROR(VLOOKUP(U95,Maestros!$S$31:$T$530,2,0)),\"\",VLOOKUP(U95,Maestros!$S$31:$T$530,2,0))","v":"62"},{"$f":"IF(ISERROR(VLOOKUP(Egresados!$K$8:$K$705,Maestros!$A$31:$B$130,2,0)),\"\",VLOOKUP(Egresados!$K$8:$K$705,Maestros!$A$31:$B$130,2,0))","v":""},{"$f":"IF(LEN(tablaEgresados[[#This Row],[Nota promedio]])>0,ROUND(tablaEgresados[[#This Row],[Nota promedio]],2),\"\")","v":14.84}]
[88,null,"DNI","75774729","HUAYTALLA","CONDE","SILVIA","FEMENINO",null,"NO",null,null,null,"2020-1","SEDE CENTRAL","BIOLOGIA - CIENCIAS NATURALES",15.31,null,null,"2015-1","2015-1","20151522@une.edu.pe","huaytallacondesilvia@gmail.com",3133700,"991577514",{"$f":"IF(ISERROR(VLOOKUP(Egresados!$N$8:$N$705,Maestros!$D$31:$E$530,2,0)),\"\",VLOOKUP(Egresados!$N$8:$N$705,Maestros!$D$31:$E$530,2,0))","v":"223"},{"$f":"IF(ISERROR(VLOOKUP(Egresados!$O96,Maestros!$G$31:$J$1030,2,0)),\"\",VLOOKUP(Egresados!$O96,Maestros!$G$31:$J$1030,2,0))","v":"8"},{"$f":"CONCATENATE(Egresados!$Z$8:$Z$705,\"a\",Egresados!$AA$8:$AA$705)","v":"223a8"},{"$f":"IF(ISERROR(VLOOKUP(Egresados!$P96,Maestros!$L$31:$Q$1030,2,0)),\"\",VLOOKUP(Egresados!$P96,Maestros!$L$31:$Q$1030,2,0))","v":"346"},{"$f":"CONCATENATE(Egresados!$Z$8:$Z$705,\"a\",Egresados!$AA$8:$AA$705,\"a\",Egresados!$AC$8:$AC$705)","v":"223a8a346"},{"$f":"IF(ISERROR(VLOOKUP(Egresados!$C$8:$C$705,Maestros!$A$4:$B$21,2,0)),\"\",VLOOKUP(Egresados!$C$8:$C$705,Maestros!$A$4:$B$21,2,0))","v":"1001"},{"$f":"IF(ISERROR(VLOOKUP(Egresados!$H$8:$H$705,Maestros!$D$4:$E$21,2,0)),\"\",VLOOKUP(Egresados!$H$8:$H$705,Maestros!$D$4:$E$21,2,0))","v":"1122"},{"$f":"IF(OR(UPPER(Egresados!$J$8:$J$705)=\"SI\",UPPER(Egresados!$J$8:$J$705)=\"SÍ\"),1,IF(UPPER(Egresados!$J$8:$J$705)=\"NO\",0,\"\"))","v":0},{"$f":"IF(OR(UPPER(Egresados!$R$8:$R$705)=\"SI\",UPPER(Egresados!$R$8:$R$705)=\"SÍ\"),1,IF(UPPER(Egresados!$R$8:$R$705)=\"NO\",0,\"\"))","v":""},{"$f":"IF(OR(UPPER(Egresados!$S$8:$S$705)=\"SI\",UPPER(Egresados!$S$8:$S$705)=\"SÍ\"),1,IF(UPPER(Egresados!$S$8:$S$705)=\"NO\",0,\"\"))","v":""},{"$f":"IF(ISERROR(VLOOKUP(Egresados!$T$8:$T$705,Maestros!$S$31:$T$530,2,0)),\"\",VLOOKUP(Egresados!$T$8:$T$705,Maestros!$S$31:$T$530,2,0))","v":"62"},{"$f":"IF(ISERROR(VLOOKUP(U96,Maestros!$S$31:$T$530,2,0)),\"\",VLOOKUP(U96,Maestros!$S$31:$T$530,2,0))","v":"62"},{"$f":"IF(ISERROR(VLOOKUP(Egresados!$K$8:$K$705,Maestros!$A$31:$B$130,2,0)),\"\",VLOOKUP(Egresados!$K$8:$K$705,Maestros!$A$31:$B$130,2,0))","v":""},{"$f":"IF(LEN(tablaEgresados[[#This Row],[Nota promedio]])>0,ROUND(tablaEgresados[[#This Row],[Nota promedio]],2),\"\")","v":15.31}]
[89,null,"DNI","44587109","VIVANCO","FLORES","ANA MARIA","FEMENINO",null,"NO",null,null,null,"2020-1","SEDE CENTRAL","BIOLOGIA - CIENCIAS NATURALES",15.41,null,null,"2016-1","2016-1","20162155@une.edu.pe","any.melody@hotmail.com",3133700,"986967821",{"$f":"IF(ISERROR(VLOOKUP(Egresados!$N$8:$N$705,Maestros!$D$31:$E$530,2,0)),\"\",VLOOKUP(Egresados!$N$8:$N$705,Maestros!$D$31:$E$530,2,0))","v":"223"},{"$f":"IF(ISERROR(VLOOKUP(Egresados!$O97,Maestros!$G$31:$J$1030,2,0)),\"\",VLOOKUP(Egresados!$O97,Maestros!$G$31:$J$1030,2,0))","v":"8"},{"$f":"CONCATENATE(Egresados!$Z$8:$Z$705,\"a\",Egresados!$AA$8:$AA$705)","v":"223a8"},{"$f":"IF(ISERROR(VLOOKUP(Egresados!$P97,Maestros!$L$31:$Q$1030,2,0)),\"\",VLOOKUP(Egresados!$P97,Maestros!$L$31:$Q$1030,2,0))","v":"346"},{"$f":"CONCATENATE(Egresados!$Z$8:$Z$705,\"a\",Egresados!$AA$8:$AA$705,\"a\",Egresados!$AC$8:$AC$705)","v":"223a8a346"},{"$f":"IF(ISERROR(VLOOKUP(Egresados!$C$8:$C$705,Maestros!$A$4:$B$21,2,0)),\"\",VLOOKUP(Egresados!$C$8:$C$705,Maestros!$A$4:$B$21,2,0))","v":"1001"},{"$f":"IF(ISERROR(VLOOKUP(Egresados!$H$8:$H$705,Maestros!$D$4:$E$21,2,0)),\"\",VLOOKUP(Egresados!$H$8:$H$705,Maestros!$D$4:$E$21,2,0))","v":"1122"},{"$f":"IF(OR(UPPER(Egresados!$J$8:$J$705)=\"SI\",UPPER(Egresados!$J$8:$J$705)=\"SÍ\"),1,IF(UPPER(Egresados!$J$8:$J$705)=\"NO\",0,\"\"))","v":0},{"$f":"IF(OR(UPPER(Egresados!$R$8:$R$705)=\"SI\",UPPER(Egresados!$R$8:$R$705)=\"SÍ\"),1,IF(UPPER(Egresados!$R$8:$R$705)=\"NO\",0,\"\"))","v":""},{"$f":"IF(OR(UPPER(Egresados!$S$8:$S$705)=\"SI\",UPPER(Egresados!$S$8:$S$705)=\"SÍ\"),1,IF(UPPER(Egresados!$S$8:$S$705)=\"NO\",0,\"\"))","v":""},{"$f":"IF(ISERROR(VLOOKUP(Egresados!$T$8:$T$705,Maestros!$S$31:$T$530,2,0)),\"\",VLOOKUP(Egresados!$T$8:$T$705,Maestros!$S$31:$T$530,2,0))","v":"66"},{"$f":"IF(ISERROR(VLOOKUP(U97,Maestros!$S$31:$T$530,2,0)),\"\",VLOOKUP(U97,Maestros!$S$31:$T$530,2,0))","v":"66"},{"$f":"IF(ISERROR(VLOOKUP(Egresados!$K$8:$K$705,Maestros!$A$31:$B$130,2,0)),\"\",VLOOKUP(Egresados!$K$8:$K$705,Maestros!$A$31:$B$130,2,0))","v":""},{"$f":"IF(LEN(tablaEgresados[[#This Row],[Nota promedio]])>0,ROUND(tablaEgresados[[#This Row],[Nota promedio]],2),\"\")","v":15.41}]
[90,null,"DNI","47787312","MESTAS","CONDORI","JEAN PIERE ANTHONY","MASCULINO",null,"NO",null,null,null,"2020-1","SEDE CENTRAL","BIOLOGIA - CIENCIAS NATURALES",14.86,null,null,"2015-1","2015-1","20151525@une.edu.pe","jeanthony_09_99@hotmail.com",3133700,"986169339",{"$f":"IF(ISERROR(VLOOKUP(Egresados!$N$8:$N$705,Maestros!$D$31:$E$530,2,0)),\"\",VLOOKUP(Egresados!$N$8:$N$705,Maestros!$D$31:$E$530,2,0))","v":"223"},{"$f":"IF(ISERROR(VLOOKUP(Egresados!$O98,Maestros!$G$31:$J$1030,2,0)),\"\",VLOOKUP(Egresados!$O98,Maestros!$G$31:$J$1030,2,0))","v":"8"},{"$f":"CONCATENATE(Egresados!$Z$8:$Z$705,\"a\",Egresados!$AA$8:$AA$705)","v":"223a8"},{"$f":"IF(ISERROR(VLOOKUP(Egresados!$P98,Maestros!$L$31:$Q$1030,2,0)),\"\",VLOOKUP(Egresados!$P98,Maestros!$L$31:$Q$1030,2,0))","v":"346"},{"$f":"CONCATENATE(Egresados!$Z$8:$Z$705,\"a\",Egresados!$AA$8:$AA$705,\"a\",Egresados!$AC$8:$AC$705)","v":"223a8a346"},{"$f":"IF(ISERROR(VLOOKUP(Egresados!$C$8:$C$705,Maestros!$A$4:$B$21,2,0)),\"\",VLOOKUP(Egresados!$C$8:$C$705,Maestros!$A$4:$B$21,2,0))","v":"1001"},{"$f":"IF(ISERROR(VLOOKUP(Egresados!$H$8:$H$705,Maestros!$D$4:$E$21,2,0)),\"\",VLOOKUP(Egresados!$H$8:$H$705,Maestros!$D$4:$E$21,2,0))","v":"1121"},{"$f":"IF(OR(UPPER(Egresados!$J$8:$J$705)=\"SI\",UPPER(Egresados!$J$8:$J$705)=\"SÍ\"),1,IF(UPPER(Egresados!$J$8:$J$705)=\"NO\",0,\"\"))","v":0},{"$f":"IF(OR(UPPER(Egresados!$R$8:$R$705)=\"SI\",UPPER(Egresados!$R$8:$R$705)=\"SÍ\"),1,IF(UPPER(Egresados!$R$8:$R$705)=\"NO\",0,\"\"))","v":""},{"$f":"IF(OR(UPPER(Egresados!$S$8:$S$705)=\"SI\",UPPER(Egresados!$S$8:$S$705)=\"SÍ\"),1,IF(UPPER(Egresados!$S$8:$S$705)=\"NO\",0,\"\"))","v":""},{"$f":"IF(ISERROR(VLOOKUP(Egresados!$T$8:$T$705,Maestros!$S$31:$T$530,2,0)),\"\",VLOOKUP(Egresados!$T$8:$T$705,Maestros!$S$31:$T$530,2,0))","v":"62"},{"$f":"IF(ISERROR(VLOOKUP(U98,Maestros!$S$31:$T$530,2,0)),\"\",VLOOKUP(U98,Maestros!$S$31:$T$530,2,0))","v":"62"},{"$f":"IF(ISERROR(VLOOKUP(Egresados!$K$8:$K$705,Maestros!$A$31:$B$130,2,0)),\"\",VLOOKUP(Egresados!$K$8:$K$705,Maestros!$A$31:$B$130,2,0))","v":""},{"$f":"IF(LEN(tablaEgresados[[#This Row],[Nota promedio]])>0,ROUND(tablaEgresados[[#This Row],[Nota promedio]],2),\"\")","v":14.86}]
[91,null,"DNI","43005719","SOTO","TANTAVILCA","VICTOR ALBERTO","MASCULINO",null,"NO",null,null,null,"2020-1","SEDE CENTRAL","BIOLOGIA - CIENCIAS NATURALES",14.31,null,null,"2016-1","2016-1","20163105@une.edu.pe","victortantavilca@gmail.com",3133700,"958188722",{"$f":"IF(ISERROR(VLOOKUP(Egresados!$N$8:$N$705,Maestros!$D$31:$E$530,2,0)),\"\",VLOOKUP(Egresados!$N$8:$N$705,Maestros!$D$31:$E$530,2,0))","v":"223"},{"$f":"IF(ISERROR(VLOOKUP(Egresados!$O99,Maestros!$G$31:$J$1030,2,0)),\"\",VLOOKUP(Egresados!$O99,Maestros!$G$31:$J$1030,2,0))","v":"8"},{"$f":"CONCATENATE(Egresados!$Z$8:$Z$705,\"a\",Egresados!$AA$8:$AA$705)","v":"223a8"},{"$f":"IF(ISERROR(VLOOKUP(Egresados!$P99,Maestros!$L$31:$Q$1030,2,0)),\"\",VLOOKUP(Egresados!$P99,Maestros!$L$31:$Q$1030,2,0))","v":"346"},{"$f":"CONCATENATE(Egresados!$Z$8:$Z$705,\"a\",Egresados!$AA$8:$AA$705,\"a\",Egresados!$AC$8:$AC$705)","v":"223a8a346"},{"$f":"IF(ISERROR(VLOOKUP(Egresados!$C$8:$C$705,Maestros!$A$4:$B$21,2,0)),\"\",VLOOKUP(Egresados!$C$8:$C$705,Maestros!$A$4:$B$21,2,0))","v":"1001"},{"$f":"IF(ISERROR(VLOOKUP(Egresados!$H$8:$H$705,Maestros!$D$4:$E$21,2,0)),\"\",VLOOKUP(Egresados!$H$8:$H$705,Maestros!$D$4:$E$21,2,0))","v":"1121"},{"$f":"IF(OR(UPPER(Egresados!$J$8:$J$705)=\"SI\",UPPER(Egresados!$J$8:$J$705)=\"SÍ\"),1,IF(UPPER(Egresados!$J$8:$J$705)=\"NO\",0,\"\"))","v":0},{"$f":"IF(OR(UPPER(Egresados!$R$8:$R$705)=\"SI\",UPPER(Egresados!$R$8:$R$705)=\"SÍ\"),1,IF(UPPER(Egresados!$R$8:$R$705)=\"NO\",0,\"\"))","v":""},{"$f":"IF(OR(UPPER(Egresados!$S$8:$S$705)=\"SI\",UPPER(Egresados!$S$8:$S$705)=\"SÍ\"),1,IF(UPPER(Egresados!$S$8:$S$705)=\"NO\",0,\"\"))","v":""},{"$f":"IF(ISERROR(VLOOKUP(Egresados!$T$8:$T$705,Maestros!$S$31:$T$530,2,0)),\"\",VLOOKUP(Egresados!$T$8:$T$705,Maestros!$S$31:$T$530,2,0))","v":"66"},{"$f":"IF(ISERROR(VLOOKUP(U99,Maestros!$S$31:$T$530,2,0)),\"\",VLOOKUP(U99,Maestros!$S$31:$T$530,2,0))","v":"66"},{"$f":"IF(ISERROR(VLOOKUP(Egresados!$K$8:$K$705,Maestros!$A$31:$B$130,2,0)),\"\",VLOOKUP(Egresados!$K$8:$K$705,Maestros!$A$31:$B$130,2,0))","v":""},{"$f":"IF(LEN(tablaEgresados[[#This Row],[Nota promedio]])>0,ROUND(tablaEgresados[[#This Row],[Nota promedio]],2),\"\")","v":14.31}]
[92,null,"DNI","75687160","PALACIOS","SACCSARA","ESTEFANY VICTORIA","FEMENINO",null,"NO",null,null,null,"2020-1","SEDE CENTRAL","BIOLOGIA - CIENCIAS NATURALES",14.5,null,null,"2015-1","2015-1","20151528@une.edu.pe","estefanypalaciossaccsara@gmail.com",3133700,"944128159",{"$f":"IF(ISERROR(VLOOKUP(Egresados!$N$8:$N$705,Maestros!$D$31:$E$530,2,0)),\"\",VLOOKUP(Egresados!$N$8:$N$705,Maestros!$D$31:$E$530,2,0))","v":"223"},{"$f":"IF(ISERROR(VLOOKUP(Egresados!$O100,Maestros!$G$31:$J$1030,2,0)),\"\",VLOOKUP(Egresados!$O100,Maestros!$G$31:$J$1030,2,0))","v":"8"},{"$f":"CONCATENATE(Egresados!$Z$8:$Z$705,\"a\",Egresados!$AA$8:$AA$705)","v":"223a8"},{"$f":"IF(ISERROR(VLOOKUP(Egresados!$P100,Maestros!$L$31:$Q$1030,2,0)),\"\",VLOOKUP(Egresados!$P100,Maestros!$L$31:$Q$1030,2,0))","v":"346"},{"$f":"CONCATENATE(Egresados!$Z$8:$Z$705,\"a\",Egresados!$AA$8:$AA$705,\"a\",Egresados!$AC$8:$AC$705)","v":"223a8a346"},{"$f":"IF(ISERROR(VLOOKUP(Egresados!$C$8:$C$705,Maestros!$A$4:$B$21,2,0)),\"\",VLOOKUP(Egresados!$C$8:$C$705,Maestros!$A$4:$B$21,2,0))","v":"1001"},{"$f":"IF(ISERROR(VLOOKUP(Egresados!$H$8:$H$705,Maestros!$D$4:$E$21,2,0)),\"\",VLOOKUP(Egresados!$H$8:$H$705,Maestros!$D$4:$E$21,2,0))","v":"1122"},{"$f":"IF(OR(UPPER(Egresados!$J$8:$J$705)=\"SI\",UPPER(Egresados!$J$8:$J$705)=\"SÍ\"),1,IF(UPPER(Egresados!$J$8:$J$705)=\"NO\",0,\"\"))","v":0},{"$f":"IF(OR(UPPER(Egresados!$R$8:$R$705)=\"SI\",UPPER(Egresados!$R$8:$R$705)=\"SÍ\"),1,IF(UPPER(Egresados!$R$8:$R$705)=\"NO\",0,\"\"))","v":""},{"$f":"IF(OR(UPPER(Egresados!$S$8:$S$705)=\"SI\",UPPER(Egresados!$S$8:$S$705)=\"SÍ\"),1,IF(UPPER(Egresados!$S$8:$S$705)=\"NO\",0,\"\"))","v":""},{"$f":"IF(ISERROR(VLOOKUP(Egresados!$T$8:$T$705,Maestros!$S$31:$T$530,2,0)),\"\",VLOOKUP(Egresados!$T$8:$T$705,Maestros!$S$31:$T$530,2,0))","v":"62"},{"$f":"IF(ISERROR(VLOOKUP(U100,Maestros!$S$31:$T$530,2,0)),\"\",VLOOKUP(U100,Maestros!$S$31:$T$530,2,0))","v":"62"},{"$f":"IF(ISERROR(VLOOKUP(Egresados!$K$8:$K$705,Maestros!$A$31:$B$130,2,0)),\"\",VLOOKUP(Egresados!$K$8:$K$705,Maestros!$A$31:$B$130,2,0))","v":""},{"$f":"IF(LEN(tablaEgresados[[#This Row],[Nota promedio]])>0,ROUND(tablaEgresados[[#This Row],[Nota promedio]],2),\"\")","v":14.5}]
[93,null,"DNI","42287252","PALOMINO","ASCARZA","NOEMI MARGOT","FEMENINO",null,"NO",null,null,null,"2020-1","SEDE CENTRAL","BIOLOGIA - CIENCIAS NATURALES",14.43,null,null,"2012-1","2012-1","20120145@une.edu.pe","siemiune@gmail.com",3133700,"921877337",{"$f":"IF(ISERROR(VLOOKUP(Egresados!$N$8:$N$705,Maestros!$D$31:$E$530,2,0)),\"\",VLOOKUP(Egresados!$N$8:$N$705,Maestros!$D$31:$E$530,2,0))","v":"223"},{"$f":"IF(ISERROR(VLOOKUP(Egresados!$O101,Maestros!$G$31:$J$1030,2,0)),\"\",VLOOKUP(Egresados!$O101,Maestros!$G$31:$J$1030,2,0))","v":"8"},{"$f":"CONCATENATE(Egresados!$Z$8:$Z$705,\"a\",Egresados!$AA$8:$AA$705)","v":"223a8"},{"$f":"IF(ISERROR(VLOOKUP(Egresados!$P101,Maestros!$L$31:$Q$1030,2,0)),\"\",VLOOKUP(Egresados!$P101,Maestros!$L$31:$Q$1030,2,0))","v":"346"},{"$f":"CONCATENATE(Egresados!$Z$8:$Z$705,\"a\",Egresados!$AA$8:$AA$705,\"a\",Egresados!$AC$8:$AC$705)","v":"223a8a346"},{"$f":"IF(ISERROR(VLOOKUP(Egresados!$C$8:$C$705,Maestros!$A$4:$B$21,2,0)),\"\",VLOOKUP(Egresados!$C$8:$C$705,Maestros!$A$4:$B$21,2,0))","v":"1001"},{"$f":"IF(ISERROR(VLOOKUP(Egresados!$H$8:$H$705,Maestros!$D$4:$E$21,2,0)),\"\",VLOOKUP(Egresados!$H$8:$H$705,Maestros!$D$4:$E$21,2,0))","v":"1122"},{"$f":"IF(OR(UPPER(Egresados!$J$8:$J$705)=\"SI\",UPPER(Egresados!$J$8:$J$705)=\"SÍ\"),1,IF(UPPER(Egresados!$J$8:$J$705)=\"NO\",0,\"\"))","v":0},{"$f":"IF(OR(UPPER(Egresados!$R$8:$R$705)=\"SI\",UPPER(Egresados!$R$8:$R$705)=\"SÍ\"),1,IF(UPPER(Egresados!$R$8:$R$705)=\"NO\",0,\"\"))","v":""},{"$f":"IF(OR(UPPER(Egresados!$S$8:$S$705)=\"SI\",UPPER(Egresados!$S$8:$S$705)=\"SÍ\"),1,IF(UPPER(Egresados!$S$8:$S$705)=\"NO\",0,\"\"))","v":""},{"$f":"IF(ISERROR(VLOOKUP(Egresados!$T$8:$T$705,Maestros!$S$31:$T$530,2,0)),\"\",VLOOKUP(Egresados!$T$8:$T$705,Maestros!$S$31:$T$530,2,0))","v":"50"},{"$f":"IF(ISERROR(VLOOKUP(U101,Maestros!$S$31:$T$530,2,0)),\"\",VLOOKUP(U101,Maestros!$S$31:$T$530,2,0))","v":"50"},{"$f":"IF(ISERROR(VLOOKUP(Egresados!$K$8:$K$705,Maestros!$A$31:$B$130,2,0)),\"\",VLOOKUP(Egresados!$K$8:$K$705,Maestros!$A$31:$B$130,2,0))","v":""},{"$f":"IF(LEN(tablaEgresados[[#This Row],[Nota promedio]])>0,ROUND(tablaEgresados[[#This Row],[Nota promedio]],2),\"\")","v":14.43}]
[94,null,"DNI","07485031","MARTINEZ","CONTRERAS","MILAGROS MARIA","FEMENINO",null,"NO",null,null,null,"2020-1","SEDE CENTRAL","BIOLOGIA - CIENCIAS NATURALES",14.36,null,null,"2016-1","2016-1","20163100@une.edu.pe","milagrosoct10@gmail.com",3133700,"957240215",{"$f":"IF(ISERROR(VLOOKUP(Egresados!$N$8:$N$705,Maestros!$D$31:$E$530,2,0)),\"\",VLOOKUP(Egresados!$N$8:$N$705,Maestros!$D$31:$E$530,2,0))","v":"223"},{"$f":"IF(ISERROR(VLOOKUP(Egresados!$O102,Maestros!$G$31:$J$1030,2,0)),\"\",VLOOKUP(Egresados!$O102,Maestros!$G$31:$J$1030,2,0))","v":"8"},{"$f":"CONCATENATE(Egresados!$Z$8:$Z$705,\"a\",Egresados!$AA$8:$AA$705)","v":"223a8"},{"$f":"IF(ISERROR(VLOOKUP(Egresados!$P102,Maestros!$L$31:$Q$1030,2,0)),\"\",VLOOKUP(Egresados!$P102,Maestros!$L$31:$Q$1030,2,0))","v":"346"},{"$f":"CONCATENATE(Egresados!$Z$8:$Z$705,\"a\",Egresados!$AA$8:$AA$705,\"a\",Egresados!$AC$8:$AC$705)","v":"223a8a346"},{"$f":"IF(ISERROR(VLOOKUP(Egresados!$C$8:$C$705,Maestros!$A$4:$B$21,2,0)),\"\",VLOOKUP(Egresados!$C$8:$C$705,Maestros!$A$4:$B$21,2,0))","v":"1001"},{"$f":"IF(ISERROR(VLOOKUP(Egresados!$H$8:$H$705,Maestros!$D$4:$E$21,2,0)),\"\",VLOOKUP(Egresados!$H$8:$H$705,Maestros!$D$4:$E$21,2,0))","v":"1122"},{"$f":"IF(OR(UPPER(Egresados!$J$8:$J$705)=\"SI\",UPPER(Egresados!$J$8:$J$705)=\"SÍ\"),1,IF(UPPER(Egresados!$J$8:$J$705)=\"NO\",0,\"\"))","v":0},{"$f":"IF(OR(UPPER(Egresados!$R$8:$R$705)=\"SI\",UPPER(Egresados!$R$8:$R$705)=\"SÍ\"),1,IF(UPPER(Egresados!$R$8:$R$705)=\"NO\",0,\"\"))","v":""},{"$f":"IF(OR(UPPER(Egresados!$S$8:$S$705)=\"SI\",UPPER(Egresados!$S$8:$S$705)=\"SÍ\"),1,IF(UPPER(Egresados!$S$8:$S$705)=\"NO\",0,\"\"))","v":""},{"$f":"IF(ISERROR(VLOOKUP(Egresados!$T$8:$T$705,Maestros!$S$31:$T$530,2,0)),\"\",VLOOKUP(Egresados!$T$8:$T$705,Maestros!$S$31:$T$530,2,0))","v":"66"},{"$f":"IF(ISERROR(VLOOKUP(U102,Maestros!$S$31:$T$530,2,0)),\"\",VLOOKUP(U102,Maestros!$S$31:$T$530,2,0))","v":"66"},{"$f":"IF(ISERROR(VLOOKUP(Egresados!$K$8:$K$705,Maestros!$A$31:$B$130,2,0)),\"\",VLOOKUP(Egresados!$K$8:$K$705,Maestros!$A$31:$B$130,2,0))","v":""},{"$f":"IF(LEN(tablaEgresados[[#This Row],[Nota promedio]])>0,ROUND(tablaEgresados[[#This Row],[Nota promedio]],2),\"\")","v":14.36}]
[95,null,"DNI",31541301,"CASAVERDE","MOINA","YVONY","FEMENINO",null,"NO",null,null,null,"2020-1","SEDE CENTRAL","BIOLOGIA - CIENCIAS NATURALES",14,null,null,"2006-1","2006-1","20063588@une.edu.pe","20063588@une.edu.pe",3133700,976486001,{"$f":"IF(ISERROR(VLOOKUP(Egresados!$N$8:$N$705,Maestros!$D$31:$E$530,2,0)),\"\",VLOOKUP(Egresados!$N$8:$N$705,Maestros!$D$31:$E$530,2,0))","v":"223"},{"$f":"IF(ISERROR(VLOOKUP(Egresados!$O103,Maestros!$G$31:$J$1030,2,0)),\"\",VLOOKUP(Egresados!$O103,Maestros!$G$31:$J$1030,2,0))","v":"8"},{"$f":"CONCATENATE(Egresados!$Z$8:$Z$705,\"a\",Egresados!$AA$8:$AA$705)","v":"223a8"},{"$f":"IF(ISERROR(VLOOKUP(Egresados!$P103,Maestros!$L$31:$Q$1030,2,0)),\"\",VLOOKUP(Egresados!$P103,Maestros!$L$31:$Q$1030,2,0))","v":"346"},{"$f":"CONCATENATE(Egresados!$Z$8:$Z$705,\"a\",Egresados!$AA$8:$AA$705,\"a\",Egresados!$AC$8:$AC$705)","v":"223a8a346"},{"$f":"IF(ISERROR(VLOOKUP(Egresados!$C$8:$C$705,Maestros!$A$4:$B$21,2,0)),\"\",VLOOKUP(Egresados!$C$8:$C$705,Maestros!$A$4:$B$21,2,0))","v":"1001"},{"$f":"IF(ISERROR(VLOOKUP(Egresados!$H$8:$H$705,Maestros!$D$4:$E$21,2,0)),\"\",VLOOKUP(Egresados!$H$8:$H$705,Maestros!$D$4:$E$21,2,0))","v":"1122"},{"$f":"IF(OR(UPPER(Egresados!$J$8:$J$705)=\"SI\",UPPER(Egresados!$J$8:$J$705)=\"SÍ\"),1,IF(UPPER(Egresados!$J$8:$J$705)=\"NO\",0,\"\"))","v":0},{"$f":"IF(OR(UPPER(Egresados!$R$8:$R$705)=\"SI\",UPPER(Egresados!$R$8:$R$705)=\"SÍ\"),1,IF(UPPER(Egresados!$R$8:$R$705)=\"NO\",0,\"\"))","v":""},{"$f":"IF(OR(UPPER(Egresados!$S$8:$S$705)=\"SI\",UPPER(Egresados!$S$8:$S$705)=\"SÍ\"),1,IF(UPPER(Egresados!$S$8:$S$705)=\"NO\",0,\"\"))","v":""},{"$f":"IF(ISERROR(VLOOKUP(Egresados!$T$8:$T$705,Maestros!$S$31:$T$530,2,0)),\"\",VLOOKUP(Egresados!$T$8:$T$705,Maestros!$S$31:$T$530,2,0))","v":"26"},{"$f":"IF(ISERROR(VLOOKUP(U103,Maestros!$S$31:$T$530,2,0)),\"\",VLOOKUP(U103,Maestros!$S$31:$T$530,2,0))","v":"26"},{"$f":"IF(ISERROR(VLOOKUP(Egresados!$K$8:$K$705,Maestros!$A$31:$B$130,2,0)),\"\",VLOOKUP(Egresados!$K$8:$K$705,Maestros!$A$31:$B$130,2,0))","v":""},{"$f":"IF(LEN(tablaEgresados[[#This Row],[Nota promedio]])>0,ROUND(tablaEgresados[[#This Row],[Nota promedio]],2),\"\")","v":14}]
[96,null,"DNI",42773854,"BAUTISTA","PUCHURI","EDUARDO","MASCULINO",null,"NO",null,null,null,"2020-1","SEDE CENTRAL","BIOLOGIA - CIENCIAS NATURALES",13.8,null,null,"2003-1","2003-1","20039020@une.edu.pe","20039020@une.edu.pe",3133700,976486001,{"$f":"IF(ISERROR(VLOOKUP(Egresados!$N$8:$N$705,Maestros!$D$31:$E$530,2,0)),\"\",VLOOKUP(Egresados!$N$8:$N$705,Maestros!$D$31:$E$530,2,0))","v":"223"},{"$f":"IF(ISERROR(VLOOKUP(Egresados!$O104,Maestros!$G$31:$J$1030,2,0)),\"\",VLOOKUP(Egresados!$O104,Maestros!$G$31:$J$1030,2,0))","v":"8"},{"$f":"CONCATENATE(Egresados!$Z$8:$Z$705,\"a\",Egresados!$AA$8:$AA$705)","v":"223a8"},{"$f":"IF(ISERROR(VLOOKUP(Egresados!$P104,Maestros!$L$31:$Q$1030,2,0)),\"\",VLOOKUP(Egresados!$P104,Maestros!$L$31:$Q$1030,2,0))","v":"346"},{"$f":"CONCATENATE(Egresados!$Z$8:$Z$705,\"a\",Egresados!$AA$8:$AA$705,\"a\",Egresados!$AC$8:$AC$705)","v":"223a8a346"},{"$f":"IF(ISERROR(VLOOKUP(Egresados!$C$8:$C$705,Maestros!$A$4:$B$21,2,0)),\"\",VLOOKUP(Egresados!$C$8:$C$705,Maestros!$A$4:$B$21,2,0))","v":"1001"},{"$f":"IF(ISERROR(VLOOKUP(Egresados!$H$8:$H$705,Maestros!$D$4:$E$21,2,0)),\"\",VLOOKUP(Egresados!$H$8:$H$705,Maestros!$D$4:$E$21,2,0))","v":"1121"},{"$f":"IF(OR(UPPER(Egresados!$J$8:$J$705)=\"SI\",UPPER(Egresados!$J$8:$J$705)=\"SÍ\"),1,IF(UPPER(Egresados!$J$8:$J$705)=\"NO\",0,\"\"))","v":0},{"$f":"IF(OR(UPPER(Egresados!$R$8:$R$705)=\"SI\",UPPER(Egresados!$R$8:$R$705)=\"SÍ\"),1,IF(UPPER(Egresados!$R$8:$R$705)=\"NO\",0,\"\"))","v":""},{"$f":"IF(OR(UPPER(Egresados!$S$8:$S$705)=\"SI\",UPPER(Egresados!$S$8:$S$705)=\"SÍ\"),1,IF(UPPER(Egresados!$S$8:$S$705)=\"NO\",0,\"\"))","v":""},{"$f":"IF(ISERROR(VLOOKUP(Egresados!$T$8:$T$705,Maestros!$S$31:$T$530,2,0)),\"\",VLOOKUP(Egresados!$T$8:$T$705,Maestros!$S$31:$T$530,2,0))","v":"14"},{"$f":"IF(ISERROR(VLOOKUP(U104,Maestros!$S$31:$T$530,2,0)),\"\",VLOOKUP(U104,Maestros!$S$31:$T$530,2,0))","v":"14"},{"$f":"IF(ISERROR(VLOOKUP(Egresados!$K$8:$K$705,Maestros!$A$31:$B$130,2,0)),\"\",VLOOKUP(Egresados!$K$8:$K$705,Maestros!$A$31:$B$130,2,0))","v":""},{"$f":"IF(LEN(tablaEgresados[[#This Row],[Nota promedio]])>0,ROUND(tablaEgresados[[#This Row],[Nota promedio]],2),\"\")","v":13.8}]
[97,null,"DNI","31041755","TAPIA","PIMENTEL","NESTOR","MASCULINO",null,"NO",null,null,null,"2020-1","SEDE CENTRAL","BIOLOGIA - CIENCIAS NATURALES",15.09,null,null,"2004-1","2004-1","20041897@une.edu.pe","20041897@une.edu.pe",3133700,976486001,{"$f":"IF(ISERROR(VLOOKUP(Egresados!$N$8:$N$705,Maestros!$D$31:$E$530,2,0)),\"\",VLOOKUP(Egresados!$N$8:$N$705,Maestros!$D$31:$E$530,2,0))","v":"223"},{"$f":"IF(ISERROR(VLOOKUP(Egresados!$O105,Maestros!$G$31:$J$1030,2,0)),\"\",VLOOKUP(Egresados!$O105,Maestros!$G$31:$J$1030,2,0))","v":"8"},{"$f":"CONCATENATE(Egresados!$Z$8:$Z$705,\"a\",Egresados!$AA$8:$AA$705)","v":"223a8"},{"$f":"IF(ISERROR(VLOOKUP(Egresados!$P105,Maestros!$L$31:$Q$1030,2,0)),\"\",VLOOKUP(Egresados!$P105,Maestros!$L$31:$Q$1030,2,0))","v":"346"},{"$f":"CONCATENATE(Egresados!$Z$8:$Z$705,\"a\",Egresados!$AA$8:$AA$705,\"a\",Egresados!$AC$8:$AC$705)","v":"223a8a346"},{"$f":"IF(ISERROR(VLOOKUP(Egresados!$C$8:$C$705,Maestros!$A$4:$B$21,2,0)),\"\",VLOOKUP(Egresados!$C$8:$C$705,Maestros!$A$4:$B$21,2,0))","v":"1001"},{"$f":"IF(ISERROR(VLOOKUP(Egresados!$H$8:$H$705,Maestros!$D$4:$E$21,2,0)),\"\",VLOOKUP(Egresados!$H$8:$H$705,Maestros!$D$4:$E$21,2,0))","v":"1121"},{"$f":"IF(OR(UPPER(Egresados!$J$8:$J$705)=\"SI\",UPPER(Egresados!$J$8:$J$705)=\"SÍ\"),1,IF(UPPER(Egresados!$J$8:$J$705)=\"NO\",0,\"\"))","v":0},{"$f":"IF(OR(UPPER(Egresados!$R$8:$R$705)=\"SI\",UPPER(Egresados!$R$8:$R$705)=\"SÍ\"),1,IF(UPPER(Egresados!$R$8:$R$705)=\"NO\",0,\"\"))","v":""},{"$f":"IF(OR(UPPER(Egresados!$S$8:$S$705)=\"SI\",UPPER(Egresados!$S$8:$S$705)=\"SÍ\"),1,IF(UPPER(Egresados!$S$8:$S$705)=\"NO\",0,\"\"))","v":""},{"$f":"IF(ISERROR(VLOOKUP(Egresados!$T$8:$T$705,Maestros!$S$31:$T$530,2,0)),\"\",VLOOKUP(Egresados!$T$8:$T$705,Maestros!$S$31:$T$530,2,0))","v":"18"},{"$f":"IF(ISERROR(VLOOKUP(U105,Maestros!$S$31:$T$530,2,0)),\"\",VLOOKUP(U105,Maestros!$S$31:$T$530,2,0))","v":"18"},{"$f":"IF(ISERROR(VLOOKUP(Egresados!$K$8:$K$705,Maestros!$A$31:$B$130,2,0)),\"\",VLOOKUP(Egresados!$K$8:$K$705,Maestros!$A$31:$B$130,2,0))","v":""},{"$f":"IF(LEN(tablaEgresados[[#This Row],[Nota promedio]])>0,ROUND(tablaEgresados[[#This Row],[Nota promedio]],2),\"\")","v":15.09}]
[98,null,"DNI","76959737","QUISPE","CORAHUA","CINTHIA","FEMENINO",null,"NO",null,null,null,"2020-1","SEDE CENTRAL","BIOLOGIA-INFORMATICA",15.41,null,null,"2014-1","2014-1","20141137@une.edu.pe","cintya@hotmail.com",3133700,"962510496",{"$f":"IF(ISERROR(VLOOKUP(Egresados!$N$8:$N$705,Maestros!$D$31:$E$530,2,0)),\"\",VLOOKUP(Egresados!$N$8:$N$705,Maestros!$D$31:$E$530,2,0))","v":"223"},{"$f":"IF(ISERROR(VLOOKUP(Egresados!$O106,Maestros!$G$31:$J$1030,2,0)),\"\",VLOOKUP(Egresados!$O106,Maestros!$G$31:$J$1030,2,0))","v":"8"},{"$f":"CONCATENATE(Egresados!$Z$8:$Z$705,\"a\",Egresados!$AA$8:$AA$705)","v":"223a8"},{"$f":"IF(ISERROR(VLOOKUP(Egresados!$P106,Maestros!$L$31:$Q$1030,2,0)),\"\",VLOOKUP(Egresados!$P106,Maestros!$L$31:$Q$1030,2,0))","v":"342"},{"$f":"CONCATENATE(Egresados!$Z$8:$Z$705,\"a\",Egresados!$AA$8:$AA$705,\"a\",Egresados!$AC$8:$AC$705)","v":"223a8a342"},{"$f":"IF(ISERROR(VLOOKUP(Egresados!$C$8:$C$705,Maestros!$A$4:$B$21,2,0)),\"\",VLOOKUP(Egresados!$C$8:$C$705,Maestros!$A$4:$B$21,2,0))","v":"1001"},{"$f":"IF(ISERROR(VLOOKUP(Egresados!$H$8:$H$705,Maestros!$D$4:$E$21,2,0)),\"\",VLOOKUP(Egresados!$H$8:$H$705,Maestros!$D$4:$E$21,2,0))","v":"1122"},{"$f":"IF(OR(UPPER(Egresados!$J$8:$J$705)=\"SI\",UPPER(Egresados!$J$8:$J$705)=\"SÍ\"),1,IF(UPPER(Egresados!$J$8:$J$705)=\"NO\",0,\"\"))","v":0},{"$f":"IF(OR(UPPER(Egresados!$R$8:$R$705)=\"SI\",UPPER(Egresados!$R$8:$R$705)=\"SÍ\"),1,IF(UPPER(Egresados!$R$8:$R$705)=\"NO\",0,\"\"))","v":""},{"$f":"IF(OR(UPPER(Egresados!$S$8:$S$705)=\"SI\",UPPER(Egresados!$S$8:$S$705)=\"SÍ\"),1,IF(UPPER(Egresados!$S$8:$S$705)=\"NO\",0,\"\"))","v":""},{"$f":"IF(ISERROR(VLOOKUP(Egresados!$T$8:$T$705,Maestros!$S$31:$T$530,2,0)),\"\",VLOOKUP(Egresados!$T$8:$T$705,Maestros!$S$31:$T$530,2,0))","v":"58"},{"$f":"IF(ISERROR(VLOOKUP(U106,Maestros!$S$31:$T$530,2,0)),\"\",VLOOKUP(U106,Maestros!$S$31:$T$530,2,0))","v":"58"},{"$f":"IF(ISERROR(VLOOKUP(Egresados!$K$8:$K$705,Maestros!$A$31:$B$130,2,0)),\"\",VLOOKUP(Egresados!$K$8:$K$705,Maestros!$A$31:$B$130,2,0))","v":""},{"$f":"IF(LEN(tablaEgresados[[#This Row],[Nota promedio]])>0,ROUND(tablaEgresados[[#This Row],[Nota promedio]],2),\"\")","v":15.41}]
[99,null,"DNI","73872528","CORI","NAVARRO","YLLIS JOSE","MASCULINO",null,"NO",null,null,null,"2020-1","SEDE CENTRAL","CIENCIAS SOCIALES-FILOSOFIA",15.84,null,null,"2015-1","2015-1","20150457@une.edu.pe","santusazx@gmail.com",3133700,"936780141",{"$f":"IF(ISERROR(VLOOKUP(Egresados!$N$8:$N$705,Maestros!$D$31:$E$530,2,0)),\"\",VLOOKUP(Egresados!$N$8:$N$705,Maestros!$D$31:$E$530,2,0))","v":"223"},{"$f":"IF(ISERROR(VLOOKUP(Egresados!$O107,Maestros!$G$31:$J$1030,2,0)),\"\",VLOOKUP(Egresados!$O107,Maestros!$G$31:$J$1030,2,0))","v":"8"},{"$f":"CONCATENATE(Egresados!$Z$8:$Z$705,\"a\",Egresados!$AA$8:$AA$705)","v":"223a8"},{"$f":"IF(ISERROR(VLOOKUP(Egresados!$P107,Maestros!$L$31:$Q$1030,2,0)),\"\",VLOOKUP(Egresados!$P107,Maestros!$L$31:$Q$1030,2,0))","v":"328"},{"$f":"CONCATENATE(Egresados!$Z$8:$Z$705,\"a\",Egresados!$AA$8:$AA$705,\"a\",Egresados!$AC$8:$AC$705)","v":"223a8a328"},{"$f":"IF(ISERROR(VLOOKUP(Egresados!$C$8:$C$705,Maestros!$A$4:$B$21,2,0)),\"\",VLOOKUP(Egresados!$C$8:$C$705,Maestros!$A$4:$B$21,2,0))","v":"1001"},{"$f":"IF(ISERROR(VLOOKUP(Egresados!$H$8:$H$705,Maestros!$D$4:$E$21,2,0)),\"\",VLOOKUP(Egresados!$H$8:$H$705,Maestros!$D$4:$E$21,2,0))","v":"1121"},{"$f":"IF(OR(UPPER(Egresados!$J$8:$J$705)=\"SI\",UPPER(Egresados!$J$8:$J$705)=\"SÍ\"),1,IF(UPPER(Egresados!$J$8:$J$705)=\"NO\",0,\"\"))","v":0},{"$f":"IF(OR(UPPER(Egresados!$R$8:$R$705)=\"SI\",UPPER(Egresados!$R$8:$R$705)=\"SÍ\"),1,IF(UPPER(Egresados!$R$8:$R$705)=\"NO\",0,\"\"))","v":""},{"$f":"IF(OR(UPPER(Egresados!$S$8:$S$705)=\"SI\",UPPER(Egresados!$S$8:$S$705)=\"SÍ\"),1,IF(UPPER(Egresados!$S$8:$S$705)=\"NO\",0,\"\"))","v":""},{"$f":"IF(ISERROR(VLOOKUP(Egresados!$T$8:$T$705,Maestros!$S$31:$T$530,2,0)),\"\",VLOOKUP(Egresados!$T$8:$T$705,Maestros!$S$31:$T$530,2,0))","v":"62"},{"$f":"IF(ISERROR(VLOOKUP(U107,Maestros!$S$31:$T$530,2,0)),\"\",VLOOKUP(U107,Maestros!$S$31:$T$530,2,0))","v":"62"},{"$f":"IF(ISERROR(VLOOKUP(Egresados!$K$8:$K$705,Maestros!$A$31:$B$130,2,0)),\"\",VLOOKUP(Egresados!$K$8:$K$705,Maestros!$A$31:$B$130,2,0))","v":""},{"$f":"IF(LEN(tablaEgresados[[#This Row],[Nota promedio]])>0,ROUND(tablaEgresados[[#This Row],[Nota promedio]],2),\"\")","v":15.84}]
[100,null,"DNI","46494375","ESCALANTE","MUÑOZ","JORGE DAVID","MASCULINO",null,"NO",null,null,null,"2020-1","SEDE CENTRAL","CIENCIAS SOCIALES-FILOSOFIA",17,null,null,"2015-1","2015-1","20150471@une.edu.pe","jorgescalante-27@hotmail.com",3133700,"980725229",{"$f":"IF(ISERROR(VLOOKUP(Egresados!$N$8:$N$705,Maestros!$D$31:$E$530,2,0)),\"\",VLOOKUP(Egresados!$N$8:$N$705,Maestros!$D$31:$E$530,2,0))","v":"223"},{"$f":"IF(ISERROR(VLOOKUP(Egresados!$O108,Maestros!$G$31:$J$1030,2,0)),\"\",VLOOKUP(Egresados!$O108,Maestros!$G$31:$J$1030,2,0))","v":"8"},{"$f":"CONCATENATE(Egresados!$Z$8:$Z$705,\"a\",Egresados!$AA$8:$AA$705)","v":"223a8"},{"$f":"IF(ISERROR(VLOOKUP(Egresados!$P108,Maestros!$L$31:$Q$1030,2,0)),\"\",VLOOKUP(Egresados!$P108,Maestros!$L$31:$Q$1030,2,0))","v":"328"},{"$f":"CONCATENATE(Egresados!$Z$8:$Z$705,\"a\",Egresados!$AA$8:$AA$705,\"a\",Egresados!$AC$8:$AC$705)","v":"223a8a328"},{"$f":"IF(ISERROR(VLOOKUP(Egresados!$C$8:$C$705,Maestros!$A$4:$B$21,2,0)),\"\",VLOOKUP(Egresados!$C$8:$C$705,Maestros!$A$4:$B$21,2,0))","v":"1001"},{"$f":"IF(ISERROR(VLOOKUP(Egresados!$H$8:$H$705,Maestros!$D$4:$E$21,2,0)),\"\",VLOOKUP(Egresados!$H$8:$H$705,Maestros!$D$4:$E$21,2,0))","v":"1121"},{"$f":"IF(OR(UPPER(Egresados!$J$8:$J$705)=\"SI\",UPPER(Egresados!$J$8:$J$705)=\"SÍ\"),1,IF(UPPER(Egresados!$J$8:$J$705)=\"NO\",0,\"\"))","v":0},{"$f":"IF(OR(UPPER(Egresados!$R$8:$R$705)=\"SI\",UPPER(Egresados!$R$8:$R$705)=\"SÍ\"),1,IF(UPPER(Egresados!$R$8:$R$705)=\"NO\",0,\"\"))","v":""},{"$f":"IF(OR(UPPER(Egresados!$S$8:$S$705)=\"SI\",UPPER(Egresados!$S$8:$S$705)=\"SÍ\"),1,IF(UPPER(Egresados!$S$8:$S$705)=\"NO\",0,\"\"))","v":""},{"$f":"IF(ISERROR(VLOOKUP(Egresados!$T$8:$T$705,Maestros!$S$31:$T$530,2,0)),\"\",VLOOKUP(Egresados!$T$8:$T$705,Maestros!$S$31:$T$530,2,0))","v":"62"},{"$f":"IF(ISERROR(VLOOKUP(U108,Maestros!$S$31:$T$530,2,0)),\"\",VLOOKUP(U108,Maestros!$S$31:$T$530,2,0))","v":"62"},{"$f":"IF(ISERROR(VLOOKUP(Egresados!$K$8:$K$705,Maestros!$A$31:$B$130,2,0)),\"\",VLOOKUP(Egresados!$K$8:$K$705,Maestros!$A$31:$B$130,2,0))","v":""},{"$f":"IF(LEN(tablaEgresados[[#This Row],[Nota promedio]])>0,ROUND(tablaEgresados[[#This Row],[Nota promedio]],2),\"\")","v":17}]
[101,null,"DNI","48008949","ROMERO","VILLANUEVA","YANCI","FEMENINO",null,"NO",null,null,null,"2020-1","SEDE CENTRAL","CIENCIAS SOCIALES-GEOGRAFIA",15.89,null,null,"2011-1","2011-1","20110289@une.edu.pe","yanciromero@hotmail.com",3133700,"953211075",{"$f":"IF(ISERROR(VLOOKUP(Egresados!$N$8:$N$705,Maestros!$D$31:$E$530,2,0)),\"\",VLOOKUP(Egresados!$N$8:$N$705,Maestros!$D$31:$E$530,2,0))","v":"223"},{"$f":"IF(ISERROR(VLOOKUP(Egresados!$O109,Maestros!$G$31:$J$1030,2,0)),\"\",VLOOKUP(Egresados!$O109,Maestros!$G$31:$J$1030,2,0))","v":"8"},{"$f":"CONCATENATE(Egresados!$Z$8:$Z$705,\"a\",Egresados!$AA$8:$AA$705)","v":"223a8"},{"$f":"IF(ISERROR(VLOOKUP(Egresados!$P109,Maestros!$L$31:$Q$1030,2,0)),\"\",VLOOKUP(Egresados!$P109,Maestros!$L$31:$Q$1030,2,0))","v":"327"},{"$f":"CONCATENATE(Egresados!$Z$8:$Z$705,\"a\",Egresados!$AA$8:$AA$705,\"a\",Egresados!$AC$8:$AC$705)","v":"223a8a327"},{"$f":"IF(ISERROR(VLOOKUP(Egresados!$C$8:$C$705,Maestros!$A$4:$B$21,2,0)),\"\",VLOOKUP(Egresados!$C$8:$C$705,Maestros!$A$4:$B$21,2,0))","v":"1001"},{"$f":"IF(ISERROR(VLOOKUP(Egresados!$H$8:$H$705,Maestros!$D$4:$E$21,2,0)),\"\",VLOOKUP(Egresados!$H$8:$H$705,Maestros!$D$4:$E$21,2,0))","v":"1122"},{"$f":"IF(OR(UPPER(Egresados!$J$8:$J$705)=\"SI\",UPPER(Egresados!$J$8:$J$705)=\"SÍ\"),1,IF(UPPER(Egresados!$J$8:$J$705)=\"NO\",0,\"\"))","v":0},{"$f":"IF(OR(UPPER(Egresados!$R$8:$R$705)=\"SI\",UPPER(Egresados!$R$8:$R$705)=\"SÍ\"),1,IF(UPPER(Egresados!$R$8:$R$705)=\"NO\",0,\"\"))","v":""},{"$f":"IF(OR(UPPER(Egresados!$S$8:$S$705)=\"SI\",UPPER(Egresados!$S$8:$S$705)=\"SÍ\"),1,IF(UPPER(Egresados!$S$8:$S$705)=\"NO\",0,\"\"))","v":""},{"$f":"IF(ISERROR(VLOOKUP(Egresados!$T$8:$T$705,Maestros!$S$31:$T$530,2,0)),\"\",VLOOKUP(Egresados!$T$8:$T$705,Maestros!$S$31:$T$530,2,0))","v":"46"},{"$f":"IF(ISERROR(VLOOKUP(U109,Maestros!$S$31:$T$530,2,0)),\"\",VLOOKUP(U109,Maestros!$S$31:$T$530,2,0))","v":"46"},{"$f":"IF(ISERROR(VLOOKUP(Egresados!$K$8:$K$705,Maestros!$A$31:$B$130,2,0)),\"\",VLOOKUP(Egresados!$K$8:$K$705,Maestros!$A$31:$B$130,2,0))","v":""},{"$f":"IF(LEN(tablaEgresados[[#This Row],[Nota promedio]])>0,ROUND(tablaEgresados[[#This Row],[Nota promedio]],2),\"\")","v":15.89}]
[102,null,"DNI","46395754","CANAYO","AHUANARI","CARLOS VIL","MASCULINO",null,"NO",null,null,null,"2020-1","SEDE CENTRAL","CIENCIAS SOCIALES-GEOGRAFIA",15.08,null,null,"2014-1","2014-1","20141739@une.edu.pe","s.vi24@hotmail.com",3133700,"949890250",{"$f":"IF(ISERROR(VLOOKUP(Egresados!$N$8:$N$705,Maestros!$D$31:$E$530,2,0)),\"\",VLOOKUP(Egresados!$N$8:$N$705,Maestros!$D$31:$E$530,2,0))","v":"223"},{"$f":"IF(ISERROR(VLOOKUP(Egresados!$O110,Maestros!$G$31:$J$1030,2,0)),\"\",VLOOKUP(Egresados!$O110,Maestros!$G$31:$J$1030,2,0))","v":"8"},{"$f":"CONCATENATE(Egresados!$Z$8:$Z$705,\"a\",Egresados!$AA$8:$AA$705)","v":"223a8"},{"$f":"IF(ISERROR(VLOOKUP(Egresados!$P110,Maestros!$L$31:$Q$1030,2,0)),\"\",VLOOKUP(Egresados!$P110,Maestros!$L$31:$Q$1030,2,0))","v":"327"},{"$f":"CONCATENATE(Egresados!$Z$8:$Z$705,\"a\",Egresados!$AA$8:$AA$705,\"a\",Egresados!$AC$8:$AC$705)","v":"223a8a327"},{"$f":"IF(ISERROR(VLOOKUP(Egresados!$C$8:$C$705,Maestros!$A$4:$B$21,2,0)),\"\",VLOOKUP(Egresados!$C$8:$C$705,Maestros!$A$4:$B$21,2,0))","v":"1001"},{"$f":"IF(ISERROR(VLOOKUP(Egresados!$H$8:$H$705,Maestros!$D$4:$E$21,2,0)),\"\",VLOOKUP(Egresados!$H$8:$H$705,Maestros!$D$4:$E$21,2,0))","v":"1121"},{"$f":"IF(OR(UPPER(Egresados!$J$8:$J$705)=\"SI\",UPPER(Egresados!$J$8:$J$705)=\"SÍ\"),1,IF(UPPER(Egresados!$J$8:$J$705)=\"NO\",0,\"\"))","v":0},{"$f":"IF(OR(UPPER(Egresados!$R$8:$R$705)=\"SI\",UPPER(Egresados!$R$8:$R$705)=\"SÍ\"),1,IF(UPPER(Egresados!$R$8:$R$705)=\"NO\",0,\"\"))","v":""},{"$f":"IF(OR(UPPER(Egresados!$S$8:$S$705)=\"SI\",UPPER(Egresados!$S$8:$S$705)=\"SÍ\"),1,IF(UPPER(Egresados!$S$8:$S$705)=\"NO\",0,\"\"))","v":""},{"$f":"IF(ISERROR(VLOOKUP(Egresados!$T$8:$T$705,Maestros!$S$31:$T$530,2,0)),\"\",VLOOKUP(Egresados!$T$8:$T$705,Maestros!$S$31:$T$530,2,0))","v":"58"},{"$f":"IF(ISERROR(VLOOKUP(U110,Maestros!$S$31:$T$530,2,0)),\"\",VLOOKUP(U110,Maestros!$S$31:$T$530,2,0))","v":"58"},{"$f":"IF(ISERROR(VLOOKUP(Egresados!$K$8:$K$705,Maestros!$A$31:$B$130,2,0)),\"\",VLOOKUP(Egresados!$K$8:$K$705,Maestros!$A$31:$B$130,2,0))","v":""},{"$f":"IF(LEN(tablaEgresados[[#This Row],[Nota promedio]])>0,ROUND(tablaEgresados[[#This Row],[Nota promedio]],2),\"\")","v":15.08}]
[103,null,"DNI","77172214","SIMON","AQUICE","STEFANY ROSA","FEMENINO",null,"NO",null,null,null,"2020-1","SEDE CENTRAL","CIENCIAS SOCIALES-GEOGRAFIA",14.59,null,null,"2012-1","2012-1","20121697@une.edu.pe","stefany.lml94@hotmail.com",3133700,976486001,{"$f":"IF(ISERROR(VLOOKUP(Egresados!$N$8:$N$705,Maestros!$D$31:$E$530,2,0)),\"\",VLOOKUP(Egresados!$N$8:$N$705,Maestros!$D$31:$E$530,2,0))","v":"223"},{"$f":"IF(ISERROR(VLOOKUP(Egresados!$O111,Maestros!$G$31:$J$1030,2,0)),\"\",VLOOKUP(Egresados!$O111,Maestros!$G$31:$J$1030,2,0))","v":"8"},{"$f":"CONCATENATE(Egresados!$Z$8:$Z$705,\"a\",Egresados!$AA$8:$AA$705)","v":"223a8"},{"$f":"IF(ISERROR(VLOOKUP(Egresados!$P111,Maestros!$L$31:$Q$1030,2,0)),\"\",VLOOKUP(Egresados!$P111,Maestros!$L$31:$Q$1030,2,0))","v":"327"},{"$f":"CONCATENATE(Egresados!$Z$8:$Z$705,\"a\",Egresados!$AA$8:$AA$705,\"a\",Egresados!$AC$8:$AC$705)","v":"223a8a327"},{"$f":"IF(ISERROR(VLOOKUP(Egresados!$C$8:$C$705,Maestros!$A$4:$B$21,2,0)),\"\",VLOOKUP(Egresados!$C$8:$C$705,Maestros!$A$4:$B$21,2,0))","v":"1001"},{"$f":"IF(ISERROR(VLOOKUP(Egresados!$H$8:$H$705,Maestros!$D$4:$E$21,2,0)),\"\",VLOOKUP(Egresados!$H$8:$H$705,Maestros!$D$4:$E$21,2,0))","v":"1122"},{"$f":"IF(OR(UPPER(Egresados!$J$8:$J$705)=\"SI\",UPPER(Egresados!$J$8:$J$705)=\"SÍ\"),1,IF(UPPER(Egresados!$J$8:$J$705)=\"NO\",0,\"\"))","v":0},{"$f":"IF(OR(UPPER(Egresados!$R$8:$R$705)=\"SI\",UPPER(Egresados!$R$8:$R$705)=\"SÍ\"),1,IF(UPPER(Egresados!$R$8:$R$705)=\"NO\",0,\"\"))","v":""},{"$f":"IF(OR(UPPER(Egresados!$S$8:$S$705)=\"SI\",UPPER(Egresados!$S$8:$S$705)=\"SÍ\"),1,IF(UPPER(Egresados!$S$8:$S$705)=\"NO\",0,\"\"))","v":""},{"$f":"IF(ISERROR(VLOOKUP(Egresados!$T$8:$T$705,Maestros!$S$31:$T$530,2,0)),\"\",VLOOKUP(Egresados!$T$8:$T$705,Maestros!$S$31:$T$530,2,0))","v":"50"},{"$f":"IF(ISERROR(VLOOKUP(U111,Maestros!$S$31:$T$530,2,0)),\"\",VLOOKUP(U111,Maestros!$S$31:$T$530,2,0))","v":"50"},{"$f":"IF(ISERROR(VLOOKUP(Egresados!$K$8:$K$705,Maestros!$A$31:$B$130,2,0)),\"\",VLOOKUP(Egresados!$K$8:$K$705,Maestros!$A$31:$B$130,2,0))","v":""},{"$f":"IF(LEN(tablaEgresados[[#This Row],[Nota promedio]])>0,ROUND(tablaEgresados[[#This Row],[Nota promedio]],2),\"\")","v":14.59}]
[104,null,"DNI","46213171","CCAPCHA","LIVANO","ERICKA JULIA","FEMENINO",null,"NO",null,null,null,"2020-1","SEDE CENTRAL","CIENCIAS SOCIALES-GEOGRAFIA",15.43,null,null,"2008-1","2008-1","20080468@une.edu.pe","20080468@une.edu.pe",3133700,976486001,{"$f":"IF(ISERROR(VLOOKUP(Egresados!$N$8:$N$705,Maestros!$D$31:$E$530,2,0)),\"\",VLOOKUP(Egresados!$N$8:$N$705,Maestros!$D$31:$E$530,2,0))","v":"223"},{"$f":"IF(ISERROR(VLOOKUP(Egresados!$O112,Maestros!$G$31:$J$1030,2,0)),\"\",VLOOKUP(Egresados!$O112,Maestros!$G$31:$J$1030,2,0))","v":"8"},{"$f":"CONCATENATE(Egresados!$Z$8:$Z$705,\"a\",Egresados!$AA$8:$AA$705)","v":"223a8"},{"$f":"IF(ISERROR(VLOOKUP(Egresados!$P112,Maestros!$L$31:$Q$1030,2,0)),\"\",VLOOKUP(Egresados!$P112,Maestros!$L$31:$Q$1030,2,0))","v":"327"},{"$f":"CONCATENATE(Egresados!$Z$8:$Z$705,\"a\",Egresados!$AA$8:$AA$705,\"a\",Egresados!$AC$8:$AC$705)","v":"223a8a327"},{"$f":"IF(ISERROR(VLOOKUP(Egresados!$C$8:$C$705,Maestros!$A$4:$B$21,2,0)),\"\",VLOOKUP(Egresados!$C$8:$C$705,Maestros!$A$4:$B$21,2,0))","v":"1001"},{"$f":"IF(ISERROR(VLOOKUP(Egresados!$H$8:$H$705,Maestros!$D$4:$E$21,2,0)),\"\",VLOOKUP(Egresados!$H$8:$H$705,Maestros!$D$4:$E$21,2,0))","v":"1122"},{"$f":"IF(OR(UPPER(Egresados!$J$8:$J$705)=\"SI\",UPPER(Egresados!$J$8:$J$705)=\"SÍ\"),1,IF(UPPER(Egresados!$J$8:$J$705)=\"NO\",0,\"\"))","v":0},{"$f":"IF(OR(UPPER(Egresados!$R$8:$R$705)=\"SI\",UPPER(Egresados!$R$8:$R$705)=\"SÍ\"),1,IF(UPPER(Egresados!$R$8:$R$705)=\"NO\",0,\"\"))","v":""},{"$f":"IF(OR(UPPER(Egresados!$S$8:$S$705)=\"SI\",UPPER(Egresados!$S$8:$S$705)=\"SÍ\"),1,IF(UPPER(Egresados!$S$8:$S$705)=\"NO\",0,\"\"))","v":""},{"$f":"IF(ISERROR(VLOOKUP(Egresados!$T$8:$T$705,Maestros!$S$31:$T$530,2,0)),\"\",VLOOKUP(Egresados!$T$8:$T$705,Maestros!$S$31:$T$530,2,0))","v":"34"},{"$f":"IF(ISERROR(VLOOKUP(U112,Maestros!$S$31:$T$530,2,0)),\"\",VLOOKUP(U112,Maestros!$S$31:$T$530,2,0))","v":"34"},{"$f":"IF(ISERROR(VLOOKUP(Egresados!$K$8:$K$705,Maestros!$A$31:$B$130,2,0)),\"\",VLOOKUP(Egresados!$K$8:$K$705,Maestros!$A$31:$B$130,2,0))","v":""},{"$f":"IF(LEN(tablaEgresados[[#This Row],[Nota promedio]])>0,ROUND(tablaEgresados[[#This Row],[Nota promedio]],2),\"\")","v":15.43}]
[105,null,"DNI","71581769","CAMAYO","DEL CARMEN","YADIR EDUARDO","MASCULINO",null,"NO",null,null,null,"2020-1","SEDE CENTRAL","CIENCIAS SOCIALES-HISTORIA",15.94,null,null,"2015-1","2015-1","20150601@une.edu.pe","ed_cam97@hotmail.com",3133700,"932559053",{"$f":"IF(ISERROR(VLOOKUP(Egresados!$N$8:$N$705,Maestros!$D$31:$E$530,2,0)),\"\",VLOOKUP(Egresados!$N$8:$N$705,Maestros!$D$31:$E$530,2,0))","v":"223"},{"$f":"IF(ISERROR(VLOOKUP(Egresados!$O113,Maestros!$G$31:$J$1030,2,0)),\"\",VLOOKUP(Egresados!$O113,Maestros!$G$31:$J$1030,2,0))","v":"8"},{"$f":"CONCATENATE(Egresados!$Z$8:$Z$705,\"a\",Egresados!$AA$8:$AA$705)","v":"223a8"},{"$f":"IF(ISERROR(VLOOKUP(Egresados!$P113,Maestros!$L$31:$Q$1030,2,0)),\"\",VLOOKUP(Egresados!$P113,Maestros!$L$31:$Q$1030,2,0))","v":"326"},{"$f":"CONCATENATE(Egresados!$Z$8:$Z$705,\"a\",Egresados!$AA$8:$AA$705,\"a\",Egresados!$AC$8:$AC$705)","v":"223a8a326"},{"$f":"IF(ISERROR(VLOOKUP(Egresados!$C$8:$C$705,Maestros!$A$4:$B$21,2,0)),\"\",VLOOKUP(Egresados!$C$8:$C$705,Maestros!$A$4:$B$21,2,0))","v":"1001"},{"$f":"IF(ISERROR(VLOOKUP(Egresados!$H$8:$H$705,Maestros!$D$4:$E$21,2,0)),\"\",VLOOKUP(Egresados!$H$8:$H$705,Maestros!$D$4:$E$21,2,0))","v":"1121"},{"$f":"IF(OR(UPPER(Egresados!$J$8:$J$705)=\"SI\",UPPER(Egresados!$J$8:$J$705)=\"SÍ\"),1,IF(UPPER(Egresados!$J$8:$J$705)=\"NO\",0,\"\"))","v":0},{"$f":"IF(OR(UPPER(Egresados!$R$8:$R$705)=\"SI\",UPPER(Egresados!$R$8:$R$705)=\"SÍ\"),1,IF(UPPER(Egresados!$R$8:$R$705)=\"NO\",0,\"\"))","v":""},{"$f":"IF(OR(UPPER(Egresados!$S$8:$S$705)=\"SI\",UPPER(Egresados!$S$8:$S$705)=\"SÍ\"),1,IF(UPPER(Egresados!$S$8:$S$705)=\"NO\",0,\"\"))","v":""},{"$f":"IF(ISERROR(VLOOKUP(Egresados!$T$8:$T$705,Maestros!$S$31:$T$530,2,0)),\"\",VLOOKUP(Egresados!$T$8:$T$705,Maestros!$S$31:$T$530,2,0))","v":"62"},{"$f":"IF(ISERROR(VLOOKUP(U113,Maestros!$S$31:$T$530,2,0)),\"\",VLOOKUP(U113,Maestros!$S$31:$T$530,2,0))","v":"62"},{"$f":"IF(ISERROR(VLOOKUP(Egresados!$K$8:$K$705,Maestros!$A$31:$B$130,2,0)),\"\",VLOOKUP(Egresados!$K$8:$K$705,Maestros!$A$31:$B$130,2,0))","v":""},{"$f":"IF(LEN(tablaEgresados[[#This Row],[Nota promedio]])>0,ROUND(tablaEgresados[[#This Row],[Nota promedio]],2),\"\")","v":15.94}]
[106,null,"DNI","70028392","SULCA","GUADAÑA","DIEGO WILTHER","MASCULINO",null,"NO",null,null,null,"2020-1","SEDE CENTRAL","CIENCIAS SOCIALES-HISTORIA",15,null,null,"2015-1","2015-1","20150547@une.edu.pe","diek_22_p97@hotmail.com",3133700,"986051158",{"$f":"IF(ISERROR(VLOOKUP(Egresados!$N$8:$N$705,Maestros!$D$31:$E$530,2,0)),\"\",VLOOKUP(Egresados!$N$8:$N$705,Maestros!$D$31:$E$530,2,0))","v":"223"},{"$f":"IF(ISERROR(VLOOKUP(Egresados!$O114,Maestros!$G$31:$J$1030,2,0)),\"\",VLOOKUP(Egresados!$O114,Maestros!$G$31:$J$1030,2,0))","v":"8"},{"$f":"CONCATENATE(Egresados!$Z$8:$Z$705,\"a\",Egresados!$AA$8:$AA$705)","v":"223a8"},{"$f":"IF(ISERROR(VLOOKUP(Egresados!$P114,Maestros!$L$31:$Q$1030,2,0)),\"\",VLOOKUP(Egresados!$P114,Maestros!$L$31:$Q$1030,2,0))","v":"326"},{"$f":"CONCATENATE(Egresados!$Z$8:$Z$705,\"a\",Egresados!$AA$8:$AA$705,\"a\",Egresados!$AC$8:$AC$705)","v":"223a8a326"},{"$f":"IF(ISERROR(VLOOKUP(Egresados!$C$8:$C$705,Maestros!$A$4:$B$21,2,0)),\"\",VLOOKUP(Egresados!$C$8:$C$705,Maestros!$A$4:$B$21,2,0))","v":"1001"},{"$f":"IF(ISERROR(VLOOKUP(Egresados!$H$8:$H$705,Maestros!$D$4:$E$21,2,0)),\"\",VLOOKUP(Egresados!$H$8:$H$705,Maestros!$D$4:$E$21,2,0))","v":"1121"},{"$f":"IF(OR(UPPER(Egresados!$J$8:$J$705)=\"SI\",UPPER(Egresados!$J$8:$J$705)=\"SÍ\"),1,IF(UPPER(Egresados!$J$8:$J$705)=\"NO\",0,\"\"))","v":0},{"$f":"IF(OR(UPPER(Egresados!$R$8:$R$705)=\"SI\",UPPER(Egresados!$R$8:$R$705)=\"SÍ\"),1,IF(UPPER(Egresados!$R$8:$R$705)=\"NO\",0,\"\"))","v":""},{"$f":"IF(OR(UPPER(Egresados!$S$8:$S$705)=\"SI\",UPPER(Egresados!$S$8:$S$705)=\"SÍ\"),1,IF(UPPER(Egresados!$S$8:$S$705)=\"NO\",0,\"\"))","v":""},{"$f":"IF(ISERROR(VLOOKUP(Egresados!$T$8:$T$705,Maestros!$S$31:$T$530,2,0)),\"\",VLOOKUP(Egresados!$T$8:$T$705,Maestros!$S$31:$T$530,2,0))","v":"62"},{"$f":"IF(ISERROR(VLOOKUP(U114,Maestros!$S$31:$T$530,2,0)),\"\",VLOOKUP(U114,Maestros!$S$31:$T$530,2,0))","v":"62"},{"$f":"IF(ISERROR(VLOOKUP(Egresados!$K$8:$K$705,Maestros!$A$31:$B$130,2,0)),\"\",VLOOKUP(Egresados!$K$8:$K$705,Maestros!$A$31:$B$130,2,0))","v":""},{"$f":"IF(LEN(tablaEgresados[[#This Row],[Nota promedio]])>0,ROUND(tablaEgresados[[#This Row],[Nota promedio]],2),\"\")","v":15}]
[107,null,"DNI","75784957","BRICEÑO"," ALIAGA","JORGE WILLIAN JAIR","MASCULINO",null,"NO",null,null,null,"2020-1","SEDE CENTRAL","CIENCIAS SOCIALES-HISTORIA",16.22,null,null,"2015-1","2015-1","20150443@une.edu.pe","jair_nf95@hotmail.com",3133700,"930130912",{"$f":"IF(ISERROR(VLOOKUP(Egresados!$N$8:$N$705,Maestros!$D$31:$E$530,2,0)),\"\",VLOOKUP(Egresados!$N$8:$N$705,Maestros!$D$31:$E$530,2,0))","v":"223"},{"$f":"IF(ISERROR(VLOOKUP(Egresados!$O115,Maestros!$G$31:$J$1030,2,0)),\"\",VLOOKUP(Egresados!$O115,Maestros!$G$31:$J$1030,2,0))","v":"8"},{"$f":"CONCATENATE(Egresados!$Z$8:$Z$705,\"a\",Egresados!$AA$8:$AA$705)","v":"223a8"},{"$f":"IF(ISERROR(VLOOKUP(Egresados!$P115,Maestros!$L$31:$Q$1030,2,0)),\"\",VLOOKUP(Egresados!$P115,Maestros!$L$31:$Q$1030,2,0))","v":"326"},{"$f":"CONCATENATE(Egresados!$Z$8:$Z$705,\"a\",Egresados!$AA$8:$AA$705,\"a\",Egresados!$AC$8:$AC$705)","v":"223a8a326"},{"$f":"IF(ISERROR(VLOOKUP(Egresados!$C$8:$C$705,Maestros!$A$4:$B$21,2,0)),\"\",VLOOKUP(Egresados!$C$8:$C$705,Maestros!$A$4:$B$21,2,0))","v":"1001"},{"$f":"IF(ISERROR(VLOOKUP(Egresados!$H$8:$H$705,Maestros!$D$4:$E$21,2,0)),\"\",VLOOKUP(Egresados!$H$8:$H$705,Maestros!$D$4:$E$21,2,0))","v":"1121"},{"$f":"IF(OR(UPPER(Egresados!$J$8:$J$705)=\"SI\",UPPER(Egresados!$J$8:$J$705)=\"SÍ\"),1,IF(UPPER(Egresados!$J$8:$J$705)=\"NO\",0,\"\"))","v":0},{"$f":"IF(OR(UPPER(Egresados!$R$8:$R$705)=\"SI\",UPPER(Egresados!$R$8:$R$705)=\"SÍ\"),1,IF(UPPER(Egresados!$R$8:$R$705)=\"NO\",0,\"\"))","v":""},{"$f":"IF(OR(UPPER(Egresados!$S$8:$S$705)=\"SI\",UPPER(Egresados!$S$8:$S$705)=\"SÍ\"),1,IF(UPPER(Egresados!$S$8:$S$705)=\"NO\",0,\"\"))","v":""},{"$f":"IF(ISERROR(VLOOKUP(Egresados!$T$8:$T$705,Maestros!$S$31:$T$530,2,0)),\"\",VLOOKUP(Egresados!$T$8:$T$705,Maestros!$S$31:$T$530,2,0))","v":"62"},{"$f":"IF(ISERROR(VLOOKUP(U115,Maestros!$S$31:$T$530,2,0)),\"\",VLOOKUP(U115,Maestros!$S$31:$T$530,2,0))","v":"62"},{"$f":"IF(ISERROR(VLOOKUP(Egresados!$K$8:$K$705,Maestros!$A$31:$B$130,2,0)),\"\",VLOOKUP(Egresados!$K$8:$K$705,Maestros!$A$31:$B$130,2,0))","v":""},{"$f":"IF(LEN(tablaEgresados[[#This Row],[Nota promedio]])>0,ROUND(tablaEgresados[[#This Row],[Nota promedio]],2),\"\")","v":16.22}]
[108,null,"DNI","77675354","MALPARTIDA","SORIA","ANGELA SOLEDAD","FEMENINO",null,"NO",null,null,null,"2020-1","SEDE CENTRAL","CIENCIAS SOCIALES-HISTORIA",15.58,null,null,"2015-1","2015-1","20150503@une.edu.pe","angelasol63@gmail.com",3133700,"945103619",{"$f":"IF(ISERROR(VLOOKUP(Egresados!$N$8:$N$705,Maestros!$D$31:$E$530,2,0)),\"\",VLOOKUP(Egresados!$N$8:$N$705,Maestros!$D$31:$E$530,2,0))","v":"223"},{"$f":"IF(ISERROR(VLOOKUP(Egresados!$O116,Maestros!$G$31:$J$1030,2,0)),\"\",VLOOKUP(Egresados!$O116,Maestros!$G$31:$J$1030,2,0))","v":"8"},{"$f":"CONCATENATE(Egresados!$Z$8:$Z$705,\"a\",Egresados!$AA$8:$AA$705)","v":"223a8"},{"$f":"IF(ISERROR(VLOOKUP(Egresados!$P116,Maestros!$L$31:$Q$1030,2,0)),\"\",VLOOKUP(Egresados!$P116,Maestros!$L$31:$Q$1030,2,0))","v":"326"},{"$f":"CONCATENATE(Egresados!$Z$8:$Z$705,\"a\",Egresados!$AA$8:$AA$705,\"a\",Egresados!$AC$8:$AC$705)","v":"223a8a326"},{"$f":"IF(ISERROR(VLOOKUP(Egresados!$C$8:$C$705,Maestros!$A$4:$B$21,2,0)),\"\",VLOOKUP(Egresados!$C$8:$C$705,Maestros!$A$4:$B$21,2,0))","v":"1001"},{"$f":"IF(ISERROR(VLOOKUP(Egresados!$H$8:$H$705,Maestros!$D$4:$E$21,2,0)),\"\",VLOOKUP(Egresados!$H$8:$H$705,Maestros!$D$4:$E$21,2,0))","v":"1122"},{"$f":"IF(OR(UPPER(Egresados!$J$8:$J$705)=\"SI\",UPPER(Egresados!$J$8:$J$705)=\"SÍ\"),1,IF(UPPER(Egresados!$J$8:$J$705)=\"NO\",0,\"\"))","v":0},{"$f":"IF(OR(UPPER(Egresados!$R$8:$R$705)=\"SI\",UPPER(Egresados!$R$8:$R$705)=\"SÍ\"),1,IF(UPPER(Egresados!$R$8:$R$705)=\"NO\",0,\"\"))","v":""},{"$f":"IF(OR(UPPER(Egresados!$S$8:$S$705)=\"SI\",UPPER(Egresados!$S$8:$S$705)=\"SÍ\"),1,IF(UPPER(Egresados!$S$8:$S$705)=\"NO\",0,\"\"))","v":""},{"$f":"IF(ISERROR(VLOOKUP(Egresados!$T$8:$T$705,Maestros!$S$31:$T$530,2,0)),\"\",VLOOKUP(Egresados!$T$8:$T$705,Maestros!$S$31:$T$530,2,0))","v":"62"},{"$f":"IF(ISERROR(VLOOKUP(U116,Maestros!$S$31:$T$530,2,0)),\"\",VLOOKUP(U116,Maestros!$S$31:$T$530,2,0))","v":"62"},{"$f":"IF(ISERROR(VLOOKUP(Egresados!$K$8:$K$705,Maestros!$A$31:$B$130,2,0)),\"\",VLOOKUP(Egresados!$K$8:$K$705,Maestros!$A$31:$B$130,2,0))","v":""},{"$f":"IF(LEN(tablaEgresados[[#This Row],[Nota promedio]])>0,ROUND(tablaEgresados[[#This Row],[Nota promedio]],2),\"\")","v":15.58}]
[109,null,"DNI","75425049","ASTO","HUACHO","LISETH MIRIAM","FEMENINO",null,"NO",null,null,null,"2020-1","SEDE CENTRAL","CIENCIAS SOCIALES-HISTORIA",15.44,null,null,"2015-1","2015-1","20150437@une.edu.pe","lis_piscis_14@hotmail.com",3133700,"925839397",{"$f":"IF(ISERROR(VLOOKUP(Egresados!$N$8:$N$705,Maestros!$D$31:$E$530,2,0)),\"\",VLOOKUP(Egresados!$N$8:$N$705,Maestros!$D$31:$E$530,2,0))","v":"223"},{"$f":"IF(ISERROR(VLOOKUP(Egresados!$O117,Maestros!$G$31:$J$1030,2,0)),\"\",VLOOKUP(Egresados!$O117,Maestros!$G$31:$J$1030,2,0))","v":"8"},{"$f":"CONCATENATE(Egresados!$Z$8:$Z$705,\"a\",Egresados!$AA$8:$AA$705)","v":"223a8"},{"$f":"IF(ISERROR(VLOOKUP(Egresados!$P117,Maestros!$L$31:$Q$1030,2,0)),\"\",VLOOKUP(Egresados!$P117,Maestros!$L$31:$Q$1030,2,0))","v":"326"},{"$f":"CONCATENATE(Egresados!$Z$8:$Z$705,\"a\",Egresados!$AA$8:$AA$705,\"a\",Egresados!$AC$8:$AC$705)","v":"223a8a326"},{"$f":"IF(ISERROR(VLOOKUP(Egresados!$C$8:$C$705,Maestros!$A$4:$B$21,2,0)),\"\",VLOOKUP(Egresados!$C$8:$C$705,Maestros!$A$4:$B$21,2,0))","v":"1001"},{"$f":"IF(ISERROR(VLOOKUP(Egresados!$H$8:$H$705,Maestros!$D$4:$E$21,2,0)),\"\",VLOOKUP(Egresados!$H$8:$H$705,Maestros!$D$4:$E$21,2,0))","v":"1122"},{"$f":"IF(OR(UPPER(Egresados!$J$8:$J$705)=\"SI\",UPPER(Egresados!$J$8:$J$705)=\"SÍ\"),1,IF(UPPER(Egresados!$J$8:$J$705)=\"NO\",0,\"\"))","v":0},{"$f":"IF(OR(UPPER(Egresados!$R$8:$R$705)=\"SI\",UPPER(Egresados!$R$8:$R$705)=\"SÍ\"),1,IF(UPPER(Egresados!$R$8:$R$705)=\"NO\",0,\"\"))","v":""},{"$f":"IF(OR(UPPER(Egresados!$S$8:$S$705)=\"SI\",UPPER(Egresados!$S$8:$S$705)=\"SÍ\"),1,IF(UPPER(Egresados!$S$8:$S$705)=\"NO\",0,\"\"))","v":""},{"$f":"IF(ISERROR(VLOOKUP(Egresados!$T$8:$T$705,Maestros!$S$31:$T$530,2,0)),\"\",VLOOKUP(Egresados!$T$8:$T$705,Maestros!$S$31:$T$530,2,0))","v":"62"},{"$f":"IF(ISERROR(VLOOKUP(U117,Maestros!$S$31:$T$530,2,0)),\"\",VLOOKUP(U117,Maestros!$S$31:$T$530,2,0))","v":"62"},{"$f":"IF(ISERROR(VLOOKUP(Egresados!$K$8:$K$705,Maestros!$A$31:$B$130,2,0)),\"\",VLOOKUP(Egresados!$K$8:$K$705,Maestros!$A$31:$B$130,2,0))","v":""},{"$f":"IF(LEN(tablaEgresados[[#This Row],[Nota promedio]])>0,ROUND(tablaEgresados[[#This Row],[Nota promedio]],2),\"\")","v":15.44}]
[110,null,"DNI","47592978","HUAMANI","GASGA","DANIELA","FEMENINO",null,"NO",null,null,null,"2020-1","SEDE CENTRAL","CIENCIAS SOCIALES-HISTORIA",15.57,null,null,"2015-1","2015-1","20150488@une.edu.pe","daniela_6h@hotmail.com",3133700,"997729446",{"$f":"IF(ISERROR(VLOOKUP(Egresados!$N$8:$N$705,Maestros!$D$31:$E$530,2,0)),\"\",VLOOKUP(Egresados!$N$8:$N$705,Maestros!$D$31:$E$530,2,0))","v":"223"},{"$f":"IF(ISERROR(VLOOKUP(Egresados!$O118,Maestros!$G$31:$J$1030,2,0)),\"\",VLOOKUP(Egresados!$O118,Maestros!$G$31:$J$1030,2,0))","v":"8"},{"$f":"CONCATENATE(Egresados!$Z$8:$Z$705,\"a\",Egresados!$AA$8:$AA$705)","v":"223a8"},{"$f":"IF(ISERROR(VLOOKUP(Egresados!$P118,Maestros!$L$31:$Q$1030,2,0)),\"\",VLOOKUP(Egresados!$P118,Maestros!$L$31:$Q$1030,2,0))","v":"326"},{"$f":"CONCATENATE(Egresados!$Z$8:$Z$705,\"a\",Egresados!$AA$8:$AA$705,\"a\",Egresados!$AC$8:$AC$705)","v":"223a8a326"},{"$f":"IF(ISERROR(VLOOKUP(Egresados!$C$8:$C$705,Maestros!$A$4:$B$21,2,0)),\"\",VLOOKUP(Egresados!$C$8:$C$705,Maestros!$A$4:$B$21,2,0))","v":"1001"},{"$f":"IF(ISERROR(VLOOKUP(Egresados!$H$8:$H$705,Maestros!$D$4:$E$21,2,0)),\"\",VLOOKUP(Egresados!$H$8:$H$705,Maestros!$D$4:$E$21,2,0))","v":"1122"},{"$f":"IF(OR(UPPER(Egresados!$J$8:$J$705)=\"SI\",UPPER(Egresados!$J$8:$J$705)=\"SÍ\"),1,IF(UPPER(Egresados!$J$8:$J$705)=\"NO\",0,\"\"))","v":0},{"$f":"IF(OR(UPPER(Egresados!$R$8:$R$705)=\"SI\",UPPER(Egresados!$R$8:$R$705)=\"SÍ\"),1,IF(UPPER(Egresados!$R$8:$R$705)=\"NO\",0,\"\"))","v":""},{"$f":"IF(OR(UPPER(Egresados!$S$8:$S$705)=\"SI\",UPPER(Egresados!$S$8:$S$705)=\"SÍ\"),1,IF(UPPER(Egresados!$S$8:$S$705)=\"NO\",0,\"\"))","v":""},{"$f":"IF(ISERROR(VLOOKUP(Egresados!$T$8:$T$705,Maestros!$S$31:$T$530,2,0)),\"\",VLOOKUP(Egresados!$T$8:$T$705,Maestros!$S$31:$T$530,2,0))","v":"62"},{"$f":"IF(ISERROR(VLOOKUP(U118,Maestros!$S$31:$T$530,2,0)),\"\",VLOOKUP(U118,Maestros!$S$31:$T$530,2,0))","v":"62"},{"$f":"IF(ISERROR(VLOOKUP(Egresados!$K$8:$K$705,Maestros!$A$31:$B$130,2,0)),\"\",VLOOKUP(Egresados!$K$8:$K$705,Maestros!$A$31:$B$130,2,0))","v":""},{"$f":"IF(LEN(tablaEgresados[[#This Row],[Nota promedio]])>0,ROUND(tablaEgresados[[#This Row],[Nota promedio]],2),\"\")","v":15.57}]
[111,null,"DNI","73033780","MONTES","OLIVARES","ANGIE LILIANA","FEMENINO",null,"NO",null,null,null,"2020-1","SEDE CENTRAL","CIENCIAS SOCIALES-HISTORIA",15.4,null,null,"2015-1","2015-1","20150514@une.edu.pe","abandanolivares@gmail.com",3133700,"987640336",{"$f":"IF(ISERROR(VLOOKUP(Egresados!$N$8:$N$705,Maestros!$D$31:$E$530,2,0)),\"\",VLOOKUP(Egresados!$N$8:$N$705,Maestros!$D$31:$E$530,2,0))","v":"223"},{"$f":"IF(ISERROR(VLOOKUP(Egresados!$O119,Maestros!$G$31:$J$1030,2,0)),\"\",VLOOKUP(Egresados!$O119,Maestros!$G$31:$J$1030,2,0))","v":"8"},{"$f":"CONCATENATE(Egresados!$Z$8:$Z$705,\"a\",Egresados!$AA$8:$AA$705)","v":"223a8"},{"$f":"IF(ISERROR(VLOOKUP(Egresados!$P119,Maestros!$L$31:$Q$1030,2,0)),\"\",VLOOKUP(Egresados!$P119,Maestros!$L$31:$Q$1030,2,0))","v":"326"},{"$f":"CONCATENATE(Egresados!$Z$8:$Z$705,\"a\",Egresados!$AA$8:$AA$705,\"a\",Egresados!$AC$8:$AC$705)","v":"223a8a326"},{"$f":"IF(ISERROR(VLOOKUP(Egresados!$C$8:$C$705,Maestros!$A$4:$B$21,2,0)),\"\",VLOOKUP(Egresados!$C$8:$C$705,Maestros!$A$4:$B$21,2,0))","v":"1001"},{"$f":"IF(ISERROR(VLOOKUP(Egresados!$H$8:$H$705,Maestros!$D$4:$E$21,2,0)),\"\",VLOOKUP(Egresados!$H$8:$H$705,Maestros!$D$4:$E$21,2,0))","v":"1122"},{"$f":"IF(OR(UPPER(Egresados!$J$8:$J$705)=\"SI\",UPPER(Egresados!$J$8:$J$705)=\"SÍ\"),1,IF(UPPER(Egresados!$J$8:$J$705)=\"NO\",0,\"\"))","v":0},{"$f":"IF(OR(UPPER(Egresados!$R$8:$R$705)=\"SI\",UPPER(Egresados!$R$8:$R$705)=\"SÍ\"),1,IF(UPPER(Egresados!$R$8:$R$705)=\"NO\",0,\"\"))","v":""},{"$f":"IF(OR(UPPER(Egresados!$S$8:$S$705)=\"SI\",UPPER(Egresados!$S$8:$S$705)=\"SÍ\"),1,IF(UPPER(Egresados!$S$8:$S$705)=\"NO\",0,\"\"))","v":""},{"$f":"IF(ISERROR(VLOOKUP(Egresados!$T$8:$T$705,Maestros!$S$31:$T$530,2,0)),\"\",VLOOKUP(Egresados!$T$8:$T$705,Maestros!$S$31:$T$530,2,0))","v":"62"},{"$f":"IF(ISERROR(VLOOKUP(U119,Maestros!$S$31:$T$530,2,0)),\"\",VLOOKUP(U119,Maestros!$S$31:$T$530,2,0))","v":"62"},{"$f":"IF(ISERROR(VLOOKUP(Egresados!$K$8:$K$705,Maestros!$A$31:$B$130,2,0)),\"\",VLOOKUP(Egresados!$K$8:$K$705,Maestros!$A$31:$B$130,2,0))","v":""},{"$f":"IF(LEN(tablaEgresados[[#This Row],[Nota promedio]])>0,ROUND(tablaEgresados[[#This Row],[Nota promedio]],2),\"\")","v":15.4}]
[112,null,"DNI","75610545","SOCA","ÑAUPAS","MILAGROS","FEMENINO",null,"NO",null,null,null,"2020-1","SEDE CENTRAL","CIENCIAS SOCIALES-HISTORIA",15.02,null,null,"2013-1","2013-1","20130535@une.edu.pe","sokamilagroz@gmail.com",3133700,"981642316",{"$f":"IF(ISERROR(VLOOKUP(Egresados!$N$8:$N$705,Maestros!$D$31:$E$530,2,0)),\"\",VLOOKUP(Egresados!$N$8:$N$705,Maestros!$D$31:$E$530,2,0))","v":"223"},{"$f":"IF(ISERROR(VLOOKUP(Egresados!$O120,Maestros!$G$31:$J$1030,2,0)),\"\",VLOOKUP(Egresados!$O120,Maestros!$G$31:$J$1030,2,0))","v":"8"},{"$f":"CONCATENATE(Egresados!$Z$8:$Z$705,\"a\",Egresados!$AA$8:$AA$705)","v":"223a8"},{"$f":"IF(ISERROR(VLOOKUP(Egresados!$P120,Maestros!$L$31:$Q$1030,2,0)),\"\",VLOOKUP(Egresados!$P120,Maestros!$L$31:$Q$1030,2,0))","v":"326"},{"$f":"CONCATENATE(Egresados!$Z$8:$Z$705,\"a\",Egresados!$AA$8:$AA$705,\"a\",Egresados!$AC$8:$AC$705)","v":"223a8a326"},{"$f":"IF(ISERROR(VLOOKUP(Egresados!$C$8:$C$705,Maestros!$A$4:$B$21,2,0)),\"\",VLOOKUP(Egresados!$C$8:$C$705,Maestros!$A$4:$B$21,2,0))","v":"1001"},{"$f":"IF(ISERROR(VLOOKUP(Egresados!$H$8:$H$705,Maestros!$D$4:$E$21,2,0)),\"\",VLOOKUP(Egresados!$H$8:$H$705,Maestros!$D$4:$E$21,2,0))","v":"1122"},{"$f":"IF(OR(UPPER(Egresados!$J$8:$J$705)=\"SI\",UPPER(Egresados!$J$8:$J$705)=\"SÍ\"),1,IF(UPPER(Egresados!$J$8:$J$705)=\"NO\",0,\"\"))","v":0},{"$f":"IF(OR(UPPER(Egresados!$R$8:$R$705)=\"SI\",UPPER(Egresados!$R$8:$R$705)=\"SÍ\"),1,IF(UPPER(Egresados!$R$8:$R$705)=\"NO\",0,\"\"))","v":""},{"$f":"IF(OR(UPPER(Egresados!$S$8:$S$705)=\"SI\",UPPER(Egresados!$S$8:$S$705)=\"SÍ\"),1,IF(UPPER(Egresados!$S$8:$S$705)=\"NO\",0,\"\"))","v":""},{"$f":"IF(ISERROR(VLOOKUP(Egresados!$T$8:$T$705,Maestros!$S$31:$T$530,2,0)),\"\",VLOOKUP(Egresados!$T$8:$T$705,Maestros!$S$31:$T$530,2,0))","v":"54"},{"$f":"IF(ISERROR(VLOOKUP(U120,Maestros!$S$31:$T$530,2,0)),\"\",VLOOKUP(U120,Maestros!$S$31:$T$530,2,0))","v":"54"},{"$f":"IF(ISERROR(VLOOKUP(Egresados!$K$8:$K$705,Maestros!$A$31:$B$130,2,0)),\"\",VLOOKUP(Egresados!$K$8:$K$705,Maestros!$A$31:$B$130,2,0))","v":""},{"$f":"IF(LEN(tablaEgresados[[#This Row],[Nota promedio]])>0,ROUND(tablaEgresados[[#This Row],[Nota promedio]],2),\"\")","v":15.02}]
[113,null,"DNI","70187494","FERNANDEZ","BENITES","JESUS LEONARDO","MASCULINO",null,"NO",null,null,null,"2020-1","SEDE CENTRAL","CIENCIAS SOCIALES-HISTORIA",15.67,null,null,"2015-1","2015-1","20150476@une.edu.pe","leo17_007_10@hotmail.com",3133700,"980336319",{"$f":"IF(ISERROR(VLOOKUP(Egresados!$N$8:$N$705,Maestros!$D$31:$E$530,2,0)),\"\",VLOOKUP(Egresados!$N$8:$N$705,Maestros!$D$31:$E$530,2,0))","v":"223"},{"$f":"IF(ISERROR(VLOOKUP(Egresados!$O121,Maestros!$G$31:$J$1030,2,0)),\"\",VLOOKUP(Egresados!$O121,Maestros!$G$31:$J$1030,2,0))","v":"8"},{"$f":"CONCATENATE(Egresados!$Z$8:$Z$705,\"a\",Egresados!$AA$8:$AA$705)","v":"223a8"},{"$f":"IF(ISERROR(VLOOKUP(Egresados!$P121,Maestros!$L$31:$Q$1030,2,0)),\"\",VLOOKUP(Egresados!$P121,Maestros!$L$31:$Q$1030,2,0))","v":"326"},{"$f":"CONCATENATE(Egresados!$Z$8:$Z$705,\"a\",Egresados!$AA$8:$AA$705,\"a\",Egresados!$AC$8:$AC$705)","v":"223a8a326"},{"$f":"IF(ISERROR(VLOOKUP(Egresados!$C$8:$C$705,Maestros!$A$4:$B$21,2,0)),\"\",VLOOKUP(Egresados!$C$8:$C$705,Maestros!$A$4:$B$21,2,0))","v":"1001"},{"$f":"IF(ISERROR(VLOOKUP(Egresados!$H$8:$H$705,Maestros!$D$4:$E$21,2,0)),\"\",VLOOKUP(Egresados!$H$8:$H$705,Maestros!$D$4:$E$21,2,0))","v":"1121"},{"$f":"IF(OR(UPPER(Egresados!$J$8:$J$705)=\"SI\",UPPER(Egresados!$J$8:$J$705)=\"SÍ\"),1,IF(UPPER(Egresados!$J$8:$J$705)=\"NO\",0,\"\"))","v":0},{"$f":"IF(OR(UPPER(Egresados!$R$8:$R$705)=\"SI\",UPPER(Egresados!$R$8:$R$705)=\"SÍ\"),1,IF(UPPER(Egresados!$R$8:$R$705)=\"NO\",0,\"\"))","v":""},{"$f":"IF(OR(UPPER(Egresados!$S$8:$S$705)=\"SI\",UPPER(Egresados!$S$8:$S$705)=\"SÍ\"),1,IF(UPPER(Egresados!$S$8:$S$705)=\"NO\",0,\"\"))","v":""},{"$f":"IF(ISERROR(VLOOKUP(Egresados!$T$8:$T$705,Maestros!$S$31:$T$530,2,0)),\"\",VLOOKUP(Egresados!$T$8:$T$705,Maestros!$S$31:$T$530,2,0))","v":"62"},{"$f":"IF(ISERROR(VLOOKUP(U121,Maestros!$S$31:$T$530,2,0)),\"\",VLOOKUP(U121,Maestros!$S$31:$T$530,2,0))","v":"62"},{"$f":"IF(ISERROR(VLOOKUP(Egresados!$K$8:$K$705,Maestros!$A$31:$B$130,2,0)),\"\",VLOOKUP(Egresados!$K$8:$K$705,Maestros!$A$31:$B$130,2,0))","v":""},{"$f":"IF(LEN(tablaEgresados[[#This Row],[Nota promedio]])>0,ROUND(tablaEgresados[[#This Row],[Nota promedio]],2),\"\")","v":15.67}]
[114,null,"DNI","71005069","MUÑOZ","GONZALES","MARIELLA ASUNCION","FEMENINO",null,"NO",null,null,null,"2020-1","SEDE CENTRAL","CIENCIAS SOCIALES-HISTORIA",15.29,null,null,"2015-1","2015-1","20150517@une.edu.pe","mari-mg15@hotmail.com",3133700,"977351327",{"$f":"IF(ISERROR(VLOOKUP(Egresados!$N$8:$N$705,Maestros!$D$31:$E$530,2,0)),\"\",VLOOKUP(Egresados!$N$8:$N$705,Maestros!$D$31:$E$530,2,0))","v":"223"},{"$f":"IF(ISERROR(VLOOKUP(Egresados!$O122,Maestros!$G$31:$J$1030,2,0)),\"\",VLOOKUP(Egresados!$O122,Maestros!$G$31:$J$1030,2,0))","v":"8"},{"$f":"CONCATENATE(Egresados!$Z$8:$Z$705,\"a\",Egresados!$AA$8:$AA$705)","v":"223a8"},{"$f":"IF(ISERROR(VLOOKUP(Egresados!$P122,Maestros!$L$31:$Q$1030,2,0)),\"\",VLOOKUP(Egresados!$P122,Maestros!$L$31:$Q$1030,2,0))","v":"326"},{"$f":"CONCATENATE(Egresados!$Z$8:$Z$705,\"a\",Egresados!$AA$8:$AA$705,\"a\",Egresados!$AC$8:$AC$705)","v":"223a8a326"},{"$f":"IF(ISERROR(VLOOKUP(Egresados!$C$8:$C$705,Maestros!$A$4:$B$21,2,0)),\"\",VLOOKUP(Egresados!$C$8:$C$705,Maestros!$A$4:$B$21,2,0))","v":"1001"},{"$f":"IF(ISERROR(VLOOKUP(Egresados!$H$8:$H$705,Maestros!$D$4:$E$21,2,0)),\"\",VLOOKUP(Egresados!$H$8:$H$705,Maestros!$D$4:$E$21,2,0))","v":"1122"},{"$f":"IF(OR(UPPER(Egresados!$J$8:$J$705)=\"SI\",UPPER(Egresados!$J$8:$J$705)=\"SÍ\"),1,IF(UPPER(Egresados!$J$8:$J$705)=\"NO\",0,\"\"))","v":0},{"$f":"IF(OR(UPPER(Egresados!$R$8:$R$705)=\"SI\",UPPER(Egresados!$R$8:$R$705)=\"SÍ\"),1,IF(UPPER(Egresados!$R$8:$R$705)=\"NO\",0,\"\"))","v":""},{"$f":"IF(OR(UPPER(Egresados!$S$8:$S$705)=\"SI\",UPPER(Egresados!$S$8:$S$705)=\"SÍ\"),1,IF(UPPER(Egresados!$S$8:$S$705)=\"NO\",0,\"\"))","v":""},{"$f":"IF(ISERROR(VLOOKUP(Egresados!$T$8:$T$705,Maestros!$S$31:$T$530,2,0)),\"\",VLOOKUP(Egresados!$T$8:$T$705,Maestros!$S$31:$T$530,2,0))","v":"62"},{"$f":"IF(ISERROR(VLOOKUP(U122,Maestros!$S$31:$T$530,2,0)),\"\",VLOOKUP(U122,Maestros!$S$31:$T$530,2,0))","v":"62"},{"$f":"IF(ISERROR(VLOOKUP(Egresados!$K$8:$K$705,Maestros!$A$31:$B$130,2,0)),\"\",VLOOKUP(Egresados!$K$8:$K$705,Maestros!$A$31:$B$130,2,0))","v":""},{"$f":"IF(LEN(tablaEgresados[[#This Row],[Nota promedio]])>0,ROUND(tablaEgresados[[#This Row],[Nota promedio]],2),\"\")","v":15.29}]
[115,null,"DNI","75946443","MITMA","FACUNDO","JOSUE","MASCULINO",null,"NO",null,null,null,"2020-1","SEDE CENTRAL","CIENCIAS SOCIALES-HISTORIA",15.36,null,null,"2015-1","2015-1","20150513@une.edu.pe","jotab_02_18@hotmail.com",3133700,"988946547",{"$f":"IF(ISERROR(VLOOKUP(Egresados!$N$8:$N$705,Maestros!$D$31:$E$530,2,0)),\"\",VLOOKUP(Egresados!$N$8:$N$705,Maestros!$D$31:$E$530,2,0))","v":"223"},{"$f":"IF(ISERROR(VLOOKUP(Egresados!$O123,Maestros!$G$31:$J$1030,2,0)),\"\",VLOOKUP(Egresados!$O123,Maestros!$G$31:$J$1030,2,0))","v":"8"},{"$f":"CONCATENATE(Egresados!$Z$8:$Z$705,\"a\",Egresados!$AA$8:$AA$705)","v":"223a8"},{"$f":"IF(ISERROR(VLOOKUP(Egresados!$P123,Maestros!$L$31:$Q$1030,2,0)),\"\",VLOOKUP(Egresados!$P123,Maestros!$L$31:$Q$1030,2,0))","v":"326"},{"$f":"CONCATENATE(Egresados!$Z$8:$Z$705,\"a\",Egresados!$AA$8:$AA$705,\"a\",Egresados!$AC$8:$AC$705)","v":"223a8a326"},{"$f":"IF(ISERROR(VLOOKUP(Egresados!$C$8:$C$705,Maestros!$A$4:$B$21,2,0)),\"\",VLOOKUP(Egresados!$C$8:$C$705,Maestros!$A$4:$B$21,2,0))","v":"1001"},{"$f":"IF(ISERROR(VLOOKUP(Egresados!$H$8:$H$705,Maestros!$D$4:$E$21,2,0)),\"\",VLOOKUP(Egresados!$H$8:$H$705,Maestros!$D$4:$E$21,2,0))","v":"1121"},{"$f":"IF(OR(UPPER(Egresados!$J$8:$J$705)=\"SI\",UPPER(Egresados!$J$8:$J$705)=\"SÍ\"),1,IF(UPPER(Egresados!$J$8:$J$705)=\"NO\",0,\"\"))","v":0},{"$f":"IF(OR(UPPER(Egresados!$R$8:$R$705)=\"SI\",UPPER(Egresados!$R$8:$R$705)=\"SÍ\"),1,IF(UPPER(Egresados!$R$8:$R$705)=\"NO\",0,\"\"))","v":""},{"$f":"IF(OR(UPPER(Egresados!$S$8:$S$705)=\"SI\",UPPER(Egresados!$S$8:$S$705)=\"SÍ\"),1,IF(UPPER(Egresados!$S$8:$S$705)=\"NO\",0,\"\"))","v":""},{"$f":"IF(ISERROR(VLOOKUP(Egresados!$T$8:$T$705,Maestros!$S$31:$T$530,2,0)),\"\",VLOOKUP(Egresados!$T$8:$T$705,Maestros!$S$31:$T$530,2,0))","v":"62"},{"$f":"IF(ISERROR(VLOOKUP(U123,Maestros!$S$31:$T$530,2,0)),\"\",VLOOKUP(U123,Maestros!$S$31:$T$530,2,0))","v":"62"},{"$f":"IF(ISERROR(VLOOKUP(Egresados!$K$8:$K$705,Maestros!$A$31:$B$130,2,0)),\"\",VLOOKUP(Egresados!$K$8:$K$705,Maestros!$A$31:$B$130,2,0))","v":""},{"$f":"IF(LEN(tablaEgresados[[#This Row],[Nota promedio]])>0,ROUND(tablaEgresados[[#This Row],[Nota promedio]],2),\"\")","v":15.36}]
[116,null,"DNI","76130488","HALANOCA","VELASQUEZ","MARISOL ANGELICA","FEMENINO",null,"NO",null,null,null,"2020-1","SEDE CENTRAL","CIENCIAS SOCIALES-HISTORIA",15.31,null,null,"2015-1","2015-1","20150484@une.edu.pe","velasquezmarisol@gmail.com",3133700,"929761710",{"$f":"IF(ISERROR(VLOOKUP(Egresados!$N$8:$N$705,Maestros!$D$31:$E$530,2,0)),\"\",VLOOKUP(Egresados!$N$8:$N$705,Maestros!$D$31:$E$530,2,0))","v":"223"},{"$f":"IF(ISERROR(VLOOKUP(Egresados!$O124,Maestros!$G$31:$J$1030,2,0)),\"\",VLOOKUP(Egresados!$O124,Maestros!$G$31:$J$1030,2,0))","v":"8"},{"$f":"CONCATENATE(Egresados!$Z$8:$Z$705,\"a\",Egresados!$AA$8:$AA$705)","v":"223a8"},{"$f":"IF(ISERROR(VLOOKUP(Egresados!$P124,Maestros!$L$31:$Q$1030,2,0)),\"\",VLOOKUP(Egresados!$P124,Maestros!$L$31:$Q$1030,2,0))","v":"326"},{"$f":"CONCATENATE(Egresados!$Z$8:$Z$705,\"a\",Egresados!$AA$8:$AA$705,\"a\",Egresados!$AC$8:$AC$705)","v":"223a8a326"},{"$f":"IF(ISERROR(VLOOKUP(Egresados!$C$8:$C$705,Maestros!$A$4:$B$21,2,0)),\"\",VLOOKUP(Egresados!$C$8:$C$705,Maestros!$A$4:$B$21,2,0))","v":"1001"},{"$f":"IF(ISERROR(VLOOKUP(Egresados!$H$8:$H$705,Maestros!$D$4:$E$21,2,0)),\"\",VLOOKUP(Egresados!$H$8:$H$705,Maestros!$D$4:$E$21,2,0))","v":"1122"},{"$f":"IF(OR(UPPER(Egresados!$J$8:$J$705)=\"SI\",UPPER(Egresados!$J$8:$J$705)=\"SÍ\"),1,IF(UPPER(Egresados!$J$8:$J$705)=\"NO\",0,\"\"))","v":0},{"$f":"IF(OR(UPPER(Egresados!$R$8:$R$705)=\"SI\",UPPER(Egresados!$R$8:$R$705)=\"SÍ\"),1,IF(UPPER(Egresados!$R$8:$R$705)=\"NO\",0,\"\"))","v":""},{"$f":"IF(OR(UPPER(Egresados!$S$8:$S$705)=\"SI\",UPPER(Egresados!$S$8:$S$705)=\"SÍ\"),1,IF(UPPER(Egresados!$S$8:$S$705)=\"NO\",0,\"\"))","v":""},{"$f":"IF(ISERROR(VLOOKUP(Egresados!$T$8:$T$705,Maestros!$S$31:$T$530,2,0)),\"\",VLOOKUP(Egresados!$T$8:$T$705,Maestros!$S$31:$T$530,2,0))","v":"62"},{"$f":"IF(ISERROR(VLOOKUP(U124,Maestros!$S$31:$T$530,2,0)),\"\",VLOOKUP(U124,Maestros!$S$31:$T$530,2,0))","v":"62"},{"$f":"IF(ISERROR(VLOOKUP(Egresados!$K$8:$K$705,Maestros!$A$31:$B$130,2,0)),\"\",VLOOKUP(Egresados!$K$8:$K$705,Maestros!$A$31:$B$130,2,0))","v":""},{"$f":"IF(LEN(tablaEgresados[[#This Row],[Nota promedio]])>0,ROUND(tablaEgresados[[#This Row],[Nota promedio]],2),\"\")","v":15.31}]
[117,null,"DNI","47133929","TTITO","QUISPE","ARNOLD DANIEL","MASCULINO",null,"NO",null,null,null,"2020-1","SEDE CENTRAL","CIENCIAS SOCIALES-HISTORIA",14.82,null,null,"2011-1","2011-1","20110304@une.edu.pe","arnold_3_9@hotmail.com",3133700,"951318375",{"$f":"IF(ISERROR(VLOOKUP(Egresados!$N$8:$N$705,Maestros!$D$31:$E$530,2,0)),\"\",VLOOKUP(Egresados!$N$8:$N$705,Maestros!$D$31:$E$530,2,0))","v":"223"},{"$f":"IF(ISERROR(VLOOKUP(Egresados!$O125,Maestros!$G$31:$J$1030,2,0)),\"\",VLOOKUP(Egresados!$O125,Maestros!$G$31:$J$1030,2,0))","v":"8"},{"$f":"CONCATENATE(Egresados!$Z$8:$Z$705,\"a\",Egresados!$AA$8:$AA$705)","v":"223a8"},{"$f":"IF(ISERROR(VLOOKUP(Egresados!$P125,Maestros!$L$31:$Q$1030,2,0)),\"\",VLOOKUP(Egresados!$P125,Maestros!$L$31:$Q$1030,2,0))","v":"326"},{"$f":"CONCATENATE(Egresados!$Z$8:$Z$705,\"a\",Egresados!$AA$8:$AA$705,\"a\",Egresados!$AC$8:$AC$705)","v":"223a8a326"},{"$f":"IF(ISERROR(VLOOKUP(Egresados!$C$8:$C$705,Maestros!$A$4:$B$21,2,0)),\"\",VLOOKUP(Egresados!$C$8:$C$705,Maestros!$A$4:$B$21,2,0))","v":"1001"},{"$f":"IF(ISERROR(VLOOKUP(Egresados!$H$8:$H$705,Maestros!$D$4:$E$21,2,0)),\"\",VLOOKUP(Egresados!$H$8:$H$705,Maestros!$D$4:$E$21,2,0))","v":"1121"},{"$f":"IF(OR(UPPER(Egresados!$J$8:$J$705)=\"SI\",UPPER(Egresados!$J$8:$J$705)=\"SÍ\"),1,IF(UPPER(Egresados!$J$8:$J$705)=\"NO\",0,\"\"))","v":0},{"$f":"IF(OR(UPPER(Egresados!$R$8:$R$705)=\"SI\",UPPER(Egresados!$R$8:$R$705)=\"SÍ\"),1,IF(UPPER(Egresados!$R$8:$R$705)=\"NO\",0,\"\"))","v":""},{"$f":"IF(OR(UPPER(Egresados!$S$8:$S$705)=\"SI\",UPPER(Egresados!$S$8:$S$705)=\"SÍ\"),1,IF(UPPER(Egresados!$S$8:$S$705)=\"NO\",0,\"\"))","v":""},{"$f":"IF(ISERROR(VLOOKUP(Egresados!$T$8:$T$705,Maestros!$S$31:$T$530,2,0)),\"\",VLOOKUP(Egresados!$T$8:$T$705,Maestros!$S$31:$T$530,2,0))","v":"46"},{"$f":"IF(ISERROR(VLOOKUP(U125,Maestros!$S$31:$T$530,2,0)),\"\",VLOOKUP(U125,Maestros!$S$31:$T$530,2,0))","v":"46"},{"$f":"IF(ISERROR(VLOOKUP(Egresados!$K$8:$K$705,Maestros!$A$31:$B$130,2,0)),\"\",VLOOKUP(Egresados!$K$8:$K$705,Maestros!$A$31:$B$130,2,0))","v":""},{"$f":"IF(LEN(tablaEgresados[[#This Row],[Nota promedio]])>0,ROUND(tablaEgresados[[#This Row],[Nota promedio]],2),\"\")","v":14.82}]
[118,null,"DNI","47096320","TORRES","HUNSIHUAY","ROGER JOEL","MASCULINO",null,"NO",null,null,null,"2020-1","SEDE CENTRAL","CIENCIAS SOCIALES-HISTORIA",14.79,null,null,"2013-1","2013-1","20130542@une.edu.pe","thefox_baby_28@hotmail.com",3133700,"951361144",{"$f":"IF(ISERROR(VLOOKUP(Egresados!$N$8:$N$705,Maestros!$D$31:$E$530,2,0)),\"\",VLOOKUP(Egresados!$N$8:$N$705,Maestros!$D$31:$E$530,2,0))","v":"223"},{"$f":"IF(ISERROR(VLOOKUP(Egresados!$O126,Maestros!$G$31:$J$1030,2,0)),\"\",VLOOKUP(Egresados!$O126,Maestros!$G$31:$J$1030,2,0))","v":"8"},{"$f":"CONCATENATE(Egresados!$Z$8:$Z$705,\"a\",Egresados!$AA$8:$AA$705)","v":"223a8"},{"$f":"IF(ISERROR(VLOOKUP(Egresados!$P126,Maestros!$L$31:$Q$1030,2,0)),\"\",VLOOKUP(Egresados!$P126,Maestros!$L$31:$Q$1030,2,0))","v":"326"},{"$f":"CONCATENATE(Egresados!$Z$8:$Z$705,\"a\",Egresados!$AA$8:$AA$705,\"a\",Egresados!$AC$8:$AC$705)","v":"223a8a326"},{"$f":"IF(ISERROR(VLOOKUP(Egresados!$C$8:$C$705,Maestros!$A$4:$B$21,2,0)),\"\",VLOOKUP(Egresados!$C$8:$C$705,Maestros!$A$4:$B$21,2,0))","v":"1001"},{"$f":"IF(ISERROR(VLOOKUP(Egresados!$H$8:$H$705,Maestros!$D$4:$E$21,2,0)),\"\",VLOOKUP(Egresados!$H$8:$H$705,Maestros!$D$4:$E$21,2,0))","v":"1121"},{"$f":"IF(OR(UPPER(Egresados!$J$8:$J$705)=\"SI\",UPPER(Egresados!$J$8:$J$705)=\"SÍ\"),1,IF(UPPER(Egresados!$J$8:$J$705)=\"NO\",0,\"\"))","v":0},{"$f":"IF(OR(UPPER(Egresados!$R$8:$R$705)=\"SI\",UPPER(Egresados!$R$8:$R$705)=\"SÍ\"),1,IF(UPPER(Egresados!$R$8:$R$705)=\"NO\",0,\"\"))","v":""},{"$f":"IF(OR(UPPER(Egresados!$S$8:$S$705)=\"SI\",UPPER(Egresados!$S$8:$S$705)=\"SÍ\"),1,IF(UPPER(Egresados!$S$8:$S$705)=\"NO\",0,\"\"))","v":""},{"$f":"IF(ISERROR(VLOOKUP(Egresados!$T$8:$T$705,Maestros!$S$31:$T$530,2,0)),\"\",VLOOKUP(Egresados!$T$8:$T$705,Maestros!$S$31:$T$530,2,0))","v":"54"},{"$f":"IF(ISERROR(VLOOKUP(U126,Maestros!$S$31:$T$530,2,0)),\"\",VLOOKUP(U126,Maestros!$S$31:$T$530,2,0))","v":"54"},{"$f":"IF(ISERROR(VLOOKUP(Egresados!$K$8:$K$705,Maestros!$A$31:$B$130,2,0)),\"\",VLOOKUP(Egresados!$K$8:$K$705,Maestros!$A$31:$B$130,2,0))","v":""},{"$f":"IF(LEN(tablaEgresados[[#This Row],[Nota promedio]])>0,ROUND(tablaEgresados[[#This Row],[Nota promedio]],2),\"\")","v":14.79}]
[119,null,"DNI","72105199","OSCCO","HUAMAN","WILMAN","MASCULINO",null,"NO",null,null,null,"2020-1","SEDE CENTRAL","CIENCIAS SOCIALES-HISTORIA",14.63,null,null,"2014-1","2014-1","20140417@une.edu.pe","assalamu.wil@gmail.com",3133700,"960418466",{"$f":"IF(ISERROR(VLOOKUP(Egresados!$N$8:$N$705,Maestros!$D$31:$E$530,2,0)),\"\",VLOOKUP(Egresados!$N$8:$N$705,Maestros!$D$31:$E$530,2,0))","v":"223"},{"$f":"IF(ISERROR(VLOOKUP(Egresados!$O127,Maestros!$G$31:$J$1030,2,0)),\"\",VLOOKUP(Egresados!$O127,Maestros!$G$31:$J$1030,2,0))","v":"8"},{"$f":"CONCATENATE(Egresados!$Z$8:$Z$705,\"a\",Egresados!$AA$8:$AA$705)","v":"223a8"},{"$f":"IF(ISERROR(VLOOKUP(Egresados!$P127,Maestros!$L$31:$Q$1030,2,0)),\"\",VLOOKUP(Egresados!$P127,Maestros!$L$31:$Q$1030,2,0))","v":"326"},{"$f":"CONCATENATE(Egresados!$Z$8:$Z$705,\"a\",Egresados!$AA$8:$AA$705,\"a\",Egresados!$AC$8:$AC$705)","v":"223a8a326"},{"$f":"IF(ISERROR(VLOOKUP(Egresados!$C$8:$C$705,Maestros!$A$4:$B$21,2,0)),\"\",VLOOKUP(Egresados!$C$8:$C$705,Maestros!$A$4:$B$21,2,0))","v":"1001"},{"$f":"IF(ISERROR(VLOOKUP(Egresados!$H$8:$H$705,Maestros!$D$4:$E$21,2,0)),\"\",VLOOKUP(Egresados!$H$8:$H$705,Maestros!$D$4:$E$21,2,0))","v":"1121"},{"$f":"IF(OR(UPPER(Egresados!$J$8:$J$705)=\"SI\",UPPER(Egresados!$J$8:$J$705)=\"SÍ\"),1,IF(UPPER(Egresados!$J$8:$J$705)=\"NO\",0,\"\"))","v":0},{"$f":"IF(OR(UPPER(Egresados!$R$8:$R$705)=\"SI\",UPPER(Egresados!$R$8:$R$705)=\"SÍ\"),1,IF(UPPER(Egresados!$R$8:$R$705)=\"NO\",0,\"\"))","v":""},{"$f":"IF(OR(UPPER(Egresados!$S$8:$S$705)=\"SI\",UPPER(Egresados!$S$8:$S$705)=\"SÍ\"),1,IF(UPPER(Egresados!$S$8:$S$705)=\"NO\",0,\"\"))","v":""},{"$f":"IF(ISERROR(VLOOKUP(Egresados!$T$8:$T$705,Maestros!$S$31:$T$530,2,0)),\"\",VLOOKUP(Egresados!$T$8:$T$705,Maestros!$S$31:$T$530,2,0))","v":"58"},{"$f":"IF(ISERROR(VLOOKUP(U127,Maestros!$S$31:$T$530,2,0)),\"\",VLOOKUP(U127,Maestros!$S$31:$T$530,2,0))","v":"58"},{"$f":"IF(ISERROR(VLOOKUP(Egresados!$K$8:$K$705,Maestros!$A$31:$B$130,2,0)),\"\",VLOOKUP(Egresados!$K$8:$K$705,Maestros!$A$31:$B$130,2,0))","v":""},{"$f":"IF(LEN(tablaEgresados[[#This Row],[Nota promedio]])>0,ROUND(tablaEgresados[[#This Row],[Nota promedio]],2),\"\")","v":14.63}]
[120,null,"DNI","72017284","ESPINOZA","BARRETO","YERSON OSCAR","MASCULINO",null,"NO",null,null,null,"2020-1","SEDE CENTRAL","CIENCIAS SOCIALES-HISTORIA",15.26,null,null,"2015-1","2015-1","20150472@une.edu.pe","intimo_zlatan@hotmail.com",3133700,"940779369",{"$f":"IF(ISERROR(VLOOKUP(Egresados!$N$8:$N$705,Maestros!$D$31:$E$530,2,0)),\"\",VLOOKUP(Egresados!$N$8:$N$705,Maestros!$D$31:$E$530,2,0))","v":"223"},{"$f":"IF(ISERROR(VLOOKUP(Egresados!$O128,Maestros!$G$31:$J$1030,2,0)),\"\",VLOOKUP(Egresados!$O128,Maestros!$G$31:$J$1030,2,0))","v":"8"},{"$f":"CONCATENATE(Egresados!$Z$8:$Z$705,\"a\",Egresados!$AA$8:$AA$705)","v":"223a8"},{"$f":"IF(ISERROR(VLOOKUP(Egresados!$P128,Maestros!$L$31:$Q$1030,2,0)),\"\",VLOOKUP(Egresados!$P128,Maestros!$L$31:$Q$1030,2,0))","v":"326"},{"$f":"CONCATENATE(Egresados!$Z$8:$Z$705,\"a\",Egresados!$AA$8:$AA$705,\"a\",Egresados!$AC$8:$AC$705)","v":"223a8a326"},{"$f":"IF(ISERROR(VLOOKUP(Egresados!$C$8:$C$705,Maestros!$A$4:$B$21,2,0)),\"\",VLOOKUP(Egresados!$C$8:$C$705,Maestros!$A$4:$B$21,2,0))","v":"1001"},{"$f":"IF(ISERROR(VLOOKUP(Egresados!$H$8:$H$705,Maestros!$D$4:$E$21,2,0)),\"\",VLOOKUP(Egresados!$H$8:$H$705,Maestros!$D$4:$E$21,2,0))","v":"1121"},{"$f":"IF(OR(UPPER(Egresados!$J$8:$J$705)=\"SI\",UPPER(Egresados!$J$8:$J$705)=\"SÍ\"),1,IF(UPPER(Egresados!$J$8:$J$705)=\"NO\",0,\"\"))","v":0},{"$f":"IF(OR(UPPER(Egresados!$R$8:$R$705)=\"SI\",UPPER(Egresados!$R$8:$R$705)=\"SÍ\"),1,IF(UPPER(Egresados!$R$8:$R$705)=\"NO\",0,\"\"))","v":""},{"$f":"IF(OR(UPPER(Egresados!$S$8:$S$705)=\"SI\",UPPER(Egresados!$S$8:$S$705)=\"SÍ\"),1,IF(UPPER(Egresados!$S$8:$S$705)=\"NO\",0,\"\"))","v":""},{"$f":"IF(ISERROR(VLOOKUP(Egresados!$T$8:$T$705,Maestros!$S$31:$T$530,2,0)),\"\",VLOOKUP(Egresados!$T$8:$T$705,Maestros!$S$31:$T$530,2,0))","v":"62"},{"$f":"IF(ISERROR(VLOOKUP(U128,Maestros!$S$31:$T$530,2,0)),\"\",VLOOKUP(U128,Maestros!$S$31:$T$530,2,0))","v":"62"},{"$f":"IF(ISERROR(VLOOKUP(Egresados!$K$8:$K$705,Maestros!$A$31:$B$130,2,0)),\"\",VLOOKUP(Egresados!$K$8:$K$705,Maestros!$A$31:$B$130,2,0))","v":""},{"$f":"IF(LEN(tablaEgresados[[#This Row],[Nota promedio]])>0,ROUND(tablaEgresados[[#This Row],[Nota promedio]],2),\"\")","v":15.26}]
[121,null,"DNI","73937685","AQUINO","AQUINO","ESTEFANY YANINA","FEMENINO",null,"NO",null,null,null,"2020-1","SEDE CENTRAL","CIENCIAS SOCIALES-HISTORIA",15.52,null,null,"2015-1","2015-1","20150435@une.edu.pe","estefanyaquinotrabajos@gmail.com",3133700,"935364189",{"$f":"IF(ISERROR(VLOOKUP(Egresados!$N$8:$N$705,Maestros!$D$31:$E$530,2,0)),\"\",VLOOKUP(Egresados!$N$8:$N$705,Maestros!$D$31:$E$530,2,0))","v":"223"},{"$f":"IF(ISERROR(VLOOKUP(Egresados!$O129,Maestros!$G$31:$J$1030,2,0)),\"\",VLOOKUP(Egresados!$O129,Maestros!$G$31:$J$1030,2,0))","v":"8"},{"$f":"CONCATENATE(Egresados!$Z$8:$Z$705,\"a\",Egresados!$AA$8:$AA$705)","v":"223a8"},{"$f":"IF(ISERROR(VLOOKUP(Egresados!$P129,Maestros!$L$31:$Q$1030,2,0)),\"\",VLOOKUP(Egresados!$P129,Maestros!$L$31:$Q$1030,2,0))","v":"326"},{"$f":"CONCATENATE(Egresados!$Z$8:$Z$705,\"a\",Egresados!$AA$8:$AA$705,\"a\",Egresados!$AC$8:$AC$705)","v":"223a8a326"},{"$f":"IF(ISERROR(VLOOKUP(Egresados!$C$8:$C$705,Maestros!$A$4:$B$21,2,0)),\"\",VLOOKUP(Egresados!$C$8:$C$705,Maestros!$A$4:$B$21,2,0))","v":"1001"},{"$f":"IF(ISERROR(VLOOKUP(Egresados!$H$8:$H$705,Maestros!$D$4:$E$21,2,0)),\"\",VLOOKUP(Egresados!$H$8:$H$705,Maestros!$D$4:$E$21,2,0))","v":"1122"},{"$f":"IF(OR(UPPER(Egresados!$J$8:$J$705)=\"SI\",UPPER(Egresados!$J$8:$J$705)=\"SÍ\"),1,IF(UPPER(Egresados!$J$8:$J$705)=\"NO\",0,\"\"))","v":0},{"$f":"IF(OR(UPPER(Egresados!$R$8:$R$705)=\"SI\",UPPER(Egresados!$R$8:$R$705)=\"SÍ\"),1,IF(UPPER(Egresados!$R$8:$R$705)=\"NO\",0,\"\"))","v":""},{"$f":"IF(OR(UPPER(Egresados!$S$8:$S$705)=\"SI\",UPPER(Egresados!$S$8:$S$705)=\"SÍ\"),1,IF(UPPER(Egresados!$S$8:$S$705)=\"NO\",0,\"\"))","v":""},{"$f":"IF(ISERROR(VLOOKUP(Egresados!$T$8:$T$705,Maestros!$S$31:$T$530,2,0)),\"\",VLOOKUP(Egresados!$T$8:$T$705,Maestros!$S$31:$T$530,2,0))","v":"62"},{"$f":"IF(ISERROR(VLOOKUP(U129,Maestros!$S$31:$T$530,2,0)),\"\",VLOOKUP(U129,Maestros!$S$31:$T$530,2,0))","v":"62"},{"$f":"IF(ISERROR(VLOOKUP(Egresados!$K$8:$K$705,Maestros!$A$31:$B$130,2,0)),\"\",VLOOKUP(Egresados!$K$8:$K$705,Maestros!$A$31:$B$130,2,0))","v":""},{"$f":"IF(LEN(tablaEgresados[[#This Row],[Nota promedio]])>0,ROUND(tablaEgresados[[#This Row],[Nota promedio]],2),\"\")","v":15.52}]
[122,null,"DNI","76004048","LOPEZ","ASTO","RUTH JULISSA","FEMENINO",null,"NO",null,null,null,"2020-1","SEDE CENTRAL","CIENCIAS SOCIALES-PSICOLOGIA",15.34,null,null,"2015-1","2015-1","20150494@une.edu.pe","julissa_16_9@hotmail.com",3133700,"985753646",{"$f":"IF(ISERROR(VLOOKUP(Egresados!$N$8:$N$705,Maestros!$D$31:$E$530,2,0)),\"\",VLOOKUP(Egresados!$N$8:$N$705,Maestros!$D$31:$E$530,2,0))","v":"223"},{"$f":"IF(ISERROR(VLOOKUP(Egresados!$O130,Maestros!$G$31:$J$1030,2,0)),\"\",VLOOKUP(Egresados!$O130,Maestros!$G$31:$J$1030,2,0))","v":"8"},{"$f":"CONCATENATE(Egresados!$Z$8:$Z$705,\"a\",Egresados!$AA$8:$AA$705)","v":"223a8"},{"$f":"IF(ISERROR(VLOOKUP(Egresados!$P130,Maestros!$L$31:$Q$1030,2,0)),\"\",VLOOKUP(Egresados!$P130,Maestros!$L$31:$Q$1030,2,0))","v":"329"},{"$f":"CONCATENATE(Egresados!$Z$8:$Z$705,\"a\",Egresados!$AA$8:$AA$705,\"a\",Egresados!$AC$8:$AC$705)","v":"223a8a329"},{"$f":"IF(ISERROR(VLOOKUP(Egresados!$C$8:$C$705,Maestros!$A$4:$B$21,2,0)),\"\",VLOOKUP(Egresados!$C$8:$C$705,Maestros!$A$4:$B$21,2,0))","v":"1001"},{"$f":"IF(ISERROR(VLOOKUP(Egresados!$H$8:$H$705,Maestros!$D$4:$E$21,2,0)),\"\",VLOOKUP(Egresados!$H$8:$H$705,Maestros!$D$4:$E$21,2,0))","v":"1122"},{"$f":"IF(OR(UPPER(Egresados!$J$8:$J$705)=\"SI\",UPPER(Egresados!$J$8:$J$705)=\"SÍ\"),1,IF(UPPER(Egresados!$J$8:$J$705)=\"NO\",0,\"\"))","v":0},{"$f":"IF(OR(UPPER(Egresados!$R$8:$R$705)=\"SI\",UPPER(Egresados!$R$8:$R$705)=\"SÍ\"),1,IF(UPPER(Egresados!$R$8:$R$705)=\"NO\",0,\"\"))","v":""},{"$f":"IF(OR(UPPER(Egresados!$S$8:$S$705)=\"SI\",UPPER(Egresados!$S$8:$S$705)=\"SÍ\"),1,IF(UPPER(Egresados!$S$8:$S$705)=\"NO\",0,\"\"))","v":""},{"$f":"IF(ISERROR(VLOOKUP(Egresados!$T$8:$T$705,Maestros!$S$31:$T$530,2,0)),\"\",VLOOKUP(Egresados!$T$8:$T$705,Maestros!$S$31:$T$530,2,0))","v":"62"},{"$f":"IF(ISERROR(VLOOKUP(U130,Maestros!$S$31:$T$530,2,0)),\"\",VLOOKUP(U130,Maestros!$S$31:$T$530,2,0))","v":"62"},{"$f":"IF(ISERROR(VLOOKUP(Egresados!$K$8:$K$705,Maestros!$A$31:$B$130,2,0)),\"\",VLOOKUP(Egresados!$K$8:$K$705,Maestros!$A$31:$B$130,2,0))","v":""},{"$f":"IF(LEN(tablaEgresados[[#This Row],[Nota promedio]])>0,ROUND(tablaEgresados[[#This Row],[Nota promedio]],2),\"\")","v":15.34}]
[123,null,"DNI","76826749","HUACHO","ZEVALLOS","MIGUEL ANGEL","MASCULINO",null,"NO",null,null,null,"2020-1","SEDE CENTRAL","CIENCIAS SOCIALES-PSICOLOGIA",14.88,null,null,"2013-1","2013-1","20131546@une.edu.pe","Mick_Angel12@hotmail.com",3133700,976486001,{"$f":"IF(ISERROR(VLOOKUP(Egresados!$N$8:$N$705,Maestros!$D$31:$E$530,2,0)),\"\",VLOOKUP(Egresados!$N$8:$N$705,Maestros!$D$31:$E$530,2,0))","v":"223"},{"$f":"IF(ISERROR(VLOOKUP(Egresados!$O131,Maestros!$G$31:$J$1030,2,0)),\"\",VLOOKUP(Egresados!$O131,Maestros!$G$31:$J$1030,2,0))","v":"8"},{"$f":"CONCATENATE(Egresados!$Z$8:$Z$705,\"a\",Egresados!$AA$8:$AA$705)","v":"223a8"},{"$f":"IF(ISERROR(VLOOKUP(Egresados!$P131,Maestros!$L$31:$Q$1030,2,0)),\"\",VLOOKUP(Egresados!$P131,Maestros!$L$31:$Q$1030,2,0))","v":"329"},{"$f":"CONCATENATE(Egresados!$Z$8:$Z$705,\"a\",Egresados!$AA$8:$AA$705,\"a\",Egresados!$AC$8:$AC$705)","v":"223a8a329"},{"$f":"IF(ISERROR(VLOOKUP(Egresados!$C$8:$C$705,Maestros!$A$4:$B$21,2,0)),\"\",VLOOKUP(Egresados!$C$8:$C$705,Maestros!$A$4:$B$21,2,0))","v":"1001"},{"$f":"IF(ISERROR(VLOOKUP(Egresados!$H$8:$H$705,Maestros!$D$4:$E$21,2,0)),\"\",VLOOKUP(Egresados!$H$8:$H$705,Maestros!$D$4:$E$21,2,0))","v":"1121"},{"$f":"IF(OR(UPPER(Egresados!$J$8:$J$705)=\"SI\",UPPER(Egresados!$J$8:$J$705)=\"SÍ\"),1,IF(UPPER(Egresados!$J$8:$J$705)=\"NO\",0,\"\"))","v":0},{"$f":"IF(OR(UPPER(Egresados!$R$8:$R$705)=\"SI\",UPPER(Egresados!$R$8:$R$705)=\"SÍ\"),1,IF(UPPER(Egresados!$R$8:$R$705)=\"NO\",0,\"\"))","v":""},{"$f":"IF(OR(UPPER(Egresados!$S$8:$S$705)=\"SI\",UPPER(Egresados!$S$8:$S$705)=\"SÍ\"),1,IF(UPPER(Egresados!$S$8:$S$705)=\"NO\",0,\"\"))","v":""},{"$f":"IF(ISERROR(VLOOKUP(Egresados!$T$8:$T$705,Maestros!$S$31:$T$530,2,0)),\"\",VLOOKUP(Egresados!$T$8:$T$705,Maestros!$S$31:$T$530,2,0))","v":"54"},{"$f":"IF(ISERROR(VLOOKUP(U131,Maestros!$S$31:$T$530,2,0)),\"\",VLOOKUP(U131,Maestros!$S$31:$T$530,2,0))","v":"54"},{"$f":"IF(ISERROR(VLOOKUP(Egresados!$K$8:$K$705,Maestros!$A$31:$B$130,2,0)),\"\",VLOOKUP(Egresados!$K$8:$K$705,Maestros!$A$31:$B$130,2,0))","v":""},{"$f":"IF(LEN(tablaEgresados[[#This Row],[Nota promedio]])>0,ROUND(tablaEgresados[[#This Row],[Nota promedio]],2),\"\")","v":14.88}]
[124,null,"DNI","48581295","ORTEGA","TARAZONA","ALEXSANDER","MASCULINO",null,"NO",null,null,null,"2020-1","SEDE CENTRAL","CIENCIAS SOCIALES-PSICOLOGIA",16.37,null,null,"2015-1","2015-1","20150521@une.edu.pe","lioalex95@gmail.com",3133700,"936099546",{"$f":"IF(ISERROR(VLOOKUP(Egresados!$N$8:$N$705,Maestros!$D$31:$E$530,2,0)),\"\",VLOOKUP(Egresados!$N$8:$N$705,Maestros!$D$31:$E$530,2,0))","v":"223"},{"$f":"IF(ISERROR(VLOOKUP(Egresados!$O132,Maestros!$G$31:$J$1030,2,0)),\"\",VLOOKUP(Egresados!$O132,Maestros!$G$31:$J$1030,2,0))","v":"8"},{"$f":"CONCATENATE(Egresados!$Z$8:$Z$705,\"a\",Egresados!$AA$8:$AA$705)","v":"223a8"},{"$f":"IF(ISERROR(VLOOKUP(Egresados!$P132,Maestros!$L$31:$Q$1030,2,0)),\"\",VLOOKUP(Egresados!$P132,Maestros!$L$31:$Q$1030,2,0))","v":"329"},{"$f":"CONCATENATE(Egresados!$Z$8:$Z$705,\"a\",Egresados!$AA$8:$AA$705,\"a\",Egresados!$AC$8:$AC$705)","v":"223a8a329"},{"$f":"IF(ISERROR(VLOOKUP(Egresados!$C$8:$C$705,Maestros!$A$4:$B$21,2,0)),\"\",VLOOKUP(Egresados!$C$8:$C$705,Maestros!$A$4:$B$21,2,0))","v":"1001"},{"$f":"IF(ISERROR(VLOOKUP(Egresados!$H$8:$H$705,Maestros!$D$4:$E$21,2,0)),\"\",VLOOKUP(Egresados!$H$8:$H$705,Maestros!$D$4:$E$21,2,0))","v":"1121"},{"$f":"IF(OR(UPPER(Egresados!$J$8:$J$705)=\"SI\",UPPER(Egresados!$J$8:$J$705)=\"SÍ\"),1,IF(UPPER(Egresados!$J$8:$J$705)=\"NO\",0,\"\"))","v":0},{"$f":"IF(OR(UPPER(Egresados!$R$8:$R$705)=\"SI\",UPPER(Egresados!$R$8:$R$705)=\"SÍ\"),1,IF(UPPER(Egresados!$R$8:$R$705)=\"NO\",0,\"\"))","v":""},{"$f":"IF(OR(UPPER(Egresados!$S$8:$S$705)=\"SI\",UPPER(Egresados!$S$8:$S$705)=\"SÍ\"),1,IF(UPPER(Egresados!$S$8:$S$705)=\"NO\",0,\"\"))","v":""},{"$f":"IF(ISERROR(VLOOKUP(Egresados!$T$8:$T$705,Maestros!$S$31:$T$530,2,0)),\"\",VLOOKUP(Egresados!$T$8:$T$705,Maestros!$S$31:$T$530,2,0))","v":"62"},{"$f":"IF(ISERROR(VLOOKUP(U132,Maestros!$S$31:$T$530,2,0)),\"\",VLOOKUP(U132,Maestros!$S$31:$T$530,2,0))","v":"62"},{"$f":"IF(ISERROR(VLOOKUP(Egresados!$K$8:$K$705,Maestros!$A$31:$B$130,2,0)),\"\",VLOOKUP(Egresados!$K$8:$K$705,Maestros!$A$31:$B$130,2,0))","v":""},{"$f":"IF(LEN(tablaEgresados[[#This Row],[Nota promedio]])>0,ROUND(tablaEgresados[[#This Row],[Nota promedio]],2),\"\")","v":16.37}]
[125,null,"DNI","75094835","POTOCINO","CORAS","INCENIA","FEMENINO",null,"NO",null,null,null,"2020-1","SEDE CENTRAL","CIENCIAS SOCIALES-PSICOLOGIA",16.079999999999998,null,null,"2015-1","2015-1","20150524@une.edu.pe","inceniapotocinocoras@gmail.com",3133700,"918802548",{"$f":"IF(ISERROR(VLOOKUP(Egresados!$N$8:$N$705,Maestros!$D$31:$E$530,2,0)),\"\",VLOOKUP(Egresados!$N$8:$N$705,Maestros!$D$31:$E$530,2,0))","v":"223"},{"$f":"IF(ISERROR(VLOOKUP(Egresados!$O133,Maestros!$G$31:$J$1030,2,0)),\"\",VLOOKUP(Egresados!$O133,Maestros!$G$31:$J$1030,2,0))","v":"8"},{"$f":"CONCATENATE(Egresados!$Z$8:$Z$705,\"a\",Egresados!$AA$8:$AA$705)","v":"223a8"},{"$f":"IF(ISERROR(VLOOKUP(Egresados!$P133,Maestros!$L$31:$Q$1030,2,0)),\"\",VLOOKUP(Egresados!$P133,Maestros!$L$31:$Q$1030,2,0))","v":"329"},{"$f":"CONCATENATE(Egresados!$Z$8:$Z$705,\"a\",Egresados!$AA$8:$AA$705,\"a\",Egresados!$AC$8:$AC$705)","v":"223a8a329"},{"$f":"IF(ISERROR(VLOOKUP(Egresados!$C$8:$C$705,Maestros!$A$4:$B$21,2,0)),\"\",VLOOKUP(Egresados!$C$8:$C$705,Maestros!$A$4:$B$21,2,0))","v":"1001"},{"$f":"IF(ISERROR(VLOOKUP(Egresados!$H$8:$H$705,Maestros!$D$4:$E$21,2,0)),\"\",VLOOKUP(Egresados!$H$8:$H$705,Maestros!$D$4:$E$21,2,0))","v":"1122"},{"$f":"IF(OR(UPPER(Egresados!$J$8:$J$705)=\"SI\",UPPER(Egresados!$J$8:$J$705)=\"SÍ\"),1,IF(UPPER(Egresados!$J$8:$J$705)=\"NO\",0,\"\"))","v":0},{"$f":"IF(OR(UPPER(Egresados!$R$8:$R$705)=\"SI\",UPPER(Egresados!$R$8:$R$705)=\"SÍ\"),1,IF(UPPER(Egresados!$R$8:$R$705)=\"NO\",0,\"\"))","v":""},{"$f":"IF(OR(UPPER(Egresados!$S$8:$S$705)=\"SI\",UPPER(Egresados!$S$8:$S$705)=\"SÍ\"),1,IF(UPPER(Egresados!$S$8:$S$705)=\"NO\",0,\"\"))","v":""},{"$f":"IF(ISERROR(VLOOKUP(Egresados!$T$8:$T$705,Maestros!$S$31:$T$530,2,0)),\"\",VLOOKUP(Egresados!$T$8:$T$705,Maestros!$S$31:$T$530,2,0))","v":"62"},{"$f":"IF(ISERROR(VLOOKUP(U133,Maestros!$S$31:$T$530,2,0)),\"\",VLOOKUP(U133,Maestros!$S$31:$T$530,2,0))","v":"62"},{"$f":"IF(ISERROR(VLOOKUP(Egresados!$K$8:$K$705,Maestros!$A$31:$B$130,2,0)),\"\",VLOOKUP(Egresados!$K$8:$K$705,Maestros!$A$31:$B$130,2,0))","v":""},{"$f":"IF(LEN(tablaEgresados[[#This Row],[Nota promedio]])>0,ROUND(tablaEgresados[[#This Row],[Nota promedio]],2),\"\")","v":16.079999999999998}]
[126,null,"DNI","46307620","SINFOROSO","MINA","DANICA DELICIA","FEMENINO",null,"NO",null,null,null,"2020-1","SEDE CENTRAL","CIENCIAS SOCIALES-PSICOLOGIA",15.5,null,null,"2014-1","2014-1","20140439@une.edu.pe","Danica.sinforoso.mina@gmail.com",3133700,"931488383",{"$f":"IF(ISERROR(VLOOKUP(Egresados!$N$8:$N$705,Maestros!$D$31:$E$530,2,0)),\"\",VLOOKUP(Egresados!$N$8:$N$705,Maestros!$D$31:$E$530,2,0))","v":"223"},{"$f":"IF(ISERROR(VLOOKUP(Egresados!$O134,Maestros!$G$31:$J$1030,2,0)),\"\",VLOOKUP(Egresados!$O134,Maestros!$G$31:$J$1030,2,0))","v":"8"},{"$f":"CONCATENATE(Egresados!$Z$8:$Z$705,\"a\",Egresados!$AA$8:$AA$705)","v":"223a8"},{"$f":"IF(ISERROR(VLOOKUP(Egresados!$P134,Maestros!$L$31:$Q$1030,2,0)),\"\",VLOOKUP(Egresados!$P134,Maestros!$L$31:$Q$1030,2,0))","v":"329"},{"$f":"CONCATENATE(Egresados!$Z$8:$Z$705,\"a\",Egresados!$AA$8:$AA$705,\"a\",Egresados!$AC$8:$AC$705)","v":"223a8a329"},{"$f":"IF(ISERROR(VLOOKUP(Egresados!$C$8:$C$705,Maestros!$A$4:$B$21,2,0)),\"\",VLOOKUP(Egresados!$C$8:$C$705,Maestros!$A$4:$B$21,2,0))","v":"1001"},{"$f":"IF(ISERROR(VLOOKUP(Egresados!$H$8:$H$705,Maestros!$D$4:$E$21,2,0)),\"\",VLOOKUP(Egresados!$H$8:$H$705,Maestros!$D$4:$E$21,2,0))","v":"1122"},{"$f":"IF(OR(UPPER(Egresados!$J$8:$J$705)=\"SI\",UPPER(Egresados!$J$8:$J$705)=\"SÍ\"),1,IF(UPPER(Egresados!$J$8:$J$705)=\"NO\",0,\"\"))","v":0},{"$f":"IF(OR(UPPER(Egresados!$R$8:$R$705)=\"SI\",UPPER(Egresados!$R$8:$R$705)=\"SÍ\"),1,IF(UPPER(Egresados!$R$8:$R$705)=\"NO\",0,\"\"))","v":""},{"$f":"IF(OR(UPPER(Egresados!$S$8:$S$705)=\"SI\",UPPER(Egresados!$S$8:$S$705)=\"SÍ\"),1,IF(UPPER(Egresados!$S$8:$S$705)=\"NO\",0,\"\"))","v":""},{"$f":"IF(ISERROR(VLOOKUP(Egresados!$T$8:$T$705,Maestros!$S$31:$T$530,2,0)),\"\",VLOOKUP(Egresados!$T$8:$T$705,Maestros!$S$31:$T$530,2,0))","v":"58"},{"$f":"IF(ISERROR(VLOOKUP(U134,Maestros!$S$31:$T$530,2,0)),\"\",VLOOKUP(U134,Maestros!$S$31:$T$530,2,0))","v":"58"},{"$f":"IF(ISERROR(VLOOKUP(Egresados!$K$8:$K$705,Maestros!$A$31:$B$130,2,0)),\"\",VLOOKUP(Egresados!$K$8:$K$705,Maestros!$A$31:$B$130,2,0))","v":""},{"$f":"IF(LEN(tablaEgresados[[#This Row],[Nota promedio]])>0,ROUND(tablaEgresados[[#This Row],[Nota promedio]],2),\"\")","v":15.5}]
[127,null,"DNI","47028037","VARGAS","QUISPE","ELIZABETH MERCED","FEMENINO",null,"NO",null,null,null,"2020-1","SEDE CENTRAL","CIENCIAS SOCIALES-PSICOLOGIA",14.4,null,null,"2013-1","2013-1","20130543@une.edu.pe","vargasquispee77@gmail.com",3133700,976486001,{"$f":"IF(ISERROR(VLOOKUP(Egresados!$N$8:$N$705,Maestros!$D$31:$E$530,2,0)),\"\",VLOOKUP(Egresados!$N$8:$N$705,Maestros!$D$31:$E$530,2,0))","v":"223"},{"$f":"IF(ISERROR(VLOOKUP(Egresados!$O135,Maestros!$G$31:$J$1030,2,0)),\"\",VLOOKUP(Egresados!$O135,Maestros!$G$31:$J$1030,2,0))","v":"8"},{"$f":"CONCATENATE(Egresados!$Z$8:$Z$705,\"a\",Egresados!$AA$8:$AA$705)","v":"223a8"},{"$f":"IF(ISERROR(VLOOKUP(Egresados!$P135,Maestros!$L$31:$Q$1030,2,0)),\"\",VLOOKUP(Egresados!$P135,Maestros!$L$31:$Q$1030,2,0))","v":"329"},{"$f":"CONCATENATE(Egresados!$Z$8:$Z$705,\"a\",Egresados!$AA$8:$AA$705,\"a\",Egresados!$AC$8:$AC$705)","v":"223a8a329"},{"$f":"IF(ISERROR(VLOOKUP(Egresados!$C$8:$C$705,Maestros!$A$4:$B$21,2,0)),\"\",VLOOKUP(Egresados!$C$8:$C$705,Maestros!$A$4:$B$21,2,0))","v":"1001"},{"$f":"IF(ISERROR(VLOOKUP(Egresados!$H$8:$H$705,Maestros!$D$4:$E$21,2,0)),\"\",VLOOKUP(Egresados!$H$8:$H$705,Maestros!$D$4:$E$21,2,0))","v":"1122"},{"$f":"IF(OR(UPPER(Egresados!$J$8:$J$705)=\"SI\",UPPER(Egresados!$J$8:$J$705)=\"SÍ\"),1,IF(UPPER(Egresados!$J$8:$J$705)=\"NO\",0,\"\"))","v":0},{"$f":"IF(OR(UPPER(Egresados!$R$8:$R$705)=\"SI\",UPPER(Egresados!$R$8:$R$705)=\"SÍ\"),1,IF(UPPER(Egresados!$R$8:$R$705)=\"NO\",0,\"\"))","v":""},{"$f":"IF(OR(UPPER(Egresados!$S$8:$S$705)=\"SI\",UPPER(Egresados!$S$8:$S$705)=\"SÍ\"),1,IF(UPPER(Egresados!$S$8:$S$705)=\"NO\",0,\"\"))","v":""},{"$f":"IF(ISERROR(VLOOKUP(Egresados!$T$8:$T$705,Maestros!$S$31:$T$530,2,0)),\"\",VLOOKUP(Egresados!$T$8:$T$705,Maestros!$S$31:$T$530,2,0))","v":"54"},{"$f":"IF(ISERROR(VLOOKUP(U135,Maestros!$S$31:$T$530,2,0)),\"\",VLOOKUP(U135,Maestros!$S$31:$T$530,2,0))","v":"54"},{"$f":"IF(ISERROR(VLOOKUP(Egresados!$K$8:$K$705,Maestros!$A$31:$B$130,2,0)),\"\",VLOOKUP(Egresados!$K$8:$K$705,Maestros!$A$31:$B$130,2,0))","v":""},{"$f":"IF(LEN(tablaEgresados[[#This Row],[Nota promedio]])>0,ROUND(tablaEgresados[[#This Row],[Nota promedio]],2),\"\")","v":14.4}]
[{"$f":"ROW()-8","v":128},null,"DNI","70090500","CANCHO","DELGADO","MARIA YENIFER","FEMENINO",null,"NO",null,null,null,"2020-1","SEDE CENTRAL","CIENCIAS SOCIALES-PSICOLOGIA",15.09,null,null,"2015-1","2015-1","20150447@une.edu.pe","mari_6697@hotmail.com",3133700,"944714802",{"$f":"IF(ISERROR(VLOOKUP(Egresados!$N$8:$N$705,Maestros!$D$31:$E$530,2,0)),\"\",VLOOKUP(Egresados!$N$8:$N$705,Maestros!$D$31:$E$530,2,0))","v":"223"},{"$f":"IF(ISERROR(VLOOKUP(Egresados!$O136,Maestros!$G$31:$J$1030,2,0)),\"\",VLOOKUP(Egresados!$O136,Maestros!$G$31:$J$1030,2,0))","v":"8"},{"$f":"CONCATENATE(Egresados!$Z$8:$Z$705,\"a\",Egresados!$AA$8:$AA$705)","v":"223a8"},{"$f":"IF(ISERROR(VLOOKUP(Egresados!$P136,Maestros!$L$31:$Q$1030,2,0)),\"\",VLOOKUP(Egresados!$P136,Maestros!$L$31:$Q$1030,2,0))","v":"329"},{"$f":"CONCATENATE(Egresados!$Z$8:$Z$705,\"a\",Egresados!$AA$8:$AA$705,\"a\",Egresados!$AC$8:$AC$705)","v":"223a8a329"},{"$f":"IF(ISERROR(VLOOKUP(Egresados!$C$8:$C$705,Maestros!$A$4:$B$21,2,0)),\"\",VLOOKUP(Egresados!$C$8:$C$705,Maestros!$A$4:$B$21,2,0))","v":"1001"},{"$f":"IF(ISERROR(VLOOKUP(Egresados!$H$8:$H$705,Maestros!$D$4:$E$21,2,0)),\"\",VLOOKUP(Egresados!$H$8:$H$705,Maestros!$D$4:$E$21,2,0))","v":"1122"},{"$f":"IF(OR(UPPER(Egresados!$J$8:$J$705)=\"SI\",UPPER(Egresados!$J$8:$J$705)=\"SÍ\"),1,IF(UPPER(Egresados!$J$8:$J$705)=\"NO\",0,\"\"))","v":0},{"$f":"IF(OR(UPPER(Egresados!$R$8:$R$705)=\"SI\",UPPER(Egresados!$R$8:$R$705)=\"SÍ\"),1,IF(UPPER(Egresados!$R$8:$R$705)=\"NO\",0,\"\"))","v":""},{"$f":"IF(OR(UPPER(Egresados!$S$8:$S$705)=\"SI\",UPPER(Egresados!$S$8:$S$705)=\"SÍ\"),1,IF(UPPER(Egresados!$S$8:$S$705)=\"NO\",0,\"\"))","v":""},{"$f":"IF(ISERROR(VLOOKUP(Egresados!$T$8:$T$705,Maestros!$S$31:$T$530,2,0)),\"\",VLOOKUP(Egresados!$T$8:$T$705,Maestros!$S$31:$T$530,2,0))","v":"62"},{"$f":"IF(ISERROR(VLOOKUP(U136,Maestros!$S$31:$T$530,2,0)),\"\",VLOOKUP(U136,Maestros!$S$31:$T$530,2,0))","v":"62"},{"$f":"IF(ISERROR(VLOOKUP(Egresados!$K$8:$K$705,Maestros!$A$31:$B$130,2,0)),\"\",VLOOKUP(Egresados!$K$8:$K$705,Maestros!$A$31:$B$130,2,0))","v":""},{"$f":"IF(LEN(tablaEgresados[[#This Row],[Nota promedio]])>0,ROUND(tablaEgresados[[#This Row],[Nota promedio]],2),\"\")","v":15.09}]
[129,null,"DNI","77533467","GUTIERREZ","SOTELO","MAVILA ABIGAEL","FEMENINO",null,"NO",null,null,null,"2020-1","SEDE CENTRAL","CIENCIAS SOCIALES-PSICOLOGIA",15.06,null,null,"2015-1","2015-1","20150483@une.edu.pe","mavilagutierrezsotelo@gmail.com",3133700,"989033807",{"$f":"IF(ISERROR(VLOOKUP(Egresados!$N$8:$N$705,Maestros!$D$31:$E$530,2,0)),\"\",VLOOKUP(Egresados!$N$8:$N$705,Maestros!$D$31:$E$530,2,0))","v":"223"},{"$f":"IF(ISERROR(VLOOKUP(Egresados!$O137,Maestros!$G$31:$J$1030,2,0)),\"\",VLOOKUP(Egresados!$O137,Maestros!$G$31:$J$1030,2,0))","v":"8"},{"$f":"CONCATENATE(Egresados!$Z$8:$Z$705,\"a\",Egresados!$AA$8:$AA$705)","v":"223a8"},{"$f":"IF(ISERROR(VLOOKUP(Egresados!$P137,Maestros!$L$31:$Q$1030,2,0)),\"\",VLOOKUP(Egresados!$P137,Maestros!$L$31:$Q$1030,2,0))","v":"329"},{"$f":"CONCATENATE(Egresados!$Z$8:$Z$705,\"a\",Egresados!$AA$8:$AA$705,\"a\",Egresados!$AC$8:$AC$705)","v":"223a8a329"},{"$f":"IF(ISERROR(VLOOKUP(Egresados!$C$8:$C$705,Maestros!$A$4:$B$21,2,0)),\"\",VLOOKUP(Egresados!$C$8:$C$705,Maestros!$A$4:$B$21,2,0))","v":"1001"},{"$f":"IF(ISERROR(VLOOKUP(Egresados!$H$8:$H$705,Maestros!$D$4:$E$21,2,0)),\"\",VLOOKUP(Egresados!$H$8:$H$705,Maestros!$D$4:$E$21,2,0))","v":"1122"},{"$f":"IF(OR(UPPER(Egresados!$J$8:$J$705)=\"SI\",UPPER(Egresados!$J$8:$J$705)=\"SÍ\"),1,IF(UPPER(Egresados!$J$8:$J$705)=\"NO\",0,\"\"))","v":0},{"$f":"IF(OR(UPPER(Egresados!$R$8:$R$705)=\"SI\",UPPER(Egresados!$R$8:$R$705)=\"SÍ\"),1,IF(UPPER(Egresados!$R$8:$R$705)=\"NO\",0,\"\"))","v":""},{"$f":"IF(OR(UPPER(Egresados!$S$8:$S$705)=\"SI\",UPPER(Egresados!$S$8:$S$705)=\"SÍ\"),1,IF(UPPER(Egresados!$S$8:$S$705)=\"NO\",0,\"\"))","v":""},{"$f":"IF(ISERROR(VLOOKUP(Egresados!$T$8:$T$705,Maestros!$S$31:$T$530,2,0)),\"\",VLOOKUP(Egresados!$T$8:$T$705,Maestros!$S$31:$T$530,2,0))","v":"62"},{"$f":"IF(ISERROR(VLOOKUP(U137,Maestros!$S$31:$T$530,2,0)),\"\",VLOOKUP(U137,Maestros!$S$31:$T$530,2,0))","v":"62"},{"$f":"IF(ISERROR(VLOOKUP(Egresados!$K$8:$K$705,Maestros!$A$31:$B$130,2,0)),\"\",VLOOKUP(Egresados!$K$8:$K$705,Maestros!$A$31:$B$130,2,0))","v":""},{"$f":"IF(LEN(tablaEgresados[[#This Row],[Nota promedio]])>0,ROUND(tablaEgresados[[#This Row],[Nota promedio]],2),\"\")","v":15.06}]
[130,null,"DNI","46477713","PODESTA","SOTO","MIRIAN ELIANA","FEMENINO",null,"NO",null,null,null,"2020-1","SEDE CENTRAL","CIENCIAS SOCIALES-PSICOLOGIA",16.010000000000002,null,null,"2014-1","2014-1","20141563@une.edu.pe","mirian.podesta@gmail.com",3133700,"990900712",{"$f":"IF(ISERROR(VLOOKUP(Egresados!$N$8:$N$705,Maestros!$D$31:$E$530,2,0)),\"\",VLOOKUP(Egresados!$N$8:$N$705,Maestros!$D$31:$E$530,2,0))","v":"223"},{"$f":"IF(ISERROR(VLOOKUP(Egresados!$O138,Maestros!$G$31:$J$1030,2,0)),\"\",VLOOKUP(Egresados!$O138,Maestros!$G$31:$J$1030,2,0))","v":"8"},{"$f":"CONCATENATE(Egresados!$Z$8:$Z$705,\"a\",Egresados!$AA$8:$AA$705)","v":"223a8"},{"$f":"IF(ISERROR(VLOOKUP(Egresados!$P138,Maestros!$L$31:$Q$1030,2,0)),\"\",VLOOKUP(Egresados!$P138,Maestros!$L$31:$Q$1030,2,0))","v":"329"},{"$f":"CONCATENATE(Egresados!$Z$8:$Z$705,\"a\",Egresados!$AA$8:$AA$705,\"a\",Egresados!$AC$8:$AC$705)","v":"223a8a329"},{"$f":"IF(ISERROR(VLOOKUP(Egresados!$C$8:$C$705,Maestros!$A$4:$B$21,2,0)),\"\",VLOOKUP(Egresados!$C$8:$C$705,Maestros!$A$4:$B$21,2,0))","v":"1001"},{"$f":"IF(ISERROR(VLOOKUP(Egresados!$H$8:$H$705,Maestros!$D$4:$E$21,2,0)),\"\",VLOOKUP(Egresados!$H$8:$H$705,Maestros!$D$4:$E$21,2,0))","v":"1122"},{"$f":"IF(OR(UPPER(Egresados!$J$8:$J$705)=\"SI\",UPPER(Egresados!$J$8:$J$705)=\"SÍ\"),1,IF(UPPER(Egresados!$J$8:$J$705)=\"NO\",0,\"\"))","v":0},{"$f":"IF(OR(UPPER(Egresados!$R$8:$R$705)=\"SI\",UPPER(Egresados!$R$8:$R$705)=\"SÍ\"),1,IF(UPPER(Egresados!$R$8:$R$705)=\"NO\",0,\"\"))","v":""},{"$f":"IF(OR(UPPER(Egresados!$S$8:$S$705)=\"SI\",UPPER(Egresados!$S$8:$S$705)=\"SÍ\"),1,IF(UPPER(Egresados!$S$8:$S$705)=\"NO\",0,\"\"))","v":""},{"$f":"IF(ISERROR(VLOOKUP(Egresados!$T$8:$T$705,Maestros!$S$31:$T$530,2,0)),\"\",VLOOKUP(Egresados!$T$8:$T$705,Maestros!$S$31:$T$530,2,0))","v":"58"},{"$f":"IF(ISERROR(VLOOKUP(U138,Maestros!$S$31:$T$530,2,0)),\"\",VLOOKUP(U138,Maestros!$S$31:$T$530,2,0))","v":"58"},{"$f":"IF(ISERROR(VLOOKUP(Egresados!$K$8:$K$705,Maestros!$A$31:$B$130,2,0)),\"\",VLOOKUP(Egresados!$K$8:$K$705,Maestros!$A$31:$B$130,2,0))","v":""},{"$f":"IF(LEN(tablaEgresados[[#This Row],[Nota promedio]])>0,ROUND(tablaEgresados[[#This Row],[Nota promedio]],2),\"\")","v":16.010000000000002}]
[131,null,"DNI","74166092","JURADO","VILLENA","KATHERINE NELVA","FEMENINO",null,"NO",null,null,null,"2020-1","SEDE CENTRAL","CIENCIAS SOCIALES-PSICOLOGIA",14.09,null,null,"2012-1","2012-1","20120432@une.edu.pe","cattijv@hotmail.com",3133700,"955047396",{"$f":"IF(ISERROR(VLOOKUP(Egresados!$N$8:$N$705,Maestros!$D$31:$E$530,2,0)),\"\",VLOOKUP(Egresados!$N$8:$N$705,Maestros!$D$31:$E$530,2,0))","v":"223"},{"$f":"IF(ISERROR(VLOOKUP(Egresados!$O139,Maestros!$G$31:$J$1030,2,0)),\"\",VLOOKUP(Egresados!$O139,Maestros!$G$31:$J$1030,2,0))","v":"8"},{"$f":"CONCATENATE(Egresados!$Z$8:$Z$705,\"a\",Egresados!$AA$8:$AA$705)","v":"223a8"},{"$f":"IF(ISERROR(VLOOKUP(Egresados!$P139,Maestros!$L$31:$Q$1030,2,0)),\"\",VLOOKUP(Egresados!$P139,Maestros!$L$31:$Q$1030,2,0))","v":"329"},{"$f":"CONCATENATE(Egresados!$Z$8:$Z$705,\"a\",Egresados!$AA$8:$AA$705,\"a\",Egresados!$AC$8:$AC$705)","v":"223a8a329"},{"$f":"IF(ISERROR(VLOOKUP(Egresados!$C$8:$C$705,Maestros!$A$4:$B$21,2,0)),\"\",VLOOKUP(Egresados!$C$8:$C$705,Maestros!$A$4:$B$21,2,0))","v":"1001"},{"$f":"IF(ISERROR(VLOOKUP(Egresados!$H$8:$H$705,Maestros!$D$4:$E$21,2,0)),\"\",VLOOKUP(Egresados!$H$8:$H$705,Maestros!$D$4:$E$21,2,0))","v":"1122"},{"$f":"IF(OR(UPPER(Egresados!$J$8:$J$705)=\"SI\",UPPER(Egresados!$J$8:$J$705)=\"SÍ\"),1,IF(UPPER(Egresados!$J$8:$J$705)=\"NO\",0,\"\"))","v":0},{"$f":"IF(OR(UPPER(Egresados!$R$8:$R$705)=\"SI\",UPPER(Egresados!$R$8:$R$705)=\"SÍ\"),1,IF(UPPER(Egresados!$R$8:$R$705)=\"NO\",0,\"\"))","v":""},{"$f":"IF(OR(UPPER(Egresados!$S$8:$S$705)=\"SI\",UPPER(Egresados!$S$8:$S$705)=\"SÍ\"),1,IF(UPPER(Egresados!$S$8:$S$705)=\"NO\",0,\"\"))","v":""},{"$f":"IF(ISERROR(VLOOKUP(Egresados!$T$8:$T$705,Maestros!$S$31:$T$530,2,0)),\"\",VLOOKUP(Egresados!$T$8:$T$705,Maestros!$S$31:$T$530,2,0))","v":"50"},{"$f":"IF(ISERROR(VLOOKUP(U139,Maestros!$S$31:$T$530,2,0)),\"\",VLOOKUP(U139,Maestros!$S$31:$T$530,2,0))","v":"50"},{"$f":"IF(ISERROR(VLOOKUP(Egresados!$K$8:$K$705,Maestros!$A$31:$B$130,2,0)),\"\",VLOOKUP(Egresados!$K$8:$K$705,Maestros!$A$31:$B$130,2,0))","v":""},{"$f":"IF(LEN(tablaEgresados[[#This Row],[Nota promedio]])>0,ROUND(tablaEgresados[[#This Row],[Nota promedio]],2),\"\")","v":14.09}]
[132,null,"DNI","74480036","CHUGNAS","VISCAINO","ANABEL KEILA","FEMENINO",null,"NO",null,null,null,"2020-1","SEDE CENTRAL","CIENCIAS SOCIALES-PSICOLOGIA",15.58,null,null,"2015-1","2015-1","20150466@une.edu.pe","keila11051998@outlook.com",3133700,"987097700",{"$f":"IF(ISERROR(VLOOKUP(Egresados!$N$8:$N$705,Maestros!$D$31:$E$530,2,0)),\"\",VLOOKUP(Egresados!$N$8:$N$705,Maestros!$D$31:$E$530,2,0))","v":"223"},{"$f":"IF(ISERROR(VLOOKUP(Egresados!$O140,Maestros!$G$31:$J$1030,2,0)),\"\",VLOOKUP(Egresados!$O140,Maestros!$G$31:$J$1030,2,0))","v":"8"},{"$f":"CONCATENATE(Egresados!$Z$8:$Z$705,\"a\",Egresados!$AA$8:$AA$705)","v":"223a8"},{"$f":"IF(ISERROR(VLOOKUP(Egresados!$P140,Maestros!$L$31:$Q$1030,2,0)),\"\",VLOOKUP(Egresados!$P140,Maestros!$L$31:$Q$1030,2,0))","v":"329"},{"$f":"CONCATENATE(Egresados!$Z$8:$Z$705,\"a\",Egresados!$AA$8:$AA$705,\"a\",Egresados!$AC$8:$AC$705)","v":"223a8a329"},{"$f":"IF(ISERROR(VLOOKUP(Egresados!$C$8:$C$705,Maestros!$A$4:$B$21,2,0)),\"\",VLOOKUP(Egresados!$C$8:$C$705,Maestros!$A$4:$B$21,2,0))","v":"1001"},{"$f":"IF(ISERROR(VLOOKUP(Egresados!$H$8:$H$705,Maestros!$D$4:$E$21,2,0)),\"\",VLOOKUP(Egresados!$H$8:$H$705,Maestros!$D$4:$E$21,2,0))","v":"1122"},{"$f":"IF(OR(UPPER(Egresados!$J$8:$J$705)=\"SI\",UPPER(Egresados!$J$8:$J$705)=\"SÍ\"),1,IF(UPPER(Egresados!$J$8:$J$705)=\"NO\",0,\"\"))","v":0},{"$f":"IF(OR(UPPER(Egresados!$R$8:$R$705)=\"SI\",UPPER(Egresados!$R$8:$R$705)=\"SÍ\"),1,IF(UPPER(Egresados!$R$8:$R$705)=\"NO\",0,\"\"))","v":""},{"$f":"IF(OR(UPPER(Egresados!$S$8:$S$705)=\"SI\",UPPER(Egresados!$S$8:$S$705)=\"SÍ\"),1,IF(UPPER(Egresados!$S$8:$S$705)=\"NO\",0,\"\"))","v":""},{"$f":"IF(ISERROR(VLOOKUP(Egresados!$T$8:$T$705,Maestros!$S$31:$T$530,2,0)),\"\",VLOOKUP(Egresados!$T$8:$T$705,Maestros!$S$31:$T$530,2,0))","v":"62"},{"$f":"IF(ISERROR(VLOOKUP(U140,Maestros!$S$31:$T$530,2,0)),\"\",VLOOKUP(U140,Maestros!$S$31:$T$530,2,0))","v":"62"},{"$f":"IF(ISERROR(VLOOKUP(Egresados!$K$8:$K$705,Maestros!$A$31:$B$130,2,0)),\"\",VLOOKUP(Egresados!$K$8:$K$705,Maestros!$A$31:$B$130,2,0))","v":""},{"$f":"IF(LEN(tablaEgresados[[#This Row],[Nota promedio]])>0,ROUND(tablaEgresados[[#This Row],[Nota promedio]],2),\"\")","v":15.58}]
[133,null,"DNI","72682300","SOLIS","VEGA","PATRICIA ZENAIDA","FEMENINO",null,"NO",null,null,null,"2020-1","SEDE CENTRAL","CIENCIAS SOCIALES-PSICOLOGIA",14.8,null,null,"2014-1","2014-1","20140440@une.edu.pe","patty_love_95@hotmail.com",3133700,"999910830",{"$f":"IF(ISERROR(VLOOKUP(Egresados!$N$8:$N$705,Maestros!$D$31:$E$530,2,0)),\"\",VLOOKUP(Egresados!$N$8:$N$705,Maestros!$D$31:$E$530,2,0))","v":"223"},{"$f":"IF(ISERROR(VLOOKUP(Egresados!$O141,Maestros!$G$31:$J$1030,2,0)),\"\",VLOOKUP(Egresados!$O141,Maestros!$G$31:$J$1030,2,0))","v":"8"},{"$f":"CONCATENATE(Egresados!$Z$8:$Z$705,\"a\",Egresados!$AA$8:$AA$705)","v":"223a8"},{"$f":"IF(ISERROR(VLOOKUP(Egresados!$P141,Maestros!$L$31:$Q$1030,2,0)),\"\",VLOOKUP(Egresados!$P141,Maestros!$L$31:$Q$1030,2,0))","v":"329"},{"$f":"CONCATENATE(Egresados!$Z$8:$Z$705,\"a\",Egresados!$AA$8:$AA$705,\"a\",Egresados!$AC$8:$AC$705)","v":"223a8a329"},{"$f":"IF(ISERROR(VLOOKUP(Egresados!$C$8:$C$705,Maestros!$A$4:$B$21,2,0)),\"\",VLOOKUP(Egresados!$C$8:$C$705,Maestros!$A$4:$B$21,2,0))","v":"1001"},{"$f":"IF(ISERROR(VLOOKUP(Egresados!$H$8:$H$705,Maestros!$D$4:$E$21,2,0)),\"\",VLOOKUP(Egresados!$H$8:$H$705,Maestros!$D$4:$E$21,2,0))","v":"1122"},{"$f":"IF(OR(UPPER(Egresados!$J$8:$J$705)=\"SI\",UPPER(Egresados!$J$8:$J$705)=\"SÍ\"),1,IF(UPPER(Egresados!$J$8:$J$705)=\"NO\",0,\"\"))","v":0},{"$f":"IF(OR(UPPER(Egresados!$R$8:$R$705)=\"SI\",UPPER(Egresados!$R$8:$R$705)=\"SÍ\"),1,IF(UPPER(Egresados!$R$8:$R$705)=\"NO\",0,\"\"))","v":""},{"$f":"IF(OR(UPPER(Egresados!$S$8:$S$705)=\"SI\",UPPER(Egresados!$S$8:$S$705)=\"SÍ\"),1,IF(UPPER(Egresados!$S$8:$S$705)=\"NO\",0,\"\"))","v":""},{"$f":"IF(ISERROR(VLOOKUP(Egresados!$T$8:$T$705,Maestros!$S$31:$T$530,2,0)),\"\",VLOOKUP(Egresados!$T$8:$T$705,Maestros!$S$31:$T$530,2,0))","v":"58"},{"$f":"IF(ISERROR(VLOOKUP(U141,Maestros!$S$31:$T$530,2,0)),\"\",VLOOKUP(U141,Maestros!$S$31:$T$530,2,0))","v":"58"},{"$f":"IF(ISERROR(VLOOKUP(Egresados!$K$8:$K$705,Maestros!$A$31:$B$130,2,0)),\"\",VLOOKUP(Egresados!$K$8:$K$705,Maestros!$A$31:$B$130,2,0))","v":""},{"$f":"IF(LEN(tablaEgresados[[#This Row],[Nota promedio]])>0,ROUND(tablaEgresados[[#This Row],[Nota promedio]],2),\"\")","v":14.8}]
[134,null,"DNI","75488592","PAJARES","AGUIRRE","LUZ JIMENA","FEMENINO",null,"NO",null,null,null,"2020-1","SEDE CENTRAL","CIENCIAS SOCIALES-PSICOLOGIA",15.24,null,null,"2015-1","2015-1","20150522@une.edu.pe","luzjimenapajaresaguirre@gmail.com",3133700,"988864822",{"$f":"IF(ISERROR(VLOOKUP(Egresados!$N$8:$N$705,Maestros!$D$31:$E$530,2,0)),\"\",VLOOKUP(Egresados!$N$8:$N$705,Maestros!$D$31:$E$530,2,0))","v":"223"},{"$f":"IF(ISERROR(VLOOKUP(Egresados!$O142,Maestros!$G$31:$J$1030,2,0)),\"\",VLOOKUP(Egresados!$O142,Maestros!$G$31:$J$1030,2,0))","v":"8"},{"$f":"CONCATENATE(Egresados!$Z$8:$Z$705,\"a\",Egresados!$AA$8:$AA$705)","v":"223a8"},{"$f":"IF(ISERROR(VLOOKUP(Egresados!$P142,Maestros!$L$31:$Q$1030,2,0)),\"\",VLOOKUP(Egresados!$P142,Maestros!$L$31:$Q$1030,2,0))","v":"329"},{"$f":"CONCATENATE(Egresados!$Z$8:$Z$705,\"a\",Egresados!$AA$8:$AA$705,\"a\",Egresados!$AC$8:$AC$705)","v":"223a8a329"},{"$f":"IF(ISERROR(VLOOKUP(Egresados!$C$8:$C$705,Maestros!$A$4:$B$21,2,0)),\"\",VLOOKUP(Egresados!$C$8:$C$705,Maestros!$A$4:$B$21,2,0))","v":"1001"},{"$f":"IF(ISERROR(VLOOKUP(Egresados!$H$8:$H$705,Maestros!$D$4:$E$21,2,0)),\"\",VLOOKUP(Egresados!$H$8:$H$705,Maestros!$D$4:$E$21,2,0))","v":"1122"},{"$f":"IF(OR(UPPER(Egresados!$J$8:$J$705)=\"SI\",UPPER(Egresados!$J$8:$J$705)=\"SÍ\"),1,IF(UPPER(Egresados!$J$8:$J$705)=\"NO\",0,\"\"))","v":0},{"$f":"IF(OR(UPPER(Egresados!$R$8:$R$705)=\"SI\",UPPER(Egresados!$R$8:$R$705)=\"SÍ\"),1,IF(UPPER(Egresados!$R$8:$R$705)=\"NO\",0,\"\"))","v":""},{"$f":"IF(OR(UPPER(Egresados!$S$8:$S$705)=\"SI\",UPPER(Egresados!$S$8:$S$705)=\"SÍ\"),1,IF(UPPER(Egresados!$S$8:$S$705)=\"NO\",0,\"\"))","v":""},{"$f":"IF(ISERROR(VLOOKUP(Egresados!$T$8:$T$705,Maestros!$S$31:$T$530,2,0)),\"\",VLOOKUP(Egresados!$T$8:$T$705,Maestros!$S$31:$T$530,2,0))","v":"62"},{"$f":"IF(ISERROR(VLOOKUP(U142,Maestros!$S$31:$T$530,2,0)),\"\",VLOOKUP(U142,Maestros!$S$31:$T$530,2,0))","v":"62"},{"$f":"IF(ISERROR(VLOOKUP(Egresados!$K$8:$K$705,Maestros!$A$31:$B$130,2,0)),\"\",VLOOKUP(Egresados!$K$8:$K$705,Maestros!$A$31:$B$130,2,0))","v":""},{"$f":"IF(LEN(tablaEgresados[[#This Row],[Nota promedio]])>0,ROUND(tablaEgresados[[#This Row],[Nota promedio]],2),\"\")","v":15.24}]
[135,null,"DNI","42256776","DIAZ","AGUIRRE","ROSA IRENE","FEMENINO",null,"NO",null,null,null,"2020-1","SEDE CENTRAL","CIENCIAS SOCIALES-PSICOLOGIA",15.45,null,null,"2014-1","2014-1","20140383@une.edu.pe","rosa_diazaguirre@hotmail.com",3133700,"992918686",{"$f":"IF(ISERROR(VLOOKUP(Egresados!$N$8:$N$705,Maestros!$D$31:$E$530,2,0)),\"\",VLOOKUP(Egresados!$N$8:$N$705,Maestros!$D$31:$E$530,2,0))","v":"223"},{"$f":"IF(ISERROR(VLOOKUP(Egresados!$O143,Maestros!$G$31:$J$1030,2,0)),\"\",VLOOKUP(Egresados!$O143,Maestros!$G$31:$J$1030,2,0))","v":"8"},{"$f":"CONCATENATE(Egresados!$Z$8:$Z$705,\"a\",Egresados!$AA$8:$AA$705)","v":"223a8"},{"$f":"IF(ISERROR(VLOOKUP(Egresados!$P143,Maestros!$L$31:$Q$1030,2,0)),\"\",VLOOKUP(Egresados!$P143,Maestros!$L$31:$Q$1030,2,0))","v":"329"},{"$f":"CONCATENATE(Egresados!$Z$8:$Z$705,\"a\",Egresados!$AA$8:$AA$705,\"a\",Egresados!$AC$8:$AC$705)","v":"223a8a329"},{"$f":"IF(ISERROR(VLOOKUP(Egresados!$C$8:$C$705,Maestros!$A$4:$B$21,2,0)),\"\",VLOOKUP(Egresados!$C$8:$C$705,Maestros!$A$4:$B$21,2,0))","v":"1001"},{"$f":"IF(ISERROR(VLOOKUP(Egresados!$H$8:$H$705,Maestros!$D$4:$E$21,2,0)),\"\",VLOOKUP(Egresados!$H$8:$H$705,Maestros!$D$4:$E$21,2,0))","v":"1122"},{"$f":"IF(OR(UPPER(Egresados!$J$8:$J$705)=\"SI\",UPPER(Egresados!$J$8:$J$705)=\"SÍ\"),1,IF(UPPER(Egresados!$J$8:$J$705)=\"NO\",0,\"\"))","v":0},{"$f":"IF(OR(UPPER(Egresados!$R$8:$R$705)=\"SI\",UPPER(Egresados!$R$8:$R$705)=\"SÍ\"),1,IF(UPPER(Egresados!$R$8:$R$705)=\"NO\",0,\"\"))","v":""},{"$f":"IF(OR(UPPER(Egresados!$S$8:$S$705)=\"SI\",UPPER(Egresados!$S$8:$S$705)=\"SÍ\"),1,IF(UPPER(Egresados!$S$8:$S$705)=\"NO\",0,\"\"))","v":""},{"$f":"IF(ISERROR(VLOOKUP(Egresados!$T$8:$T$705,Maestros!$S$31:$T$530,2,0)),\"\",VLOOKUP(Egresados!$T$8:$T$705,Maestros!$S$31:$T$530,2,0))","v":"58"},{"$f":"IF(ISERROR(VLOOKUP(U143,Maestros!$S$31:$T$530,2,0)),\"\",VLOOKUP(U143,Maestros!$S$31:$T$530,2,0))","v":"58"},{"$f":"IF(ISERROR(VLOOKUP(Egresados!$K$8:$K$705,Maestros!$A$31:$B$130,2,0)),\"\",VLOOKUP(Egresados!$K$8:$K$705,Maestros!$A$31:$B$130,2,0))","v":""},{"$f":"IF(LEN(tablaEgresados[[#This Row],[Nota promedio]])>0,ROUND(tablaEgresados[[#This Row],[Nota promedio]],2),\"\")","v":15.45}]
[136,null,"DNI","61614837","BARAHONA","VILCHEZ","DUWAL ANTHONY","MASCULINO",null,"NO",null,null,null,"2020-1","SEDE CENTRAL","CIENCIAS SOCIALES-PSICOLOGIA",15.18,null,null,"2015-1","2015-1","20150439@une.edu.pe","Duwal.rsf97@gmail.com",3133700,"986197773",{"$f":"IF(ISERROR(VLOOKUP(Egresados!$N$8:$N$705,Maestros!$D$31:$E$530,2,0)),\"\",VLOOKUP(Egresados!$N$8:$N$705,Maestros!$D$31:$E$530,2,0))","v":"223"},{"$f":"IF(ISERROR(VLOOKUP(Egresados!$O144,Maestros!$G$31:$J$1030,2,0)),\"\",VLOOKUP(Egresados!$O144,Maestros!$G$31:$J$1030,2,0))","v":"8"},{"$f":"CONCATENATE(Egresados!$Z$8:$Z$705,\"a\",Egresados!$AA$8:$AA$705)","v":"223a8"},{"$f":"IF(ISERROR(VLOOKUP(Egresados!$P144,Maestros!$L$31:$Q$1030,2,0)),\"\",VLOOKUP(Egresados!$P144,Maestros!$L$31:$Q$1030,2,0))","v":"329"},{"$f":"CONCATENATE(Egresados!$Z$8:$Z$705,\"a\",Egresados!$AA$8:$AA$705,\"a\",Egresados!$AC$8:$AC$705)","v":"223a8a329"},{"$f":"IF(ISERROR(VLOOKUP(Egresados!$C$8:$C$705,Maestros!$A$4:$B$21,2,0)),\"\",VLOOKUP(Egresados!$C$8:$C$705,Maestros!$A$4:$B$21,2,0))","v":"1001"},{"$f":"IF(ISERROR(VLOOKUP(Egresados!$H$8:$H$705,Maestros!$D$4:$E$21,2,0)),\"\",VLOOKUP(Egresados!$H$8:$H$705,Maestros!$D$4:$E$21,2,0))","v":"1121"},{"$f":"IF(OR(UPPER(Egresados!$J$8:$J$705)=\"SI\",UPPER(Egresados!$J$8:$J$705)=\"SÍ\"),1,IF(UPPER(Egresados!$J$8:$J$705)=\"NO\",0,\"\"))","v":0},{"$f":"IF(OR(UPPER(Egresados!$R$8:$R$705)=\"SI\",UPPER(Egresados!$R$8:$R$705)=\"SÍ\"),1,IF(UPPER(Egresados!$R$8:$R$705)=\"NO\",0,\"\"))","v":""},{"$f":"IF(OR(UPPER(Egresados!$S$8:$S$705)=\"SI\",UPPER(Egresados!$S$8:$S$705)=\"SÍ\"),1,IF(UPPER(Egresados!$S$8:$S$705)=\"NO\",0,\"\"))","v":""},{"$f":"IF(ISERROR(VLOOKUP(Egresados!$T$8:$T$705,Maestros!$S$31:$T$530,2,0)),\"\",VLOOKUP(Egresados!$T$8:$T$705,Maestros!$S$31:$T$530,2,0))","v":"62"},{"$f":"IF(ISERROR(VLOOKUP(U144,Maestros!$S$31:$T$530,2,0)),\"\",VLOOKUP(U144,Maestros!$S$31:$T$530,2,0))","v":"62"},{"$f":"IF(ISERROR(VLOOKUP(Egresados!$K$8:$K$705,Maestros!$A$31:$B$130,2,0)),\"\",VLOOKUP(Egresados!$K$8:$K$705,Maestros!$A$31:$B$130,2,0))","v":""},{"$f":"IF(LEN(tablaEgresados[[#This Row],[Nota promedio]])>0,ROUND(tablaEgresados[[#This Row],[Nota promedio]],2),\"\")","v":15.18}]
[137,null,"DNI","71888578","CARMONA","BARRETO","MARIA ESTEFANY","FEMENINO",null,"NO",null,null,null,"2020-1","SEDE CENTRAL","CIENCIAS SOCIALES-PSICOLOGIA",15.57,null,null,"2015-1","2015-1","20150449@une.edu.pe","mecb7896@gmail.com",3133700,"976576043",{"$f":"IF(ISERROR(VLOOKUP(Egresados!$N$8:$N$705,Maestros!$D$31:$E$530,2,0)),\"\",VLOOKUP(Egresados!$N$8:$N$705,Maestros!$D$31:$E$530,2,0))","v":"223"},{"$f":"IF(ISERROR(VLOOKUP(Egresados!$O145,Maestros!$G$31:$J$1030,2,0)),\"\",VLOOKUP(Egresados!$O145,Maestros!$G$31:$J$1030,2,0))","v":"8"},{"$f":"CONCATENATE(Egresados!$Z$8:$Z$705,\"a\",Egresados!$AA$8:$AA$705)","v":"223a8"},{"$f":"IF(ISERROR(VLOOKUP(Egresados!$P145,Maestros!$L$31:$Q$1030,2,0)),\"\",VLOOKUP(Egresados!$P145,Maestros!$L$31:$Q$1030,2,0))","v":"329"},{"$f":"CONCATENATE(Egresados!$Z$8:$Z$705,\"a\",Egresados!$AA$8:$AA$705,\"a\",Egresados!$AC$8:$AC$705)","v":"223a8a329"},{"$f":"IF(ISERROR(VLOOKUP(Egresados!$C$8:$C$705,Maestros!$A$4:$B$21,2,0)),\"\",VLOOKUP(Egresados!$C$8:$C$705,Maestros!$A$4:$B$21,2,0))","v":"1001"},{"$f":"IF(ISERROR(VLOOKUP(Egresados!$H$8:$H$705,Maestros!$D$4:$E$21,2,0)),\"\",VLOOKUP(Egresados!$H$8:$H$705,Maestros!$D$4:$E$21,2,0))","v":"1122"},{"$f":"IF(OR(UPPER(Egresados!$J$8:$J$705)=\"SI\",UPPER(Egresados!$J$8:$J$705)=\"SÍ\"),1,IF(UPPER(Egresados!$J$8:$J$705)=\"NO\",0,\"\"))","v":0},{"$f":"IF(OR(UPPER(Egresados!$R$8:$R$705)=\"SI\",UPPER(Egresados!$R$8:$R$705)=\"SÍ\"),1,IF(UPPER(Egresados!$R$8:$R$705)=\"NO\",0,\"\"))","v":""},{"$f":"IF(OR(UPPER(Egresados!$S$8:$S$705)=\"SI\",UPPER(Egresados!$S$8:$S$705)=\"SÍ\"),1,IF(UPPER(Egresados!$S$8:$S$705)=\"NO\",0,\"\"))","v":""},{"$f":"IF(ISERROR(VLOOKUP(Egresados!$T$8:$T$705,Maestros!$S$31:$T$530,2,0)),\"\",VLOOKUP(Egresados!$T$8:$T$705,Maestros!$S$31:$T$530,2,0))","v":"62"},{"$f":"IF(ISERROR(VLOOKUP(U145,Maestros!$S$31:$T$530,2,0)),\"\",VLOOKUP(U145,Maestros!$S$31:$T$530,2,0))","v":"62"},{"$f":"IF(ISERROR(VLOOKUP(Egresados!$K$8:$K$705,Maestros!$A$31:$B$130,2,0)),\"\",VLOOKUP(Egresados!$K$8:$K$705,Maestros!$A$31:$B$130,2,0))","v":""},{"$f":"IF(LEN(tablaEgresados[[#This Row],[Nota promedio]])>0,ROUND(tablaEgresados[[#This Row],[Nota promedio]],2),\"\")","v":15.57}]
[138,null,"DNI","73141958","COTERA","URETA","RONALDO","MASCULINO",null,"NO",null,null,null,"2020-1","SEDE CENTRAL","CIENCIAS SOCIALES-PSICOLOGIA",15.5,null,null,"2015-1","2015-1","20150458@une.edu.pe","coterau@gmail.com",3133700,"923362974",{"$f":"IF(ISERROR(VLOOKUP(Egresados!$N$8:$N$705,Maestros!$D$31:$E$530,2,0)),\"\",VLOOKUP(Egresados!$N$8:$N$705,Maestros!$D$31:$E$530,2,0))","v":"223"},{"$f":"IF(ISERROR(VLOOKUP(Egresados!$O146,Maestros!$G$31:$J$1030,2,0)),\"\",VLOOKUP(Egresados!$O146,Maestros!$G$31:$J$1030,2,0))","v":"8"},{"$f":"CONCATENATE(Egresados!$Z$8:$Z$705,\"a\",Egresados!$AA$8:$AA$705)","v":"223a8"},{"$f":"IF(ISERROR(VLOOKUP(Egresados!$P146,Maestros!$L$31:$Q$1030,2,0)),\"\",VLOOKUP(Egresados!$P146,Maestros!$L$31:$Q$1030,2,0))","v":"329"},{"$f":"CONCATENATE(Egresados!$Z$8:$Z$705,\"a\",Egresados!$AA$8:$AA$705,\"a\",Egresados!$AC$8:$AC$705)","v":"223a8a329"},{"$f":"IF(ISERROR(VLOOKUP(Egresados!$C$8:$C$705,Maestros!$A$4:$B$21,2,0)),\"\",VLOOKUP(Egresados!$C$8:$C$705,Maestros!$A$4:$B$21,2,0))","v":"1001"},{"$f":"IF(ISERROR(VLOOKUP(Egresados!$H$8:$H$705,Maestros!$D$4:$E$21,2,0)),\"\",VLOOKUP(Egresados!$H$8:$H$705,Maestros!$D$4:$E$21,2,0))","v":"1121"},{"$f":"IF(OR(UPPER(Egresados!$J$8:$J$705)=\"SI\",UPPER(Egresados!$J$8:$J$705)=\"SÍ\"),1,IF(UPPER(Egresados!$J$8:$J$705)=\"NO\",0,\"\"))","v":0},{"$f":"IF(OR(UPPER(Egresados!$R$8:$R$705)=\"SI\",UPPER(Egresados!$R$8:$R$705)=\"SÍ\"),1,IF(UPPER(Egresados!$R$8:$R$705)=\"NO\",0,\"\"))","v":""},{"$f":"IF(OR(UPPER(Egresados!$S$8:$S$705)=\"SI\",UPPER(Egresados!$S$8:$S$705)=\"SÍ\"),1,IF(UPPER(Egresados!$S$8:$S$705)=\"NO\",0,\"\"))","v":""},{"$f":"IF(ISERROR(VLOOKUP(Egresados!$T$8:$T$705,Maestros!$S$31:$T$530,2,0)),\"\",VLOOKUP(Egresados!$T$8:$T$705,Maestros!$S$31:$T$530,2,0))","v":"62"},{"$f":"IF(ISERROR(VLOOKUP(U146,Maestros!$S$31:$T$530,2,0)),\"\",VLOOKUP(U146,Maestros!$S$31:$T$530,2,0))","v":"62"},{"$f":"IF(ISERROR(VLOOKUP(Egresados!$K$8:$K$705,Maestros!$A$31:$B$130,2,0)),\"\",VLOOKUP(Egresados!$K$8:$K$705,Maestros!$A$31:$B$130,2,0))","v":""},{"$f":"IF(LEN(tablaEgresados[[#This Row],[Nota promedio]])>0,ROUND(tablaEgresados[[#This Row],[Nota promedio]],2),\"\")","v":15.5}]
[139,null,"DNI","10014698","MENDOZA","VENEGAS","BEATRIZ","FEMENINO",null,"NO",null,null,null,"2020-1","SEDE CENTRAL","CIENCIAS SOCIALES-PSICOLOGIA",15.84,null,null,"2014-1","2014-1","20140460@une.edu.pe","bmendozavenegas@gamil.com",3133700,"966586166",{"$f":"IF(ISERROR(VLOOKUP(Egresados!$N$8:$N$705,Maestros!$D$31:$E$530,2,0)),\"\",VLOOKUP(Egresados!$N$8:$N$705,Maestros!$D$31:$E$530,2,0))","v":"223"},{"$f":"IF(ISERROR(VLOOKUP(Egresados!$O147,Maestros!$G$31:$J$1030,2,0)),\"\",VLOOKUP(Egresados!$O147,Maestros!$G$31:$J$1030,2,0))","v":"8"},{"$f":"CONCATENATE(Egresados!$Z$8:$Z$705,\"a\",Egresados!$AA$8:$AA$705)","v":"223a8"},{"$f":"IF(ISERROR(VLOOKUP(Egresados!$P147,Maestros!$L$31:$Q$1030,2,0)),\"\",VLOOKUP(Egresados!$P147,Maestros!$L$31:$Q$1030,2,0))","v":"329"},{"$f":"CONCATENATE(Egresados!$Z$8:$Z$705,\"a\",Egresados!$AA$8:$AA$705,\"a\",Egresados!$AC$8:$AC$705)","v":"223a8a329"},{"$f":"IF(ISERROR(VLOOKUP(Egresados!$C$8:$C$705,Maestros!$A$4:$B$21,2,0)),\"\",VLOOKUP(Egresados!$C$8:$C$705,Maestros!$A$4:$B$21,2,0))","v":"1001"},{"$f":"IF(ISERROR(VLOOKUP(Egresados!$H$8:$H$705,Maestros!$D$4:$E$21,2,0)),\"\",VLOOKUP(Egresados!$H$8:$H$705,Maestros!$D$4:$E$21,2,0))","v":"1122"},{"$f":"IF(OR(UPPER(Egresados!$J$8:$J$705)=\"SI\",UPPER(Egresados!$J$8:$J$705)=\"SÍ\"),1,IF(UPPER(Egresados!$J$8:$J$705)=\"NO\",0,\"\"))","v":0},{"$f":"IF(OR(UPPER(Egresados!$R$8:$R$705)=\"SI\",UPPER(Egresados!$R$8:$R$705)=\"SÍ\"),1,IF(UPPER(Egresados!$R$8:$R$705)=\"NO\",0,\"\"))","v":""},{"$f":"IF(OR(UPPER(Egresados!$S$8:$S$705)=\"SI\",UPPER(Egresados!$S$8:$S$705)=\"SÍ\"),1,IF(UPPER(Egresados!$S$8:$S$705)=\"NO\",0,\"\"))","v":""},{"$f":"IF(ISERROR(VLOOKUP(Egresados!$T$8:$T$705,Maestros!$S$31:$T$530,2,0)),\"\",VLOOKUP(Egresados!$T$8:$T$705,Maestros!$S$31:$T$530,2,0))","v":"58"},{"$f":"IF(ISERROR(VLOOKUP(U147,Maestros!$S$31:$T$530,2,0)),\"\",VLOOKUP(U147,Maestros!$S$31:$T$530,2,0))","v":"58"},{"$f":"IF(ISERROR(VLOOKUP(Egresados!$K$8:$K$705,Maestros!$A$31:$B$130,2,0)),\"\",VLOOKUP(Egresados!$K$8:$K$705,Maestros!$A$31:$B$130,2,0))","v":""},{"$f":"IF(LEN(tablaEgresados[[#This Row],[Nota promedio]])>0,ROUND(tablaEgresados[[#This Row],[Nota promedio]],2),\"\")","v":15.84}]
[140,null,"DNI","74234491","ESTEBAN","ARIAS","KRISTEL FLOR","FEMENINO",null,"NO",null,null,null,"2020-1","SEDE CENTRAL","CIENCIAS SOCIALES-PSICOLOGIA",15.27,null,null,"2015-1","2015-1","20150783@une.edu.pe","aran8este@gmail.com",3133700,"972289877",{"$f":"IF(ISERROR(VLOOKUP(Egresados!$N$8:$N$705,Maestros!$D$31:$E$530,2,0)),\"\",VLOOKUP(Egresados!$N$8:$N$705,Maestros!$D$31:$E$530,2,0))","v":"223"},{"$f":"IF(ISERROR(VLOOKUP(Egresados!$O148,Maestros!$G$31:$J$1030,2,0)),\"\",VLOOKUP(Egresados!$O148,Maestros!$G$31:$J$1030,2,0))","v":"8"},{"$f":"CONCATENATE(Egresados!$Z$8:$Z$705,\"a\",Egresados!$AA$8:$AA$705)","v":"223a8"},{"$f":"IF(ISERROR(VLOOKUP(Egresados!$P148,Maestros!$L$31:$Q$1030,2,0)),\"\",VLOOKUP(Egresados!$P148,Maestros!$L$31:$Q$1030,2,0))","v":"329"},{"$f":"CONCATENATE(Egresados!$Z$8:$Z$705,\"a\",Egresados!$AA$8:$AA$705,\"a\",Egresados!$AC$8:$AC$705)","v":"223a8a329"},{"$f":"IF(ISERROR(VLOOKUP(Egresados!$C$8:$C$705,Maestros!$A$4:$B$21,2,0)),\"\",VLOOKUP(Egresados!$C$8:$C$705,Maestros!$A$4:$B$21,2,0))","v":"1001"},{"$f":"IF(ISERROR(VLOOKUP(Egresados!$H$8:$H$705,Maestros!$D$4:$E$21,2,0)),\"\",VLOOKUP(Egresados!$H$8:$H$705,Maestros!$D$4:$E$21,2,0))","v":"1122"},{"$f":"IF(OR(UPPER(Egresados!$J$8:$J$705)=\"SI\",UPPER(Egresados!$J$8:$J$705)=\"SÍ\"),1,IF(UPPER(Egresados!$J$8:$J$705)=\"NO\",0,\"\"))","v":0},{"$f":"IF(OR(UPPER(Egresados!$R$8:$R$705)=\"SI\",UPPER(Egresados!$R$8:$R$705)=\"SÍ\"),1,IF(UPPER(Egresados!$R$8:$R$705)=\"NO\",0,\"\"))","v":""},{"$f":"IF(OR(UPPER(Egresados!$S$8:$S$705)=\"SI\",UPPER(Egresados!$S$8:$S$705)=\"SÍ\"),1,IF(UPPER(Egresados!$S$8:$S$705)=\"NO\",0,\"\"))","v":""},{"$f":"IF(ISERROR(VLOOKUP(Egresados!$T$8:$T$705,Maestros!$S$31:$T$530,2,0)),\"\",VLOOKUP(Egresados!$T$8:$T$705,Maestros!$S$31:$T$530,2,0))","v":"62"},{"$f":"IF(ISERROR(VLOOKUP(U148,Maestros!$S$31:$T$530,2,0)),\"\",VLOOKUP(U148,Maestros!$S$31:$T$530,2,0))","v":"62"},{"$f":"IF(ISERROR(VLOOKUP(Egresados!$K$8:$K$705,Maestros!$A$31:$B$130,2,0)),\"\",VLOOKUP(Egresados!$K$8:$K$705,Maestros!$A$31:$B$130,2,0))","v":""},{"$f":"IF(LEN(tablaEgresados[[#This Row],[Nota promedio]])>0,ROUND(tablaEgresados[[#This Row],[Nota promedio]],2),\"\")","v":15.27}]
[141,null,"DNI","10504808","VARGAS","FLORES","AZUCENA SANTOS","FEMENINO",null,"NO",null,null,null,"2020-1","SEDE CENTRAL","CIENCIAS SOCIALES-PSICOLOGIA",15.26,null,null,"2014-1","2014-1","20140305@une.edu.pe","estrellavargas_@hotmail.com",3133700,"956823778",{"$f":"IF(ISERROR(VLOOKUP(Egresados!$N$8:$N$705,Maestros!$D$31:$E$530,2,0)),\"\",VLOOKUP(Egresados!$N$8:$N$705,Maestros!$D$31:$E$530,2,0))","v":"223"},{"$f":"IF(ISERROR(VLOOKUP(Egresados!$O149,Maestros!$G$31:$J$1030,2,0)),\"\",VLOOKUP(Egresados!$O149,Maestros!$G$31:$J$1030,2,0))","v":"8"},{"$f":"CONCATENATE(Egresados!$Z$8:$Z$705,\"a\",Egresados!$AA$8:$AA$705)","v":"223a8"},{"$f":"IF(ISERROR(VLOOKUP(Egresados!$P149,Maestros!$L$31:$Q$1030,2,0)),\"\",VLOOKUP(Egresados!$P149,Maestros!$L$31:$Q$1030,2,0))","v":"329"},{"$f":"CONCATENATE(Egresados!$Z$8:$Z$705,\"a\",Egresados!$AA$8:$AA$705,\"a\",Egresados!$AC$8:$AC$705)","v":"223a8a329"},{"$f":"IF(ISERROR(VLOOKUP(Egresados!$C$8:$C$705,Maestros!$A$4:$B$21,2,0)),\"\",VLOOKUP(Egresados!$C$8:$C$705,Maestros!$A$4:$B$21,2,0))","v":"1001"},{"$f":"IF(ISERROR(VLOOKUP(Egresados!$H$8:$H$705,Maestros!$D$4:$E$21,2,0)),\"\",VLOOKUP(Egresados!$H$8:$H$705,Maestros!$D$4:$E$21,2,0))","v":"1122"},{"$f":"IF(OR(UPPER(Egresados!$J$8:$J$705)=\"SI\",UPPER(Egresados!$J$8:$J$705)=\"SÍ\"),1,IF(UPPER(Egresados!$J$8:$J$705)=\"NO\",0,\"\"))","v":0},{"$f":"IF(OR(UPPER(Egresados!$R$8:$R$705)=\"SI\",UPPER(Egresados!$R$8:$R$705)=\"SÍ\"),1,IF(UPPER(Egresados!$R$8:$R$705)=\"NO\",0,\"\"))","v":""},{"$f":"IF(OR(UPPER(Egresados!$S$8:$S$705)=\"SI\",UPPER(Egresados!$S$8:$S$705)=\"SÍ\"),1,IF(UPPER(Egresados!$S$8:$S$705)=\"NO\",0,\"\"))","v":""},{"$f":"IF(ISERROR(VLOOKUP(Egresados!$T$8:$T$705,Maestros!$S$31:$T$530,2,0)),\"\",VLOOKUP(Egresados!$T$8:$T$705,Maestros!$S$31:$T$530,2,0))","v":"58"},{"$f":"IF(ISERROR(VLOOKUP(U149,Maestros!$S$31:$T$530,2,0)),\"\",VLOOKUP(U149,Maestros!$S$31:$T$530,2,0))","v":"58"},{"$f":"IF(ISERROR(VLOOKUP(Egresados!$K$8:$K$705,Maestros!$A$31:$B$130,2,0)),\"\",VLOOKUP(Egresados!$K$8:$K$705,Maestros!$A$31:$B$130,2,0))","v":""},{"$f":"IF(LEN(tablaEgresados[[#This Row],[Nota promedio]])>0,ROUND(tablaEgresados[[#This Row],[Nota promedio]],2),\"\")","v":15.26}]
[142,null,"DNI","47516149","GONZALES","ASCAYO","JHONEL YONATAN","MASCULINO",null,"NO",null,null,null,"2020-1","SEDE CENTRAL","CIENCIAS SOCIALES-PSICOLOGIA",15,null,null,"2013-1","2013-1","20131673@une.edu.pe","jhonel.yonatan@gmail.com",3133700,"945320120",{"$f":"IF(ISERROR(VLOOKUP(Egresados!$N$8:$N$705,Maestros!$D$31:$E$530,2,0)),\"\",VLOOKUP(Egresados!$N$8:$N$705,Maestros!$D$31:$E$530,2,0))","v":"223"},{"$f":"IF(ISERROR(VLOOKUP(Egresados!$O150,Maestros!$G$31:$J$1030,2,0)),\"\",VLOOKUP(Egresados!$O150,Maestros!$G$31:$J$1030,2,0))","v":"8"},{"$f":"CONCATENATE(Egresados!$Z$8:$Z$705,\"a\",Egresados!$AA$8:$AA$705)","v":"223a8"},{"$f":"IF(ISERROR(VLOOKUP(Egresados!$P150,Maestros!$L$31:$Q$1030,2,0)),\"\",VLOOKUP(Egresados!$P150,Maestros!$L$31:$Q$1030,2,0))","v":"329"},{"$f":"CONCATENATE(Egresados!$Z$8:$Z$705,\"a\",Egresados!$AA$8:$AA$705,\"a\",Egresados!$AC$8:$AC$705)","v":"223a8a329"},{"$f":"IF(ISERROR(VLOOKUP(Egresados!$C$8:$C$705,Maestros!$A$4:$B$21,2,0)),\"\",VLOOKUP(Egresados!$C$8:$C$705,Maestros!$A$4:$B$21,2,0))","v":"1001"},{"$f":"IF(ISERROR(VLOOKUP(Egresados!$H$8:$H$705,Maestros!$D$4:$E$21,2,0)),\"\",VLOOKUP(Egresados!$H$8:$H$705,Maestros!$D$4:$E$21,2,0))","v":"1121"},{"$f":"IF(OR(UPPER(Egresados!$J$8:$J$705)=\"SI\",UPPER(Egresados!$J$8:$J$705)=\"SÍ\"),1,IF(UPPER(Egresados!$J$8:$J$705)=\"NO\",0,\"\"))","v":0},{"$f":"IF(OR(UPPER(Egresados!$R$8:$R$705)=\"SI\",UPPER(Egresados!$R$8:$R$705)=\"SÍ\"),1,IF(UPPER(Egresados!$R$8:$R$705)=\"NO\",0,\"\"))","v":""},{"$f":"IF(OR(UPPER(Egresados!$S$8:$S$705)=\"SI\",UPPER(Egresados!$S$8:$S$705)=\"SÍ\"),1,IF(UPPER(Egresados!$S$8:$S$705)=\"NO\",0,\"\"))","v":""},{"$f":"IF(ISERROR(VLOOKUP(Egresados!$T$8:$T$705,Maestros!$S$31:$T$530,2,0)),\"\",VLOOKUP(Egresados!$T$8:$T$705,Maestros!$S$31:$T$530,2,0))","v":"54"},{"$f":"IF(ISERROR(VLOOKUP(U150,Maestros!$S$31:$T$530,2,0)),\"\",VLOOKUP(U150,Maestros!$S$31:$T$530,2,0))","v":"54"},{"$f":"IF(ISERROR(VLOOKUP(Egresados!$K$8:$K$705,Maestros!$A$31:$B$130,2,0)),\"\",VLOOKUP(Egresados!$K$8:$K$705,Maestros!$A$31:$B$130,2,0))","v":""},{"$f":"IF(LEN(tablaEgresados[[#This Row],[Nota promedio]])>0,ROUND(tablaEgresados[[#This Row],[Nota promedio]],2),\"\")","v":15}]
[143,null,"DNI","70768116","CIEZA","PAQUIYAURI","CINTHYA ESPERANZA","FEMENINO",null,"NO",null,null,null,"2020-1","SEDE CENTRAL","CIENCIAS SOCIALES-PSICOLOGIA",15.78,null,null,"2015-1","2015-1","20150452@une.edu.pe","cinthya_tlv_12@hotmail.com",3133700,"935329548",{"$f":"IF(ISERROR(VLOOKUP(Egresados!$N$8:$N$705,Maestros!$D$31:$E$530,2,0)),\"\",VLOOKUP(Egresados!$N$8:$N$705,Maestros!$D$31:$E$530,2,0))","v":"223"},{"$f":"IF(ISERROR(VLOOKUP(Egresados!$O151,Maestros!$G$31:$J$1030,2,0)),\"\",VLOOKUP(Egresados!$O151,Maestros!$G$31:$J$1030,2,0))","v":"8"},{"$f":"CONCATENATE(Egresados!$Z$8:$Z$705,\"a\",Egresados!$AA$8:$AA$705)","v":"223a8"},{"$f":"IF(ISERROR(VLOOKUP(Egresados!$P151,Maestros!$L$31:$Q$1030,2,0)),\"\",VLOOKUP(Egresados!$P151,Maestros!$L$31:$Q$1030,2,0))","v":"329"},{"$f":"CONCATENATE(Egresados!$Z$8:$Z$705,\"a\",Egresados!$AA$8:$AA$705,\"a\",Egresados!$AC$8:$AC$705)","v":"223a8a329"},{"$f":"IF(ISERROR(VLOOKUP(Egresados!$C$8:$C$705,Maestros!$A$4:$B$21,2,0)),\"\",VLOOKUP(Egresados!$C$8:$C$705,Maestros!$A$4:$B$21,2,0))","v":"1001"},{"$f":"IF(ISERROR(VLOOKUP(Egresados!$H$8:$H$705,Maestros!$D$4:$E$21,2,0)),\"\",VLOOKUP(Egresados!$H$8:$H$705,Maestros!$D$4:$E$21,2,0))","v":"1122"},{"$f":"IF(OR(UPPER(Egresados!$J$8:$J$705)=\"SI\",UPPER(Egresados!$J$8:$J$705)=\"SÍ\"),1,IF(UPPER(Egresados!$J$8:$J$705)=\"NO\",0,\"\"))","v":0},{"$f":"IF(OR(UPPER(Egresados!$R$8:$R$705)=\"SI\",UPPER(Egresados!$R$8:$R$705)=\"SÍ\"),1,IF(UPPER(Egresados!$R$8:$R$705)=\"NO\",0,\"\"))","v":""},{"$f":"IF(OR(UPPER(Egresados!$S$8:$S$705)=\"SI\",UPPER(Egresados!$S$8:$S$705)=\"SÍ\"),1,IF(UPPER(Egresados!$S$8:$S$705)=\"NO\",0,\"\"))","v":""},{"$f":"IF(ISERROR(VLOOKUP(Egresados!$T$8:$T$705,Maestros!$S$31:$T$530,2,0)),\"\",VLOOKUP(Egresados!$T$8:$T$705,Maestros!$S$31:$T$530,2,0))","v":"62"},{"$f":"IF(ISERROR(VLOOKUP(U151,Maestros!$S$31:$T$530,2,0)),\"\",VLOOKUP(U151,Maestros!$S$31:$T$530,2,0))","v":"62"},{"$f":"IF(ISERROR(VLOOKUP(Egresados!$K$8:$K$705,Maestros!$A$31:$B$130,2,0)),\"\",VLOOKUP(Egresados!$K$8:$K$705,Maestros!$A$31:$B$130,2,0))","v":""},{"$f":"IF(LEN(tablaEgresados[[#This Row],[Nota promedio]])>0,ROUND(tablaEgresados[[#This Row],[Nota promedio]],2),\"\")","v":15.78}]
[144,null,"DNI","71259772","ESTACIO","HERNANDEZ","RAQUEL","FEMENINO",null,"NO",null,null,null,"2020-1","SEDE CENTRAL","CIENCIAS SOCIALES-PSICOLOGIA",15.32,null,null,"2015-1","2015-1","20150474@une.edu.pe","raquel.antuanet96@gmail.com",3133700,"943206415",{"$f":"IF(ISERROR(VLOOKUP(Egresados!$N$8:$N$705,Maestros!$D$31:$E$530,2,0)),\"\",VLOOKUP(Egresados!$N$8:$N$705,Maestros!$D$31:$E$530,2,0))","v":"223"},{"$f":"IF(ISERROR(VLOOKUP(Egresados!$O152,Maestros!$G$31:$J$1030,2,0)),\"\",VLOOKUP(Egresados!$O152,Maestros!$G$31:$J$1030,2,0))","v":"8"},{"$f":"CONCATENATE(Egresados!$Z$8:$Z$705,\"a\",Egresados!$AA$8:$AA$705)","v":"223a8"},{"$f":"IF(ISERROR(VLOOKUP(Egresados!$P152,Maestros!$L$31:$Q$1030,2,0)),\"\",VLOOKUP(Egresados!$P152,Maestros!$L$31:$Q$1030,2,0))","v":"329"},{"$f":"CONCATENATE(Egresados!$Z$8:$Z$705,\"a\",Egresados!$AA$8:$AA$705,\"a\",Egresados!$AC$8:$AC$705)","v":"223a8a329"},{"$f":"IF(ISERROR(VLOOKUP(Egresados!$C$8:$C$705,Maestros!$A$4:$B$21,2,0)),\"\",VLOOKUP(Egresados!$C$8:$C$705,Maestros!$A$4:$B$21,2,0))","v":"1001"},{"$f":"IF(ISERROR(VLOOKUP(Egresados!$H$8:$H$705,Maestros!$D$4:$E$21,2,0)),\"\",VLOOKUP(Egresados!$H$8:$H$705,Maestros!$D$4:$E$21,2,0))","v":"1122"},{"$f":"IF(OR(UPPER(Egresados!$J$8:$J$705)=\"SI\",UPPER(Egresados!$J$8:$J$705)=\"SÍ\"),1,IF(UPPER(Egresados!$J$8:$J$705)=\"NO\",0,\"\"))","v":0},{"$f":"IF(OR(UPPER(Egresados!$R$8:$R$705)=\"SI\",UPPER(Egresados!$R$8:$R$705)=\"SÍ\"),1,IF(UPPER(Egresados!$R$8:$R$705)=\"NO\",0,\"\"))","v":""},{"$f":"IF(OR(UPPER(Egresados!$S$8:$S$705)=\"SI\",UPPER(Egresados!$S$8:$S$705)=\"SÍ\"),1,IF(UPPER(Egresados!$S$8:$S$705)=\"NO\",0,\"\"))","v":""},{"$f":"IF(ISERROR(VLOOKUP(Egresados!$T$8:$T$705,Maestros!$S$31:$T$530,2,0)),\"\",VLOOKUP(Egresados!$T$8:$T$705,Maestros!$S$31:$T$530,2,0))","v":"62"},{"$f":"IF(ISERROR(VLOOKUP(U152,Maestros!$S$31:$T$530,2,0)),\"\",VLOOKUP(U152,Maestros!$S$31:$T$530,2,0))","v":"62"},{"$f":"IF(ISERROR(VLOOKUP(Egresados!$K$8:$K$705,Maestros!$A$31:$B$130,2,0)),\"\",VLOOKUP(Egresados!$K$8:$K$705,Maestros!$A$31:$B$130,2,0))","v":""},{"$f":"IF(LEN(tablaEgresados[[#This Row],[Nota promedio]])>0,ROUND(tablaEgresados[[#This Row],[Nota promedio]],2),\"\")","v":15.32}]
[145,null,"DNI","45939295","VILLALVA","CHOCCA","MAYCOL ESMITH","MASCULINO",null,"NO",null,null,null,"2020-1","SEDE CENTRAL","CIENCIAS SOCIALES-PSICOLOGIA",16.09,null,null,"2015-1","2015-1","20150553@une.edu.pe","mvillalvach@hotmail.com",3133700,"921875465",{"$f":"IF(ISERROR(VLOOKUP(Egresados!$N$8:$N$705,Maestros!$D$31:$E$530,2,0)),\"\",VLOOKUP(Egresados!$N$8:$N$705,Maestros!$D$31:$E$530,2,0))","v":"223"},{"$f":"IF(ISERROR(VLOOKUP(Egresados!$O153,Maestros!$G$31:$J$1030,2,0)),\"\",VLOOKUP(Egresados!$O153,Maestros!$G$31:$J$1030,2,0))","v":"8"},{"$f":"CONCATENATE(Egresados!$Z$8:$Z$705,\"a\",Egresados!$AA$8:$AA$705)","v":"223a8"},{"$f":"IF(ISERROR(VLOOKUP(Egresados!$P153,Maestros!$L$31:$Q$1030,2,0)),\"\",VLOOKUP(Egresados!$P153,Maestros!$L$31:$Q$1030,2,0))","v":"329"},{"$f":"CONCATENATE(Egresados!$Z$8:$Z$705,\"a\",Egresados!$AA$8:$AA$705,\"a\",Egresados!$AC$8:$AC$705)","v":"223a8a329"},{"$f":"IF(ISERROR(VLOOKUP(Egresados!$C$8:$C$705,Maestros!$A$4:$B$21,2,0)),\"\",VLOOKUP(Egresados!$C$8:$C$705,Maestros!$A$4:$B$21,2,0))","v":"1001"},{"$f":"IF(ISERROR(VLOOKUP(Egresados!$H$8:$H$705,Maestros!$D$4:$E$21,2,0)),\"\",VLOOKUP(Egresados!$H$8:$H$705,Maestros!$D$4:$E$21,2,0))","v":"1121"},{"$f":"IF(OR(UPPER(Egresados!$J$8:$J$705)=\"SI\",UPPER(Egresados!$J$8:$J$705)=\"SÍ\"),1,IF(UPPER(Egresados!$J$8:$J$705)=\"NO\",0,\"\"))","v":0},{"$f":"IF(OR(UPPER(Egresados!$R$8:$R$705)=\"SI\",UPPER(Egresados!$R$8:$R$705)=\"SÍ\"),1,IF(UPPER(Egresados!$R$8:$R$705)=\"NO\",0,\"\"))","v":""},{"$f":"IF(OR(UPPER(Egresados!$S$8:$S$705)=\"SI\",UPPER(Egresados!$S$8:$S$705)=\"SÍ\"),1,IF(UPPER(Egresados!$S$8:$S$705)=\"NO\",0,\"\"))","v":""},{"$f":"IF(ISERROR(VLOOKUP(Egresados!$T$8:$T$705,Maestros!$S$31:$T$530,2,0)),\"\",VLOOKUP(Egresados!$T$8:$T$705,Maestros!$S$31:$T$530,2,0))","v":"62"},{"$f":"IF(ISERROR(VLOOKUP(U153,Maestros!$S$31:$T$530,2,0)),\"\",VLOOKUP(U153,Maestros!$S$31:$T$530,2,0))","v":"62"},{"$f":"IF(ISERROR(VLOOKUP(Egresados!$K$8:$K$705,Maestros!$A$31:$B$130,2,0)),\"\",VLOOKUP(Egresados!$K$8:$K$705,Maestros!$A$31:$B$130,2,0))","v":""},{"$f":"IF(LEN(tablaEgresados[[#This Row],[Nota promedio]])>0,ROUND(tablaEgresados[[#This Row],[Nota promedio]],2),\"\")","v":16.09}]
[146,null,"DNI","72391637","MONTOYA","PORTOCARRERO","MIRIAM ELISA","FEMENINO",null,"NO",null,null,null,"2020-1","SEDE CENTRAL","CIENCIAS SOCIALES-PSICOLOGIA",14.8,null,null,"2015-1","2015-1","20150515@une.edu.pe","greenmi.e_3502@hotmail.com",3133700,"992091854",{"$f":"IF(ISERROR(VLOOKUP(Egresados!$N$8:$N$705,Maestros!$D$31:$E$530,2,0)),\"\",VLOOKUP(Egresados!$N$8:$N$705,Maestros!$D$31:$E$530,2,0))","v":"223"},{"$f":"IF(ISERROR(VLOOKUP(Egresados!$O154,Maestros!$G$31:$J$1030,2,0)),\"\",VLOOKUP(Egresados!$O154,Maestros!$G$31:$J$1030,2,0))","v":"8"},{"$f":"CONCATENATE(Egresados!$Z$8:$Z$705,\"a\",Egresados!$AA$8:$AA$705)","v":"223a8"},{"$f":"IF(ISERROR(VLOOKUP(Egresados!$P154,Maestros!$L$31:$Q$1030,2,0)),\"\",VLOOKUP(Egresados!$P154,Maestros!$L$31:$Q$1030,2,0))","v":"329"},{"$f":"CONCATENATE(Egresados!$Z$8:$Z$705,\"a\",Egresados!$AA$8:$AA$705,\"a\",Egresados!$AC$8:$AC$705)","v":"223a8a329"},{"$f":"IF(ISERROR(VLOOKUP(Egresados!$C$8:$C$705,Maestros!$A$4:$B$21,2,0)),\"\",VLOOKUP(Egresados!$C$8:$C$705,Maestros!$A$4:$B$21,2,0))","v":"1001"},{"$f":"IF(ISERROR(VLOOKUP(Egresados!$H$8:$H$705,Maestros!$D$4:$E$21,2,0)),\"\",VLOOKUP(Egresados!$H$8:$H$705,Maestros!$D$4:$E$21,2,0))","v":"1122"},{"$f":"IF(OR(UPPER(Egresados!$J$8:$J$705)=\"SI\",UPPER(Egresados!$J$8:$J$705)=\"SÍ\"),1,IF(UPPER(Egresados!$J$8:$J$705)=\"NO\",0,\"\"))","v":0},{"$f":"IF(OR(UPPER(Egresados!$R$8:$R$705)=\"SI\",UPPER(Egresados!$R$8:$R$705)=\"SÍ\"),1,IF(UPPER(Egresados!$R$8:$R$705)=\"NO\",0,\"\"))","v":""},{"$f":"IF(OR(UPPER(Egresados!$S$8:$S$705)=\"SI\",UPPER(Egresados!$S$8:$S$705)=\"SÍ\"),1,IF(UPPER(Egresados!$S$8:$S$705)=\"NO\",0,\"\"))","v":""},{"$f":"IF(ISERROR(VLOOKUP(Egresados!$T$8:$T$705,Maestros!$S$31:$T$530,2,0)),\"\",VLOOKUP(Egresados!$T$8:$T$705,Maestros!$S$31:$T$530,2,0))","v":"62"},{"$f":"IF(ISERROR(VLOOKUP(U154,Maestros!$S$31:$T$530,2,0)),\"\",VLOOKUP(U154,Maestros!$S$31:$T$530,2,0))","v":"62"},{"$f":"IF(ISERROR(VLOOKUP(Egresados!$K$8:$K$705,Maestros!$A$31:$B$130,2,0)),\"\",VLOOKUP(Egresados!$K$8:$K$705,Maestros!$A$31:$B$130,2,0))","v":""},{"$f":"IF(LEN(tablaEgresados[[#This Row],[Nota promedio]])>0,ROUND(tablaEgresados[[#This Row],[Nota promedio]],2),\"\")","v":14.8}]
[147,null,"DNI",43776707,"PADILLA","GONZALES","SONIA","FEMENINO",null,"NO",null,null,null,"2020-1","SEDE CENTRAL","CIENCIAS SOCIALES-PSICOLOGIA",16.05,null,null,"2011-1","2011-1","20110271@une.edu.pe","20110271@une.edu.pe",3133700,976486001,{"$f":"IF(ISERROR(VLOOKUP(Egresados!$N$8:$N$705,Maestros!$D$31:$E$530,2,0)),\"\",VLOOKUP(Egresados!$N$8:$N$705,Maestros!$D$31:$E$530,2,0))","v":"223"},{"$f":"IF(ISERROR(VLOOKUP(Egresados!$O155,Maestros!$G$31:$J$1030,2,0)),\"\",VLOOKUP(Egresados!$O155,Maestros!$G$31:$J$1030,2,0))","v":"8"},{"$f":"CONCATENATE(Egresados!$Z$8:$Z$705,\"a\",Egresados!$AA$8:$AA$705)","v":"223a8"},{"$f":"IF(ISERROR(VLOOKUP(Egresados!$P155,Maestros!$L$31:$Q$1030,2,0)),\"\",VLOOKUP(Egresados!$P155,Maestros!$L$31:$Q$1030,2,0))","v":"329"},{"$f":"CONCATENATE(Egresados!$Z$8:$Z$705,\"a\",Egresados!$AA$8:$AA$705,\"a\",Egresados!$AC$8:$AC$705)","v":"223a8a329"},{"$f":"IF(ISERROR(VLOOKUP(Egresados!$C$8:$C$705,Maestros!$A$4:$B$21,2,0)),\"\",VLOOKUP(Egresados!$C$8:$C$705,Maestros!$A$4:$B$21,2,0))","v":"1001"},{"$f":"IF(ISERROR(VLOOKUP(Egresados!$H$8:$H$705,Maestros!$D$4:$E$21,2,0)),\"\",VLOOKUP(Egresados!$H$8:$H$705,Maestros!$D$4:$E$21,2,0))","v":"1122"},{"$f":"IF(OR(UPPER(Egresados!$J$8:$J$705)=\"SI\",UPPER(Egresados!$J$8:$J$705)=\"SÍ\"),1,IF(UPPER(Egresados!$J$8:$J$705)=\"NO\",0,\"\"))","v":0},{"$f":"IF(OR(UPPER(Egresados!$R$8:$R$705)=\"SI\",UPPER(Egresados!$R$8:$R$705)=\"SÍ\"),1,IF(UPPER(Egresados!$R$8:$R$705)=\"NO\",0,\"\"))","v":""},{"$f":"IF(OR(UPPER(Egresados!$S$8:$S$705)=\"SI\",UPPER(Egresados!$S$8:$S$705)=\"SÍ\"),1,IF(UPPER(Egresados!$S$8:$S$705)=\"NO\",0,\"\"))","v":""},{"$f":"IF(ISERROR(VLOOKUP(Egresados!$T$8:$T$705,Maestros!$S$31:$T$530,2,0)),\"\",VLOOKUP(Egresados!$T$8:$T$705,Maestros!$S$31:$T$530,2,0))","v":"46"},{"$f":"IF(ISERROR(VLOOKUP(U155,Maestros!$S$31:$T$530,2,0)),\"\",VLOOKUP(U155,Maestros!$S$31:$T$530,2,0))","v":"46"},{"$f":"IF(ISERROR(VLOOKUP(Egresados!$K$8:$K$705,Maestros!$A$31:$B$130,2,0)),\"\",VLOOKUP(Egresados!$K$8:$K$705,Maestros!$A$31:$B$130,2,0))","v":""},{"$f":"IF(LEN(tablaEgresados[[#This Row],[Nota promedio]])>0,ROUND(tablaEgresados[[#This Row],[Nota promedio]],2),\"\")","v":16.05}]
[148,null,"DNI","48668733","BARRENA","CIEZA","NELVER","MASCULINO",null,"NO",null,null,null,"2020-1","SEDE CENTRAL","CONSTRUCCION CIVIL",14.56,null,null,"2014-1","2014-1","20141342@une.edu.pe","barrena1995@gmail.com",3133700,"947052064",{"$f":"IF(ISERROR(VLOOKUP(Egresados!$N$8:$N$705,Maestros!$D$31:$E$530,2,0)),\"\",VLOOKUP(Egresados!$N$8:$N$705,Maestros!$D$31:$E$530,2,0))","v":"223"},{"$f":"IF(ISERROR(VLOOKUP(Egresados!$O156,Maestros!$G$31:$J$1030,2,0)),\"\",VLOOKUP(Egresados!$O156,Maestros!$G$31:$J$1030,2,0))","v":"8"},{"$f":"CONCATENATE(Egresados!$Z$8:$Z$705,\"a\",Egresados!$AA$8:$AA$705)","v":"223a8"},{"$f":"IF(ISERROR(VLOOKUP(Egresados!$P156,Maestros!$L$31:$Q$1030,2,0)),\"\",VLOOKUP(Egresados!$P156,Maestros!$L$31:$Q$1030,2,0))","v":"314"},{"$f":"CONCATENATE(Egresados!$Z$8:$Z$705,\"a\",Egresados!$AA$8:$AA$705,\"a\",Egresados!$AC$8:$AC$705)","v":"223a8a314"},{"$f":"IF(ISERROR(VLOOKUP(Egresados!$C$8:$C$705,Maestros!$A$4:$B$21,2,0)),\"\",VLOOKUP(Egresados!$C$8:$C$705,Maestros!$A$4:$B$21,2,0))","v":"1001"},{"$f":"IF(ISERROR(VLOOKUP(Egresados!$H$8:$H$705,Maestros!$D$4:$E$21,2,0)),\"\",VLOOKUP(Egresados!$H$8:$H$705,Maestros!$D$4:$E$21,2,0))","v":"1121"},{"$f":"IF(OR(UPPER(Egresados!$J$8:$J$705)=\"SI\",UPPER(Egresados!$J$8:$J$705)=\"SÍ\"),1,IF(UPPER(Egresados!$J$8:$J$705)=\"NO\",0,\"\"))","v":0},{"$f":"IF(OR(UPPER(Egresados!$R$8:$R$705)=\"SI\",UPPER(Egresados!$R$8:$R$705)=\"SÍ\"),1,IF(UPPER(Egresados!$R$8:$R$705)=\"NO\",0,\"\"))","v":""},{"$f":"IF(OR(UPPER(Egresados!$S$8:$S$705)=\"SI\",UPPER(Egresados!$S$8:$S$705)=\"SÍ\"),1,IF(UPPER(Egresados!$S$8:$S$705)=\"NO\",0,\"\"))","v":""},{"$f":"IF(ISERROR(VLOOKUP(Egresados!$T$8:$T$705,Maestros!$S$31:$T$530,2,0)),\"\",VLOOKUP(Egresados!$T$8:$T$705,Maestros!$S$31:$T$530,2,0))","v":"58"},{"$f":"IF(ISERROR(VLOOKUP(U156,Maestros!$S$31:$T$530,2,0)),\"\",VLOOKUP(U156,Maestros!$S$31:$T$530,2,0))","v":"58"},{"$f":"IF(ISERROR(VLOOKUP(Egresados!$K$8:$K$705,Maestros!$A$31:$B$130,2,0)),\"\",VLOOKUP(Egresados!$K$8:$K$705,Maestros!$A$31:$B$130,2,0))","v":""},{"$f":"IF(LEN(tablaEgresados[[#This Row],[Nota promedio]])>0,ROUND(tablaEgresados[[#This Row],[Nota promedio]],2),\"\")","v":14.56}]
[149,null,"DNI","74546868","CRUZ","HUILLCA","LYZ FIORELA","FEMENINO",null,"NO",null,null,null,"2020-1","SEDE CENTRAL","CONSTRUCCION CIVIL",13.96,null,null,"2014-1","2014-1","20141107@une.edu.pe","fiorelacruzhuillca@gmail.com",3133700,"996531740",{"$f":"IF(ISERROR(VLOOKUP(Egresados!$N$8:$N$705,Maestros!$D$31:$E$530,2,0)),\"\",VLOOKUP(Egresados!$N$8:$N$705,Maestros!$D$31:$E$530,2,0))","v":"223"},{"$f":"IF(ISERROR(VLOOKUP(Egresados!$O157,Maestros!$G$31:$J$1030,2,0)),\"\",VLOOKUP(Egresados!$O157,Maestros!$G$31:$J$1030,2,0))","v":"8"},{"$f":"CONCATENATE(Egresados!$Z$8:$Z$705,\"a\",Egresados!$AA$8:$AA$705)","v":"223a8"},{"$f":"IF(ISERROR(VLOOKUP(Egresados!$P157,Maestros!$L$31:$Q$1030,2,0)),\"\",VLOOKUP(Egresados!$P157,Maestros!$L$31:$Q$1030,2,0))","v":"314"},{"$f":"CONCATENATE(Egresados!$Z$8:$Z$705,\"a\",Egresados!$AA$8:$AA$705,\"a\",Egresados!$AC$8:$AC$705)","v":"223a8a314"},{"$f":"IF(ISERROR(VLOOKUP(Egresados!$C$8:$C$705,Maestros!$A$4:$B$21,2,0)),\"\",VLOOKUP(Egresados!$C$8:$C$705,Maestros!$A$4:$B$21,2,0))","v":"1001"},{"$f":"IF(ISERROR(VLOOKUP(Egresados!$H$8:$H$705,Maestros!$D$4:$E$21,2,0)),\"\",VLOOKUP(Egresados!$H$8:$H$705,Maestros!$D$4:$E$21,2,0))","v":"1122"},{"$f":"IF(OR(UPPER(Egresados!$J$8:$J$705)=\"SI\",UPPER(Egresados!$J$8:$J$705)=\"SÍ\"),1,IF(UPPER(Egresados!$J$8:$J$705)=\"NO\",0,\"\"))","v":0},{"$f":"IF(OR(UPPER(Egresados!$R$8:$R$705)=\"SI\",UPPER(Egresados!$R$8:$R$705)=\"SÍ\"),1,IF(UPPER(Egresados!$R$8:$R$705)=\"NO\",0,\"\"))","v":""},{"$f":"IF(OR(UPPER(Egresados!$S$8:$S$705)=\"SI\",UPPER(Egresados!$S$8:$S$705)=\"SÍ\"),1,IF(UPPER(Egresados!$S$8:$S$705)=\"NO\",0,\"\"))","v":""},{"$f":"IF(ISERROR(VLOOKUP(Egresados!$T$8:$T$705,Maestros!$S$31:$T$530,2,0)),\"\",VLOOKUP(Egresados!$T$8:$T$705,Maestros!$S$31:$T$530,2,0))","v":"58"},{"$f":"IF(ISERROR(VLOOKUP(U157,Maestros!$S$31:$T$530,2,0)),\"\",VLOOKUP(U157,Maestros!$S$31:$T$530,2,0))","v":"58"},{"$f":"IF(ISERROR(VLOOKUP(Egresados!$K$8:$K$705,Maestros!$A$31:$B$130,2,0)),\"\",VLOOKUP(Egresados!$K$8:$K$705,Maestros!$A$31:$B$130,2,0))","v":""},{"$f":"IF(LEN(tablaEgresados[[#This Row],[Nota promedio]])>0,ROUND(tablaEgresados[[#This Row],[Nota promedio]],2),\"\")","v":13.96}]
[150,null,"DNI","70075017","VENTURA","LUIS","JOSUE SANTOS","MASCULINO",null,"NO",null,null,null,"2020-1","SEDE CENTRAL","CONSTRUCCION CIVIL",13.44,null,null,"2011-1","2011-1","20110630@une.edu.pe","EzjosueUnico.3@gmail.com",3133700,"931105707",{"$f":"IF(ISERROR(VLOOKUP(Egresados!$N$8:$N$705,Maestros!$D$31:$E$530,2,0)),\"\",VLOOKUP(Egresados!$N$8:$N$705,Maestros!$D$31:$E$530,2,0))","v":"223"},{"$f":"IF(ISERROR(VLOOKUP(Egresados!$O158,Maestros!$G$31:$J$1030,2,0)),\"\",VLOOKUP(Egresados!$O158,Maestros!$G$31:$J$1030,2,0))","v":"8"},{"$f":"CONCATENATE(Egresados!$Z$8:$Z$705,\"a\",Egresados!$AA$8:$AA$705)","v":"223a8"},{"$f":"IF(ISERROR(VLOOKUP(Egresados!$P158,Maestros!$L$31:$Q$1030,2,0)),\"\",VLOOKUP(Egresados!$P158,Maestros!$L$31:$Q$1030,2,0))","v":"314"},{"$f":"CONCATENATE(Egresados!$Z$8:$Z$705,\"a\",Egresados!$AA$8:$AA$705,\"a\",Egresados!$AC$8:$AC$705)","v":"223a8a314"},{"$f":"IF(ISERROR(VLOOKUP(Egresados!$C$8:$C$705,Maestros!$A$4:$B$21,2,0)),\"\",VLOOKUP(Egresados!$C$8:$C$705,Maestros!$A$4:$B$21,2,0))","v":"1001"},{"$f":"IF(ISERROR(VLOOKUP(Egresados!$H$8:$H$705,Maestros!$D$4:$E$21,2,0)),\"\",VLOOKUP(Egresados!$H$8:$H$705,Maestros!$D$4:$E$21,2,0))","v":"1121"},{"$f":"IF(OR(UPPER(Egresados!$J$8:$J$705)=\"SI\",UPPER(Egresados!$J$8:$J$705)=\"SÍ\"),1,IF(UPPER(Egresados!$J$8:$J$705)=\"NO\",0,\"\"))","v":0},{"$f":"IF(OR(UPPER(Egresados!$R$8:$R$705)=\"SI\",UPPER(Egresados!$R$8:$R$705)=\"SÍ\"),1,IF(UPPER(Egresados!$R$8:$R$705)=\"NO\",0,\"\"))","v":""},{"$f":"IF(OR(UPPER(Egresados!$S$8:$S$705)=\"SI\",UPPER(Egresados!$S$8:$S$705)=\"SÍ\"),1,IF(UPPER(Egresados!$S$8:$S$705)=\"NO\",0,\"\"))","v":""},{"$f":"IF(ISERROR(VLOOKUP(Egresados!$T$8:$T$705,Maestros!$S$31:$T$530,2,0)),\"\",VLOOKUP(Egresados!$T$8:$T$705,Maestros!$S$31:$T$530,2,0))","v":"46"},{"$f":"IF(ISERROR(VLOOKUP(U158,Maestros!$S$31:$T$530,2,0)),\"\",VLOOKUP(U158,Maestros!$S$31:$T$530,2,0))","v":"46"},{"$f":"IF(ISERROR(VLOOKUP(Egresados!$K$8:$K$705,Maestros!$A$31:$B$130,2,0)),\"\",VLOOKUP(Egresados!$K$8:$K$705,Maestros!$A$31:$B$130,2,0))","v":""},{"$f":"IF(LEN(tablaEgresados[[#This Row],[Nota promedio]])>0,ROUND(tablaEgresados[[#This Row],[Nota promedio]],2),\"\")","v":13.44}]
[151,null,"DNI","70821992","SAUÑE","DAVALOS","JOHN STIVEN","MASCULINO",null,"NO",null,null,null,"2020-1","SEDE CENTRAL","CONSTRUCCION CIVIL",16.18,null,null,"2015-1","2015-1","20150845@une.edu.pe","stivi_aleman@hotmail.com",3133700,"956331241",{"$f":"IF(ISERROR(VLOOKUP(Egresados!$N$8:$N$705,Maestros!$D$31:$E$530,2,0)),\"\",VLOOKUP(Egresados!$N$8:$N$705,Maestros!$D$31:$E$530,2,0))","v":"223"},{"$f":"IF(ISERROR(VLOOKUP(Egresados!$O159,Maestros!$G$31:$J$1030,2,0)),\"\",VLOOKUP(Egresados!$O159,Maestros!$G$31:$J$1030,2,0))","v":"8"},{"$f":"CONCATENATE(Egresados!$Z$8:$Z$705,\"a\",Egresados!$AA$8:$AA$705)","v":"223a8"},{"$f":"IF(ISERROR(VLOOKUP(Egresados!$P159,Maestros!$L$31:$Q$1030,2,0)),\"\",VLOOKUP(Egresados!$P159,Maestros!$L$31:$Q$1030,2,0))","v":"314"},{"$f":"CONCATENATE(Egresados!$Z$8:$Z$705,\"a\",Egresados!$AA$8:$AA$705,\"a\",Egresados!$AC$8:$AC$705)","v":"223a8a314"},{"$f":"IF(ISERROR(VLOOKUP(Egresados!$C$8:$C$705,Maestros!$A$4:$B$21,2,0)),\"\",VLOOKUP(Egresados!$C$8:$C$705,Maestros!$A$4:$B$21,2,0))","v":"1001"},{"$f":"IF(ISERROR(VLOOKUP(Egresados!$H$8:$H$705,Maestros!$D$4:$E$21,2,0)),\"\",VLOOKUP(Egresados!$H$8:$H$705,Maestros!$D$4:$E$21,2,0))","v":"1121"},{"$f":"IF(OR(UPPER(Egresados!$J$8:$J$705)=\"SI\",UPPER(Egresados!$J$8:$J$705)=\"SÍ\"),1,IF(UPPER(Egresados!$J$8:$J$705)=\"NO\",0,\"\"))","v":0},{"$f":"IF(OR(UPPER(Egresados!$R$8:$R$705)=\"SI\",UPPER(Egresados!$R$8:$R$705)=\"SÍ\"),1,IF(UPPER(Egresados!$R$8:$R$705)=\"NO\",0,\"\"))","v":""},{"$f":"IF(OR(UPPER(Egresados!$S$8:$S$705)=\"SI\",UPPER(Egresados!$S$8:$S$705)=\"SÍ\"),1,IF(UPPER(Egresados!$S$8:$S$705)=\"NO\",0,\"\"))","v":""},{"$f":"IF(ISERROR(VLOOKUP(Egresados!$T$8:$T$705,Maestros!$S$31:$T$530,2,0)),\"\",VLOOKUP(Egresados!$T$8:$T$705,Maestros!$S$31:$T$530,2,0))","v":"62"},{"$f":"IF(ISERROR(VLOOKUP(U159,Maestros!$S$31:$T$530,2,0)),\"\",VLOOKUP(U159,Maestros!$S$31:$T$530,2,0))","v":"62"},{"$f":"IF(ISERROR(VLOOKUP(Egresados!$K$8:$K$705,Maestros!$A$31:$B$130,2,0)),\"\",VLOOKUP(Egresados!$K$8:$K$705,Maestros!$A$31:$B$130,2,0))","v":""},{"$f":"IF(LEN(tablaEgresados[[#This Row],[Nota promedio]])>0,ROUND(tablaEgresados[[#This Row],[Nota promedio]],2),\"\")","v":16.18}]
[152,null,"DNI","47269809","TORRES","NAVARRO","ALVEAR","MASCULINO",null,"NO",null,null,null,"2020-1","SEDE CENTRAL","CONSTRUCCION CIVIL",13.4,null,null,"2015-1","2015-1","20150848@une.edu.pe","alberschino16@gmail.com",3133700,"963245206",{"$f":"IF(ISERROR(VLOOKUP(Egresados!$N$8:$N$705,Maestros!$D$31:$E$530,2,0)),\"\",VLOOKUP(Egresados!$N$8:$N$705,Maestros!$D$31:$E$530,2,0))","v":"223"},{"$f":"IF(ISERROR(VLOOKUP(Egresados!$O160,Maestros!$G$31:$J$1030,2,0)),\"\",VLOOKUP(Egresados!$O160,Maestros!$G$31:$J$1030,2,0))","v":"8"},{"$f":"CONCATENATE(Egresados!$Z$8:$Z$705,\"a\",Egresados!$AA$8:$AA$705)","v":"223a8"},{"$f":"IF(ISERROR(VLOOKUP(Egresados!$P160,Maestros!$L$31:$Q$1030,2,0)),\"\",VLOOKUP(Egresados!$P160,Maestros!$L$31:$Q$1030,2,0))","v":"314"},{"$f":"CONCATENATE(Egresados!$Z$8:$Z$705,\"a\",Egresados!$AA$8:$AA$705,\"a\",Egresados!$AC$8:$AC$705)","v":"223a8a314"},{"$f":"IF(ISERROR(VLOOKUP(Egresados!$C$8:$C$705,Maestros!$A$4:$B$21,2,0)),\"\",VLOOKUP(Egresados!$C$8:$C$705,Maestros!$A$4:$B$21,2,0))","v":"1001"},{"$f":"IF(ISERROR(VLOOKUP(Egresados!$H$8:$H$705,Maestros!$D$4:$E$21,2,0)),\"\",VLOOKUP(Egresados!$H$8:$H$705,Maestros!$D$4:$E$21,2,0))","v":"1121"},{"$f":"IF(OR(UPPER(Egresados!$J$8:$J$705)=\"SI\",UPPER(Egresados!$J$8:$J$705)=\"SÍ\"),1,IF(UPPER(Egresados!$J$8:$J$705)=\"NO\",0,\"\"))","v":0},{"$f":"IF(OR(UPPER(Egresados!$R$8:$R$705)=\"SI\",UPPER(Egresados!$R$8:$R$705)=\"SÍ\"),1,IF(UPPER(Egresados!$R$8:$R$705)=\"NO\",0,\"\"))","v":""},{"$f":"IF(OR(UPPER(Egresados!$S$8:$S$705)=\"SI\",UPPER(Egresados!$S$8:$S$705)=\"SÍ\"),1,IF(UPPER(Egresados!$S$8:$S$705)=\"NO\",0,\"\"))","v":""},{"$f":"IF(ISERROR(VLOOKUP(Egresados!$T$8:$T$705,Maestros!$S$31:$T$530,2,0)),\"\",VLOOKUP(Egresados!$T$8:$T$705,Maestros!$S$31:$T$530,2,0))","v":"62"},{"$f":"IF(ISERROR(VLOOKUP(U160,Maestros!$S$31:$T$530,2,0)),\"\",VLOOKUP(U160,Maestros!$S$31:$T$530,2,0))","v":"62"},{"$f":"IF(ISERROR(VLOOKUP(Egresados!$K$8:$K$705,Maestros!$A$31:$B$130,2,0)),\"\",VLOOKUP(Egresados!$K$8:$K$705,Maestros!$A$31:$B$130,2,0))","v":""},{"$f":"IF(LEN(tablaEgresados[[#This Row],[Nota promedio]])>0,ROUND(tablaEgresados[[#This Row],[Nota promedio]],2),\"\")","v":13.4}]
[153,null,"DNI","70335517","GONZALES","LOZA","MICHAEL JUNNIOR","MASCULINO",null,"NO",null,null,null,"2020-1","SEDE CENTRAL","CONSTRUCCIONES METALICAS",13.95,null,null,"2015-1","2015-1","20150770@une.edu.pe","zecreat227@gmail.com",3133700,"957240953",{"$f":"IF(ISERROR(VLOOKUP(Egresados!$N$8:$N$705,Maestros!$D$31:$E$530,2,0)),\"\",VLOOKUP(Egresados!$N$8:$N$705,Maestros!$D$31:$E$530,2,0))","v":"223"},{"$f":"IF(ISERROR(VLOOKUP(Egresados!$O161,Maestros!$G$31:$J$1030,2,0)),\"\",VLOOKUP(Egresados!$O161,Maestros!$G$31:$J$1030,2,0))","v":"8"},{"$f":"CONCATENATE(Egresados!$Z$8:$Z$705,\"a\",Egresados!$AA$8:$AA$705)","v":"223a8"},{"$f":"IF(ISERROR(VLOOKUP(Egresados!$P161,Maestros!$L$31:$Q$1030,2,0)),\"\",VLOOKUP(Egresados!$P161,Maestros!$L$31:$Q$1030,2,0))","v":"310"},{"$f":"CONCATENATE(Egresados!$Z$8:$Z$705,\"a\",Egresados!$AA$8:$AA$705,\"a\",Egresados!$AC$8:$AC$705)","v":"223a8a310"},{"$f":"IF(ISERROR(VLOOKUP(Egresados!$C$8:$C$705,Maestros!$A$4:$B$21,2,0)),\"\",VLOOKUP(Egresados!$C$8:$C$705,Maestros!$A$4:$B$21,2,0))","v":"1001"},{"$f":"IF(ISERROR(VLOOKUP(Egresados!$H$8:$H$705,Maestros!$D$4:$E$21,2,0)),\"\",VLOOKUP(Egresados!$H$8:$H$705,Maestros!$D$4:$E$21,2,0))","v":"1121"},{"$f":"IF(OR(UPPER(Egresados!$J$8:$J$705)=\"SI\",UPPER(Egresados!$J$8:$J$705)=\"SÍ\"),1,IF(UPPER(Egresados!$J$8:$J$705)=\"NO\",0,\"\"))","v":0},{"$f":"IF(OR(UPPER(Egresados!$R$8:$R$705)=\"SI\",UPPER(Egresados!$R$8:$R$705)=\"SÍ\"),1,IF(UPPER(Egresados!$R$8:$R$705)=\"NO\",0,\"\"))","v":""},{"$f":"IF(OR(UPPER(Egresados!$S$8:$S$705)=\"SI\",UPPER(Egresados!$S$8:$S$705)=\"SÍ\"),1,IF(UPPER(Egresados!$S$8:$S$705)=\"NO\",0,\"\"))","v":""},{"$f":"IF(ISERROR(VLOOKUP(Egresados!$T$8:$T$705,Maestros!$S$31:$T$530,2,0)),\"\",VLOOKUP(Egresados!$T$8:$T$705,Maestros!$S$31:$T$530,2,0))","v":"62"},{"$f":"IF(ISERROR(VLOOKUP(U161,Maestros!$S$31:$T$530,2,0)),\"\",VLOOKUP(U161,Maestros!$S$31:$T$530,2,0))","v":"62"},{"$f":"IF(ISERROR(VLOOKUP(Egresados!$K$8:$K$705,Maestros!$A$31:$B$130,2,0)),\"\",VLOOKUP(Egresados!$K$8:$K$705,Maestros!$A$31:$B$130,2,0))","v":""},{"$f":"IF(LEN(tablaEgresados[[#This Row],[Nota promedio]])>0,ROUND(tablaEgresados[[#This Row],[Nota promedio]],2),\"\")","v":13.95}]
[154,null,"DNI","70273834","BARLETTI","HURTADO","JESUS ANGEL","MASCULINO",null,"NO",null,null,null,"2020-1","SEDE CENTRAL","CONSTRUCCIONES METALICAS",14.52,null,null,"2015-1","2015-1","20150762@une.edu.pe","flor77_2000@yahoo.com",3133700,"941122316",{"$f":"IF(ISERROR(VLOOKUP(Egresados!$N$8:$N$705,Maestros!$D$31:$E$530,2,0)),\"\",VLOOKUP(Egresados!$N$8:$N$705,Maestros!$D$31:$E$530,2,0))","v":"223"},{"$f":"IF(ISERROR(VLOOKUP(Egresados!$O162,Maestros!$G$31:$J$1030,2,0)),\"\",VLOOKUP(Egresados!$O162,Maestros!$G$31:$J$1030,2,0))","v":"8"},{"$f":"CONCATENATE(Egresados!$Z$8:$Z$705,\"a\",Egresados!$AA$8:$AA$705)","v":"223a8"},{"$f":"IF(ISERROR(VLOOKUP(Egresados!$P162,Maestros!$L$31:$Q$1030,2,0)),\"\",VLOOKUP(Egresados!$P162,Maestros!$L$31:$Q$1030,2,0))","v":"310"},{"$f":"CONCATENATE(Egresados!$Z$8:$Z$705,\"a\",Egresados!$AA$8:$AA$705,\"a\",Egresados!$AC$8:$AC$705)","v":"223a8a310"},{"$f":"IF(ISERROR(VLOOKUP(Egresados!$C$8:$C$705,Maestros!$A$4:$B$21,2,0)),\"\",VLOOKUP(Egresados!$C$8:$C$705,Maestros!$A$4:$B$21,2,0))","v":"1001"},{"$f":"IF(ISERROR(VLOOKUP(Egresados!$H$8:$H$705,Maestros!$D$4:$E$21,2,0)),\"\",VLOOKUP(Egresados!$H$8:$H$705,Maestros!$D$4:$E$21,2,0))","v":"1121"},{"$f":"IF(OR(UPPER(Egresados!$J$8:$J$705)=\"SI\",UPPER(Egresados!$J$8:$J$705)=\"SÍ\"),1,IF(UPPER(Egresados!$J$8:$J$705)=\"NO\",0,\"\"))","v":0},{"$f":"IF(OR(UPPER(Egresados!$R$8:$R$705)=\"SI\",UPPER(Egresados!$R$8:$R$705)=\"SÍ\"),1,IF(UPPER(Egresados!$R$8:$R$705)=\"NO\",0,\"\"))","v":""},{"$f":"IF(OR(UPPER(Egresados!$S$8:$S$705)=\"SI\",UPPER(Egresados!$S$8:$S$705)=\"SÍ\"),1,IF(UPPER(Egresados!$S$8:$S$705)=\"NO\",0,\"\"))","v":""},{"$f":"IF(ISERROR(VLOOKUP(Egresados!$T$8:$T$705,Maestros!$S$31:$T$530,2,0)),\"\",VLOOKUP(Egresados!$T$8:$T$705,Maestros!$S$31:$T$530,2,0))","v":"62"},{"$f":"IF(ISERROR(VLOOKUP(U162,Maestros!$S$31:$T$530,2,0)),\"\",VLOOKUP(U162,Maestros!$S$31:$T$530,2,0))","v":"62"},{"$f":"IF(ISERROR(VLOOKUP(Egresados!$K$8:$K$705,Maestros!$A$31:$B$130,2,0)),\"\",VLOOKUP(Egresados!$K$8:$K$705,Maestros!$A$31:$B$130,2,0))","v":""},{"$f":"IF(LEN(tablaEgresados[[#This Row],[Nota promedio]])>0,ROUND(tablaEgresados[[#This Row],[Nota promedio]],2),\"\")","v":14.52}]
[155,null,"DNI","74299492","ISIDRO","DELGADO","WILLIAMS SMITH","MASCULINO",null,"NO",null,null,null,"2020-1","SEDE CENTRAL","CONSTRUCCIONES METALICAS",14.64,null,null,"2015-1","2015-1","20150772@une.edu.pe","isidro.vvt@gmail.com",3133700,"981879728",{"$f":"IF(ISERROR(VLOOKUP(Egresados!$N$8:$N$705,Maestros!$D$31:$E$530,2,0)),\"\",VLOOKUP(Egresados!$N$8:$N$705,Maestros!$D$31:$E$530,2,0))","v":"223"},{"$f":"IF(ISERROR(VLOOKUP(Egresados!$O163,Maestros!$G$31:$J$1030,2,0)),\"\",VLOOKUP(Egresados!$O163,Maestros!$G$31:$J$1030,2,0))","v":"8"},{"$f":"CONCATENATE(Egresados!$Z$8:$Z$705,\"a\",Egresados!$AA$8:$AA$705)","v":"223a8"},{"$f":"IF(ISERROR(VLOOKUP(Egresados!$P163,Maestros!$L$31:$Q$1030,2,0)),\"\",VLOOKUP(Egresados!$P163,Maestros!$L$31:$Q$1030,2,0))","v":"310"},{"$f":"CONCATENATE(Egresados!$Z$8:$Z$705,\"a\",Egresados!$AA$8:$AA$705,\"a\",Egresados!$AC$8:$AC$705)","v":"223a8a310"},{"$f":"IF(ISERROR(VLOOKUP(Egresados!$C$8:$C$705,Maestros!$A$4:$B$21,2,0)),\"\",VLOOKUP(Egresados!$C$8:$C$705,Maestros!$A$4:$B$21,2,0))","v":"1001"},{"$f":"IF(ISERROR(VLOOKUP(Egresados!$H$8:$H$705,Maestros!$D$4:$E$21,2,0)),\"\",VLOOKUP(Egresados!$H$8:$H$705,Maestros!$D$4:$E$21,2,0))","v":"1121"},{"$f":"IF(OR(UPPER(Egresados!$J$8:$J$705)=\"SI\",UPPER(Egresados!$J$8:$J$705)=\"SÍ\"),1,IF(UPPER(Egresados!$J$8:$J$705)=\"NO\",0,\"\"))","v":0},{"$f":"IF(OR(UPPER(Egresados!$R$8:$R$705)=\"SI\",UPPER(Egresados!$R$8:$R$705)=\"SÍ\"),1,IF(UPPER(Egresados!$R$8:$R$705)=\"NO\",0,\"\"))","v":""},{"$f":"IF(OR(UPPER(Egresados!$S$8:$S$705)=\"SI\",UPPER(Egresados!$S$8:$S$705)=\"SÍ\"),1,IF(UPPER(Egresados!$S$8:$S$705)=\"NO\",0,\"\"))","v":""},{"$f":"IF(ISERROR(VLOOKUP(Egresados!$T$8:$T$705,Maestros!$S$31:$T$530,2,0)),\"\",VLOOKUP(Egresados!$T$8:$T$705,Maestros!$S$31:$T$530,2,0))","v":"62"},{"$f":"IF(ISERROR(VLOOKUP(U163,Maestros!$S$31:$T$530,2,0)),\"\",VLOOKUP(U163,Maestros!$S$31:$T$530,2,0))","v":"62"},{"$f":"IF(ISERROR(VLOOKUP(Egresados!$K$8:$K$705,Maestros!$A$31:$B$130,2,0)),\"\",VLOOKUP(Egresados!$K$8:$K$705,Maestros!$A$31:$B$130,2,0))","v":""},{"$f":"IF(LEN(tablaEgresados[[#This Row],[Nota promedio]])>0,ROUND(tablaEgresados[[#This Row],[Nota promedio]],2),\"\")","v":14.64}]
[156,null,"DNI","70945489","FONSECA","ZANCA","DIANA ISABEL","FEMENINO",null,"NO",null,null,null,"2020-1","SEDE CENTRAL","DESARROLLO AMBIENTAL",16.170000000000002,null,null,"2015-1","2015-1","20151144@une.edu.pe","charo3106@hotmail.com",3133700,"921875477",{"$f":"IF(ISERROR(VLOOKUP(Egresados!$N$8:$N$705,Maestros!$D$31:$E$530,2,0)),\"\",VLOOKUP(Egresados!$N$8:$N$705,Maestros!$D$31:$E$530,2,0))","v":"223"},{"$f":"IF(ISERROR(VLOOKUP(Egresados!$O164,Maestros!$G$31:$J$1030,2,0)),\"\",VLOOKUP(Egresados!$O164,Maestros!$G$31:$J$1030,2,0))","v":"8"},{"$f":"CONCATENATE(Egresados!$Z$8:$Z$705,\"a\",Egresados!$AA$8:$AA$705)","v":"223a8"},{"$f":"IF(ISERROR(VLOOKUP(Egresados!$P164,Maestros!$L$31:$Q$1030,2,0)),\"\",VLOOKUP(Egresados!$P164,Maestros!$L$31:$Q$1030,2,0))","v":"219"},{"$f":"CONCATENATE(Egresados!$Z$8:$Z$705,\"a\",Egresados!$AA$8:$AA$705,\"a\",Egresados!$AC$8:$AC$705)","v":"223a8a219"},{"$f":"IF(ISERROR(VLOOKUP(Egresados!$C$8:$C$705,Maestros!$A$4:$B$21,2,0)),\"\",VLOOKUP(Egresados!$C$8:$C$705,Maestros!$A$4:$B$21,2,0))","v":"1001"},{"$f":"IF(ISERROR(VLOOKUP(Egresados!$H$8:$H$705,Maestros!$D$4:$E$21,2,0)),\"\",VLOOKUP(Egresados!$H$8:$H$705,Maestros!$D$4:$E$21,2,0))","v":"1122"},{"$f":"IF(OR(UPPER(Egresados!$J$8:$J$705)=\"SI\",UPPER(Egresados!$J$8:$J$705)=\"SÍ\"),1,IF(UPPER(Egresados!$J$8:$J$705)=\"NO\",0,\"\"))","v":0},{"$f":"IF(OR(UPPER(Egresados!$R$8:$R$705)=\"SI\",UPPER(Egresados!$R$8:$R$705)=\"SÍ\"),1,IF(UPPER(Egresados!$R$8:$R$705)=\"NO\",0,\"\"))","v":""},{"$f":"IF(OR(UPPER(Egresados!$S$8:$S$705)=\"SI\",UPPER(Egresados!$S$8:$S$705)=\"SÍ\"),1,IF(UPPER(Egresados!$S$8:$S$705)=\"NO\",0,\"\"))","v":""},{"$f":"IF(ISERROR(VLOOKUP(Egresados!$T$8:$T$705,Maestros!$S$31:$T$530,2,0)),\"\",VLOOKUP(Egresados!$T$8:$T$705,Maestros!$S$31:$T$530,2,0))","v":"62"},{"$f":"IF(ISERROR(VLOOKUP(U164,Maestros!$S$31:$T$530,2,0)),\"\",VLOOKUP(U164,Maestros!$S$31:$T$530,2,0))","v":"62"},{"$f":"IF(ISERROR(VLOOKUP(Egresados!$K$8:$K$705,Maestros!$A$31:$B$130,2,0)),\"\",VLOOKUP(Egresados!$K$8:$K$705,Maestros!$A$31:$B$130,2,0))","v":""},{"$f":"IF(LEN(tablaEgresados[[#This Row],[Nota promedio]])>0,ROUND(tablaEgresados[[#This Row],[Nota promedio]],2),\"\")","v":16.170000000000002}]
[157,null,"DNI","70245165","HUAMANI","CHANCOS","PATRICIA ANTONIA","FEMENINO",null,"NO",null,null,null,"2020-1","SEDE CENTRAL","DESARROLLO AMBIENTAL",15.75,null,null,"2015-1","2015-1","20151146@une.edu.pe","patty19rh@gmail.com",3133700,"926070977",{"$f":"IF(ISERROR(VLOOKUP(Egresados!$N$8:$N$705,Maestros!$D$31:$E$530,2,0)),\"\",VLOOKUP(Egresados!$N$8:$N$705,Maestros!$D$31:$E$530,2,0))","v":"223"},{"$f":"IF(ISERROR(VLOOKUP(Egresados!$O165,Maestros!$G$31:$J$1030,2,0)),\"\",VLOOKUP(Egresados!$O165,Maestros!$G$31:$J$1030,2,0))","v":"8"},{"$f":"CONCATENATE(Egresados!$Z$8:$Z$705,\"a\",Egresados!$AA$8:$AA$705)","v":"223a8"},{"$f":"IF(ISERROR(VLOOKUP(Egresados!$P165,Maestros!$L$31:$Q$1030,2,0)),\"\",VLOOKUP(Egresados!$P165,Maestros!$L$31:$Q$1030,2,0))","v":"219"},{"$f":"CONCATENATE(Egresados!$Z$8:$Z$705,\"a\",Egresados!$AA$8:$AA$705,\"a\",Egresados!$AC$8:$AC$705)","v":"223a8a219"},{"$f":"IF(ISERROR(VLOOKUP(Egresados!$C$8:$C$705,Maestros!$A$4:$B$21,2,0)),\"\",VLOOKUP(Egresados!$C$8:$C$705,Maestros!$A$4:$B$21,2,0))","v":"1001"},{"$f":"IF(ISERROR(VLOOKUP(Egresados!$H$8:$H$705,Maestros!$D$4:$E$21,2,0)),\"\",VLOOKUP(Egresados!$H$8:$H$705,Maestros!$D$4:$E$21,2,0))","v":"1122"},{"$f":"IF(OR(UPPER(Egresados!$J$8:$J$705)=\"SI\",UPPER(Egresados!$J$8:$J$705)=\"SÍ\"),1,IF(UPPER(Egresados!$J$8:$J$705)=\"NO\",0,\"\"))","v":0},{"$f":"IF(OR(UPPER(Egresados!$R$8:$R$705)=\"SI\",UPPER(Egresados!$R$8:$R$705)=\"SÍ\"),1,IF(UPPER(Egresados!$R$8:$R$705)=\"NO\",0,\"\"))","v":""},{"$f":"IF(OR(UPPER(Egresados!$S$8:$S$705)=\"SI\",UPPER(Egresados!$S$8:$S$705)=\"SÍ\"),1,IF(UPPER(Egresados!$S$8:$S$705)=\"NO\",0,\"\"))","v":""},{"$f":"IF(ISERROR(VLOOKUP(Egresados!$T$8:$T$705,Maestros!$S$31:$T$530,2,0)),\"\",VLOOKUP(Egresados!$T$8:$T$705,Maestros!$S$31:$T$530,2,0))","v":"62"},{"$f":"IF(ISERROR(VLOOKUP(U165,Maestros!$S$31:$T$530,2,0)),\"\",VLOOKUP(U165,Maestros!$S$31:$T$530,2,0))","v":"62"},{"$f":"IF(ISERROR(VLOOKUP(Egresados!$K$8:$K$705,Maestros!$A$31:$B$130,2,0)),\"\",VLOOKUP(Egresados!$K$8:$K$705,Maestros!$A$31:$B$130,2,0))","v":""},{"$f":"IF(LEN(tablaEgresados[[#This Row],[Nota promedio]])>0,ROUND(tablaEgresados[[#This Row],[Nota promedio]],2),\"\")","v":15.75}]
[158,null,"DNI","70067378","VILLALOBOS","AYROS","JEFFREY ANGELO","MASCULINO",null,"NO",null,null,null,"2020-1","SEDE CENTRAL","DESARROLLO AMBIENTAL",14.58,null,null,"2015-1","2015-1","20151163@une.edu.pe","sasuke_vs_naruto62@hotmail.com",3133700,976486001,{"$f":"IF(ISERROR(VLOOKUP(Egresados!$N$8:$N$705,Maestros!$D$31:$E$530,2,0)),\"\",VLOOKUP(Egresados!$N$8:$N$705,Maestros!$D$31:$E$530,2,0))","v":"223"},{"$f":"IF(ISERROR(VLOOKUP(Egresados!$O166,Maestros!$G$31:$J$1030,2,0)),\"\",VLOOKUP(Egresados!$O166,Maestros!$G$31:$J$1030,2,0))","v":"8"},{"$f":"CONCATENATE(Egresados!$Z$8:$Z$705,\"a\",Egresados!$AA$8:$AA$705)","v":"223a8"},{"$f":"IF(ISERROR(VLOOKUP(Egresados!$P166,Maestros!$L$31:$Q$1030,2,0)),\"\",VLOOKUP(Egresados!$P166,Maestros!$L$31:$Q$1030,2,0))","v":"219"},{"$f":"CONCATENATE(Egresados!$Z$8:$Z$705,\"a\",Egresados!$AA$8:$AA$705,\"a\",Egresados!$AC$8:$AC$705)","v":"223a8a219"},{"$f":"IF(ISERROR(VLOOKUP(Egresados!$C$8:$C$705,Maestros!$A$4:$B$21,2,0)),\"\",VLOOKUP(Egresados!$C$8:$C$705,Maestros!$A$4:$B$21,2,0))","v":"1001"},{"$f":"IF(ISERROR(VLOOKUP(Egresados!$H$8:$H$705,Maestros!$D$4:$E$21,2,0)),\"\",VLOOKUP(Egresados!$H$8:$H$705,Maestros!$D$4:$E$21,2,0))","v":"1121"},{"$f":"IF(OR(UPPER(Egresados!$J$8:$J$705)=\"SI\",UPPER(Egresados!$J$8:$J$705)=\"SÍ\"),1,IF(UPPER(Egresados!$J$8:$J$705)=\"NO\",0,\"\"))","v":0},{"$f":"IF(OR(UPPER(Egresados!$R$8:$R$705)=\"SI\",UPPER(Egresados!$R$8:$R$705)=\"SÍ\"),1,IF(UPPER(Egresados!$R$8:$R$705)=\"NO\",0,\"\"))","v":""},{"$f":"IF(OR(UPPER(Egresados!$S$8:$S$705)=\"SI\",UPPER(Egresados!$S$8:$S$705)=\"SÍ\"),1,IF(UPPER(Egresados!$S$8:$S$705)=\"NO\",0,\"\"))","v":""},{"$f":"IF(ISERROR(VLOOKUP(Egresados!$T$8:$T$705,Maestros!$S$31:$T$530,2,0)),\"\",VLOOKUP(Egresados!$T$8:$T$705,Maestros!$S$31:$T$530,2,0))","v":"62"},{"$f":"IF(ISERROR(VLOOKUP(U166,Maestros!$S$31:$T$530,2,0)),\"\",VLOOKUP(U166,Maestros!$S$31:$T$530,2,0))","v":"62"},{"$f":"IF(ISERROR(VLOOKUP(Egresados!$K$8:$K$705,Maestros!$A$31:$B$130,2,0)),\"\",VLOOKUP(Egresados!$K$8:$K$705,Maestros!$A$31:$B$130,2,0))","v":""},{"$f":"IF(LEN(tablaEgresados[[#This Row],[Nota promedio]])>0,ROUND(tablaEgresados[[#This Row],[Nota promedio]],2),\"\")","v":14.58}]
[159,null,"DNI","74174347","SUIQUI","SOSA","GUIZANA","FEMENINO",null,"NO",null,null,null,"2020-1","SEDE CENTRAL","DESARROLLO AMBIENTAL",14.8,null,null,"2015-1","2015-1","20150722@une.edu.pe","guis-sosa@hotmail.com",3133700,"943211314",{"$f":"IF(ISERROR(VLOOKUP(Egresados!$N$8:$N$705,Maestros!$D$31:$E$530,2,0)),\"\",VLOOKUP(Egresados!$N$8:$N$705,Maestros!$D$31:$E$530,2,0))","v":"223"},{"$f":"IF(ISERROR(VLOOKUP(Egresados!$O167,Maestros!$G$31:$J$1030,2,0)),\"\",VLOOKUP(Egresados!$O167,Maestros!$G$31:$J$1030,2,0))","v":"8"},{"$f":"CONCATENATE(Egresados!$Z$8:$Z$705,\"a\",Egresados!$AA$8:$AA$705)","v":"223a8"},{"$f":"IF(ISERROR(VLOOKUP(Egresados!$P167,Maestros!$L$31:$Q$1030,2,0)),\"\",VLOOKUP(Egresados!$P167,Maestros!$L$31:$Q$1030,2,0))","v":"219"},{"$f":"CONCATENATE(Egresados!$Z$8:$Z$705,\"a\",Egresados!$AA$8:$AA$705,\"a\",Egresados!$AC$8:$AC$705)","v":"223a8a219"},{"$f":"IF(ISERROR(VLOOKUP(Egresados!$C$8:$C$705,Maestros!$A$4:$B$21,2,0)),\"\",VLOOKUP(Egresados!$C$8:$C$705,Maestros!$A$4:$B$21,2,0))","v":"1001"},{"$f":"IF(ISERROR(VLOOKUP(Egresados!$H$8:$H$705,Maestros!$D$4:$E$21,2,0)),\"\",VLOOKUP(Egresados!$H$8:$H$705,Maestros!$D$4:$E$21,2,0))","v":"1122"},{"$f":"IF(OR(UPPER(Egresados!$J$8:$J$705)=\"SI\",UPPER(Egresados!$J$8:$J$705)=\"SÍ\"),1,IF(UPPER(Egresados!$J$8:$J$705)=\"NO\",0,\"\"))","v":0},{"$f":"IF(OR(UPPER(Egresados!$R$8:$R$705)=\"SI\",UPPER(Egresados!$R$8:$R$705)=\"SÍ\"),1,IF(UPPER(Egresados!$R$8:$R$705)=\"NO\",0,\"\"))","v":""},{"$f":"IF(OR(UPPER(Egresados!$S$8:$S$705)=\"SI\",UPPER(Egresados!$S$8:$S$705)=\"SÍ\"),1,IF(UPPER(Egresados!$S$8:$S$705)=\"NO\",0,\"\"))","v":""},{"$f":"IF(ISERROR(VLOOKUP(Egresados!$T$8:$T$705,Maestros!$S$31:$T$530,2,0)),\"\",VLOOKUP(Egresados!$T$8:$T$705,Maestros!$S$31:$T$530,2,0))","v":"62"},{"$f":"IF(ISERROR(VLOOKUP(U167,Maestros!$S$31:$T$530,2,0)),\"\",VLOOKUP(U167,Maestros!$S$31:$T$530,2,0))","v":"62"},{"$f":"IF(ISERROR(VLOOKUP(Egresados!$K$8:$K$705,Maestros!$A$31:$B$130,2,0)),\"\",VLOOKUP(Egresados!$K$8:$K$705,Maestros!$A$31:$B$130,2,0))","v":""},{"$f":"IF(LEN(tablaEgresados[[#This Row],[Nota promedio]])>0,ROUND(tablaEgresados[[#This Row],[Nota promedio]],2),\"\")","v":14.8}]
[160,null,"DNI","70859372","CRISTOBAL","SICHA","KEILA","FEMENINO",null,"NO",null,null,null,"2020-1","SEDE CENTRAL","DESARROLLO AMBIENTAL",16.48,null,null,"2015-1","2015-1","20151139@une.edu.pe","keila_estrella_15@hotmail.com",3133700,"983292752",{"$f":"IF(ISERROR(VLOOKUP(Egresados!$N$8:$N$705,Maestros!$D$31:$E$530,2,0)),\"\",VLOOKUP(Egresados!$N$8:$N$705,Maestros!$D$31:$E$530,2,0))","v":"223"},{"$f":"IF(ISERROR(VLOOKUP(Egresados!$O168,Maestros!$G$31:$J$1030,2,0)),\"\",VLOOKUP(Egresados!$O168,Maestros!$G$31:$J$1030,2,0))","v":"8"},{"$f":"CONCATENATE(Egresados!$Z$8:$Z$705,\"a\",Egresados!$AA$8:$AA$705)","v":"223a8"},{"$f":"IF(ISERROR(VLOOKUP(Egresados!$P168,Maestros!$L$31:$Q$1030,2,0)),\"\",VLOOKUP(Egresados!$P168,Maestros!$L$31:$Q$1030,2,0))","v":"219"},{"$f":"CONCATENATE(Egresados!$Z$8:$Z$705,\"a\",Egresados!$AA$8:$AA$705,\"a\",Egresados!$AC$8:$AC$705)","v":"223a8a219"},{"$f":"IF(ISERROR(VLOOKUP(Egresados!$C$8:$C$705,Maestros!$A$4:$B$21,2,0)),\"\",VLOOKUP(Egresados!$C$8:$C$705,Maestros!$A$4:$B$21,2,0))","v":"1001"},{"$f":"IF(ISERROR(VLOOKUP(Egresados!$H$8:$H$705,Maestros!$D$4:$E$21,2,0)),\"\",VLOOKUP(Egresados!$H$8:$H$705,Maestros!$D$4:$E$21,2,0))","v":"1122"},{"$f":"IF(OR(UPPER(Egresados!$J$8:$J$705)=\"SI\",UPPER(Egresados!$J$8:$J$705)=\"SÍ\"),1,IF(UPPER(Egresados!$J$8:$J$705)=\"NO\",0,\"\"))","v":0},{"$f":"IF(OR(UPPER(Egresados!$R$8:$R$705)=\"SI\",UPPER(Egresados!$R$8:$R$705)=\"SÍ\"),1,IF(UPPER(Egresados!$R$8:$R$705)=\"NO\",0,\"\"))","v":""},{"$f":"IF(OR(UPPER(Egresados!$S$8:$S$705)=\"SI\",UPPER(Egresados!$S$8:$S$705)=\"SÍ\"),1,IF(UPPER(Egresados!$S$8:$S$705)=\"NO\",0,\"\"))","v":""},{"$f":"IF(ISERROR(VLOOKUP(Egresados!$T$8:$T$705,Maestros!$S$31:$T$530,2,0)),\"\",VLOOKUP(Egresados!$T$8:$T$705,Maestros!$S$31:$T$530,2,0))","v":"62"},{"$f":"IF(ISERROR(VLOOKUP(U168,Maestros!$S$31:$T$530,2,0)),\"\",VLOOKUP(U168,Maestros!$S$31:$T$530,2,0))","v":"62"},{"$f":"IF(ISERROR(VLOOKUP(Egresados!$K$8:$K$705,Maestros!$A$31:$B$130,2,0)),\"\",VLOOKUP(Egresados!$K$8:$K$705,Maestros!$A$31:$B$130,2,0))","v":""},{"$f":"IF(LEN(tablaEgresados[[#This Row],[Nota promedio]])>0,ROUND(tablaEgresados[[#This Row],[Nota promedio]],2),\"\")","v":16.48}]
[161,null,"DNI","71787357","HUAMANI","TAIPE","MARTHA","FEMENINO",null,"NO",null,null,null,"2020-1","SEDE CENTRAL","DESARROLLO AMBIENTAL",14.7,null,null,"2015-1","2015-1","20150307@une.edu.pe","martita1996taipe@gmail.com",3133700,"961589400",{"$f":"IF(ISERROR(VLOOKUP(Egresados!$N$8:$N$705,Maestros!$D$31:$E$530,2,0)),\"\",VLOOKUP(Egresados!$N$8:$N$705,Maestros!$D$31:$E$530,2,0))","v":"223"},{"$f":"IF(ISERROR(VLOOKUP(Egresados!$O169,Maestros!$G$31:$J$1030,2,0)),\"\",VLOOKUP(Egresados!$O169,Maestros!$G$31:$J$1030,2,0))","v":"8"},{"$f":"CONCATENATE(Egresados!$Z$8:$Z$705,\"a\",Egresados!$AA$8:$AA$705)","v":"223a8"},{"$f":"IF(ISERROR(VLOOKUP(Egresados!$P169,Maestros!$L$31:$Q$1030,2,0)),\"\",VLOOKUP(Egresados!$P169,Maestros!$L$31:$Q$1030,2,0))","v":"219"},{"$f":"CONCATENATE(Egresados!$Z$8:$Z$705,\"a\",Egresados!$AA$8:$AA$705,\"a\",Egresados!$AC$8:$AC$705)","v":"223a8a219"},{"$f":"IF(ISERROR(VLOOKUP(Egresados!$C$8:$C$705,Maestros!$A$4:$B$21,2,0)),\"\",VLOOKUP(Egresados!$C$8:$C$705,Maestros!$A$4:$B$21,2,0))","v":"1001"},{"$f":"IF(ISERROR(VLOOKUP(Egresados!$H$8:$H$705,Maestros!$D$4:$E$21,2,0)),\"\",VLOOKUP(Egresados!$H$8:$H$705,Maestros!$D$4:$E$21,2,0))","v":"1122"},{"$f":"IF(OR(UPPER(Egresados!$J$8:$J$705)=\"SI\",UPPER(Egresados!$J$8:$J$705)=\"SÍ\"),1,IF(UPPER(Egresados!$J$8:$J$705)=\"NO\",0,\"\"))","v":0},{"$f":"IF(OR(UPPER(Egresados!$R$8:$R$705)=\"SI\",UPPER(Egresados!$R$8:$R$705)=\"SÍ\"),1,IF(UPPER(Egresados!$R$8:$R$705)=\"NO\",0,\"\"))","v":""},{"$f":"IF(OR(UPPER(Egresados!$S$8:$S$705)=\"SI\",UPPER(Egresados!$S$8:$S$705)=\"SÍ\"),1,IF(UPPER(Egresados!$S$8:$S$705)=\"NO\",0,\"\"))","v":""},{"$f":"IF(ISERROR(VLOOKUP(Egresados!$T$8:$T$705,Maestros!$S$31:$T$530,2,0)),\"\",VLOOKUP(Egresados!$T$8:$T$705,Maestros!$S$31:$T$530,2,0))","v":"62"},{"$f":"IF(ISERROR(VLOOKUP(U169,Maestros!$S$31:$T$530,2,0)),\"\",VLOOKUP(U169,Maestros!$S$31:$T$530,2,0))","v":"62"},{"$f":"IF(ISERROR(VLOOKUP(Egresados!$K$8:$K$705,Maestros!$A$31:$B$130,2,0)),\"\",VLOOKUP(Egresados!$K$8:$K$705,Maestros!$A$31:$B$130,2,0))","v":""},{"$f":"IF(LEN(tablaEgresados[[#This Row],[Nota promedio]])>0,ROUND(tablaEgresados[[#This Row],[Nota promedio]],2),\"\")","v":14.7}]
[162,null,"DNI","72676683","RAMOS","PANIORA","ANGEL ADRIAN","MASCULINO",null,"NO",null,null,null,"2020-1","SEDE CENTRAL","DESARROLLO AMBIENTAL",15.5,null,null,"2015-1","2015-1","20151157@une.edu.pe","adriarp.18@hotmail.com",3133700,"965482937",{"$f":"IF(ISERROR(VLOOKUP(Egresados!$N$8:$N$705,Maestros!$D$31:$E$530,2,0)),\"\",VLOOKUP(Egresados!$N$8:$N$705,Maestros!$D$31:$E$530,2,0))","v":"223"},{"$f":"IF(ISERROR(VLOOKUP(Egresados!$O170,Maestros!$G$31:$J$1030,2,0)),\"\",VLOOKUP(Egresados!$O170,Maestros!$G$31:$J$1030,2,0))","v":"8"},{"$f":"CONCATENATE(Egresados!$Z$8:$Z$705,\"a\",Egresados!$AA$8:$AA$705)","v":"223a8"},{"$f":"IF(ISERROR(VLOOKUP(Egresados!$P170,Maestros!$L$31:$Q$1030,2,0)),\"\",VLOOKUP(Egresados!$P170,Maestros!$L$31:$Q$1030,2,0))","v":"219"},{"$f":"CONCATENATE(Egresados!$Z$8:$Z$705,\"a\",Egresados!$AA$8:$AA$705,\"a\",Egresados!$AC$8:$AC$705)","v":"223a8a219"},{"$f":"IF(ISERROR(VLOOKUP(Egresados!$C$8:$C$705,Maestros!$A$4:$B$21,2,0)),\"\",VLOOKUP(Egresados!$C$8:$C$705,Maestros!$A$4:$B$21,2,0))","v":"1001"},{"$f":"IF(ISERROR(VLOOKUP(Egresados!$H$8:$H$705,Maestros!$D$4:$E$21,2,0)),\"\",VLOOKUP(Egresados!$H$8:$H$705,Maestros!$D$4:$E$21,2,0))","v":"1121"},{"$f":"IF(OR(UPPER(Egresados!$J$8:$J$705)=\"SI\",UPPER(Egresados!$J$8:$J$705)=\"SÍ\"),1,IF(UPPER(Egresados!$J$8:$J$705)=\"NO\",0,\"\"))","v":0},{"$f":"IF(OR(UPPER(Egresados!$R$8:$R$705)=\"SI\",UPPER(Egresados!$R$8:$R$705)=\"SÍ\"),1,IF(UPPER(Egresados!$R$8:$R$705)=\"NO\",0,\"\"))","v":""},{"$f":"IF(OR(UPPER(Egresados!$S$8:$S$705)=\"SI\",UPPER(Egresados!$S$8:$S$705)=\"SÍ\"),1,IF(UPPER(Egresados!$S$8:$S$705)=\"NO\",0,\"\"))","v":""},{"$f":"IF(ISERROR(VLOOKUP(Egresados!$T$8:$T$705,Maestros!$S$31:$T$530,2,0)),\"\",VLOOKUP(Egresados!$T$8:$T$705,Maestros!$S$31:$T$530,2,0))","v":"62"},{"$f":"IF(ISERROR(VLOOKUP(U170,Maestros!$S$31:$T$530,2,0)),\"\",VLOOKUP(U170,Maestros!$S$31:$T$530,2,0))","v":"62"},{"$f":"IF(ISERROR(VLOOKUP(Egresados!$K$8:$K$705,Maestros!$A$31:$B$130,2,0)),\"\",VLOOKUP(Egresados!$K$8:$K$705,Maestros!$A$31:$B$130,2,0))","v":""},{"$f":"IF(LEN(tablaEgresados[[#This Row],[Nota promedio]])>0,ROUND(tablaEgresados[[#This Row],[Nota promedio]],2),\"\")","v":15.5}]
[163,null,"DNI","73949500","JUSTINIANO","CASTIGLIONE","KEDITH","FEMENINO",null,"NO",null,null,null,"2020-1","SEDE CENTRAL","DESARROLLO AMBIENTAL",15.94,null,null,"2015-1","2015-1","20151148@une.edu.pe","kjc11h@gmail.com",3133700,"930363673",{"$f":"IF(ISERROR(VLOOKUP(Egresados!$N$8:$N$705,Maestros!$D$31:$E$530,2,0)),\"\",VLOOKUP(Egresados!$N$8:$N$705,Maestros!$D$31:$E$530,2,0))","v":"223"},{"$f":"IF(ISERROR(VLOOKUP(Egresados!$O171,Maestros!$G$31:$J$1030,2,0)),\"\",VLOOKUP(Egresados!$O171,Maestros!$G$31:$J$1030,2,0))","v":"8"},{"$f":"CONCATENATE(Egresados!$Z$8:$Z$705,\"a\",Egresados!$AA$8:$AA$705)","v":"223a8"},{"$f":"IF(ISERROR(VLOOKUP(Egresados!$P171,Maestros!$L$31:$Q$1030,2,0)),\"\",VLOOKUP(Egresados!$P171,Maestros!$L$31:$Q$1030,2,0))","v":"219"},{"$f":"CONCATENATE(Egresados!$Z$8:$Z$705,\"a\",Egresados!$AA$8:$AA$705,\"a\",Egresados!$AC$8:$AC$705)","v":"223a8a219"},{"$f":"IF(ISERROR(VLOOKUP(Egresados!$C$8:$C$705,Maestros!$A$4:$B$21,2,0)),\"\",VLOOKUP(Egresados!$C$8:$C$705,Maestros!$A$4:$B$21,2,0))","v":"1001"},{"$f":"IF(ISERROR(VLOOKUP(Egresados!$H$8:$H$705,Maestros!$D$4:$E$21,2,0)),\"\",VLOOKUP(Egresados!$H$8:$H$705,Maestros!$D$4:$E$21,2,0))","v":"1122"},{"$f":"IF(OR(UPPER(Egresados!$J$8:$J$705)=\"SI\",UPPER(Egresados!$J$8:$J$705)=\"SÍ\"),1,IF(UPPER(Egresados!$J$8:$J$705)=\"NO\",0,\"\"))","v":0},{"$f":"IF(OR(UPPER(Egresados!$R$8:$R$705)=\"SI\",UPPER(Egresados!$R$8:$R$705)=\"SÍ\"),1,IF(UPPER(Egresados!$R$8:$R$705)=\"NO\",0,\"\"))","v":""},{"$f":"IF(OR(UPPER(Egresados!$S$8:$S$705)=\"SI\",UPPER(Egresados!$S$8:$S$705)=\"SÍ\"),1,IF(UPPER(Egresados!$S$8:$S$705)=\"NO\",0,\"\"))","v":""},{"$f":"IF(ISERROR(VLOOKUP(Egresados!$T$8:$T$705,Maestros!$S$31:$T$530,2,0)),\"\",VLOOKUP(Egresados!$T$8:$T$705,Maestros!$S$31:$T$530,2,0))","v":"62"},{"$f":"IF(ISERROR(VLOOKUP(U171,Maestros!$S$31:$T$530,2,0)),\"\",VLOOKUP(U171,Maestros!$S$31:$T$530,2,0))","v":"62"},{"$f":"IF(ISERROR(VLOOKUP(Egresados!$K$8:$K$705,Maestros!$A$31:$B$130,2,0)),\"\",VLOOKUP(Egresados!$K$8:$K$705,Maestros!$A$31:$B$130,2,0))","v":""},{"$f":"IF(LEN(tablaEgresados[[#This Row],[Nota promedio]])>0,ROUND(tablaEgresados[[#This Row],[Nota promedio]],2),\"\")","v":15.94}]
[164,null,"DNI","74429829","BLAS","MAULI","MIRELLA LYLI","FEMENINO",null,"NO",null,null,null,"2020-1","SEDE CENTRAL","DESARROLLO AMBIENTAL",15.06,null,null,"2014-1","2014-1","20141061@une.edu.pe","ailand_blas@hotmail.com",3133700,"973812869",{"$f":"IF(ISERROR(VLOOKUP(Egresados!$N$8:$N$705,Maestros!$D$31:$E$530,2,0)),\"\",VLOOKUP(Egresados!$N$8:$N$705,Maestros!$D$31:$E$530,2,0))","v":"223"},{"$f":"IF(ISERROR(VLOOKUP(Egresados!$O172,Maestros!$G$31:$J$1030,2,0)),\"\",VLOOKUP(Egresados!$O172,Maestros!$G$31:$J$1030,2,0))","v":"8"},{"$f":"CONCATENATE(Egresados!$Z$8:$Z$705,\"a\",Egresados!$AA$8:$AA$705)","v":"223a8"},{"$f":"IF(ISERROR(VLOOKUP(Egresados!$P172,Maestros!$L$31:$Q$1030,2,0)),\"\",VLOOKUP(Egresados!$P172,Maestros!$L$31:$Q$1030,2,0))","v":"219"},{"$f":"CONCATENATE(Egresados!$Z$8:$Z$705,\"a\",Egresados!$AA$8:$AA$705,\"a\",Egresados!$AC$8:$AC$705)","v":"223a8a219"},{"$f":"IF(ISERROR(VLOOKUP(Egresados!$C$8:$C$705,Maestros!$A$4:$B$21,2,0)),\"\",VLOOKUP(Egresados!$C$8:$C$705,Maestros!$A$4:$B$21,2,0))","v":"1001"},{"$f":"IF(ISERROR(VLOOKUP(Egresados!$H$8:$H$705,Maestros!$D$4:$E$21,2,0)),\"\",VLOOKUP(Egresados!$H$8:$H$705,Maestros!$D$4:$E$21,2,0))","v":"1122"},{"$f":"IF(OR(UPPER(Egresados!$J$8:$J$705)=\"SI\",UPPER(Egresados!$J$8:$J$705)=\"SÍ\"),1,IF(UPPER(Egresados!$J$8:$J$705)=\"NO\",0,\"\"))","v":0},{"$f":"IF(OR(UPPER(Egresados!$R$8:$R$705)=\"SI\",UPPER(Egresados!$R$8:$R$705)=\"SÍ\"),1,IF(UPPER(Egresados!$R$8:$R$705)=\"NO\",0,\"\"))","v":""},{"$f":"IF(OR(UPPER(Egresados!$S$8:$S$705)=\"SI\",UPPER(Egresados!$S$8:$S$705)=\"SÍ\"),1,IF(UPPER(Egresados!$S$8:$S$705)=\"NO\",0,\"\"))","v":""},{"$f":"IF(ISERROR(VLOOKUP(Egresados!$T$8:$T$705,Maestros!$S$31:$T$530,2,0)),\"\",VLOOKUP(Egresados!$T$8:$T$705,Maestros!$S$31:$T$530,2,0))","v":"58"},{"$f":"IF(ISERROR(VLOOKUP(U172,Maestros!$S$31:$T$530,2,0)),\"\",VLOOKUP(U172,Maestros!$S$31:$T$530,2,0))","v":"58"},{"$f":"IF(ISERROR(VLOOKUP(Egresados!$K$8:$K$705,Maestros!$A$31:$B$130,2,0)),\"\",VLOOKUP(Egresados!$K$8:$K$705,Maestros!$A$31:$B$130,2,0))","v":""},{"$f":"IF(LEN(tablaEgresados[[#This Row],[Nota promedio]])>0,ROUND(tablaEgresados[[#This Row],[Nota promedio]],2),\"\")","v":15.06}]
[165,null,"DNI","70822246","BARBOZA","ORE","NAYSHA MILENA","FEMENINO",null,"NO",null,null,null,"2020-1","SEDE CENTRAL","DESARROLLO AMBIENTAL",15.13,null,null,"2015-1","2015-1","20151133@une.edu.pe","nayshabarbozaore@gmail.com",3133700,"940379650",{"$f":"IF(ISERROR(VLOOKUP(Egresados!$N$8:$N$705,Maestros!$D$31:$E$530,2,0)),\"\",VLOOKUP(Egresados!$N$8:$N$705,Maestros!$D$31:$E$530,2,0))","v":"223"},{"$f":"IF(ISERROR(VLOOKUP(Egresados!$O173,Maestros!$G$31:$J$1030,2,0)),\"\",VLOOKUP(Egresados!$O173,Maestros!$G$31:$J$1030,2,0))","v":"8"},{"$f":"CONCATENATE(Egresados!$Z$8:$Z$705,\"a\",Egresados!$AA$8:$AA$705)","v":"223a8"},{"$f":"IF(ISERROR(VLOOKUP(Egresados!$P173,Maestros!$L$31:$Q$1030,2,0)),\"\",VLOOKUP(Egresados!$P173,Maestros!$L$31:$Q$1030,2,0))","v":"219"},{"$f":"CONCATENATE(Egresados!$Z$8:$Z$705,\"a\",Egresados!$AA$8:$AA$705,\"a\",Egresados!$AC$8:$AC$705)","v":"223a8a219"},{"$f":"IF(ISERROR(VLOOKUP(Egresados!$C$8:$C$705,Maestros!$A$4:$B$21,2,0)),\"\",VLOOKUP(Egresados!$C$8:$C$705,Maestros!$A$4:$B$21,2,0))","v":"1001"},{"$f":"IF(ISERROR(VLOOKUP(Egresados!$H$8:$H$705,Maestros!$D$4:$E$21,2,0)),\"\",VLOOKUP(Egresados!$H$8:$H$705,Maestros!$D$4:$E$21,2,0))","v":"1122"},{"$f":"IF(OR(UPPER(Egresados!$J$8:$J$705)=\"SI\",UPPER(Egresados!$J$8:$J$705)=\"SÍ\"),1,IF(UPPER(Egresados!$J$8:$J$705)=\"NO\",0,\"\"))","v":0},{"$f":"IF(OR(UPPER(Egresados!$R$8:$R$705)=\"SI\",UPPER(Egresados!$R$8:$R$705)=\"SÍ\"),1,IF(UPPER(Egresados!$R$8:$R$705)=\"NO\",0,\"\"))","v":""},{"$f":"IF(OR(UPPER(Egresados!$S$8:$S$705)=\"SI\",UPPER(Egresados!$S$8:$S$705)=\"SÍ\"),1,IF(UPPER(Egresados!$S$8:$S$705)=\"NO\",0,\"\"))","v":""},{"$f":"IF(ISERROR(VLOOKUP(Egresados!$T$8:$T$705,Maestros!$S$31:$T$530,2,0)),\"\",VLOOKUP(Egresados!$T$8:$T$705,Maestros!$S$31:$T$530,2,0))","v":"62"},{"$f":"IF(ISERROR(VLOOKUP(U173,Maestros!$S$31:$T$530,2,0)),\"\",VLOOKUP(U173,Maestros!$S$31:$T$530,2,0))","v":"62"},{"$f":"IF(ISERROR(VLOOKUP(Egresados!$K$8:$K$705,Maestros!$A$31:$B$130,2,0)),\"\",VLOOKUP(Egresados!$K$8:$K$705,Maestros!$A$31:$B$130,2,0))","v":""},{"$f":"IF(LEN(tablaEgresados[[#This Row],[Nota promedio]])>0,ROUND(tablaEgresados[[#This Row],[Nota promedio]],2),\"\")","v":15.13}]
[166,null,"DNI","71322016","ECHIGOYA","ENCARNACION","PEÑAFLOR","FEMENINO",null,"NO",null,null,null,"2020-1","SEDE CENTRAL","DESARROLLO AMBIENTAL",15.2,null,null,"2015-1","2015-1","20151142@une.edu.pe","echigoyaflor@gmail.com",3133700,"99552738",{"$f":"IF(ISERROR(VLOOKUP(Egresados!$N$8:$N$705,Maestros!$D$31:$E$530,2,0)),\"\",VLOOKUP(Egresados!$N$8:$N$705,Maestros!$D$31:$E$530,2,0))","v":"223"},{"$f":"IF(ISERROR(VLOOKUP(Egresados!$O174,Maestros!$G$31:$J$1030,2,0)),\"\",VLOOKUP(Egresados!$O174,Maestros!$G$31:$J$1030,2,0))","v":"8"},{"$f":"CONCATENATE(Egresados!$Z$8:$Z$705,\"a\",Egresados!$AA$8:$AA$705)","v":"223a8"},{"$f":"IF(ISERROR(VLOOKUP(Egresados!$P174,Maestros!$L$31:$Q$1030,2,0)),\"\",VLOOKUP(Egresados!$P174,Maestros!$L$31:$Q$1030,2,0))","v":"219"},{"$f":"CONCATENATE(Egresados!$Z$8:$Z$705,\"a\",Egresados!$AA$8:$AA$705,\"a\",Egresados!$AC$8:$AC$705)","v":"223a8a219"},{"$f":"IF(ISERROR(VLOOKUP(Egresados!$C$8:$C$705,Maestros!$A$4:$B$21,2,0)),\"\",VLOOKUP(Egresados!$C$8:$C$705,Maestros!$A$4:$B$21,2,0))","v":"1001"},{"$f":"IF(ISERROR(VLOOKUP(Egresados!$H$8:$H$705,Maestros!$D$4:$E$21,2,0)),\"\",VLOOKUP(Egresados!$H$8:$H$705,Maestros!$D$4:$E$21,2,0))","v":"1122"},{"$f":"IF(OR(UPPER(Egresados!$J$8:$J$705)=\"SI\",UPPER(Egresados!$J$8:$J$705)=\"SÍ\"),1,IF(UPPER(Egresados!$J$8:$J$705)=\"NO\",0,\"\"))","v":0},{"$f":"IF(OR(UPPER(Egresados!$R$8:$R$705)=\"SI\",UPPER(Egresados!$R$8:$R$705)=\"SÍ\"),1,IF(UPPER(Egresados!$R$8:$R$705)=\"NO\",0,\"\"))","v":""},{"$f":"IF(OR(UPPER(Egresados!$S$8:$S$705)=\"SI\",UPPER(Egresados!$S$8:$S$705)=\"SÍ\"),1,IF(UPPER(Egresados!$S$8:$S$705)=\"NO\",0,\"\"))","v":""},{"$f":"IF(ISERROR(VLOOKUP(Egresados!$T$8:$T$705,Maestros!$S$31:$T$530,2,0)),\"\",VLOOKUP(Egresados!$T$8:$T$705,Maestros!$S$31:$T$530,2,0))","v":"62"},{"$f":"IF(ISERROR(VLOOKUP(U174,Maestros!$S$31:$T$530,2,0)),\"\",VLOOKUP(U174,Maestros!$S$31:$T$530,2,0))","v":"62"},{"$f":"IF(ISERROR(VLOOKUP(Egresados!$K$8:$K$705,Maestros!$A$31:$B$130,2,0)),\"\",VLOOKUP(Egresados!$K$8:$K$705,Maestros!$A$31:$B$130,2,0))","v":""},{"$f":"IF(LEN(tablaEgresados[[#This Row],[Nota promedio]])>0,ROUND(tablaEgresados[[#This Row],[Nota promedio]],2),\"\")","v":15.2}]
[167,null,"DNI","71641082","POZO","CAMPOS","MAXIMO ANTONIO","MASCULINO",null,"NO",null,null,null,"2020-1","SEDE CENTRAL","DESARROLLO AMBIENTAL",15.32,null,null,"2014-1","2014-1","20141090@une.edu.pe","maximo_unico_95@hotmail.com",3133700,"931282960",{"$f":"IF(ISERROR(VLOOKUP(Egresados!$N$8:$N$705,Maestros!$D$31:$E$530,2,0)),\"\",VLOOKUP(Egresados!$N$8:$N$705,Maestros!$D$31:$E$530,2,0))","v":"223"},{"$f":"IF(ISERROR(VLOOKUP(Egresados!$O175,Maestros!$G$31:$J$1030,2,0)),\"\",VLOOKUP(Egresados!$O175,Maestros!$G$31:$J$1030,2,0))","v":"8"},{"$f":"CONCATENATE(Egresados!$Z$8:$Z$705,\"a\",Egresados!$AA$8:$AA$705)","v":"223a8"},{"$f":"IF(ISERROR(VLOOKUP(Egresados!$P175,Maestros!$L$31:$Q$1030,2,0)),\"\",VLOOKUP(Egresados!$P175,Maestros!$L$31:$Q$1030,2,0))","v":"219"},{"$f":"CONCATENATE(Egresados!$Z$8:$Z$705,\"a\",Egresados!$AA$8:$AA$705,\"a\",Egresados!$AC$8:$AC$705)","v":"223a8a219"},{"$f":"IF(ISERROR(VLOOKUP(Egresados!$C$8:$C$705,Maestros!$A$4:$B$21,2,0)),\"\",VLOOKUP(Egresados!$C$8:$C$705,Maestros!$A$4:$B$21,2,0))","v":"1001"},{"$f":"IF(ISERROR(VLOOKUP(Egresados!$H$8:$H$705,Maestros!$D$4:$E$21,2,0)),\"\",VLOOKUP(Egresados!$H$8:$H$705,Maestros!$D$4:$E$21,2,0))","v":"1121"},{"$f":"IF(OR(UPPER(Egresados!$J$8:$J$705)=\"SI\",UPPER(Egresados!$J$8:$J$705)=\"SÍ\"),1,IF(UPPER(Egresados!$J$8:$J$705)=\"NO\",0,\"\"))","v":0},{"$f":"IF(OR(UPPER(Egresados!$R$8:$R$705)=\"SI\",UPPER(Egresados!$R$8:$R$705)=\"SÍ\"),1,IF(UPPER(Egresados!$R$8:$R$705)=\"NO\",0,\"\"))","v":""},{"$f":"IF(OR(UPPER(Egresados!$S$8:$S$705)=\"SI\",UPPER(Egresados!$S$8:$S$705)=\"SÍ\"),1,IF(UPPER(Egresados!$S$8:$S$705)=\"NO\",0,\"\"))","v":""},{"$f":"IF(ISERROR(VLOOKUP(Egresados!$T$8:$T$705,Maestros!$S$31:$T$530,2,0)),\"\",VLOOKUP(Egresados!$T$8:$T$705,Maestros!$S$31:$T$530,2,0))","v":"58"},{"$f":"IF(ISERROR(VLOOKUP(U175,Maestros!$S$31:$T$530,2,0)),\"\",VLOOKUP(U175,Maestros!$S$31:$T$530,2,0))","v":"58"},{"$f":"IF(ISERROR(VLOOKUP(Egresados!$K$8:$K$705,Maestros!$A$31:$B$130,2,0)),\"\",VLOOKUP(Egresados!$K$8:$K$705,Maestros!$A$31:$B$130,2,0))","v":""},{"$f":"IF(LEN(tablaEgresados[[#This Row],[Nota promedio]])>0,ROUND(tablaEgresados[[#This Row],[Nota promedio]],2),\"\")","v":15.32}]
[168,null,"DNI","77273628","SANTOS","VERAMENDI","ZENY YANETH","FEMENINO",null,"NO",null,null,null,"2020-1","SEDE CENTRAL","DESARROLLO AMBIENTAL",15.27,null,null,"2015-1","2015-1","20150720@une.edu.pe","isayanelove6@gmail.com",3133700,"928685126",{"$f":"IF(ISERROR(VLOOKUP(Egresados!$N$8:$N$705,Maestros!$D$31:$E$530,2,0)),\"\",VLOOKUP(Egresados!$N$8:$N$705,Maestros!$D$31:$E$530,2,0))","v":"223"},{"$f":"IF(ISERROR(VLOOKUP(Egresados!$O176,Maestros!$G$31:$J$1030,2,0)),\"\",VLOOKUP(Egresados!$O176,Maestros!$G$31:$J$1030,2,0))","v":"8"},{"$f":"CONCATENATE(Egresados!$Z$8:$Z$705,\"a\",Egresados!$AA$8:$AA$705)","v":"223a8"},{"$f":"IF(ISERROR(VLOOKUP(Egresados!$P176,Maestros!$L$31:$Q$1030,2,0)),\"\",VLOOKUP(Egresados!$P176,Maestros!$L$31:$Q$1030,2,0))","v":"219"},{"$f":"CONCATENATE(Egresados!$Z$8:$Z$705,\"a\",Egresados!$AA$8:$AA$705,\"a\",Egresados!$AC$8:$AC$705)","v":"223a8a219"},{"$f":"IF(ISERROR(VLOOKUP(Egresados!$C$8:$C$705,Maestros!$A$4:$B$21,2,0)),\"\",VLOOKUP(Egresados!$C$8:$C$705,Maestros!$A$4:$B$21,2,0))","v":"1001"},{"$f":"IF(ISERROR(VLOOKUP(Egresados!$H$8:$H$705,Maestros!$D$4:$E$21,2,0)),\"\",VLOOKUP(Egresados!$H$8:$H$705,Maestros!$D$4:$E$21,2,0))","v":"1122"},{"$f":"IF(OR(UPPER(Egresados!$J$8:$J$705)=\"SI\",UPPER(Egresados!$J$8:$J$705)=\"SÍ\"),1,IF(UPPER(Egresados!$J$8:$J$705)=\"NO\",0,\"\"))","v":0},{"$f":"IF(OR(UPPER(Egresados!$R$8:$R$705)=\"SI\",UPPER(Egresados!$R$8:$R$705)=\"SÍ\"),1,IF(UPPER(Egresados!$R$8:$R$705)=\"NO\",0,\"\"))","v":""},{"$f":"IF(OR(UPPER(Egresados!$S$8:$S$705)=\"SI\",UPPER(Egresados!$S$8:$S$705)=\"SÍ\"),1,IF(UPPER(Egresados!$S$8:$S$705)=\"NO\",0,\"\"))","v":""},{"$f":"IF(ISERROR(VLOOKUP(Egresados!$T$8:$T$705,Maestros!$S$31:$T$530,2,0)),\"\",VLOOKUP(Egresados!$T$8:$T$705,Maestros!$S$31:$T$530,2,0))","v":"62"},{"$f":"IF(ISERROR(VLOOKUP(U176,Maestros!$S$31:$T$530,2,0)),\"\",VLOOKUP(U176,Maestros!$S$31:$T$530,2,0))","v":"62"},{"$f":"IF(ISERROR(VLOOKUP(Egresados!$K$8:$K$705,Maestros!$A$31:$B$130,2,0)),\"\",VLOOKUP(Egresados!$K$8:$K$705,Maestros!$A$31:$B$130,2,0))","v":""},{"$f":"IF(LEN(tablaEgresados[[#This Row],[Nota promedio]])>0,ROUND(tablaEgresados[[#This Row],[Nota promedio]],2),\"\")","v":15.27}]
[169,null,"DNI","74024228","PERALES","BRICEÑO","JEAN CARLOS","MASCULINO",null,"NO",null,null,null,"2020-1","SEDE CENTRAL","DESARROLLO AMBIENTAL",14.51,null,null,"2015-1","2015-1","20151154@une.edu.pe","jose_saabedra1994@hotmail.com",3133700,"987341366",{"$f":"IF(ISERROR(VLOOKUP(Egresados!$N$8:$N$705,Maestros!$D$31:$E$530,2,0)),\"\",VLOOKUP(Egresados!$N$8:$N$705,Maestros!$D$31:$E$530,2,0))","v":"223"},{"$f":"IF(ISERROR(VLOOKUP(Egresados!$O177,Maestros!$G$31:$J$1030,2,0)),\"\",VLOOKUP(Egresados!$O177,Maestros!$G$31:$J$1030,2,0))","v":"8"},{"$f":"CONCATENATE(Egresados!$Z$8:$Z$705,\"a\",Egresados!$AA$8:$AA$705)","v":"223a8"},{"$f":"IF(ISERROR(VLOOKUP(Egresados!$P177,Maestros!$L$31:$Q$1030,2,0)),\"\",VLOOKUP(Egresados!$P177,Maestros!$L$31:$Q$1030,2,0))","v":"219"},{"$f":"CONCATENATE(Egresados!$Z$8:$Z$705,\"a\",Egresados!$AA$8:$AA$705,\"a\",Egresados!$AC$8:$AC$705)","v":"223a8a219"},{"$f":"IF(ISERROR(VLOOKUP(Egresados!$C$8:$C$705,Maestros!$A$4:$B$21,2,0)),\"\",VLOOKUP(Egresados!$C$8:$C$705,Maestros!$A$4:$B$21,2,0))","v":"1001"},{"$f":"IF(ISERROR(VLOOKUP(Egresados!$H$8:$H$705,Maestros!$D$4:$E$21,2,0)),\"\",VLOOKUP(Egresados!$H$8:$H$705,Maestros!$D$4:$E$21,2,0))","v":"1121"},{"$f":"IF(OR(UPPER(Egresados!$J$8:$J$705)=\"SI\",UPPER(Egresados!$J$8:$J$705)=\"SÍ\"),1,IF(UPPER(Egresados!$J$8:$J$705)=\"NO\",0,\"\"))","v":0},{"$f":"IF(OR(UPPER(Egresados!$R$8:$R$705)=\"SI\",UPPER(Egresados!$R$8:$R$705)=\"SÍ\"),1,IF(UPPER(Egresados!$R$8:$R$705)=\"NO\",0,\"\"))","v":""},{"$f":"IF(OR(UPPER(Egresados!$S$8:$S$705)=\"SI\",UPPER(Egresados!$S$8:$S$705)=\"SÍ\"),1,IF(UPPER(Egresados!$S$8:$S$705)=\"NO\",0,\"\"))","v":""},{"$f":"IF(ISERROR(VLOOKUP(Egresados!$T$8:$T$705,Maestros!$S$31:$T$530,2,0)),\"\",VLOOKUP(Egresados!$T$8:$T$705,Maestros!$S$31:$T$530,2,0))","v":"62"},{"$f":"IF(ISERROR(VLOOKUP(U177,Maestros!$S$31:$T$530,2,0)),\"\",VLOOKUP(U177,Maestros!$S$31:$T$530,2,0))","v":"62"},{"$f":"IF(ISERROR(VLOOKUP(Egresados!$K$8:$K$705,Maestros!$A$31:$B$130,2,0)),\"\",VLOOKUP(Egresados!$K$8:$K$705,Maestros!$A$31:$B$130,2,0))","v":""},{"$f":"IF(LEN(tablaEgresados[[#This Row],[Nota promedio]])>0,ROUND(tablaEgresados[[#This Row],[Nota promedio]],2),\"\")","v":14.51}]
[170,null,"DNI","73774873","BORDA","PILLACA","YOVISA MARIA","FEMENINO",null,"NO",null,null,null,"2020-1","SEDE CENTRAL","DESARROLLO AMBIENTAL",15.42,null,null,"2015-1","2015-1","20150442@une.edu.pe","yovisamariabordapillaca@gmail.com",3133700,"920101056",{"$f":"IF(ISERROR(VLOOKUP(Egresados!$N$8:$N$705,Maestros!$D$31:$E$530,2,0)),\"\",VLOOKUP(Egresados!$N$8:$N$705,Maestros!$D$31:$E$530,2,0))","v":"223"},{"$f":"IF(ISERROR(VLOOKUP(Egresados!$O178,Maestros!$G$31:$J$1030,2,0)),\"\",VLOOKUP(Egresados!$O178,Maestros!$G$31:$J$1030,2,0))","v":"8"},{"$f":"CONCATENATE(Egresados!$Z$8:$Z$705,\"a\",Egresados!$AA$8:$AA$705)","v":"223a8"},{"$f":"IF(ISERROR(VLOOKUP(Egresados!$P178,Maestros!$L$31:$Q$1030,2,0)),\"\",VLOOKUP(Egresados!$P178,Maestros!$L$31:$Q$1030,2,0))","v":"219"},{"$f":"CONCATENATE(Egresados!$Z$8:$Z$705,\"a\",Egresados!$AA$8:$AA$705,\"a\",Egresados!$AC$8:$AC$705)","v":"223a8a219"},{"$f":"IF(ISERROR(VLOOKUP(Egresados!$C$8:$C$705,Maestros!$A$4:$B$21,2,0)),\"\",VLOOKUP(Egresados!$C$8:$C$705,Maestros!$A$4:$B$21,2,0))","v":"1001"},{"$f":"IF(ISERROR(VLOOKUP(Egresados!$H$8:$H$705,Maestros!$D$4:$E$21,2,0)),\"\",VLOOKUP(Egresados!$H$8:$H$705,Maestros!$D$4:$E$21,2,0))","v":"1122"},{"$f":"IF(OR(UPPER(Egresados!$J$8:$J$705)=\"SI\",UPPER(Egresados!$J$8:$J$705)=\"SÍ\"),1,IF(UPPER(Egresados!$J$8:$J$705)=\"NO\",0,\"\"))","v":0},{"$f":"IF(OR(UPPER(Egresados!$R$8:$R$705)=\"SI\",UPPER(Egresados!$R$8:$R$705)=\"SÍ\"),1,IF(UPPER(Egresados!$R$8:$R$705)=\"NO\",0,\"\"))","v":""},{"$f":"IF(OR(UPPER(Egresados!$S$8:$S$705)=\"SI\",UPPER(Egresados!$S$8:$S$705)=\"SÍ\"),1,IF(UPPER(Egresados!$S$8:$S$705)=\"NO\",0,\"\"))","v":""},{"$f":"IF(ISERROR(VLOOKUP(Egresados!$T$8:$T$705,Maestros!$S$31:$T$530,2,0)),\"\",VLOOKUP(Egresados!$T$8:$T$705,Maestros!$S$31:$T$530,2,0))","v":"62"},{"$f":"IF(ISERROR(VLOOKUP(U178,Maestros!$S$31:$T$530,2,0)),\"\",VLOOKUP(U178,Maestros!$S$31:$T$530,2,0))","v":"62"},{"$f":"IF(ISERROR(VLOOKUP(Egresados!$K$8:$K$705,Maestros!$A$31:$B$130,2,0)),\"\",VLOOKUP(Egresados!$K$8:$K$705,Maestros!$A$31:$B$130,2,0))","v":""},{"$f":"IF(LEN(tablaEgresados[[#This Row],[Nota promedio]])>0,ROUND(tablaEgresados[[#This Row],[Nota promedio]],2),\"\")","v":15.42}]
[171,null,"DNI","71473247","ESTEBAN","ROSALES","ROSARIO MARIA","FEMENINO",null,"NO",null,null,null,"2020-1","SEDE CENTRAL","DESARROLLO AMBIENTAL",17.489999999999998,null,null,"2015-1","2015-1","20151143@une.edu.pe","rosario_ambiune@outlook.com",3133700,976486001,{"$f":"IF(ISERROR(VLOOKUP(Egresados!$N$8:$N$705,Maestros!$D$31:$E$530,2,0)),\"\",VLOOKUP(Egresados!$N$8:$N$705,Maestros!$D$31:$E$530,2,0))","v":"223"},{"$f":"IF(ISERROR(VLOOKUP(Egresados!$O179,Maestros!$G$31:$J$1030,2,0)),\"\",VLOOKUP(Egresados!$O179,Maestros!$G$31:$J$1030,2,0))","v":"8"},{"$f":"CONCATENATE(Egresados!$Z$8:$Z$705,\"a\",Egresados!$AA$8:$AA$705)","v":"223a8"},{"$f":"IF(ISERROR(VLOOKUP(Egresados!$P179,Maestros!$L$31:$Q$1030,2,0)),\"\",VLOOKUP(Egresados!$P179,Maestros!$L$31:$Q$1030,2,0))","v":"219"},{"$f":"CONCATENATE(Egresados!$Z$8:$Z$705,\"a\",Egresados!$AA$8:$AA$705,\"a\",Egresados!$AC$8:$AC$705)","v":"223a8a219"},{"$f":"IF(ISERROR(VLOOKUP(Egresados!$C$8:$C$705,Maestros!$A$4:$B$21,2,0)),\"\",VLOOKUP(Egresados!$C$8:$C$705,Maestros!$A$4:$B$21,2,0))","v":"1001"},{"$f":"IF(ISERROR(VLOOKUP(Egresados!$H$8:$H$705,Maestros!$D$4:$E$21,2,0)),\"\",VLOOKUP(Egresados!$H$8:$H$705,Maestros!$D$4:$E$21,2,0))","v":"1122"},{"$f":"IF(OR(UPPER(Egresados!$J$8:$J$705)=\"SI\",UPPER(Egresados!$J$8:$J$705)=\"SÍ\"),1,IF(UPPER(Egresados!$J$8:$J$705)=\"NO\",0,\"\"))","v":0},{"$f":"IF(OR(UPPER(Egresados!$R$8:$R$705)=\"SI\",UPPER(Egresados!$R$8:$R$705)=\"SÍ\"),1,IF(UPPER(Egresados!$R$8:$R$705)=\"NO\",0,\"\"))","v":""},{"$f":"IF(OR(UPPER(Egresados!$S$8:$S$705)=\"SI\",UPPER(Egresados!$S$8:$S$705)=\"SÍ\"),1,IF(UPPER(Egresados!$S$8:$S$705)=\"NO\",0,\"\"))","v":""},{"$f":"IF(ISERROR(VLOOKUP(Egresados!$T$8:$T$705,Maestros!$S$31:$T$530,2,0)),\"\",VLOOKUP(Egresados!$T$8:$T$705,Maestros!$S$31:$T$530,2,0))","v":"62"},{"$f":"IF(ISERROR(VLOOKUP(U179,Maestros!$S$31:$T$530,2,0)),\"\",VLOOKUP(U179,Maestros!$S$31:$T$530,2,0))","v":"62"},{"$f":"IF(ISERROR(VLOOKUP(Egresados!$K$8:$K$705,Maestros!$A$31:$B$130,2,0)),\"\",VLOOKUP(Egresados!$K$8:$K$705,Maestros!$A$31:$B$130,2,0))","v":""},{"$f":"IF(LEN(tablaEgresados[[#This Row],[Nota promedio]])>0,ROUND(tablaEgresados[[#This Row],[Nota promedio]],2),\"\")","v":17.489999999999998}]
[172,null,"DNI","48130485","CHACON","CUELLAR","KATHERINE LORENA","FEMENINO",null,"NO",null,null,null,"2020-1","SEDE CENTRAL","DESARROLLO AMBIENTAL",15.5,null,null,"2015-1","2015-1","20151140@une.edu.pe","katherine.lchc17@gmail.com",3133700,"993001704",{"$f":"IF(ISERROR(VLOOKUP(Egresados!$N$8:$N$705,Maestros!$D$31:$E$530,2,0)),\"\",VLOOKUP(Egresados!$N$8:$N$705,Maestros!$D$31:$E$530,2,0))","v":"223"},{"$f":"IF(ISERROR(VLOOKUP(Egresados!$O180,Maestros!$G$31:$J$1030,2,0)),\"\",VLOOKUP(Egresados!$O180,Maestros!$G$31:$J$1030,2,0))","v":"8"},{"$f":"CONCATENATE(Egresados!$Z$8:$Z$705,\"a\",Egresados!$AA$8:$AA$705)","v":"223a8"},{"$f":"IF(ISERROR(VLOOKUP(Egresados!$P180,Maestros!$L$31:$Q$1030,2,0)),\"\",VLOOKUP(Egresados!$P180,Maestros!$L$31:$Q$1030,2,0))","v":"219"},{"$f":"CONCATENATE(Egresados!$Z$8:$Z$705,\"a\",Egresados!$AA$8:$AA$705,\"a\",Egresados!$AC$8:$AC$705)","v":"223a8a219"},{"$f":"IF(ISERROR(VLOOKUP(Egresados!$C$8:$C$705,Maestros!$A$4:$B$21,2,0)),\"\",VLOOKUP(Egresados!$C$8:$C$705,Maestros!$A$4:$B$21,2,0))","v":"1001"},{"$f":"IF(ISERROR(VLOOKUP(Egresados!$H$8:$H$705,Maestros!$D$4:$E$21,2,0)),\"\",VLOOKUP(Egresados!$H$8:$H$705,Maestros!$D$4:$E$21,2,0))","v":"1122"},{"$f":"IF(OR(UPPER(Egresados!$J$8:$J$705)=\"SI\",UPPER(Egresados!$J$8:$J$705)=\"SÍ\"),1,IF(UPPER(Egresados!$J$8:$J$705)=\"NO\",0,\"\"))","v":0},{"$f":"IF(OR(UPPER(Egresados!$R$8:$R$705)=\"SI\",UPPER(Egresados!$R$8:$R$705)=\"SÍ\"),1,IF(UPPER(Egresados!$R$8:$R$705)=\"NO\",0,\"\"))","v":""},{"$f":"IF(OR(UPPER(Egresados!$S$8:$S$705)=\"SI\",UPPER(Egresados!$S$8:$S$705)=\"SÍ\"),1,IF(UPPER(Egresados!$S$8:$S$705)=\"NO\",0,\"\"))","v":""},{"$f":"IF(ISERROR(VLOOKUP(Egresados!$T$8:$T$705,Maestros!$S$31:$T$530,2,0)),\"\",VLOOKUP(Egresados!$T$8:$T$705,Maestros!$S$31:$T$530,2,0))","v":"62"},{"$f":"IF(ISERROR(VLOOKUP(U180,Maestros!$S$31:$T$530,2,0)),\"\",VLOOKUP(U180,Maestros!$S$31:$T$530,2,0))","v":"62"},{"$f":"IF(ISERROR(VLOOKUP(Egresados!$K$8:$K$705,Maestros!$A$31:$B$130,2,0)),\"\",VLOOKUP(Egresados!$K$8:$K$705,Maestros!$A$31:$B$130,2,0))","v":""},{"$f":"IF(LEN(tablaEgresados[[#This Row],[Nota promedio]])>0,ROUND(tablaEgresados[[#This Row],[Nota promedio]],2),\"\")","v":15.5}]
[173,null,"DNI","70862734","TUNQUE","PARRA","CAMILA NATIVIDAD","FEMENINO",null,"NO",null,null,null,"2020-1","SEDE CENTRAL","DESARROLLO AMBIENTAL",15.8,null,null,"2015-1","2015-1","20151162@une.edu.pe","anct_280312@hotmail.com",3133700,"984730221",{"$f":"IF(ISERROR(VLOOKUP(Egresados!$N$8:$N$705,Maestros!$D$31:$E$530,2,0)),\"\",VLOOKUP(Egresados!$N$8:$N$705,Maestros!$D$31:$E$530,2,0))","v":"223"},{"$f":"IF(ISERROR(VLOOKUP(Egresados!$O181,Maestros!$G$31:$J$1030,2,0)),\"\",VLOOKUP(Egresados!$O181,Maestros!$G$31:$J$1030,2,0))","v":"8"},{"$f":"CONCATENATE(Egresados!$Z$8:$Z$705,\"a\",Egresados!$AA$8:$AA$705)","v":"223a8"},{"$f":"IF(ISERROR(VLOOKUP(Egresados!$P181,Maestros!$L$31:$Q$1030,2,0)),\"\",VLOOKUP(Egresados!$P181,Maestros!$L$31:$Q$1030,2,0))","v":"219"},{"$f":"CONCATENATE(Egresados!$Z$8:$Z$705,\"a\",Egresados!$AA$8:$AA$705,\"a\",Egresados!$AC$8:$AC$705)","v":"223a8a219"},{"$f":"IF(ISERROR(VLOOKUP(Egresados!$C$8:$C$705,Maestros!$A$4:$B$21,2,0)),\"\",VLOOKUP(Egresados!$C$8:$C$705,Maestros!$A$4:$B$21,2,0))","v":"1001"},{"$f":"IF(ISERROR(VLOOKUP(Egresados!$H$8:$H$705,Maestros!$D$4:$E$21,2,0)),\"\",VLOOKUP(Egresados!$H$8:$H$705,Maestros!$D$4:$E$21,2,0))","v":"1122"},{"$f":"IF(OR(UPPER(Egresados!$J$8:$J$705)=\"SI\",UPPER(Egresados!$J$8:$J$705)=\"SÍ\"),1,IF(UPPER(Egresados!$J$8:$J$705)=\"NO\",0,\"\"))","v":0},{"$f":"IF(OR(UPPER(Egresados!$R$8:$R$705)=\"SI\",UPPER(Egresados!$R$8:$R$705)=\"SÍ\"),1,IF(UPPER(Egresados!$R$8:$R$705)=\"NO\",0,\"\"))","v":""},{"$f":"IF(OR(UPPER(Egresados!$S$8:$S$705)=\"SI\",UPPER(Egresados!$S$8:$S$705)=\"SÍ\"),1,IF(UPPER(Egresados!$S$8:$S$705)=\"NO\",0,\"\"))","v":""},{"$f":"IF(ISERROR(VLOOKUP(Egresados!$T$8:$T$705,Maestros!$S$31:$T$530,2,0)),\"\",VLOOKUP(Egresados!$T$8:$T$705,Maestros!$S$31:$T$530,2,0))","v":"62"},{"$f":"IF(ISERROR(VLOOKUP(U181,Maestros!$S$31:$T$530,2,0)),\"\",VLOOKUP(U181,Maestros!$S$31:$T$530,2,0))","v":"62"},{"$f":"IF(ISERROR(VLOOKUP(Egresados!$K$8:$K$705,Maestros!$A$31:$B$130,2,0)),\"\",VLOOKUP(Egresados!$K$8:$K$705,Maestros!$A$31:$B$130,2,0))","v":""},{"$f":"IF(LEN(tablaEgresados[[#This Row],[Nota promedio]])>0,ROUND(tablaEgresados[[#This Row],[Nota promedio]],2),\"\")","v":15.8}]
[174,null,"DNI","70081385","AYALA","MISAYHUA","GIANELLA CLAUDIA","FEMENINO",null,"NO",null,null,null,"2020-1","SEDE CENTRAL","DISEÑO INDUSTRIAL Y ARQUITECTONICO",15.59,null,null,"2015-1","2015-1","20150911@une.edu.pe","gianellayalamisayhua@gmail.com",3133700,"921714473",{"$f":"IF(ISERROR(VLOOKUP(Egresados!$N$8:$N$705,Maestros!$D$31:$E$530,2,0)),\"\",VLOOKUP(Egresados!$N$8:$N$705,Maestros!$D$31:$E$530,2,0))","v":"223"},{"$f":"IF(ISERROR(VLOOKUP(Egresados!$O182,Maestros!$G$31:$J$1030,2,0)),\"\",VLOOKUP(Egresados!$O182,Maestros!$G$31:$J$1030,2,0))","v":"8"},{"$f":"CONCATENATE(Egresados!$Z$8:$Z$705,\"a\",Egresados!$AA$8:$AA$705)","v":"223a8"},{"$f":"IF(ISERROR(VLOOKUP(Egresados!$P182,Maestros!$L$31:$Q$1030,2,0)),\"\",VLOOKUP(Egresados!$P182,Maestros!$L$31:$Q$1030,2,0))","v":"319"},{"$f":"CONCATENATE(Egresados!$Z$8:$Z$705,\"a\",Egresados!$AA$8:$AA$705,\"a\",Egresados!$AC$8:$AC$705)","v":"223a8a319"},{"$f":"IF(ISERROR(VLOOKUP(Egresados!$C$8:$C$705,Maestros!$A$4:$B$21,2,0)),\"\",VLOOKUP(Egresados!$C$8:$C$705,Maestros!$A$4:$B$21,2,0))","v":"1001"},{"$f":"IF(ISERROR(VLOOKUP(Egresados!$H$8:$H$705,Maestros!$D$4:$E$21,2,0)),\"\",VLOOKUP(Egresados!$H$8:$H$705,Maestros!$D$4:$E$21,2,0))","v":"1122"},{"$f":"IF(OR(UPPER(Egresados!$J$8:$J$705)=\"SI\",UPPER(Egresados!$J$8:$J$705)=\"SÍ\"),1,IF(UPPER(Egresados!$J$8:$J$705)=\"NO\",0,\"\"))","v":0},{"$f":"IF(OR(UPPER(Egresados!$R$8:$R$705)=\"SI\",UPPER(Egresados!$R$8:$R$705)=\"SÍ\"),1,IF(UPPER(Egresados!$R$8:$R$705)=\"NO\",0,\"\"))","v":""},{"$f":"IF(OR(UPPER(Egresados!$S$8:$S$705)=\"SI\",UPPER(Egresados!$S$8:$S$705)=\"SÍ\"),1,IF(UPPER(Egresados!$S$8:$S$705)=\"NO\",0,\"\"))","v":""},{"$f":"IF(ISERROR(VLOOKUP(Egresados!$T$8:$T$705,Maestros!$S$31:$T$530,2,0)),\"\",VLOOKUP(Egresados!$T$8:$T$705,Maestros!$S$31:$T$530,2,0))","v":"62"},{"$f":"IF(ISERROR(VLOOKUP(U182,Maestros!$S$31:$T$530,2,0)),\"\",VLOOKUP(U182,Maestros!$S$31:$T$530,2,0))","v":"62"},{"$f":"IF(ISERROR(VLOOKUP(Egresados!$K$8:$K$705,Maestros!$A$31:$B$130,2,0)),\"\",VLOOKUP(Egresados!$K$8:$K$705,Maestros!$A$31:$B$130,2,0))","v":""},{"$f":"IF(LEN(tablaEgresados[[#This Row],[Nota promedio]])>0,ROUND(tablaEgresados[[#This Row],[Nota promedio]],2),\"\")","v":15.59}]
[175,null,"DNI","73436343","CHAMBILLA","LARICO","ELIZABETH","FEMENINO",null,"NO",null,null,null,"2020-1","SEDE CENTRAL","DISEÑO INDUSTRIAL Y ARQUITECTONICO",14.53,null,null,"2013-1","2013-1","20131648@une.edu.pe","elizabeth_ch_21@hotmail.com",3133700,"971593982",{"$f":"IF(ISERROR(VLOOKUP(Egresados!$N$8:$N$705,Maestros!$D$31:$E$530,2,0)),\"\",VLOOKUP(Egresados!$N$8:$N$705,Maestros!$D$31:$E$530,2,0))","v":"223"},{"$f":"IF(ISERROR(VLOOKUP(Egresados!$O183,Maestros!$G$31:$J$1030,2,0)),\"\",VLOOKUP(Egresados!$O183,Maestros!$G$31:$J$1030,2,0))","v":"8"},{"$f":"CONCATENATE(Egresados!$Z$8:$Z$705,\"a\",Egresados!$AA$8:$AA$705)","v":"223a8"},{"$f":"IF(ISERROR(VLOOKUP(Egresados!$P183,Maestros!$L$31:$Q$1030,2,0)),\"\",VLOOKUP(Egresados!$P183,Maestros!$L$31:$Q$1030,2,0))","v":"319"},{"$f":"CONCATENATE(Egresados!$Z$8:$Z$705,\"a\",Egresados!$AA$8:$AA$705,\"a\",Egresados!$AC$8:$AC$705)","v":"223a8a319"},{"$f":"IF(ISERROR(VLOOKUP(Egresados!$C$8:$C$705,Maestros!$A$4:$B$21,2,0)),\"\",VLOOKUP(Egresados!$C$8:$C$705,Maestros!$A$4:$B$21,2,0))","v":"1001"},{"$f":"IF(ISERROR(VLOOKUP(Egresados!$H$8:$H$705,Maestros!$D$4:$E$21,2,0)),\"\",VLOOKUP(Egresados!$H$8:$H$705,Maestros!$D$4:$E$21,2,0))","v":"1122"},{"$f":"IF(OR(UPPER(Egresados!$J$8:$J$705)=\"SI\",UPPER(Egresados!$J$8:$J$705)=\"SÍ\"),1,IF(UPPER(Egresados!$J$8:$J$705)=\"NO\",0,\"\"))","v":0},{"$f":"IF(OR(UPPER(Egresados!$R$8:$R$705)=\"SI\",UPPER(Egresados!$R$8:$R$705)=\"SÍ\"),1,IF(UPPER(Egresados!$R$8:$R$705)=\"NO\",0,\"\"))","v":""},{"$f":"IF(OR(UPPER(Egresados!$S$8:$S$705)=\"SI\",UPPER(Egresados!$S$8:$S$705)=\"SÍ\"),1,IF(UPPER(Egresados!$S$8:$S$705)=\"NO\",0,\"\"))","v":""},{"$f":"IF(ISERROR(VLOOKUP(Egresados!$T$8:$T$705,Maestros!$S$31:$T$530,2,0)),\"\",VLOOKUP(Egresados!$T$8:$T$705,Maestros!$S$31:$T$530,2,0))","v":"54"},{"$f":"IF(ISERROR(VLOOKUP(U183,Maestros!$S$31:$T$530,2,0)),\"\",VLOOKUP(U183,Maestros!$S$31:$T$530,2,0))","v":"54"},{"$f":"IF(ISERROR(VLOOKUP(Egresados!$K$8:$K$705,Maestros!$A$31:$B$130,2,0)),\"\",VLOOKUP(Egresados!$K$8:$K$705,Maestros!$A$31:$B$130,2,0))","v":""},{"$f":"IF(LEN(tablaEgresados[[#This Row],[Nota promedio]])>0,ROUND(tablaEgresados[[#This Row],[Nota promedio]],2),\"\")","v":14.53}]
[176,null,"DNI","72213997","CASAVILCA","AGUILAR","KEVIN EUGENIO","MASCULINO",null,"NO",null,null,null,"2020-1","SEDE CENTRAL","DISEÑO INDUSTRIAL Y ARQUITECTONICO",14.58,null,null,"2015-1","2015-1","20150914@une.edu.pe","kevin.rasta@gmail.com",3133700,"965461766",{"$f":"IF(ISERROR(VLOOKUP(Egresados!$N$8:$N$705,Maestros!$D$31:$E$530,2,0)),\"\",VLOOKUP(Egresados!$N$8:$N$705,Maestros!$D$31:$E$530,2,0))","v":"223"},{"$f":"IF(ISERROR(VLOOKUP(Egresados!$O184,Maestros!$G$31:$J$1030,2,0)),\"\",VLOOKUP(Egresados!$O184,Maestros!$G$31:$J$1030,2,0))","v":"8"},{"$f":"CONCATENATE(Egresados!$Z$8:$Z$705,\"a\",Egresados!$AA$8:$AA$705)","v":"223a8"},{"$f":"IF(ISERROR(VLOOKUP(Egresados!$P184,Maestros!$L$31:$Q$1030,2,0)),\"\",VLOOKUP(Egresados!$P184,Maestros!$L$31:$Q$1030,2,0))","v":"319"},{"$f":"CONCATENATE(Egresados!$Z$8:$Z$705,\"a\",Egresados!$AA$8:$AA$705,\"a\",Egresados!$AC$8:$AC$705)","v":"223a8a319"},{"$f":"IF(ISERROR(VLOOKUP(Egresados!$C$8:$C$705,Maestros!$A$4:$B$21,2,0)),\"\",VLOOKUP(Egresados!$C$8:$C$705,Maestros!$A$4:$B$21,2,0))","v":"1001"},{"$f":"IF(ISERROR(VLOOKUP(Egresados!$H$8:$H$705,Maestros!$D$4:$E$21,2,0)),\"\",VLOOKUP(Egresados!$H$8:$H$705,Maestros!$D$4:$E$21,2,0))","v":"1121"},{"$f":"IF(OR(UPPER(Egresados!$J$8:$J$705)=\"SI\",UPPER(Egresados!$J$8:$J$705)=\"SÍ\"),1,IF(UPPER(Egresados!$J$8:$J$705)=\"NO\",0,\"\"))","v":0},{"$f":"IF(OR(UPPER(Egresados!$R$8:$R$705)=\"SI\",UPPER(Egresados!$R$8:$R$705)=\"SÍ\"),1,IF(UPPER(Egresados!$R$8:$R$705)=\"NO\",0,\"\"))","v":""},{"$f":"IF(OR(UPPER(Egresados!$S$8:$S$705)=\"SI\",UPPER(Egresados!$S$8:$S$705)=\"SÍ\"),1,IF(UPPER(Egresados!$S$8:$S$705)=\"NO\",0,\"\"))","v":""},{"$f":"IF(ISERROR(VLOOKUP(Egresados!$T$8:$T$705,Maestros!$S$31:$T$530,2,0)),\"\",VLOOKUP(Egresados!$T$8:$T$705,Maestros!$S$31:$T$530,2,0))","v":"62"},{"$f":"IF(ISERROR(VLOOKUP(U184,Maestros!$S$31:$T$530,2,0)),\"\",VLOOKUP(U184,Maestros!$S$31:$T$530,2,0))","v":"62"},{"$f":"IF(ISERROR(VLOOKUP(Egresados!$K$8:$K$705,Maestros!$A$31:$B$130,2,0)),\"\",VLOOKUP(Egresados!$K$8:$K$705,Maestros!$A$31:$B$130,2,0))","v":""},{"$f":"IF(LEN(tablaEgresados[[#This Row],[Nota promedio]])>0,ROUND(tablaEgresados[[#This Row],[Nota promedio]],2),\"\")","v":14.58}]
[177,null,"DNI","73995299","QUISPE","QUISPE","ESTEFANI","FEMENINO",null,"NO",null,null,null,"2020-1","SEDE CENTRAL","DISEÑO INDUSTRIAL Y ARQUITECTONICO",15.5,null,null,"2015-1","2015-1","20150927@une.edu.pe","tefaniq@hotmail.com",3133700,"970631690",{"$f":"IF(ISERROR(VLOOKUP(Egresados!$N$8:$N$705,Maestros!$D$31:$E$530,2,0)),\"\",VLOOKUP(Egresados!$N$8:$N$705,Maestros!$D$31:$E$530,2,0))","v":"223"},{"$f":"IF(ISERROR(VLOOKUP(Egresados!$O185,Maestros!$G$31:$J$1030,2,0)),\"\",VLOOKUP(Egresados!$O185,Maestros!$G$31:$J$1030,2,0))","v":"8"},{"$f":"CONCATENATE(Egresados!$Z$8:$Z$705,\"a\",Egresados!$AA$8:$AA$705)","v":"223a8"},{"$f":"IF(ISERROR(VLOOKUP(Egresados!$P185,Maestros!$L$31:$Q$1030,2,0)),\"\",VLOOKUP(Egresados!$P185,Maestros!$L$31:$Q$1030,2,0))","v":"319"},{"$f":"CONCATENATE(Egresados!$Z$8:$Z$705,\"a\",Egresados!$AA$8:$AA$705,\"a\",Egresados!$AC$8:$AC$705)","v":"223a8a319"},{"$f":"IF(ISERROR(VLOOKUP(Egresados!$C$8:$C$705,Maestros!$A$4:$B$21,2,0)),\"\",VLOOKUP(Egresados!$C$8:$C$705,Maestros!$A$4:$B$21,2,0))","v":"1001"},{"$f":"IF(ISERROR(VLOOKUP(Egresados!$H$8:$H$705,Maestros!$D$4:$E$21,2,0)),\"\",VLOOKUP(Egresados!$H$8:$H$705,Maestros!$D$4:$E$21,2,0))","v":"1122"},{"$f":"IF(OR(UPPER(Egresados!$J$8:$J$705)=\"SI\",UPPER(Egresados!$J$8:$J$705)=\"SÍ\"),1,IF(UPPER(Egresados!$J$8:$J$705)=\"NO\",0,\"\"))","v":0},{"$f":"IF(OR(UPPER(Egresados!$R$8:$R$705)=\"SI\",UPPER(Egresados!$R$8:$R$705)=\"SÍ\"),1,IF(UPPER(Egresados!$R$8:$R$705)=\"NO\",0,\"\"))","v":""},{"$f":"IF(OR(UPPER(Egresados!$S$8:$S$705)=\"SI\",UPPER(Egresados!$S$8:$S$705)=\"SÍ\"),1,IF(UPPER(Egresados!$S$8:$S$705)=\"NO\",0,\"\"))","v":""},{"$f":"IF(ISERROR(VLOOKUP(Egresados!$T$8:$T$705,Maestros!$S$31:$T$530,2,0)),\"\",VLOOKUP(Egresados!$T$8:$T$705,Maestros!$S$31:$T$530,2,0))","v":"62"},{"$f":"IF(ISERROR(VLOOKUP(U185,Maestros!$S$31:$T$530,2,0)),\"\",VLOOKUP(U185,Maestros!$S$31:$T$530,2,0))","v":"62"},{"$f":"IF(ISERROR(VLOOKUP(Egresados!$K$8:$K$705,Maestros!$A$31:$B$130,2,0)),\"\",VLOOKUP(Egresados!$K$8:$K$705,Maestros!$A$31:$B$130,2,0))","v":""},{"$f":"IF(LEN(tablaEgresados[[#This Row],[Nota promedio]])>0,ROUND(tablaEgresados[[#This Row],[Nota promedio]],2),\"\")","v":15.5}]
[178,null,"DNI","75715412","ATAULLUCO","SIHUINCHO","ALLISSON LIZETH","FEMENINO",null,"NO",null,null,null,"2020-1","SEDE CENTRAL","DISEÑO INDUSTRIAL Y ARQUITECTONICO",15.03,null,null,"2015-1","2015-1","20150910@une.edu.pe","allissonataulluco.2@gmail.com",3133700,"985011461",{"$f":"IF(ISERROR(VLOOKUP(Egresados!$N$8:$N$705,Maestros!$D$31:$E$530,2,0)),\"\",VLOOKUP(Egresados!$N$8:$N$705,Maestros!$D$31:$E$530,2,0))","v":"223"},{"$f":"IF(ISERROR(VLOOKUP(Egresados!$O186,Maestros!$G$31:$J$1030,2,0)),\"\",VLOOKUP(Egresados!$O186,Maestros!$G$31:$J$1030,2,0))","v":"8"},{"$f":"CONCATENATE(Egresados!$Z$8:$Z$705,\"a\",Egresados!$AA$8:$AA$705)","v":"223a8"},{"$f":"IF(ISERROR(VLOOKUP(Egresados!$P186,Maestros!$L$31:$Q$1030,2,0)),\"\",VLOOKUP(Egresados!$P186,Maestros!$L$31:$Q$1030,2,0))","v":"319"},{"$f":"CONCATENATE(Egresados!$Z$8:$Z$705,\"a\",Egresados!$AA$8:$AA$705,\"a\",Egresados!$AC$8:$AC$705)","v":"223a8a319"},{"$f":"IF(ISERROR(VLOOKUP(Egresados!$C$8:$C$705,Maestros!$A$4:$B$21,2,0)),\"\",VLOOKUP(Egresados!$C$8:$C$705,Maestros!$A$4:$B$21,2,0))","v":"1001"},{"$f":"IF(ISERROR(VLOOKUP(Egresados!$H$8:$H$705,Maestros!$D$4:$E$21,2,0)),\"\",VLOOKUP(Egresados!$H$8:$H$705,Maestros!$D$4:$E$21,2,0))","v":"1122"},{"$f":"IF(OR(UPPER(Egresados!$J$8:$J$705)=\"SI\",UPPER(Egresados!$J$8:$J$705)=\"SÍ\"),1,IF(UPPER(Egresados!$J$8:$J$705)=\"NO\",0,\"\"))","v":0},{"$f":"IF(OR(UPPER(Egresados!$R$8:$R$705)=\"SI\",UPPER(Egresados!$R$8:$R$705)=\"SÍ\"),1,IF(UPPER(Egresados!$R$8:$R$705)=\"NO\",0,\"\"))","v":""},{"$f":"IF(OR(UPPER(Egresados!$S$8:$S$705)=\"SI\",UPPER(Egresados!$S$8:$S$705)=\"SÍ\"),1,IF(UPPER(Egresados!$S$8:$S$705)=\"NO\",0,\"\"))","v":""},{"$f":"IF(ISERROR(VLOOKUP(Egresados!$T$8:$T$705,Maestros!$S$31:$T$530,2,0)),\"\",VLOOKUP(Egresados!$T$8:$T$705,Maestros!$S$31:$T$530,2,0))","v":"62"},{"$f":"IF(ISERROR(VLOOKUP(U186,Maestros!$S$31:$T$530,2,0)),\"\",VLOOKUP(U186,Maestros!$S$31:$T$530,2,0))","v":"62"},{"$f":"IF(ISERROR(VLOOKUP(Egresados!$K$8:$K$705,Maestros!$A$31:$B$130,2,0)),\"\",VLOOKUP(Egresados!$K$8:$K$705,Maestros!$A$31:$B$130,2,0))","v":""},{"$f":"IF(LEN(tablaEgresados[[#This Row],[Nota promedio]])>0,ROUND(tablaEgresados[[#This Row],[Nota promedio]],2),\"\")","v":15.03}]
[179,null,"DNI","75505288","ALIAGA","FLORES","ANGELA YERALDINE","FEMENINO",null,"NO",null,null,null,"2020-1","SEDE CENTRAL","DISEÑO INDUSTRIAL Y ARQUITECTONICO",15.47,null,null,"2014-1","2014-1","20141482@une.edu.pe","yeraldinealiaga@hotmail.com",3133700,"931120034",{"$f":"IF(ISERROR(VLOOKUP(Egresados!$N$8:$N$705,Maestros!$D$31:$E$530,2,0)),\"\",VLOOKUP(Egresados!$N$8:$N$705,Maestros!$D$31:$E$530,2,0))","v":"223"},{"$f":"IF(ISERROR(VLOOKUP(Egresados!$O187,Maestros!$G$31:$J$1030,2,0)),\"\",VLOOKUP(Egresados!$O187,Maestros!$G$31:$J$1030,2,0))","v":"8"},{"$f":"CONCATENATE(Egresados!$Z$8:$Z$705,\"a\",Egresados!$AA$8:$AA$705)","v":"223a8"},{"$f":"IF(ISERROR(VLOOKUP(Egresados!$P187,Maestros!$L$31:$Q$1030,2,0)),\"\",VLOOKUP(Egresados!$P187,Maestros!$L$31:$Q$1030,2,0))","v":"319"},{"$f":"CONCATENATE(Egresados!$Z$8:$Z$705,\"a\",Egresados!$AA$8:$AA$705,\"a\",Egresados!$AC$8:$AC$705)","v":"223a8a319"},{"$f":"IF(ISERROR(VLOOKUP(Egresados!$C$8:$C$705,Maestros!$A$4:$B$21,2,0)),\"\",VLOOKUP(Egresados!$C$8:$C$705,Maestros!$A$4:$B$21,2,0))","v":"1001"},{"$f":"IF(ISERROR(VLOOKUP(Egresados!$H$8:$H$705,Maestros!$D$4:$E$21,2,0)),\"\",VLOOKUP(Egresados!$H$8:$H$705,Maestros!$D$4:$E$21,2,0))","v":"1122"},{"$f":"IF(OR(UPPER(Egresados!$J$8:$J$705)=\"SI\",UPPER(Egresados!$J$8:$J$705)=\"SÍ\"),1,IF(UPPER(Egresados!$J$8:$J$705)=\"NO\",0,\"\"))","v":0},{"$f":"IF(OR(UPPER(Egresados!$R$8:$R$705)=\"SI\",UPPER(Egresados!$R$8:$R$705)=\"SÍ\"),1,IF(UPPER(Egresados!$R$8:$R$705)=\"NO\",0,\"\"))","v":""},{"$f":"IF(OR(UPPER(Egresados!$S$8:$S$705)=\"SI\",UPPER(Egresados!$S$8:$S$705)=\"SÍ\"),1,IF(UPPER(Egresados!$S$8:$S$705)=\"NO\",0,\"\"))","v":""},{"$f":"IF(ISERROR(VLOOKUP(Egresados!$T$8:$T$705,Maestros!$S$31:$T$530,2,0)),\"\",VLOOKUP(Egresados!$T$8:$T$705,Maestros!$S$31:$T$530,2,0))","v":"58"},{"$f":"IF(ISERROR(VLOOKUP(U187,Maestros!$S$31:$T$530,2,0)),\"\",VLOOKUP(U187,Maestros!$S$31:$T$530,2,0))","v":"58"},{"$f":"IF(ISERROR(VLOOKUP(Egresados!$K$8:$K$705,Maestros!$A$31:$B$130,2,0)),\"\",VLOOKUP(Egresados!$K$8:$K$705,Maestros!$A$31:$B$130,2,0))","v":""},{"$f":"IF(LEN(tablaEgresados[[#This Row],[Nota promedio]])>0,ROUND(tablaEgresados[[#This Row],[Nota promedio]],2),\"\")","v":15.47}]
[180,null,"DNI","71769475","HUAMAN","MAQUI","FABIOLA SANDY","FEMENINO",null,"NO",null,null,null,"2020-1","SEDE CENTRAL","DISEÑO INDUSTRIAL Y ARQUITECTONICO",16.04,null,null,"2015-1","2015-1","20150918@une.edu.pe","sandy02_hm@outlook.com",3133700,"976039727",{"$f":"IF(ISERROR(VLOOKUP(Egresados!$N$8:$N$705,Maestros!$D$31:$E$530,2,0)),\"\",VLOOKUP(Egresados!$N$8:$N$705,Maestros!$D$31:$E$530,2,0))","v":"223"},{"$f":"IF(ISERROR(VLOOKUP(Egresados!$O188,Maestros!$G$31:$J$1030,2,0)),\"\",VLOOKUP(Egresados!$O188,Maestros!$G$31:$J$1030,2,0))","v":"8"},{"$f":"CONCATENATE(Egresados!$Z$8:$Z$705,\"a\",Egresados!$AA$8:$AA$705)","v":"223a8"},{"$f":"IF(ISERROR(VLOOKUP(Egresados!$P188,Maestros!$L$31:$Q$1030,2,0)),\"\",VLOOKUP(Egresados!$P188,Maestros!$L$31:$Q$1030,2,0))","v":"319"},{"$f":"CONCATENATE(Egresados!$Z$8:$Z$705,\"a\",Egresados!$AA$8:$AA$705,\"a\",Egresados!$AC$8:$AC$705)","v":"223a8a319"},{"$f":"IF(ISERROR(VLOOKUP(Egresados!$C$8:$C$705,Maestros!$A$4:$B$21,2,0)),\"\",VLOOKUP(Egresados!$C$8:$C$705,Maestros!$A$4:$B$21,2,0))","v":"1001"},{"$f":"IF(ISERROR(VLOOKUP(Egresados!$H$8:$H$705,Maestros!$D$4:$E$21,2,0)),\"\",VLOOKUP(Egresados!$H$8:$H$705,Maestros!$D$4:$E$21,2,0))","v":"1122"},{"$f":"IF(OR(UPPER(Egresados!$J$8:$J$705)=\"SI\",UPPER(Egresados!$J$8:$J$705)=\"SÍ\"),1,IF(UPPER(Egresados!$J$8:$J$705)=\"NO\",0,\"\"))","v":0},{"$f":"IF(OR(UPPER(Egresados!$R$8:$R$705)=\"SI\",UPPER(Egresados!$R$8:$R$705)=\"SÍ\"),1,IF(UPPER(Egresados!$R$8:$R$705)=\"NO\",0,\"\"))","v":""},{"$f":"IF(OR(UPPER(Egresados!$S$8:$S$705)=\"SI\",UPPER(Egresados!$S$8:$S$705)=\"SÍ\"),1,IF(UPPER(Egresados!$S$8:$S$705)=\"NO\",0,\"\"))","v":""},{"$f":"IF(ISERROR(VLOOKUP(Egresados!$T$8:$T$705,Maestros!$S$31:$T$530,2,0)),\"\",VLOOKUP(Egresados!$T$8:$T$705,Maestros!$S$31:$T$530,2,0))","v":"62"},{"$f":"IF(ISERROR(VLOOKUP(U188,Maestros!$S$31:$T$530,2,0)),\"\",VLOOKUP(U188,Maestros!$S$31:$T$530,2,0))","v":"62"},{"$f":"IF(ISERROR(VLOOKUP(Egresados!$K$8:$K$705,Maestros!$A$31:$B$130,2,0)),\"\",VLOOKUP(Egresados!$K$8:$K$705,Maestros!$A$31:$B$130,2,0))","v":""},{"$f":"IF(LEN(tablaEgresados[[#This Row],[Nota promedio]])>0,ROUND(tablaEgresados[[#This Row],[Nota promedio]],2),\"\")","v":16.04}]
[181,null,"DNI","70788826","LAURENTE","LLIUYACC","JULIO KENEDY","MASCULINO",null,"NO",null,null,null,"2020-1","SEDE CENTRAL","DISEÑO INDUSTRIAL Y ARQUITECTONICO",14.55,null,null,"2015-1","2015-1","20150920@une.edu.pe","jkl.arquitecto@gmail.com",3133700,"922482784",{"$f":"IF(ISERROR(VLOOKUP(Egresados!$N$8:$N$705,Maestros!$D$31:$E$530,2,0)),\"\",VLOOKUP(Egresados!$N$8:$N$705,Maestros!$D$31:$E$530,2,0))","v":"223"},{"$f":"IF(ISERROR(VLOOKUP(Egresados!$O189,Maestros!$G$31:$J$1030,2,0)),\"\",VLOOKUP(Egresados!$O189,Maestros!$G$31:$J$1030,2,0))","v":"8"},{"$f":"CONCATENATE(Egresados!$Z$8:$Z$705,\"a\",Egresados!$AA$8:$AA$705)","v":"223a8"},{"$f":"IF(ISERROR(VLOOKUP(Egresados!$P189,Maestros!$L$31:$Q$1030,2,0)),\"\",VLOOKUP(Egresados!$P189,Maestros!$L$31:$Q$1030,2,0))","v":"319"},{"$f":"CONCATENATE(Egresados!$Z$8:$Z$705,\"a\",Egresados!$AA$8:$AA$705,\"a\",Egresados!$AC$8:$AC$705)","v":"223a8a319"},{"$f":"IF(ISERROR(VLOOKUP(Egresados!$C$8:$C$705,Maestros!$A$4:$B$21,2,0)),\"\",VLOOKUP(Egresados!$C$8:$C$705,Maestros!$A$4:$B$21,2,0))","v":"1001"},{"$f":"IF(ISERROR(VLOOKUP(Egresados!$H$8:$H$705,Maestros!$D$4:$E$21,2,0)),\"\",VLOOKUP(Egresados!$H$8:$H$705,Maestros!$D$4:$E$21,2,0))","v":"1121"},{"$f":"IF(OR(UPPER(Egresados!$J$8:$J$705)=\"SI\",UPPER(Egresados!$J$8:$J$705)=\"SÍ\"),1,IF(UPPER(Egresados!$J$8:$J$705)=\"NO\",0,\"\"))","v":0},{"$f":"IF(OR(UPPER(Egresados!$R$8:$R$705)=\"SI\",UPPER(Egresados!$R$8:$R$705)=\"SÍ\"),1,IF(UPPER(Egresados!$R$8:$R$705)=\"NO\",0,\"\"))","v":""},{"$f":"IF(OR(UPPER(Egresados!$S$8:$S$705)=\"SI\",UPPER(Egresados!$S$8:$S$705)=\"SÍ\"),1,IF(UPPER(Egresados!$S$8:$S$705)=\"NO\",0,\"\"))","v":""},{"$f":"IF(ISERROR(VLOOKUP(Egresados!$T$8:$T$705,Maestros!$S$31:$T$530,2,0)),\"\",VLOOKUP(Egresados!$T$8:$T$705,Maestros!$S$31:$T$530,2,0))","v":"62"},{"$f":"IF(ISERROR(VLOOKUP(U189,Maestros!$S$31:$T$530,2,0)),\"\",VLOOKUP(U189,Maestros!$S$31:$T$530,2,0))","v":"62"},{"$f":"IF(ISERROR(VLOOKUP(Egresados!$K$8:$K$705,Maestros!$A$31:$B$130,2,0)),\"\",VLOOKUP(Egresados!$K$8:$K$705,Maestros!$A$31:$B$130,2,0))","v":""},{"$f":"IF(LEN(tablaEgresados[[#This Row],[Nota promedio]])>0,ROUND(tablaEgresados[[#This Row],[Nota promedio]],2),\"\")","v":14.55}]
[182,null,"DNI","44552495","DAGA","VILLEGAS","PATRICIA SUSYBEL","FEMENINO",null,"NO",null,null,null,"2020-1","SEDE CENTRAL","DISEÑO INDUSTRIAL Y ARQUITECTONICO",14.37,null,null,"2006-1","2006-1","20062143@une.edu.pe","edgardamir17@gmail.com",3133700,"939558850",{"$f":"IF(ISERROR(VLOOKUP(Egresados!$N$8:$N$705,Maestros!$D$31:$E$530,2,0)),\"\",VLOOKUP(Egresados!$N$8:$N$705,Maestros!$D$31:$E$530,2,0))","v":"223"},{"$f":"IF(ISERROR(VLOOKUP(Egresados!$O190,Maestros!$G$31:$J$1030,2,0)),\"\",VLOOKUP(Egresados!$O190,Maestros!$G$31:$J$1030,2,0))","v":"8"},{"$f":"CONCATENATE(Egresados!$Z$8:$Z$705,\"a\",Egresados!$AA$8:$AA$705)","v":"223a8"},{"$f":"IF(ISERROR(VLOOKUP(Egresados!$P190,Maestros!$L$31:$Q$1030,2,0)),\"\",VLOOKUP(Egresados!$P190,Maestros!$L$31:$Q$1030,2,0))","v":"319"},{"$f":"CONCATENATE(Egresados!$Z$8:$Z$705,\"a\",Egresados!$AA$8:$AA$705,\"a\",Egresados!$AC$8:$AC$705)","v":"223a8a319"},{"$f":"IF(ISERROR(VLOOKUP(Egresados!$C$8:$C$705,Maestros!$A$4:$B$21,2,0)),\"\",VLOOKUP(Egresados!$C$8:$C$705,Maestros!$A$4:$B$21,2,0))","v":"1001"},{"$f":"IF(ISERROR(VLOOKUP(Egresados!$H$8:$H$705,Maestros!$D$4:$E$21,2,0)),\"\",VLOOKUP(Egresados!$H$8:$H$705,Maestros!$D$4:$E$21,2,0))","v":"1122"},{"$f":"IF(OR(UPPER(Egresados!$J$8:$J$705)=\"SI\",UPPER(Egresados!$J$8:$J$705)=\"SÍ\"),1,IF(UPPER(Egresados!$J$8:$J$705)=\"NO\",0,\"\"))","v":0},{"$f":"IF(OR(UPPER(Egresados!$R$8:$R$705)=\"SI\",UPPER(Egresados!$R$8:$R$705)=\"SÍ\"),1,IF(UPPER(Egresados!$R$8:$R$705)=\"NO\",0,\"\"))","v":""},{"$f":"IF(OR(UPPER(Egresados!$S$8:$S$705)=\"SI\",UPPER(Egresados!$S$8:$S$705)=\"SÍ\"),1,IF(UPPER(Egresados!$S$8:$S$705)=\"NO\",0,\"\"))","v":""},{"$f":"IF(ISERROR(VLOOKUP(Egresados!$T$8:$T$705,Maestros!$S$31:$T$530,2,0)),\"\",VLOOKUP(Egresados!$T$8:$T$705,Maestros!$S$31:$T$530,2,0))","v":"26"},{"$f":"IF(ISERROR(VLOOKUP(U190,Maestros!$S$31:$T$530,2,0)),\"\",VLOOKUP(U190,Maestros!$S$31:$T$530,2,0))","v":"26"},{"$f":"IF(ISERROR(VLOOKUP(Egresados!$K$8:$K$705,Maestros!$A$31:$B$130,2,0)),\"\",VLOOKUP(Egresados!$K$8:$K$705,Maestros!$A$31:$B$130,2,0))","v":""},{"$f":"IF(LEN(tablaEgresados[[#This Row],[Nota promedio]])>0,ROUND(tablaEgresados[[#This Row],[Nota promedio]],2),\"\")","v":14.37}]
[183,null,"DNI","74022049","PEDRAGAS","ENRIQUEZ","MIGUEL ANGEL","MASCULINO",null,"NO",null,null,null,"2020-1","SEDE CENTRAL","EBANISTERIA Y DECORACION",13.84,null,null,"2015-1","2015-1","20150820@une.edu.pe","acuariomigueltk@gmail.com",3133700,"929081050",{"$f":"IF(ISERROR(VLOOKUP(Egresados!$N$8:$N$705,Maestros!$D$31:$E$530,2,0)),\"\",VLOOKUP(Egresados!$N$8:$N$705,Maestros!$D$31:$E$530,2,0))","v":"223"},{"$f":"IF(ISERROR(VLOOKUP(Egresados!$O191,Maestros!$G$31:$J$1030,2,0)),\"\",VLOOKUP(Egresados!$O191,Maestros!$G$31:$J$1030,2,0))","v":"8"},{"$f":"CONCATENATE(Egresados!$Z$8:$Z$705,\"a\",Egresados!$AA$8:$AA$705)","v":"223a8"},{"$f":"IF(ISERROR(VLOOKUP(Egresados!$P191,Maestros!$L$31:$Q$1030,2,0)),\"\",VLOOKUP(Egresados!$P191,Maestros!$L$31:$Q$1030,2,0))","v":"313"},{"$f":"CONCATENATE(Egresados!$Z$8:$Z$705,\"a\",Egresados!$AA$8:$AA$705,\"a\",Egresados!$AC$8:$AC$705)","v":"223a8a313"},{"$f":"IF(ISERROR(VLOOKUP(Egresados!$C$8:$C$705,Maestros!$A$4:$B$21,2,0)),\"\",VLOOKUP(Egresados!$C$8:$C$705,Maestros!$A$4:$B$21,2,0))","v":"1001"},{"$f":"IF(ISERROR(VLOOKUP(Egresados!$H$8:$H$705,Maestros!$D$4:$E$21,2,0)),\"\",VLOOKUP(Egresados!$H$8:$H$705,Maestros!$D$4:$E$21,2,0))","v":"1121"},{"$f":"IF(OR(UPPER(Egresados!$J$8:$J$705)=\"SI\",UPPER(Egresados!$J$8:$J$705)=\"SÍ\"),1,IF(UPPER(Egresados!$J$8:$J$705)=\"NO\",0,\"\"))","v":0},{"$f":"IF(OR(UPPER(Egresados!$R$8:$R$705)=\"SI\",UPPER(Egresados!$R$8:$R$705)=\"SÍ\"),1,IF(UPPER(Egresados!$R$8:$R$705)=\"NO\",0,\"\"))","v":""},{"$f":"IF(OR(UPPER(Egresados!$S$8:$S$705)=\"SI\",UPPER(Egresados!$S$8:$S$705)=\"SÍ\"),1,IF(UPPER(Egresados!$S$8:$S$705)=\"NO\",0,\"\"))","v":""},{"$f":"IF(ISERROR(VLOOKUP(Egresados!$T$8:$T$705,Maestros!$S$31:$T$530,2,0)),\"\",VLOOKUP(Egresados!$T$8:$T$705,Maestros!$S$31:$T$530,2,0))","v":"62"},{"$f":"IF(ISERROR(VLOOKUP(U191,Maestros!$S$31:$T$530,2,0)),\"\",VLOOKUP(U191,Maestros!$S$31:$T$530,2,0))","v":"62"},{"$f":"IF(ISERROR(VLOOKUP(Egresados!$K$8:$K$705,Maestros!$A$31:$B$130,2,0)),\"\",VLOOKUP(Egresados!$K$8:$K$705,Maestros!$A$31:$B$130,2,0))","v":""},{"$f":"IF(LEN(tablaEgresados[[#This Row],[Nota promedio]])>0,ROUND(tablaEgresados[[#This Row],[Nota promedio]],2),\"\")","v":13.84}]
[184,null,"DNI","45819676","PINTO","GARCIA","KUNTI DAVI","FEMENINO",null,"NO",null,null,null,"2020-1","SEDE CENTRAL","EBANISTERIA Y DECORACION",14.12,null,null,"2015-1","2015-1","20150821@une.edu.pe","devipintogarcia@hotmail.com",3133700,"930238342",{"$f":"IF(ISERROR(VLOOKUP(Egresados!$N$8:$N$705,Maestros!$D$31:$E$530,2,0)),\"\",VLOOKUP(Egresados!$N$8:$N$705,Maestros!$D$31:$E$530,2,0))","v":"223"},{"$f":"IF(ISERROR(VLOOKUP(Egresados!$O192,Maestros!$G$31:$J$1030,2,0)),\"\",VLOOKUP(Egresados!$O192,Maestros!$G$31:$J$1030,2,0))","v":"8"},{"$f":"CONCATENATE(Egresados!$Z$8:$Z$705,\"a\",Egresados!$AA$8:$AA$705)","v":"223a8"},{"$f":"IF(ISERROR(VLOOKUP(Egresados!$P192,Maestros!$L$31:$Q$1030,2,0)),\"\",VLOOKUP(Egresados!$P192,Maestros!$L$31:$Q$1030,2,0))","v":"313"},{"$f":"CONCATENATE(Egresados!$Z$8:$Z$705,\"a\",Egresados!$AA$8:$AA$705,\"a\",Egresados!$AC$8:$AC$705)","v":"223a8a313"},{"$f":"IF(ISERROR(VLOOKUP(Egresados!$C$8:$C$705,Maestros!$A$4:$B$21,2,0)),\"\",VLOOKUP(Egresados!$C$8:$C$705,Maestros!$A$4:$B$21,2,0))","v":"1001"},{"$f":"IF(ISERROR(VLOOKUP(Egresados!$H$8:$H$705,Maestros!$D$4:$E$21,2,0)),\"\",VLOOKUP(Egresados!$H$8:$H$705,Maestros!$D$4:$E$21,2,0))","v":"1122"},{"$f":"IF(OR(UPPER(Egresados!$J$8:$J$705)=\"SI\",UPPER(Egresados!$J$8:$J$705)=\"SÍ\"),1,IF(UPPER(Egresados!$J$8:$J$705)=\"NO\",0,\"\"))","v":0},{"$f":"IF(OR(UPPER(Egresados!$R$8:$R$705)=\"SI\",UPPER(Egresados!$R$8:$R$705)=\"SÍ\"),1,IF(UPPER(Egresados!$R$8:$R$705)=\"NO\",0,\"\"))","v":""},{"$f":"IF(OR(UPPER(Egresados!$S$8:$S$705)=\"SI\",UPPER(Egresados!$S$8:$S$705)=\"SÍ\"),1,IF(UPPER(Egresados!$S$8:$S$705)=\"NO\",0,\"\"))","v":""},{"$f":"IF(ISERROR(VLOOKUP(Egresados!$T$8:$T$705,Maestros!$S$31:$T$530,2,0)),\"\",VLOOKUP(Egresados!$T$8:$T$705,Maestros!$S$31:$T$530,2,0))","v":"62"},{"$f":"IF(ISERROR(VLOOKUP(U192,Maestros!$S$31:$T$530,2,0)),\"\",VLOOKUP(U192,Maestros!$S$31:$T$530,2,0))","v":"62"},{"$f":"IF(ISERROR(VLOOKUP(Egresados!$K$8:$K$705,Maestros!$A$31:$B$130,2,0)),\"\",VLOOKUP(Egresados!$K$8:$K$705,Maestros!$A$31:$B$130,2,0))","v":""},{"$f":"IF(LEN(tablaEgresados[[#This Row],[Nota promedio]])>0,ROUND(tablaEgresados[[#This Row],[Nota promedio]],2),\"\")","v":14.12}]
[185,null,"DNI","70255749","HUANCA","GUTIERREZ","ALINDOR","MASCULINO",null,"NO",null,null,null,"2020-1","SEDE CENTRAL","EBANISTERIA Y DECORACION",14.8,null,null,"2015-1","2015-1","20150818@une.edu.pe","huancaalindor@47gmail.com",3133700,"939599094",{"$f":"IF(ISERROR(VLOOKUP(Egresados!$N$8:$N$705,Maestros!$D$31:$E$530,2,0)),\"\",VLOOKUP(Egresados!$N$8:$N$705,Maestros!$D$31:$E$530,2,0))","v":"223"},{"$f":"IF(ISERROR(VLOOKUP(Egresados!$O193,Maestros!$G$31:$J$1030,2,0)),\"\",VLOOKUP(Egresados!$O193,Maestros!$G$31:$J$1030,2,0))","v":"8"},{"$f":"CONCATENATE(Egresados!$Z$8:$Z$705,\"a\",Egresados!$AA$8:$AA$705)","v":"223a8"},{"$f":"IF(ISERROR(VLOOKUP(Egresados!$P193,Maestros!$L$31:$Q$1030,2,0)),\"\",VLOOKUP(Egresados!$P193,Maestros!$L$31:$Q$1030,2,0))","v":"313"},{"$f":"CONCATENATE(Egresados!$Z$8:$Z$705,\"a\",Egresados!$AA$8:$AA$705,\"a\",Egresados!$AC$8:$AC$705)","v":"223a8a313"},{"$f":"IF(ISERROR(VLOOKUP(Egresados!$C$8:$C$705,Maestros!$A$4:$B$21,2,0)),\"\",VLOOKUP(Egresados!$C$8:$C$705,Maestros!$A$4:$B$21,2,0))","v":"1001"},{"$f":"IF(ISERROR(VLOOKUP(Egresados!$H$8:$H$705,Maestros!$D$4:$E$21,2,0)),\"\",VLOOKUP(Egresados!$H$8:$H$705,Maestros!$D$4:$E$21,2,0))","v":"1121"},{"$f":"IF(OR(UPPER(Egresados!$J$8:$J$705)=\"SI\",UPPER(Egresados!$J$8:$J$705)=\"SÍ\"),1,IF(UPPER(Egresados!$J$8:$J$705)=\"NO\",0,\"\"))","v":0},{"$f":"IF(OR(UPPER(Egresados!$R$8:$R$705)=\"SI\",UPPER(Egresados!$R$8:$R$705)=\"SÍ\"),1,IF(UPPER(Egresados!$R$8:$R$705)=\"NO\",0,\"\"))","v":""},{"$f":"IF(OR(UPPER(Egresados!$S$8:$S$705)=\"SI\",UPPER(Egresados!$S$8:$S$705)=\"SÍ\"),1,IF(UPPER(Egresados!$S$8:$S$705)=\"NO\",0,\"\"))","v":""},{"$f":"IF(ISERROR(VLOOKUP(Egresados!$T$8:$T$705,Maestros!$S$31:$T$530,2,0)),\"\",VLOOKUP(Egresados!$T$8:$T$705,Maestros!$S$31:$T$530,2,0))","v":"62"},{"$f":"IF(ISERROR(VLOOKUP(U193,Maestros!$S$31:$T$530,2,0)),\"\",VLOOKUP(U193,Maestros!$S$31:$T$530,2,0))","v":"62"},{"$f":"IF(ISERROR(VLOOKUP(Egresados!$K$8:$K$705,Maestros!$A$31:$B$130,2,0)),\"\",VLOOKUP(Egresados!$K$8:$K$705,Maestros!$A$31:$B$130,2,0))","v":""},{"$f":"IF(LEN(tablaEgresados[[#This Row],[Nota promedio]])>0,ROUND(tablaEgresados[[#This Row],[Nota promedio]],2),\"\")","v":14.8}]
[186,null,"DNI","63387559","BERNABE","PEÑA","ANALI JUSTINA","MASCULINO",null,"NO",null,null,null,"2020-1","SEDE CENTRAL","EBANISTERIA Y DECORACION",14.44,null,null,"2015-1","2015-1","20150813@une.edu.pe","kualitiz.97@gmail.com",3133700,"928962196",{"$f":"IF(ISERROR(VLOOKUP(Egresados!$N$8:$N$705,Maestros!$D$31:$E$530,2,0)),\"\",VLOOKUP(Egresados!$N$8:$N$705,Maestros!$D$31:$E$530,2,0))","v":"223"},{"$f":"IF(ISERROR(VLOOKUP(Egresados!$O194,Maestros!$G$31:$J$1030,2,0)),\"\",VLOOKUP(Egresados!$O194,Maestros!$G$31:$J$1030,2,0))","v":"8"},{"$f":"CONCATENATE(Egresados!$Z$8:$Z$705,\"a\",Egresados!$AA$8:$AA$705)","v":"223a8"},{"$f":"IF(ISERROR(VLOOKUP(Egresados!$P194,Maestros!$L$31:$Q$1030,2,0)),\"\",VLOOKUP(Egresados!$P194,Maestros!$L$31:$Q$1030,2,0))","v":"313"},{"$f":"CONCATENATE(Egresados!$Z$8:$Z$705,\"a\",Egresados!$AA$8:$AA$705,\"a\",Egresados!$AC$8:$AC$705)","v":"223a8a313"},{"$f":"IF(ISERROR(VLOOKUP(Egresados!$C$8:$C$705,Maestros!$A$4:$B$21,2,0)),\"\",VLOOKUP(Egresados!$C$8:$C$705,Maestros!$A$4:$B$21,2,0))","v":"1001"},{"$f":"IF(ISERROR(VLOOKUP(Egresados!$H$8:$H$705,Maestros!$D$4:$E$21,2,0)),\"\",VLOOKUP(Egresados!$H$8:$H$705,Maestros!$D$4:$E$21,2,0))","v":"1121"},{"$f":"IF(OR(UPPER(Egresados!$J$8:$J$705)=\"SI\",UPPER(Egresados!$J$8:$J$705)=\"SÍ\"),1,IF(UPPER(Egresados!$J$8:$J$705)=\"NO\",0,\"\"))","v":0},{"$f":"IF(OR(UPPER(Egresados!$R$8:$R$705)=\"SI\",UPPER(Egresados!$R$8:$R$705)=\"SÍ\"),1,IF(UPPER(Egresados!$R$8:$R$705)=\"NO\",0,\"\"))","v":""},{"$f":"IF(OR(UPPER(Egresados!$S$8:$S$705)=\"SI\",UPPER(Egresados!$S$8:$S$705)=\"SÍ\"),1,IF(UPPER(Egresados!$S$8:$S$705)=\"NO\",0,\"\"))","v":""},{"$f":"IF(ISERROR(VLOOKUP(Egresados!$T$8:$T$705,Maestros!$S$31:$T$530,2,0)),\"\",VLOOKUP(Egresados!$T$8:$T$705,Maestros!$S$31:$T$530,2,0))","v":"62"},{"$f":"IF(ISERROR(VLOOKUP(U194,Maestros!$S$31:$T$530,2,0)),\"\",VLOOKUP(U194,Maestros!$S$31:$T$530,2,0))","v":"62"},{"$f":"IF(ISERROR(VLOOKUP(Egresados!$K$8:$K$705,Maestros!$A$31:$B$130,2,0)),\"\",VLOOKUP(Egresados!$K$8:$K$705,Maestros!$A$31:$B$130,2,0))","v":""},{"$f":"IF(LEN(tablaEgresados[[#This Row],[Nota promedio]])>0,ROUND(tablaEgresados[[#This Row],[Nota promedio]],2),\"\")","v":14.44}]
[187,null,"DNI","47167579","GRANADOS","CARDENAS","ABEL EFRAIN","MASCULINO",null,"NO",null,null,null,"2020-1","SEDE CENTRAL","EDUCACION ARTISTICA - ARTES PLASTICAS-TEATRO - MUSICA",15.98,null,null,"2015-1","2015-1","20150566@une.edu.pe","abelgranadosc@gmail.com",3133700,"992957967",{"$f":"IF(ISERROR(VLOOKUP(Egresados!$N$8:$N$705,Maestros!$D$31:$E$530,2,0)),\"\",VLOOKUP(Egresados!$N$8:$N$705,Maestros!$D$31:$E$530,2,0))","v":"223"},{"$f":"IF(ISERROR(VLOOKUP(Egresados!$O195,Maestros!$G$31:$J$1030,2,0)),\"\",VLOOKUP(Egresados!$O195,Maestros!$G$31:$J$1030,2,0))","v":"8"},{"$f":"CONCATENATE(Egresados!$Z$8:$Z$705,\"a\",Egresados!$AA$8:$AA$705)","v":"223a8"},{"$f":"IF(ISERROR(VLOOKUP(Egresados!$P195,Maestros!$L$31:$Q$1030,2,0)),\"\",VLOOKUP(Egresados!$P195,Maestros!$L$31:$Q$1030,2,0))","v":"330"},{"$f":"CONCATENATE(Egresados!$Z$8:$Z$705,\"a\",Egresados!$AA$8:$AA$705,\"a\",Egresados!$AC$8:$AC$705)","v":"223a8a330"},{"$f":"IF(ISERROR(VLOOKUP(Egresados!$C$8:$C$705,Maestros!$A$4:$B$21,2,0)),\"\",VLOOKUP(Egresados!$C$8:$C$705,Maestros!$A$4:$B$21,2,0))","v":"1001"},{"$f":"IF(ISERROR(VLOOKUP(Egresados!$H$8:$H$705,Maestros!$D$4:$E$21,2,0)),\"\",VLOOKUP(Egresados!$H$8:$H$705,Maestros!$D$4:$E$21,2,0))","v":"1121"},{"$f":"IF(OR(UPPER(Egresados!$J$8:$J$705)=\"SI\",UPPER(Egresados!$J$8:$J$705)=\"SÍ\"),1,IF(UPPER(Egresados!$J$8:$J$705)=\"NO\",0,\"\"))","v":0},{"$f":"IF(OR(UPPER(Egresados!$R$8:$R$705)=\"SI\",UPPER(Egresados!$R$8:$R$705)=\"SÍ\"),1,IF(UPPER(Egresados!$R$8:$R$705)=\"NO\",0,\"\"))","v":""},{"$f":"IF(OR(UPPER(Egresados!$S$8:$S$705)=\"SI\",UPPER(Egresados!$S$8:$S$705)=\"SÍ\"),1,IF(UPPER(Egresados!$S$8:$S$705)=\"NO\",0,\"\"))","v":""},{"$f":"IF(ISERROR(VLOOKUP(Egresados!$T$8:$T$705,Maestros!$S$31:$T$530,2,0)),\"\",VLOOKUP(Egresados!$T$8:$T$705,Maestros!$S$31:$T$530,2,0))","v":"62"},{"$f":"IF(ISERROR(VLOOKUP(U195,Maestros!$S$31:$T$530,2,0)),\"\",VLOOKUP(U195,Maestros!$S$31:$T$530,2,0))","v":"62"},{"$f":"IF(ISERROR(VLOOKUP(Egresados!$K$8:$K$705,Maestros!$A$31:$B$130,2,0)),\"\",VLOOKUP(Egresados!$K$8:$K$705,Maestros!$A$31:$B$130,2,0))","v":""},{"$f":"IF(LEN(tablaEgresados[[#This Row],[Nota promedio]])>0,ROUND(tablaEgresados[[#This Row],[Nota promedio]],2),\"\")","v":15.98}]
[188,null,"DNI","48845608","PEREZ","GARCIA","JUAN LUIS","MASCULINO",null,"NO",null,null,null,"2020-1","SEDE CENTRAL","EDUCACION ARTISTICA - ARTES PLASTICAS-TEATRO - MUSICA",14.49,null,null,"2015-1","2015-1","20150569@une.edu.pe","luisito_angel_tlv@hotmail.com",3133700,"963065337",{"$f":"IF(ISERROR(VLOOKUP(Egresados!$N$8:$N$705,Maestros!$D$31:$E$530,2,0)),\"\",VLOOKUP(Egresados!$N$8:$N$705,Maestros!$D$31:$E$530,2,0))","v":"223"},{"$f":"IF(ISERROR(VLOOKUP(Egresados!$O196,Maestros!$G$31:$J$1030,2,0)),\"\",VLOOKUP(Egresados!$O196,Maestros!$G$31:$J$1030,2,0))","v":"8"},{"$f":"CONCATENATE(Egresados!$Z$8:$Z$705,\"a\",Egresados!$AA$8:$AA$705)","v":"223a8"},{"$f":"IF(ISERROR(VLOOKUP(Egresados!$P196,Maestros!$L$31:$Q$1030,2,0)),\"\",VLOOKUP(Egresados!$P196,Maestros!$L$31:$Q$1030,2,0))","v":"330"},{"$f":"CONCATENATE(Egresados!$Z$8:$Z$705,\"a\",Egresados!$AA$8:$AA$705,\"a\",Egresados!$AC$8:$AC$705)","v":"223a8a330"},{"$f":"IF(ISERROR(VLOOKUP(Egresados!$C$8:$C$705,Maestros!$A$4:$B$21,2,0)),\"\",VLOOKUP(Egresados!$C$8:$C$705,Maestros!$A$4:$B$21,2,0))","v":"1001"},{"$f":"IF(ISERROR(VLOOKUP(Egresados!$H$8:$H$705,Maestros!$D$4:$E$21,2,0)),\"\",VLOOKUP(Egresados!$H$8:$H$705,Maestros!$D$4:$E$21,2,0))","v":"1121"},{"$f":"IF(OR(UPPER(Egresados!$J$8:$J$705)=\"SI\",UPPER(Egresados!$J$8:$J$705)=\"SÍ\"),1,IF(UPPER(Egresados!$J$8:$J$705)=\"NO\",0,\"\"))","v":0},{"$f":"IF(OR(UPPER(Egresados!$R$8:$R$705)=\"SI\",UPPER(Egresados!$R$8:$R$705)=\"SÍ\"),1,IF(UPPER(Egresados!$R$8:$R$705)=\"NO\",0,\"\"))","v":""},{"$f":"IF(OR(UPPER(Egresados!$S$8:$S$705)=\"SI\",UPPER(Egresados!$S$8:$S$705)=\"SÍ\"),1,IF(UPPER(Egresados!$S$8:$S$705)=\"NO\",0,\"\"))","v":""},{"$f":"IF(ISERROR(VLOOKUP(Egresados!$T$8:$T$705,Maestros!$S$31:$T$530,2,0)),\"\",VLOOKUP(Egresados!$T$8:$T$705,Maestros!$S$31:$T$530,2,0))","v":"62"},{"$f":"IF(ISERROR(VLOOKUP(U196,Maestros!$S$31:$T$530,2,0)),\"\",VLOOKUP(U196,Maestros!$S$31:$T$530,2,0))","v":"62"},{"$f":"IF(ISERROR(VLOOKUP(Egresados!$K$8:$K$705,Maestros!$A$31:$B$130,2,0)),\"\",VLOOKUP(Egresados!$K$8:$K$705,Maestros!$A$31:$B$130,2,0))","v":""},{"$f":"IF(LEN(tablaEgresados[[#This Row],[Nota promedio]])>0,ROUND(tablaEgresados[[#This Row],[Nota promedio]],2),\"\")","v":14.49}]
[189,null,"DNI","72181193","HUAMAN","ROCCA","MARY MILAGROS","FEMENINO",null,"NO",null,null,null,"2020-1","SEDE CENTRAL","EDUCACION ARTISTICA - ARTES PLASTICAS-TEATRO - MUSICA",14.24,null,null,"2016-1","2016-1","20164302@une.edu.pe","maryhuamanrocca@gmail.com",3133700,976486001,{"$f":"IF(ISERROR(VLOOKUP(Egresados!$N$8:$N$705,Maestros!$D$31:$E$530,2,0)),\"\",VLOOKUP(Egresados!$N$8:$N$705,Maestros!$D$31:$E$530,2,0))","v":"223"},{"$f":"IF(ISERROR(VLOOKUP(Egresados!$O197,Maestros!$G$31:$J$1030,2,0)),\"\",VLOOKUP(Egresados!$O197,Maestros!$G$31:$J$1030,2,0))","v":"8"},{"$f":"CONCATENATE(Egresados!$Z$8:$Z$705,\"a\",Egresados!$AA$8:$AA$705)","v":"223a8"},{"$f":"IF(ISERROR(VLOOKUP(Egresados!$P197,Maestros!$L$31:$Q$1030,2,0)),\"\",VLOOKUP(Egresados!$P197,Maestros!$L$31:$Q$1030,2,0))","v":"330"},{"$f":"CONCATENATE(Egresados!$Z$8:$Z$705,\"a\",Egresados!$AA$8:$AA$705,\"a\",Egresados!$AC$8:$AC$705)","v":"223a8a330"},{"$f":"IF(ISERROR(VLOOKUP(Egresados!$C$8:$C$705,Maestros!$A$4:$B$21,2,0)),\"\",VLOOKUP(Egresados!$C$8:$C$705,Maestros!$A$4:$B$21,2,0))","v":"1001"},{"$f":"IF(ISERROR(VLOOKUP(Egresados!$H$8:$H$705,Maestros!$D$4:$E$21,2,0)),\"\",VLOOKUP(Egresados!$H$8:$H$705,Maestros!$D$4:$E$21,2,0))","v":"1122"},{"$f":"IF(OR(UPPER(Egresados!$J$8:$J$705)=\"SI\",UPPER(Egresados!$J$8:$J$705)=\"SÍ\"),1,IF(UPPER(Egresados!$J$8:$J$705)=\"NO\",0,\"\"))","v":0},{"$f":"IF(OR(UPPER(Egresados!$R$8:$R$705)=\"SI\",UPPER(Egresados!$R$8:$R$705)=\"SÍ\"),1,IF(UPPER(Egresados!$R$8:$R$705)=\"NO\",0,\"\"))","v":""},{"$f":"IF(OR(UPPER(Egresados!$S$8:$S$705)=\"SI\",UPPER(Egresados!$S$8:$S$705)=\"SÍ\"),1,IF(UPPER(Egresados!$S$8:$S$705)=\"NO\",0,\"\"))","v":""},{"$f":"IF(ISERROR(VLOOKUP(Egresados!$T$8:$T$705,Maestros!$S$31:$T$530,2,0)),\"\",VLOOKUP(Egresados!$T$8:$T$705,Maestros!$S$31:$T$530,2,0))","v":"66"},{"$f":"IF(ISERROR(VLOOKUP(U197,Maestros!$S$31:$T$530,2,0)),\"\",VLOOKUP(U197,Maestros!$S$31:$T$530,2,0))","v":"66"},{"$f":"IF(ISERROR(VLOOKUP(Egresados!$K$8:$K$705,Maestros!$A$31:$B$130,2,0)),\"\",VLOOKUP(Egresados!$K$8:$K$705,Maestros!$A$31:$B$130,2,0))","v":""},{"$f":"IF(LEN(tablaEgresados[[#This Row],[Nota promedio]])>0,ROUND(tablaEgresados[[#This Row],[Nota promedio]],2),\"\")","v":14.24}]
[190,null,"DNI","71615866","ESPINOZA","AGUILAR","LUISA CARMEN","FEMENINO",null,"NO",null,null,null,"2020-1","SEDE CENTRAL","EDUCACION ARTISTICA - ARTES PLASTICAS-TEATRO - MUSICA",16.850000000000001,null,null,"2015-1","2015-1","20150563@une.edu.pe","espinoza.dm.1@gmail.com",3133700,"4686127",{"$f":"IF(ISERROR(VLOOKUP(Egresados!$N$8:$N$705,Maestros!$D$31:$E$530,2,0)),\"\",VLOOKUP(Egresados!$N$8:$N$705,Maestros!$D$31:$E$530,2,0))","v":"223"},{"$f":"IF(ISERROR(VLOOKUP(Egresados!$O198,Maestros!$G$31:$J$1030,2,0)),\"\",VLOOKUP(Egresados!$O198,Maestros!$G$31:$J$1030,2,0))","v":"8"},{"$f":"CONCATENATE(Egresados!$Z$8:$Z$705,\"a\",Egresados!$AA$8:$AA$705)","v":"223a8"},{"$f":"IF(ISERROR(VLOOKUP(Egresados!$P198,Maestros!$L$31:$Q$1030,2,0)),\"\",VLOOKUP(Egresados!$P198,Maestros!$L$31:$Q$1030,2,0))","v":"330"},{"$f":"CONCATENATE(Egresados!$Z$8:$Z$705,\"a\",Egresados!$AA$8:$AA$705,\"a\",Egresados!$AC$8:$AC$705)","v":"223a8a330"},{"$f":"IF(ISERROR(VLOOKUP(Egresados!$C$8:$C$705,Maestros!$A$4:$B$21,2,0)),\"\",VLOOKUP(Egresados!$C$8:$C$705,Maestros!$A$4:$B$21,2,0))","v":"1001"},{"$f":"IF(ISERROR(VLOOKUP(Egresados!$H$8:$H$705,Maestros!$D$4:$E$21,2,0)),\"\",VLOOKUP(Egresados!$H$8:$H$705,Maestros!$D$4:$E$21,2,0))","v":"1122"},{"$f":"IF(OR(UPPER(Egresados!$J$8:$J$705)=\"SI\",UPPER(Egresados!$J$8:$J$705)=\"SÍ\"),1,IF(UPPER(Egresados!$J$8:$J$705)=\"NO\",0,\"\"))","v":0},{"$f":"IF(OR(UPPER(Egresados!$R$8:$R$705)=\"SI\",UPPER(Egresados!$R$8:$R$705)=\"SÍ\"),1,IF(UPPER(Egresados!$R$8:$R$705)=\"NO\",0,\"\"))","v":""},{"$f":"IF(OR(UPPER(Egresados!$S$8:$S$705)=\"SI\",UPPER(Egresados!$S$8:$S$705)=\"SÍ\"),1,IF(UPPER(Egresados!$S$8:$S$705)=\"NO\",0,\"\"))","v":""},{"$f":"IF(ISERROR(VLOOKUP(Egresados!$T$8:$T$705,Maestros!$S$31:$T$530,2,0)),\"\",VLOOKUP(Egresados!$T$8:$T$705,Maestros!$S$31:$T$530,2,0))","v":"62"},{"$f":"IF(ISERROR(VLOOKUP(U198,Maestros!$S$31:$T$530,2,0)),\"\",VLOOKUP(U198,Maestros!$S$31:$T$530,2,0))","v":"62"},{"$f":"IF(ISERROR(VLOOKUP(Egresados!$K$8:$K$705,Maestros!$A$31:$B$130,2,0)),\"\",VLOOKUP(Egresados!$K$8:$K$705,Maestros!$A$31:$B$130,2,0))","v":""},{"$f":"IF(LEN(tablaEgresados[[#This Row],[Nota promedio]])>0,ROUND(tablaEgresados[[#This Row],[Nota promedio]],2),\"\")","v":16.850000000000001}]
[191,null,"DNI","71520573","DIAZ","HUAMAN","OSCAR JHOEEL","MASCULINO",null,"NO",null,null,null,"2020-1","SEDE CENTRAL","EDUCACION ARTISTICA - MUSICA-TEATRO - ARTES PLASTICAS",16.28,null,null,"2015-1","2015-1","20150611@une.edu.pe","oskarjoel@outlook.es",3133700,"945805424",{"$f":"IF(ISERROR(VLOOKUP(Egresados!$N$8:$N$705,Maestros!$D$31:$E$530,2,0)),\"\",VLOOKUP(Egresados!$N$8:$N$705,Maestros!$D$31:$E$530,2,0))","v":"223"},{"$f":"IF(ISERROR(VLOOKUP(Egresados!$O199,Maestros!$G$31:$J$1030,2,0)),\"\",VLOOKUP(Egresados!$O199,Maestros!$G$31:$J$1030,2,0))","v":"8"},{"$f":"CONCATENATE(Egresados!$Z$8:$Z$705,\"a\",Egresados!$AA$8:$AA$705)","v":"223a8"},{"$f":"IF(ISERROR(VLOOKUP(Egresados!$P199,Maestros!$L$31:$Q$1030,2,0)),\"\",VLOOKUP(Egresados!$P199,Maestros!$L$31:$Q$1030,2,0))","v":"332"},{"$f":"CONCATENATE(Egresados!$Z$8:$Z$705,\"a\",Egresados!$AA$8:$AA$705,\"a\",Egresados!$AC$8:$AC$705)","v":"223a8a332"},{"$f":"IF(ISERROR(VLOOKUP(Egresados!$C$8:$C$705,Maestros!$A$4:$B$21,2,0)),\"\",VLOOKUP(Egresados!$C$8:$C$705,Maestros!$A$4:$B$21,2,0))","v":"1001"},{"$f":"IF(ISERROR(VLOOKUP(Egresados!$H$8:$H$705,Maestros!$D$4:$E$21,2,0)),\"\",VLOOKUP(Egresados!$H$8:$H$705,Maestros!$D$4:$E$21,2,0))","v":"1121"},{"$f":"IF(OR(UPPER(Egresados!$J$8:$J$705)=\"SI\",UPPER(Egresados!$J$8:$J$705)=\"SÍ\"),1,IF(UPPER(Egresados!$J$8:$J$705)=\"NO\",0,\"\"))","v":0},{"$f":"IF(OR(UPPER(Egresados!$R$8:$R$705)=\"SI\",UPPER(Egresados!$R$8:$R$705)=\"SÍ\"),1,IF(UPPER(Egresados!$R$8:$R$705)=\"NO\",0,\"\"))","v":""},{"$f":"IF(OR(UPPER(Egresados!$S$8:$S$705)=\"SI\",UPPER(Egresados!$S$8:$S$705)=\"SÍ\"),1,IF(UPPER(Egresados!$S$8:$S$705)=\"NO\",0,\"\"))","v":""},{"$f":"IF(ISERROR(VLOOKUP(Egresados!$T$8:$T$705,Maestros!$S$31:$T$530,2,0)),\"\",VLOOKUP(Egresados!$T$8:$T$705,Maestros!$S$31:$T$530,2,0))","v":"62"},{"$f":"IF(ISERROR(VLOOKUP(U199,Maestros!$S$31:$T$530,2,0)),\"\",VLOOKUP(U199,Maestros!$S$31:$T$530,2,0))","v":"62"},{"$f":"IF(ISERROR(VLOOKUP(Egresados!$K$8:$K$705,Maestros!$A$31:$B$130,2,0)),\"\",VLOOKUP(Egresados!$K$8:$K$705,Maestros!$A$31:$B$130,2,0))","v":""},{"$f":"IF(LEN(tablaEgresados[[#This Row],[Nota promedio]])>0,ROUND(tablaEgresados[[#This Row],[Nota promedio]],2),\"\")","v":16.28}]
[{"$f":"ROW()-8","v":192},null,"DNI","42013603","CHAVARRIA","SALAZAR","DANIEL ALBERTO","MASCULINO",null,"NO",null,null,null,"2020-1","SEDE CENTRAL","EDUCACION ARTISTICA - MUSICA-TEATRO - ARTES PLASTICAS",17.010000000000002,null,null,"2015-1","2015-1","20150608@une.edu.pe","donmodesto@hotmail.com",3133700,976486001,{"$f":"IF(ISERROR(VLOOKUP(Egresados!$N$8:$N$705,Maestros!$D$31:$E$530,2,0)),\"\",VLOOKUP(Egresados!$N$8:$N$705,Maestros!$D$31:$E$530,2,0))","v":"223"},{"$f":"IF(ISERROR(VLOOKUP(Egresados!$O200,Maestros!$G$31:$J$1030,2,0)),\"\",VLOOKUP(Egresados!$O200,Maestros!$G$31:$J$1030,2,0))","v":"8"},{"$f":"CONCATENATE(Egresados!$Z$8:$Z$705,\"a\",Egresados!$AA$8:$AA$705)","v":"223a8"},{"$f":"IF(ISERROR(VLOOKUP(Egresados!$P200,Maestros!$L$31:$Q$1030,2,0)),\"\",VLOOKUP(Egresados!$P200,Maestros!$L$31:$Q$1030,2,0))","v":"332"},{"$f":"CONCATENATE(Egresados!$Z$8:$Z$705,\"a\",Egresados!$AA$8:$AA$705,\"a\",Egresados!$AC$8:$AC$705)","v":"223a8a332"},{"$f":"IF(ISERROR(VLOOKUP(Egresados!$C$8:$C$705,Maestros!$A$4:$B$21,2,0)),\"\",VLOOKUP(Egresados!$C$8:$C$705,Maestros!$A$4:$B$21,2,0))","v":"1001"},{"$f":"IF(ISERROR(VLOOKUP(Egresados!$H$8:$H$705,Maestros!$D$4:$E$21,2,0)),\"\",VLOOKUP(Egresados!$H$8:$H$705,Maestros!$D$4:$E$21,2,0))","v":"1121"},{"$f":"IF(OR(UPPER(Egresados!$J$8:$J$705)=\"SI\",UPPER(Egresados!$J$8:$J$705)=\"SÍ\"),1,IF(UPPER(Egresados!$J$8:$J$705)=\"NO\",0,\"\"))","v":0},{"$f":"IF(OR(UPPER(Egresados!$R$8:$R$705)=\"SI\",UPPER(Egresados!$R$8:$R$705)=\"SÍ\"),1,IF(UPPER(Egresados!$R$8:$R$705)=\"NO\",0,\"\"))","v":""},{"$f":"IF(OR(UPPER(Egresados!$S$8:$S$705)=\"SI\",UPPER(Egresados!$S$8:$S$705)=\"SÍ\"),1,IF(UPPER(Egresados!$S$8:$S$705)=\"NO\",0,\"\"))","v":""},{"$f":"IF(ISERROR(VLOOKUP(Egresados!$T$8:$T$705,Maestros!$S$31:$T$530,2,0)),\"\",VLOOKUP(Egresados!$T$8:$T$705,Maestros!$S$31:$T$530,2,0))","v":"62"},{"$f":"IF(ISERROR(VLOOKUP(U200,Maestros!$S$31:$T$530,2,0)),\"\",VLOOKUP(U200,Maestros!$S$31:$T$530,2,0))","v":"62"},{"$f":"IF(ISERROR(VLOOKUP(Egresados!$K$8:$K$705,Maestros!$A$31:$B$130,2,0)),\"\",VLOOKUP(Egresados!$K$8:$K$705,Maestros!$A$31:$B$130,2,0))","v":""},{"$f":"IF(LEN(tablaEgresados[[#This Row],[Nota promedio]])>0,ROUND(tablaEgresados[[#This Row],[Nota promedio]],2),\"\")","v":17.010000000000002}]
[193,null,"DNI","47886693","ESCANDON","TOLENTINO","MIGUEL ANGEL","MASCULINO",null,"NO",null,null,null,"2020-1","SEDE CENTRAL","EDUCACION ARTISTICA - MUSICA-TEATRO - ARTES PLASTICAS",14.21,null,null,"2012-1","2012-1","20120501@une.edu.pe","usuariomiguelwun@gmail.com",3133700,"922709085",{"$f":"IF(ISERROR(VLOOKUP(Egresados!$N$8:$N$705,Maestros!$D$31:$E$530,2,0)),\"\",VLOOKUP(Egresados!$N$8:$N$705,Maestros!$D$31:$E$530,2,0))","v":"223"},{"$f":"IF(ISERROR(VLOOKUP(Egresados!$O201,Maestros!$G$31:$J$1030,2,0)),\"\",VLOOKUP(Egresados!$O201,Maestros!$G$31:$J$1030,2,0))","v":"8"},{"$f":"CONCATENATE(Egresados!$Z$8:$Z$705,\"a\",Egresados!$AA$8:$AA$705)","v":"223a8"},{"$f":"IF(ISERROR(VLOOKUP(Egresados!$P201,Maestros!$L$31:$Q$1030,2,0)),\"\",VLOOKUP(Egresados!$P201,Maestros!$L$31:$Q$1030,2,0))","v":"332"},{"$f":"CONCATENATE(Egresados!$Z$8:$Z$705,\"a\",Egresados!$AA$8:$AA$705,\"a\",Egresados!$AC$8:$AC$705)","v":"223a8a332"},{"$f":"IF(ISERROR(VLOOKUP(Egresados!$C$8:$C$705,Maestros!$A$4:$B$21,2,0)),\"\",VLOOKUP(Egresados!$C$8:$C$705,Maestros!$A$4:$B$21,2,0))","v":"1001"},{"$f":"IF(ISERROR(VLOOKUP(Egresados!$H$8:$H$705,Maestros!$D$4:$E$21,2,0)),\"\",VLOOKUP(Egresados!$H$8:$H$705,Maestros!$D$4:$E$21,2,0))","v":"1121"},{"$f":"IF(OR(UPPER(Egresados!$J$8:$J$705)=\"SI\",UPPER(Egresados!$J$8:$J$705)=\"SÍ\"),1,IF(UPPER(Egresados!$J$8:$J$705)=\"NO\",0,\"\"))","v":0},{"$f":"IF(OR(UPPER(Egresados!$R$8:$R$705)=\"SI\",UPPER(Egresados!$R$8:$R$705)=\"SÍ\"),1,IF(UPPER(Egresados!$R$8:$R$705)=\"NO\",0,\"\"))","v":""},{"$f":"IF(OR(UPPER(Egresados!$S$8:$S$705)=\"SI\",UPPER(Egresados!$S$8:$S$705)=\"SÍ\"),1,IF(UPPER(Egresados!$S$8:$S$705)=\"NO\",0,\"\"))","v":""},{"$f":"IF(ISERROR(VLOOKUP(Egresados!$T$8:$T$705,Maestros!$S$31:$T$530,2,0)),\"\",VLOOKUP(Egresados!$T$8:$T$705,Maestros!$S$31:$T$530,2,0))","v":"50"},{"$f":"IF(ISERROR(VLOOKUP(U201,Maestros!$S$31:$T$530,2,0)),\"\",VLOOKUP(U201,Maestros!$S$31:$T$530,2,0))","v":"50"},{"$f":"IF(ISERROR(VLOOKUP(Egresados!$K$8:$K$705,Maestros!$A$31:$B$130,2,0)),\"\",VLOOKUP(Egresados!$K$8:$K$705,Maestros!$A$31:$B$130,2,0))","v":""},{"$f":"IF(LEN(tablaEgresados[[#This Row],[Nota promedio]])>0,ROUND(tablaEgresados[[#This Row],[Nota promedio]],2),\"\")","v":14.21}]
[194,null,"DNI","42299586","AUQUI","SOLIS","MARLENE","FEMENINO",null,"NO",null,null,null,"2020-1","SEDE CENTRAL","EDUCACION ARTISTICA - MUSICA-TEATRO - ARTES PLASTICAS",15.36,null,null,"2015-1","2015-1","20150600@une.edu.pe","mar0765@live.com",3133700,"989816931",{"$f":"IF(ISERROR(VLOOKUP(Egresados!$N$8:$N$705,Maestros!$D$31:$E$530,2,0)),\"\",VLOOKUP(Egresados!$N$8:$N$705,Maestros!$D$31:$E$530,2,0))","v":"223"},{"$f":"IF(ISERROR(VLOOKUP(Egresados!$O202,Maestros!$G$31:$J$1030,2,0)),\"\",VLOOKUP(Egresados!$O202,Maestros!$G$31:$J$1030,2,0))","v":"8"},{"$f":"CONCATENATE(Egresados!$Z$8:$Z$705,\"a\",Egresados!$AA$8:$AA$705)","v":"223a8"},{"$f":"IF(ISERROR(VLOOKUP(Egresados!$P202,Maestros!$L$31:$Q$1030,2,0)),\"\",VLOOKUP(Egresados!$P202,Maestros!$L$31:$Q$1030,2,0))","v":"332"},{"$f":"CONCATENATE(Egresados!$Z$8:$Z$705,\"a\",Egresados!$AA$8:$AA$705,\"a\",Egresados!$AC$8:$AC$705)","v":"223a8a332"},{"$f":"IF(ISERROR(VLOOKUP(Egresados!$C$8:$C$705,Maestros!$A$4:$B$21,2,0)),\"\",VLOOKUP(Egresados!$C$8:$C$705,Maestros!$A$4:$B$21,2,0))","v":"1001"},{"$f":"IF(ISERROR(VLOOKUP(Egresados!$H$8:$H$705,Maestros!$D$4:$E$21,2,0)),\"\",VLOOKUP(Egresados!$H$8:$H$705,Maestros!$D$4:$E$21,2,0))","v":"1122"},{"$f":"IF(OR(UPPER(Egresados!$J$8:$J$705)=\"SI\",UPPER(Egresados!$J$8:$J$705)=\"SÍ\"),1,IF(UPPER(Egresados!$J$8:$J$705)=\"NO\",0,\"\"))","v":0},{"$f":"IF(OR(UPPER(Egresados!$R$8:$R$705)=\"SI\",UPPER(Egresados!$R$8:$R$705)=\"SÍ\"),1,IF(UPPER(Egresados!$R$8:$R$705)=\"NO\",0,\"\"))","v":""},{"$f":"IF(OR(UPPER(Egresados!$S$8:$S$705)=\"SI\",UPPER(Egresados!$S$8:$S$705)=\"SÍ\"),1,IF(UPPER(Egresados!$S$8:$S$705)=\"NO\",0,\"\"))","v":""},{"$f":"IF(ISERROR(VLOOKUP(Egresados!$T$8:$T$705,Maestros!$S$31:$T$530,2,0)),\"\",VLOOKUP(Egresados!$T$8:$T$705,Maestros!$S$31:$T$530,2,0))","v":"62"},{"$f":"IF(ISERROR(VLOOKUP(U202,Maestros!$S$31:$T$530,2,0)),\"\",VLOOKUP(U202,Maestros!$S$31:$T$530,2,0))","v":"62"},{"$f":"IF(ISERROR(VLOOKUP(Egresados!$K$8:$K$705,Maestros!$A$31:$B$130,2,0)),\"\",VLOOKUP(Egresados!$K$8:$K$705,Maestros!$A$31:$B$130,2,0))","v":""},{"$f":"IF(LEN(tablaEgresados[[#This Row],[Nota promedio]])>0,ROUND(tablaEgresados[[#This Row],[Nota promedio]],2),\"\")","v":15.36}]
[195,null,"DNI","74873381","TAYPE","PEÑALOZA","DAVID","MASCULINO",null,"NO",null,null,null,"2020-1","SEDE CENTRAL","EDUCACION ARTISTICA - MUSICA-TEATRO - ARTES PLASTICAS",14.96,null,null,"2014-1","2014-1","20140512@une.edu.pe","dvd.taype@gmail.com",3133700,976486001,{"$f":"IF(ISERROR(VLOOKUP(Egresados!$N$8:$N$705,Maestros!$D$31:$E$530,2,0)),\"\",VLOOKUP(Egresados!$N$8:$N$705,Maestros!$D$31:$E$530,2,0))","v":"223"},{"$f":"IF(ISERROR(VLOOKUP(Egresados!$O203,Maestros!$G$31:$J$1030,2,0)),\"\",VLOOKUP(Egresados!$O203,Maestros!$G$31:$J$1030,2,0))","v":"8"},{"$f":"CONCATENATE(Egresados!$Z$8:$Z$705,\"a\",Egresados!$AA$8:$AA$705)","v":"223a8"},{"$f":"IF(ISERROR(VLOOKUP(Egresados!$P203,Maestros!$L$31:$Q$1030,2,0)),\"\",VLOOKUP(Egresados!$P203,Maestros!$L$31:$Q$1030,2,0))","v":"332"},{"$f":"CONCATENATE(Egresados!$Z$8:$Z$705,\"a\",Egresados!$AA$8:$AA$705,\"a\",Egresados!$AC$8:$AC$705)","v":"223a8a332"},{"$f":"IF(ISERROR(VLOOKUP(Egresados!$C$8:$C$705,Maestros!$A$4:$B$21,2,0)),\"\",VLOOKUP(Egresados!$C$8:$C$705,Maestros!$A$4:$B$21,2,0))","v":"1001"},{"$f":"IF(ISERROR(VLOOKUP(Egresados!$H$8:$H$705,Maestros!$D$4:$E$21,2,0)),\"\",VLOOKUP(Egresados!$H$8:$H$705,Maestros!$D$4:$E$21,2,0))","v":"1121"},{"$f":"IF(OR(UPPER(Egresados!$J$8:$J$705)=\"SI\",UPPER(Egresados!$J$8:$J$705)=\"SÍ\"),1,IF(UPPER(Egresados!$J$8:$J$705)=\"NO\",0,\"\"))","v":0},{"$f":"IF(OR(UPPER(Egresados!$R$8:$R$705)=\"SI\",UPPER(Egresados!$R$8:$R$705)=\"SÍ\"),1,IF(UPPER(Egresados!$R$8:$R$705)=\"NO\",0,\"\"))","v":""},{"$f":"IF(OR(UPPER(Egresados!$S$8:$S$705)=\"SI\",UPPER(Egresados!$S$8:$S$705)=\"SÍ\"),1,IF(UPPER(Egresados!$S$8:$S$705)=\"NO\",0,\"\"))","v":""},{"$f":"IF(ISERROR(VLOOKUP(Egresados!$T$8:$T$705,Maestros!$S$31:$T$530,2,0)),\"\",VLOOKUP(Egresados!$T$8:$T$705,Maestros!$S$31:$T$530,2,0))","v":"58"},{"$f":"IF(ISERROR(VLOOKUP(U203,Maestros!$S$31:$T$530,2,0)),\"\",VLOOKUP(U203,Maestros!$S$31:$T$530,2,0))","v":"58"},{"$f":"IF(ISERROR(VLOOKUP(Egresados!$K$8:$K$705,Maestros!$A$31:$B$130,2,0)),\"\",VLOOKUP(Egresados!$K$8:$K$705,Maestros!$A$31:$B$130,2,0))","v":""},{"$f":"IF(LEN(tablaEgresados[[#This Row],[Nota promedio]])>0,ROUND(tablaEgresados[[#This Row],[Nota promedio]],2),\"\")","v":14.96}]
[196,null,"DNI","72443520","POMA","SANTOS","JEAN FRANCO","MASCULINO",null,"NO",null,null,null,"2020-1","SEDE CENTRAL","EDUCACION ARTISTICA - MUSICA-TEATRO - ARTES PLASTICAS",15.06,null,null,"2013-1","2013-1","20131572@une.edu.pe","jean_franco_94@hotmail.com",3133700,"984240412",{"$f":"IF(ISERROR(VLOOKUP(Egresados!$N$8:$N$705,Maestros!$D$31:$E$530,2,0)),\"\",VLOOKUP(Egresados!$N$8:$N$705,Maestros!$D$31:$E$530,2,0))","v":"223"},{"$f":"IF(ISERROR(VLOOKUP(Egresados!$O204,Maestros!$G$31:$J$1030,2,0)),\"\",VLOOKUP(Egresados!$O204,Maestros!$G$31:$J$1030,2,0))","v":"8"},{"$f":"CONCATENATE(Egresados!$Z$8:$Z$705,\"a\",Egresados!$AA$8:$AA$705)","v":"223a8"},{"$f":"IF(ISERROR(VLOOKUP(Egresados!$P204,Maestros!$L$31:$Q$1030,2,0)),\"\",VLOOKUP(Egresados!$P204,Maestros!$L$31:$Q$1030,2,0))","v":"332"},{"$f":"CONCATENATE(Egresados!$Z$8:$Z$705,\"a\",Egresados!$AA$8:$AA$705,\"a\",Egresados!$AC$8:$AC$705)","v":"223a8a332"},{"$f":"IF(ISERROR(VLOOKUP(Egresados!$C$8:$C$705,Maestros!$A$4:$B$21,2,0)),\"\",VLOOKUP(Egresados!$C$8:$C$705,Maestros!$A$4:$B$21,2,0))","v":"1001"},{"$f":"IF(ISERROR(VLOOKUP(Egresados!$H$8:$H$705,Maestros!$D$4:$E$21,2,0)),\"\",VLOOKUP(Egresados!$H$8:$H$705,Maestros!$D$4:$E$21,2,0))","v":"1121"},{"$f":"IF(OR(UPPER(Egresados!$J$8:$J$705)=\"SI\",UPPER(Egresados!$J$8:$J$705)=\"SÍ\"),1,IF(UPPER(Egresados!$J$8:$J$705)=\"NO\",0,\"\"))","v":0},{"$f":"IF(OR(UPPER(Egresados!$R$8:$R$705)=\"SI\",UPPER(Egresados!$R$8:$R$705)=\"SÍ\"),1,IF(UPPER(Egresados!$R$8:$R$705)=\"NO\",0,\"\"))","v":""},{"$f":"IF(OR(UPPER(Egresados!$S$8:$S$705)=\"SI\",UPPER(Egresados!$S$8:$S$705)=\"SÍ\"),1,IF(UPPER(Egresados!$S$8:$S$705)=\"NO\",0,\"\"))","v":""},{"$f":"IF(ISERROR(VLOOKUP(Egresados!$T$8:$T$705,Maestros!$S$31:$T$530,2,0)),\"\",VLOOKUP(Egresados!$T$8:$T$705,Maestros!$S$31:$T$530,2,0))","v":"54"},{"$f":"IF(ISERROR(VLOOKUP(U204,Maestros!$S$31:$T$530,2,0)),\"\",VLOOKUP(U204,Maestros!$S$31:$T$530,2,0))","v":"54"},{"$f":"IF(ISERROR(VLOOKUP(Egresados!$K$8:$K$705,Maestros!$A$31:$B$130,2,0)),\"\",VLOOKUP(Egresados!$K$8:$K$705,Maestros!$A$31:$B$130,2,0))","v":""},{"$f":"IF(LEN(tablaEgresados[[#This Row],[Nota promedio]])>0,ROUND(tablaEgresados[[#This Row],[Nota promedio]],2),\"\")","v":15.06}]
[197,null,"DNI","70281566","DE LA CRUZ","SAAVEDRA","ELMER","MASCULINO",null,"NO",null,null,null,"2020-1","SEDE CENTRAL","EDUCACION ARTISTICA - MUSICA-TEATRO - ARTES PLASTICAS",16.62,null,null,"2015-1","2015-1","20150609@une.edu.pe","elmerdelacruzsaavedra@gmail.com",3133700,"950174727",{"$f":"IF(ISERROR(VLOOKUP(Egresados!$N$8:$N$705,Maestros!$D$31:$E$530,2,0)),\"\",VLOOKUP(Egresados!$N$8:$N$705,Maestros!$D$31:$E$530,2,0))","v":"223"},{"$f":"IF(ISERROR(VLOOKUP(Egresados!$O205,Maestros!$G$31:$J$1030,2,0)),\"\",VLOOKUP(Egresados!$O205,Maestros!$G$31:$J$1030,2,0))","v":"8"},{"$f":"CONCATENATE(Egresados!$Z$8:$Z$705,\"a\",Egresados!$AA$8:$AA$705)","v":"223a8"},{"$f":"IF(ISERROR(VLOOKUP(Egresados!$P205,Maestros!$L$31:$Q$1030,2,0)),\"\",VLOOKUP(Egresados!$P205,Maestros!$L$31:$Q$1030,2,0))","v":"332"},{"$f":"CONCATENATE(Egresados!$Z$8:$Z$705,\"a\",Egresados!$AA$8:$AA$705,\"a\",Egresados!$AC$8:$AC$705)","v":"223a8a332"},{"$f":"IF(ISERROR(VLOOKUP(Egresados!$C$8:$C$705,Maestros!$A$4:$B$21,2,0)),\"\",VLOOKUP(Egresados!$C$8:$C$705,Maestros!$A$4:$B$21,2,0))","v":"1001"},{"$f":"IF(ISERROR(VLOOKUP(Egresados!$H$8:$H$705,Maestros!$D$4:$E$21,2,0)),\"\",VLOOKUP(Egresados!$H$8:$H$705,Maestros!$D$4:$E$21,2,0))","v":"1121"},{"$f":"IF(OR(UPPER(Egresados!$J$8:$J$705)=\"SI\",UPPER(Egresados!$J$8:$J$705)=\"SÍ\"),1,IF(UPPER(Egresados!$J$8:$J$705)=\"NO\",0,\"\"))","v":0},{"$f":"IF(OR(UPPER(Egresados!$R$8:$R$705)=\"SI\",UPPER(Egresados!$R$8:$R$705)=\"SÍ\"),1,IF(UPPER(Egresados!$R$8:$R$705)=\"NO\",0,\"\"))","v":""},{"$f":"IF(OR(UPPER(Egresados!$S$8:$S$705)=\"SI\",UPPER(Egresados!$S$8:$S$705)=\"SÍ\"),1,IF(UPPER(Egresados!$S$8:$S$705)=\"NO\",0,\"\"))","v":""},{"$f":"IF(ISERROR(VLOOKUP(Egresados!$T$8:$T$705,Maestros!$S$31:$T$530,2,0)),\"\",VLOOKUP(Egresados!$T$8:$T$705,Maestros!$S$31:$T$530,2,0))","v":"62"},{"$f":"IF(ISERROR(VLOOKUP(U205,Maestros!$S$31:$T$530,2,0)),\"\",VLOOKUP(U205,Maestros!$S$31:$T$530,2,0))","v":"62"},{"$f":"IF(ISERROR(VLOOKUP(Egresados!$K$8:$K$705,Maestros!$A$31:$B$130,2,0)),\"\",VLOOKUP(Egresados!$K$8:$K$705,Maestros!$A$31:$B$130,2,0))","v":""},{"$f":"IF(LEN(tablaEgresados[[#This Row],[Nota promedio]])>0,ROUND(tablaEgresados[[#This Row],[Nota promedio]],2),\"\")","v":16.62}]
[198,null,"DNI","70786295","MORAN","AGUILAR","LORENA BRIGITH","FEMENINO",null,"NO",null,null,null,"2020-1","SEDE CENTRAL","EDUCACION ARTISTICA - TEATRO-ARTES PLASTICAS - MUSICA",14.65,null,null,"2012-1","2012-1","20121432@une.edu.pe","moranlorena153@gmail.com",3133700,"985923203",{"$f":"IF(ISERROR(VLOOKUP(Egresados!$N$8:$N$705,Maestros!$D$31:$E$530,2,0)),\"\",VLOOKUP(Egresados!$N$8:$N$705,Maestros!$D$31:$E$530,2,0))","v":"223"},{"$f":"IF(ISERROR(VLOOKUP(Egresados!$O206,Maestros!$G$31:$J$1030,2,0)),\"\",VLOOKUP(Egresados!$O206,Maestros!$G$31:$J$1030,2,0))","v":"8"},{"$f":"CONCATENATE(Egresados!$Z$8:$Z$705,\"a\",Egresados!$AA$8:$AA$705)","v":"223a8"},{"$f":"IF(ISERROR(VLOOKUP(Egresados!$P206,Maestros!$L$31:$Q$1030,2,0)),\"\",VLOOKUP(Egresados!$P206,Maestros!$L$31:$Q$1030,2,0))","v":"331"},{"$f":"CONCATENATE(Egresados!$Z$8:$Z$705,\"a\",Egresados!$AA$8:$AA$705,\"a\",Egresados!$AC$8:$AC$705)","v":"223a8a331"},{"$f":"IF(ISERROR(VLOOKUP(Egresados!$C$8:$C$705,Maestros!$A$4:$B$21,2,0)),\"\",VLOOKUP(Egresados!$C$8:$C$705,Maestros!$A$4:$B$21,2,0))","v":"1001"},{"$f":"IF(ISERROR(VLOOKUP(Egresados!$H$8:$H$705,Maestros!$D$4:$E$21,2,0)),\"\",VLOOKUP(Egresados!$H$8:$H$705,Maestros!$D$4:$E$21,2,0))","v":"1122"},{"$f":"IF(OR(UPPER(Egresados!$J$8:$J$705)=\"SI\",UPPER(Egresados!$J$8:$J$705)=\"SÍ\"),1,IF(UPPER(Egresados!$J$8:$J$705)=\"NO\",0,\"\"))","v":0},{"$f":"IF(OR(UPPER(Egresados!$R$8:$R$705)=\"SI\",UPPER(Egresados!$R$8:$R$705)=\"SÍ\"),1,IF(UPPER(Egresados!$R$8:$R$705)=\"NO\",0,\"\"))","v":""},{"$f":"IF(OR(UPPER(Egresados!$S$8:$S$705)=\"SI\",UPPER(Egresados!$S$8:$S$705)=\"SÍ\"),1,IF(UPPER(Egresados!$S$8:$S$705)=\"NO\",0,\"\"))","v":""},{"$f":"IF(ISERROR(VLOOKUP(Egresados!$T$8:$T$705,Maestros!$S$31:$T$530,2,0)),\"\",VLOOKUP(Egresados!$T$8:$T$705,Maestros!$S$31:$T$530,2,0))","v":"50"},{"$f":"IF(ISERROR(VLOOKUP(U206,Maestros!$S$31:$T$530,2,0)),\"\",VLOOKUP(U206,Maestros!$S$31:$T$530,2,0))","v":"50"},{"$f":"IF(ISERROR(VLOOKUP(Egresados!$K$8:$K$705,Maestros!$A$31:$B$130,2,0)),\"\",VLOOKUP(Egresados!$K$8:$K$705,Maestros!$A$31:$B$130,2,0))","v":""},{"$f":"IF(LEN(tablaEgresados[[#This Row],[Nota promedio]])>0,ROUND(tablaEgresados[[#This Row],[Nota promedio]],2),\"\")","v":14.65}]
[199,null,"DNI","70583969","SALAZAR","DIAZ","LESLI PAMELA","FEMENINO",null,"NO",null,null,null,"2020-1","SEDE CENTRAL","EDUCACION BASICA ALTERNATIVA-EDUCACION PRIMARIA",15.6,null,null,"2015-1","2015-1","20150315@une.edu.pe","lesli.21@hotmail.com",3133700,"989111454",{"$f":"IF(ISERROR(VLOOKUP(Egresados!$N$8:$N$705,Maestros!$D$31:$E$530,2,0)),\"\",VLOOKUP(Egresados!$N$8:$N$705,Maestros!$D$31:$E$530,2,0))","v":"223"},{"$f":"IF(ISERROR(VLOOKUP(Egresados!$O207,Maestros!$G$31:$J$1030,2,0)),\"\",VLOOKUP(Egresados!$O207,Maestros!$G$31:$J$1030,2,0))","v":"8"},{"$f":"CONCATENATE(Egresados!$Z$8:$Z$705,\"a\",Egresados!$AA$8:$AA$705)","v":"223a8"},{"$f":"IF(ISERROR(VLOOKUP(Egresados!$P207,Maestros!$L$31:$Q$1030,2,0)),\"\",VLOOKUP(Egresados!$P207,Maestros!$L$31:$Q$1030,2,0))","v":"222"},{"$f":"CONCATENATE(Egresados!$Z$8:$Z$705,\"a\",Egresados!$AA$8:$AA$705,\"a\",Egresados!$AC$8:$AC$705)","v":"223a8a222"},{"$f":"IF(ISERROR(VLOOKUP(Egresados!$C$8:$C$705,Maestros!$A$4:$B$21,2,0)),\"\",VLOOKUP(Egresados!$C$8:$C$705,Maestros!$A$4:$B$21,2,0))","v":"1001"},{"$f":"IF(ISERROR(VLOOKUP(Egresados!$H$8:$H$705,Maestros!$D$4:$E$21,2,0)),\"\",VLOOKUP(Egresados!$H$8:$H$705,Maestros!$D$4:$E$21,2,0))","v":"1122"},{"$f":"IF(OR(UPPER(Egresados!$J$8:$J$705)=\"SI\",UPPER(Egresados!$J$8:$J$705)=\"SÍ\"),1,IF(UPPER(Egresados!$J$8:$J$705)=\"NO\",0,\"\"))","v":0},{"$f":"IF(OR(UPPER(Egresados!$R$8:$R$705)=\"SI\",UPPER(Egresados!$R$8:$R$705)=\"SÍ\"),1,IF(UPPER(Egresados!$R$8:$R$705)=\"NO\",0,\"\"))","v":""},{"$f":"IF(OR(UPPER(Egresados!$S$8:$S$705)=\"SI\",UPPER(Egresados!$S$8:$S$705)=\"SÍ\"),1,IF(UPPER(Egresados!$S$8:$S$705)=\"NO\",0,\"\"))","v":""},{"$f":"IF(ISERROR(VLOOKUP(Egresados!$T$8:$T$705,Maestros!$S$31:$T$530,2,0)),\"\",VLOOKUP(Egresados!$T$8:$T$705,Maestros!$S$31:$T$530,2,0))","v":"62"},{"$f":"IF(ISERROR(VLOOKUP(U207,Maestros!$S$31:$T$530,2,0)),\"\",VLOOKUP(U207,Maestros!$S$31:$T$530,2,0))","v":"62"},{"$f":"IF(ISERROR(VLOOKUP(Egresados!$K$8:$K$705,Maestros!$A$31:$B$130,2,0)),\"\",VLOOKUP(Egresados!$K$8:$K$705,Maestros!$A$31:$B$130,2,0))","v":""},{"$f":"IF(LEN(tablaEgresados[[#This Row],[Nota promedio]])>0,ROUND(tablaEgresados[[#This Row],[Nota promedio]],2),\"\")","v":15.6}]
[200,null,"DNI","10291101","HUAMANI","CHUJANDAMA","MARISOL ELIZABETH","FEMENINO",null,"NO",null,null,null,"2020-1","SEDE CENTRAL","EDUCACION BASICA ALTERNATIVA-EDUCACION PRIMARIA",14.81,null,null,"2014-1","2014-1","20141660@une.edu.pe","sol_elizabeth17@hotmail.com",3133700,"961511770",{"$f":"IF(ISERROR(VLOOKUP(Egresados!$N$8:$N$705,Maestros!$D$31:$E$530,2,0)),\"\",VLOOKUP(Egresados!$N$8:$N$705,Maestros!$D$31:$E$530,2,0))","v":"223"},{"$f":"IF(ISERROR(VLOOKUP(Egresados!$O208,Maestros!$G$31:$J$1030,2,0)),\"\",VLOOKUP(Egresados!$O208,Maestros!$G$31:$J$1030,2,0))","v":"8"},{"$f":"CONCATENATE(Egresados!$Z$8:$Z$705,\"a\",Egresados!$AA$8:$AA$705)","v":"223a8"},{"$f":"IF(ISERROR(VLOOKUP(Egresados!$P208,Maestros!$L$31:$Q$1030,2,0)),\"\",VLOOKUP(Egresados!$P208,Maestros!$L$31:$Q$1030,2,0))","v":"222"},{"$f":"CONCATENATE(Egresados!$Z$8:$Z$705,\"a\",Egresados!$AA$8:$AA$705,\"a\",Egresados!$AC$8:$AC$705)","v":"223a8a222"},{"$f":"IF(ISERROR(VLOOKUP(Egresados!$C$8:$C$705,Maestros!$A$4:$B$21,2,0)),\"\",VLOOKUP(Egresados!$C$8:$C$705,Maestros!$A$4:$B$21,2,0))","v":"1001"},{"$f":"IF(ISERROR(VLOOKUP(Egresados!$H$8:$H$705,Maestros!$D$4:$E$21,2,0)),\"\",VLOOKUP(Egresados!$H$8:$H$705,Maestros!$D$4:$E$21,2,0))","v":"1122"},{"$f":"IF(OR(UPPER(Egresados!$J$8:$J$705)=\"SI\",UPPER(Egresados!$J$8:$J$705)=\"SÍ\"),1,IF(UPPER(Egresados!$J$8:$J$705)=\"NO\",0,\"\"))","v":0},{"$f":"IF(OR(UPPER(Egresados!$R$8:$R$705)=\"SI\",UPPER(Egresados!$R$8:$R$705)=\"SÍ\"),1,IF(UPPER(Egresados!$R$8:$R$705)=\"NO\",0,\"\"))","v":""},{"$f":"IF(OR(UPPER(Egresados!$S$8:$S$705)=\"SI\",UPPER(Egresados!$S$8:$S$705)=\"SÍ\"),1,IF(UPPER(Egresados!$S$8:$S$705)=\"NO\",0,\"\"))","v":""},{"$f":"IF(ISERROR(VLOOKUP(Egresados!$T$8:$T$705,Maestros!$S$31:$T$530,2,0)),\"\",VLOOKUP(Egresados!$T$8:$T$705,Maestros!$S$31:$T$530,2,0))","v":"58"},{"$f":"IF(ISERROR(VLOOKUP(U208,Maestros!$S$31:$T$530,2,0)),\"\",VLOOKUP(U208,Maestros!$S$31:$T$530,2,0))","v":"58"},{"$f":"IF(ISERROR(VLOOKUP(Egresados!$K$8:$K$705,Maestros!$A$31:$B$130,2,0)),\"\",VLOOKUP(Egresados!$K$8:$K$705,Maestros!$A$31:$B$130,2,0))","v":""},{"$f":"IF(LEN(tablaEgresados[[#This Row],[Nota promedio]])>0,ROUND(tablaEgresados[[#This Row],[Nota promedio]],2),\"\")","v":14.81}]
[201,null,"DNI","76588683","ROJAS","CULQUICONDOR","ELVIRA ROSALIA","FEMENINO",null,"NO",null,null,null,"2020-1","SEDE CENTRAL","EDUCACION BASICA ALTERNATIVA-EDUCACION PRIMARIA",17.07,null,null,"2015-1","2015-1","20150312@une.edu.pe","elvirarosaliaune@gmail.com",3133700,"948063405",{"$f":"IF(ISERROR(VLOOKUP(Egresados!$N$8:$N$705,Maestros!$D$31:$E$530,2,0)),\"\",VLOOKUP(Egresados!$N$8:$N$705,Maestros!$D$31:$E$530,2,0))","v":"223"},{"$f":"IF(ISERROR(VLOOKUP(Egresados!$O209,Maestros!$G$31:$J$1030,2,0)),\"\",VLOOKUP(Egresados!$O209,Maestros!$G$31:$J$1030,2,0))","v":"8"},{"$f":"CONCATENATE(Egresados!$Z$8:$Z$705,\"a\",Egresados!$AA$8:$AA$705)","v":"223a8"},{"$f":"IF(ISERROR(VLOOKUP(Egresados!$P209,Maestros!$L$31:$Q$1030,2,0)),\"\",VLOOKUP(Egresados!$P209,Maestros!$L$31:$Q$1030,2,0))","v":"222"},{"$f":"CONCATENATE(Egresados!$Z$8:$Z$705,\"a\",Egresados!$AA$8:$AA$705,\"a\",Egresados!$AC$8:$AC$705)","v":"223a8a222"},{"$f":"IF(ISERROR(VLOOKUP(Egresados!$C$8:$C$705,Maestros!$A$4:$B$21,2,0)),\"\",VLOOKUP(Egresados!$C$8:$C$705,Maestros!$A$4:$B$21,2,0))","v":"1001"},{"$f":"IF(ISERROR(VLOOKUP(Egresados!$H$8:$H$705,Maestros!$D$4:$E$21,2,0)),\"\",VLOOKUP(Egresados!$H$8:$H$705,Maestros!$D$4:$E$21,2,0))","v":"1122"},{"$f":"IF(OR(UPPER(Egresados!$J$8:$J$705)=\"SI\",UPPER(Egresados!$J$8:$J$705)=\"SÍ\"),1,IF(UPPER(Egresados!$J$8:$J$705)=\"NO\",0,\"\"))","v":0},{"$f":"IF(OR(UPPER(Egresados!$R$8:$R$705)=\"SI\",UPPER(Egresados!$R$8:$R$705)=\"SÍ\"),1,IF(UPPER(Egresados!$R$8:$R$705)=\"NO\",0,\"\"))","v":""},{"$f":"IF(OR(UPPER(Egresados!$S$8:$S$705)=\"SI\",UPPER(Egresados!$S$8:$S$705)=\"SÍ\"),1,IF(UPPER(Egresados!$S$8:$S$705)=\"NO\",0,\"\"))","v":""},{"$f":"IF(ISERROR(VLOOKUP(Egresados!$T$8:$T$705,Maestros!$S$31:$T$530,2,0)),\"\",VLOOKUP(Egresados!$T$8:$T$705,Maestros!$S$31:$T$530,2,0))","v":"62"},{"$f":"IF(ISERROR(VLOOKUP(U209,Maestros!$S$31:$T$530,2,0)),\"\",VLOOKUP(U209,Maestros!$S$31:$T$530,2,0))","v":"62"},{"$f":"IF(ISERROR(VLOOKUP(Egresados!$K$8:$K$705,Maestros!$A$31:$B$130,2,0)),\"\",VLOOKUP(Egresados!$K$8:$K$705,Maestros!$A$31:$B$130,2,0))","v":""},{"$f":"IF(LEN(tablaEgresados[[#This Row],[Nota promedio]])>0,ROUND(tablaEgresados[[#This Row],[Nota promedio]],2),\"\")","v":17.07}]
[202,null,"DNI","76124201","HUAMAN","ROMANI","DEYCY","FEMENINO",null,"NO",null,null,null,"2020-1","SEDE CENTRAL","EDUCACION BASICA ALTERNATIVA-EDUCACION PRIMARIA",14.74,null,null,"2014-1","2014-1","20140892@une.edu.pe","barbi_2014_marzo@hotmai.com",3133700,"986861177",{"$f":"IF(ISERROR(VLOOKUP(Egresados!$N$8:$N$705,Maestros!$D$31:$E$530,2,0)),\"\",VLOOKUP(Egresados!$N$8:$N$705,Maestros!$D$31:$E$530,2,0))","v":"223"},{"$f":"IF(ISERROR(VLOOKUP(Egresados!$O210,Maestros!$G$31:$J$1030,2,0)),\"\",VLOOKUP(Egresados!$O210,Maestros!$G$31:$J$1030,2,0))","v":"8"},{"$f":"CONCATENATE(Egresados!$Z$8:$Z$705,\"a\",Egresados!$AA$8:$AA$705)","v":"223a8"},{"$f":"IF(ISERROR(VLOOKUP(Egresados!$P210,Maestros!$L$31:$Q$1030,2,0)),\"\",VLOOKUP(Egresados!$P210,Maestros!$L$31:$Q$1030,2,0))","v":"222"},{"$f":"CONCATENATE(Egresados!$Z$8:$Z$705,\"a\",Egresados!$AA$8:$AA$705,\"a\",Egresados!$AC$8:$AC$705)","v":"223a8a222"},{"$f":"IF(ISERROR(VLOOKUP(Egresados!$C$8:$C$705,Maestros!$A$4:$B$21,2,0)),\"\",VLOOKUP(Egresados!$C$8:$C$705,Maestros!$A$4:$B$21,2,0))","v":"1001"},{"$f":"IF(ISERROR(VLOOKUP(Egresados!$H$8:$H$705,Maestros!$D$4:$E$21,2,0)),\"\",VLOOKUP(Egresados!$H$8:$H$705,Maestros!$D$4:$E$21,2,0))","v":"1122"},{"$f":"IF(OR(UPPER(Egresados!$J$8:$J$705)=\"SI\",UPPER(Egresados!$J$8:$J$705)=\"SÍ\"),1,IF(UPPER(Egresados!$J$8:$J$705)=\"NO\",0,\"\"))","v":0},{"$f":"IF(OR(UPPER(Egresados!$R$8:$R$705)=\"SI\",UPPER(Egresados!$R$8:$R$705)=\"SÍ\"),1,IF(UPPER(Egresados!$R$8:$R$705)=\"NO\",0,\"\"))","v":""},{"$f":"IF(OR(UPPER(Egresados!$S$8:$S$705)=\"SI\",UPPER(Egresados!$S$8:$S$705)=\"SÍ\"),1,IF(UPPER(Egresados!$S$8:$S$705)=\"NO\",0,\"\"))","v":""},{"$f":"IF(ISERROR(VLOOKUP(Egresados!$T$8:$T$705,Maestros!$S$31:$T$530,2,0)),\"\",VLOOKUP(Egresados!$T$8:$T$705,Maestros!$S$31:$T$530,2,0))","v":"58"},{"$f":"IF(ISERROR(VLOOKUP(U210,Maestros!$S$31:$T$530,2,0)),\"\",VLOOKUP(U210,Maestros!$S$31:$T$530,2,0))","v":"58"},{"$f":"IF(ISERROR(VLOOKUP(Egresados!$K$8:$K$705,Maestros!$A$31:$B$130,2,0)),\"\",VLOOKUP(Egresados!$K$8:$K$705,Maestros!$A$31:$B$130,2,0))","v":""},{"$f":"IF(LEN(tablaEgresados[[#This Row],[Nota promedio]])>0,ROUND(tablaEgresados[[#This Row],[Nota promedio]],2),\"\")","v":14.74}]
[203,null,"DNI","47687918","COTERA","LOPEZ","JOSEP GELBARD","MASCULINO",null,"NO",null,null,null,"2020-1","SEDE CENTRAL","EDUCACION BASICA ALTERNATIVA-EDUCACION PRIMARIA",16.739999999999998,null,null,"2015-1","2015-1","20150300@une.edu.pe","josephcotera@hotmail.com",3133700,"949082001",{"$f":"IF(ISERROR(VLOOKUP(Egresados!$N$8:$N$705,Maestros!$D$31:$E$530,2,0)),\"\",VLOOKUP(Egresados!$N$8:$N$705,Maestros!$D$31:$E$530,2,0))","v":"223"},{"$f":"IF(ISERROR(VLOOKUP(Egresados!$O211,Maestros!$G$31:$J$1030,2,0)),\"\",VLOOKUP(Egresados!$O211,Maestros!$G$31:$J$1030,2,0))","v":"8"},{"$f":"CONCATENATE(Egresados!$Z$8:$Z$705,\"a\",Egresados!$AA$8:$AA$705)","v":"223a8"},{"$f":"IF(ISERROR(VLOOKUP(Egresados!$P211,Maestros!$L$31:$Q$1030,2,0)),\"\",VLOOKUP(Egresados!$P211,Maestros!$L$31:$Q$1030,2,0))","v":"222"},{"$f":"CONCATENATE(Egresados!$Z$8:$Z$705,\"a\",Egresados!$AA$8:$AA$705,\"a\",Egresados!$AC$8:$AC$705)","v":"223a8a222"},{"$f":"IF(ISERROR(VLOOKUP(Egresados!$C$8:$C$705,Maestros!$A$4:$B$21,2,0)),\"\",VLOOKUP(Egresados!$C$8:$C$705,Maestros!$A$4:$B$21,2,0))","v":"1001"},{"$f":"IF(ISERROR(VLOOKUP(Egresados!$H$8:$H$705,Maestros!$D$4:$E$21,2,0)),\"\",VLOOKUP(Egresados!$H$8:$H$705,Maestros!$D$4:$E$21,2,0))","v":"1121"},{"$f":"IF(OR(UPPER(Egresados!$J$8:$J$705)=\"SI\",UPPER(Egresados!$J$8:$J$705)=\"SÍ\"),1,IF(UPPER(Egresados!$J$8:$J$705)=\"NO\",0,\"\"))","v":0},{"$f":"IF(OR(UPPER(Egresados!$R$8:$R$705)=\"SI\",UPPER(Egresados!$R$8:$R$705)=\"SÍ\"),1,IF(UPPER(Egresados!$R$8:$R$705)=\"NO\",0,\"\"))","v":""},{"$f":"IF(OR(UPPER(Egresados!$S$8:$S$705)=\"SI\",UPPER(Egresados!$S$8:$S$705)=\"SÍ\"),1,IF(UPPER(Egresados!$S$8:$S$705)=\"NO\",0,\"\"))","v":""},{"$f":"IF(ISERROR(VLOOKUP(Egresados!$T$8:$T$705,Maestros!$S$31:$T$530,2,0)),\"\",VLOOKUP(Egresados!$T$8:$T$705,Maestros!$S$31:$T$530,2,0))","v":"62"},{"$f":"IF(ISERROR(VLOOKUP(U211,Maestros!$S$31:$T$530,2,0)),\"\",VLOOKUP(U211,Maestros!$S$31:$T$530,2,0))","v":"62"},{"$f":"IF(ISERROR(VLOOKUP(Egresados!$K$8:$K$705,Maestros!$A$31:$B$130,2,0)),\"\",VLOOKUP(Egresados!$K$8:$K$705,Maestros!$A$31:$B$130,2,0))","v":""},{"$f":"IF(LEN(tablaEgresados[[#This Row],[Nota promedio]])>0,ROUND(tablaEgresados[[#This Row],[Nota promedio]],2),\"\")","v":16.739999999999998}]
[204,null,"DNI","71855906","LLOCCLLA","CRUZ","FRANCISCA","FEMENINO",null,"NO",null,null,null,"2020-1","SEDE CENTRAL","EDUCACION BASICA ALTERNATIVA-EDUCACION PRIMARIA",15.13,null,null,"2015-1","2015-1","20150310@une.edu.pe","teresallc@hotmail.com",3133700,"921875549",{"$f":"IF(ISERROR(VLOOKUP(Egresados!$N$8:$N$705,Maestros!$D$31:$E$530,2,0)),\"\",VLOOKUP(Egresados!$N$8:$N$705,Maestros!$D$31:$E$530,2,0))","v":"223"},{"$f":"IF(ISERROR(VLOOKUP(Egresados!$O212,Maestros!$G$31:$J$1030,2,0)),\"\",VLOOKUP(Egresados!$O212,Maestros!$G$31:$J$1030,2,0))","v":"8"},{"$f":"CONCATENATE(Egresados!$Z$8:$Z$705,\"a\",Egresados!$AA$8:$AA$705)","v":"223a8"},{"$f":"IF(ISERROR(VLOOKUP(Egresados!$P212,Maestros!$L$31:$Q$1030,2,0)),\"\",VLOOKUP(Egresados!$P212,Maestros!$L$31:$Q$1030,2,0))","v":"222"},{"$f":"CONCATENATE(Egresados!$Z$8:$Z$705,\"a\",Egresados!$AA$8:$AA$705,\"a\",Egresados!$AC$8:$AC$705)","v":"223a8a222"},{"$f":"IF(ISERROR(VLOOKUP(Egresados!$C$8:$C$705,Maestros!$A$4:$B$21,2,0)),\"\",VLOOKUP(Egresados!$C$8:$C$705,Maestros!$A$4:$B$21,2,0))","v":"1001"},{"$f":"IF(ISERROR(VLOOKUP(Egresados!$H$8:$H$705,Maestros!$D$4:$E$21,2,0)),\"\",VLOOKUP(Egresados!$H$8:$H$705,Maestros!$D$4:$E$21,2,0))","v":"1122"},{"$f":"IF(OR(UPPER(Egresados!$J$8:$J$705)=\"SI\",UPPER(Egresados!$J$8:$J$705)=\"SÍ\"),1,IF(UPPER(Egresados!$J$8:$J$705)=\"NO\",0,\"\"))","v":0},{"$f":"IF(OR(UPPER(Egresados!$R$8:$R$705)=\"SI\",UPPER(Egresados!$R$8:$R$705)=\"SÍ\"),1,IF(UPPER(Egresados!$R$8:$R$705)=\"NO\",0,\"\"))","v":""},{"$f":"IF(OR(UPPER(Egresados!$S$8:$S$705)=\"SI\",UPPER(Egresados!$S$8:$S$705)=\"SÍ\"),1,IF(UPPER(Egresados!$S$8:$S$705)=\"NO\",0,\"\"))","v":""},{"$f":"IF(ISERROR(VLOOKUP(Egresados!$T$8:$T$705,Maestros!$S$31:$T$530,2,0)),\"\",VLOOKUP(Egresados!$T$8:$T$705,Maestros!$S$31:$T$530,2,0))","v":"62"},{"$f":"IF(ISERROR(VLOOKUP(U212,Maestros!$S$31:$T$530,2,0)),\"\",VLOOKUP(U212,Maestros!$S$31:$T$530,2,0))","v":"62"},{"$f":"IF(ISERROR(VLOOKUP(Egresados!$K$8:$K$705,Maestros!$A$31:$B$130,2,0)),\"\",VLOOKUP(Egresados!$K$8:$K$705,Maestros!$A$31:$B$130,2,0))","v":""},{"$f":"IF(LEN(tablaEgresados[[#This Row],[Nota promedio]])>0,ROUND(tablaEgresados[[#This Row],[Nota promedio]],2),\"\")","v":15.13}]
[205,null,"DNI","40693655","DAVILA","POLANCO","RUTH FANNY","FEMENINO",null,"NO",null,null,null,"2020-1","SEDE CENTRAL","EDUCACION FISICA",13.86,null,null,"2001-1","2001-1","20012517@une.edu.pe","20012517@une.edu.pe",3133700,976486001,{"$f":"IF(ISERROR(VLOOKUP(Egresados!$N$8:$N$705,Maestros!$D$31:$E$530,2,0)),\"\",VLOOKUP(Egresados!$N$8:$N$705,Maestros!$D$31:$E$530,2,0))","v":"223"},{"$f":"IF(ISERROR(VLOOKUP(Egresados!$O213,Maestros!$G$31:$J$1030,2,0)),\"\",VLOOKUP(Egresados!$O213,Maestros!$G$31:$J$1030,2,0))","v":"8"},{"$f":"CONCATENATE(Egresados!$Z$8:$Z$705,\"a\",Egresados!$AA$8:$AA$705)","v":"223a8"},{"$f":"IF(ISERROR(VLOOKUP(Egresados!$P213,Maestros!$L$31:$Q$1030,2,0)),\"\",VLOOKUP(Egresados!$P213,Maestros!$L$31:$Q$1030,2,0))","v":"387"},{"$f":"CONCATENATE(Egresados!$Z$8:$Z$705,\"a\",Egresados!$AA$8:$AA$705,\"a\",Egresados!$AC$8:$AC$705)","v":"223a8a387"},{"$f":"IF(ISERROR(VLOOKUP(Egresados!$C$8:$C$705,Maestros!$A$4:$B$21,2,0)),\"\",VLOOKUP(Egresados!$C$8:$C$705,Maestros!$A$4:$B$21,2,0))","v":"1001"},{"$f":"IF(ISERROR(VLOOKUP(Egresados!$H$8:$H$705,Maestros!$D$4:$E$21,2,0)),\"\",VLOOKUP(Egresados!$H$8:$H$705,Maestros!$D$4:$E$21,2,0))","v":"1122"},{"$f":"IF(OR(UPPER(Egresados!$J$8:$J$705)=\"SI\",UPPER(Egresados!$J$8:$J$705)=\"SÍ\"),1,IF(UPPER(Egresados!$J$8:$J$705)=\"NO\",0,\"\"))","v":0},{"$f":"IF(OR(UPPER(Egresados!$R$8:$R$705)=\"SI\",UPPER(Egresados!$R$8:$R$705)=\"SÍ\"),1,IF(UPPER(Egresados!$R$8:$R$705)=\"NO\",0,\"\"))","v":""},{"$f":"IF(OR(UPPER(Egresados!$S$8:$S$705)=\"SI\",UPPER(Egresados!$S$8:$S$705)=\"SÍ\"),1,IF(UPPER(Egresados!$S$8:$S$705)=\"NO\",0,\"\"))","v":""},{"$f":"IF(ISERROR(VLOOKUP(Egresados!$T$8:$T$705,Maestros!$S$31:$T$530,2,0)),\"\",VLOOKUP(Egresados!$T$8:$T$705,Maestros!$S$31:$T$530,2,0))","v":"6"},{"$f":"IF(ISERROR(VLOOKUP(U213,Maestros!$S$31:$T$530,2,0)),\"\",VLOOKUP(U213,Maestros!$S$31:$T$530,2,0))","v":"6"},{"$f":"IF(ISERROR(VLOOKUP(Egresados!$K$8:$K$705,Maestros!$A$31:$B$130,2,0)),\"\",VLOOKUP(Egresados!$K$8:$K$705,Maestros!$A$31:$B$130,2,0))","v":""},{"$f":"IF(LEN(tablaEgresados[[#This Row],[Nota promedio]])>0,ROUND(tablaEgresados[[#This Row],[Nota promedio]],2),\"\")","v":13.86}]
[206,null,"DNI",21868365,"HUALLANCA","BENAVIDES","JOSE CARLOS","MASCULINO",null,"NO",null,null,null,"2020-1","SEDE CENTRAL","EDUCACION FISICA",13.51,null,null,"2005-1","2005-1","20053314@une.edu.pe","20053314@une.edu.pe",3133700,976486001,{"$f":"IF(ISERROR(VLOOKUP(Egresados!$N$8:$N$705,Maestros!$D$31:$E$530,2,0)),\"\",VLOOKUP(Egresados!$N$8:$N$705,Maestros!$D$31:$E$530,2,0))","v":"223"},{"$f":"IF(ISERROR(VLOOKUP(Egresados!$O214,Maestros!$G$31:$J$1030,2,0)),\"\",VLOOKUP(Egresados!$O214,Maestros!$G$31:$J$1030,2,0))","v":"8"},{"$f":"CONCATENATE(Egresados!$Z$8:$Z$705,\"a\",Egresados!$AA$8:$AA$705)","v":"223a8"},{"$f":"IF(ISERROR(VLOOKUP(Egresados!$P214,Maestros!$L$31:$Q$1030,2,0)),\"\",VLOOKUP(Egresados!$P214,Maestros!$L$31:$Q$1030,2,0))","v":"387"},{"$f":"CONCATENATE(Egresados!$Z$8:$Z$705,\"a\",Egresados!$AA$8:$AA$705,\"a\",Egresados!$AC$8:$AC$705)","v":"223a8a387"},{"$f":"IF(ISERROR(VLOOKUP(Egresados!$C$8:$C$705,Maestros!$A$4:$B$21,2,0)),\"\",VLOOKUP(Egresados!$C$8:$C$705,Maestros!$A$4:$B$21,2,0))","v":"1001"},{"$f":"IF(ISERROR(VLOOKUP(Egresados!$H$8:$H$705,Maestros!$D$4:$E$21,2,0)),\"\",VLOOKUP(Egresados!$H$8:$H$705,Maestros!$D$4:$E$21,2,0))","v":"1121"},{"$f":"IF(OR(UPPER(Egresados!$J$8:$J$705)=\"SI\",UPPER(Egresados!$J$8:$J$705)=\"SÍ\"),1,IF(UPPER(Egresados!$J$8:$J$705)=\"NO\",0,\"\"))","v":0},{"$f":"IF(OR(UPPER(Egresados!$R$8:$R$705)=\"SI\",UPPER(Egresados!$R$8:$R$705)=\"SÍ\"),1,IF(UPPER(Egresados!$R$8:$R$705)=\"NO\",0,\"\"))","v":""},{"$f":"IF(OR(UPPER(Egresados!$S$8:$S$705)=\"SI\",UPPER(Egresados!$S$8:$S$705)=\"SÍ\"),1,IF(UPPER(Egresados!$S$8:$S$705)=\"NO\",0,\"\"))","v":""},{"$f":"IF(ISERROR(VLOOKUP(Egresados!$T$8:$T$705,Maestros!$S$31:$T$530,2,0)),\"\",VLOOKUP(Egresados!$T$8:$T$705,Maestros!$S$31:$T$530,2,0))","v":"22"},{"$f":"IF(ISERROR(VLOOKUP(U214,Maestros!$S$31:$T$530,2,0)),\"\",VLOOKUP(U214,Maestros!$S$31:$T$530,2,0))","v":"22"},{"$f":"IF(ISERROR(VLOOKUP(Egresados!$K$8:$K$705,Maestros!$A$31:$B$130,2,0)),\"\",VLOOKUP(Egresados!$K$8:$K$705,Maestros!$A$31:$B$130,2,0))","v":""},{"$f":"IF(LEN(tablaEgresados[[#This Row],[Nota promedio]])>0,ROUND(tablaEgresados[[#This Row],[Nota promedio]],2),\"\")","v":13.51}]
[207,null,"DNI","75664272","GRANADOS","AGUILAR","ROLANDO JUN","MASCULINO",null,"NO",null,null,null,"2020-1","SEDE CENTRAL","EDUCACION FISICA-DEPORTES",14.26,null,null,"2015-1","2015-1","20150149@une.edu.pe","j.granados.a96@gmail.com",3133700,"994645834",{"$f":"IF(ISERROR(VLOOKUP(Egresados!$N$8:$N$705,Maestros!$D$31:$E$530,2,0)),\"\",VLOOKUP(Egresados!$N$8:$N$705,Maestros!$D$31:$E$530,2,0))","v":"223"},{"$f":"IF(ISERROR(VLOOKUP(Egresados!$O215,Maestros!$G$31:$J$1030,2,0)),\"\",VLOOKUP(Egresados!$O215,Maestros!$G$31:$J$1030,2,0))","v":"8"},{"$f":"CONCATENATE(Egresados!$Z$8:$Z$705,\"a\",Egresados!$AA$8:$AA$705)","v":"223a8"},{"$f":"IF(ISERROR(VLOOKUP(Egresados!$P215,Maestros!$L$31:$Q$1030,2,0)),\"\",VLOOKUP(Egresados!$P215,Maestros!$L$31:$Q$1030,2,0))","v":"12"},{"$f":"CONCATENATE(Egresados!$Z$8:$Z$705,\"a\",Egresados!$AA$8:$AA$705,\"a\",Egresados!$AC$8:$AC$705)","v":"223a8a12"},{"$f":"IF(ISERROR(VLOOKUP(Egresados!$C$8:$C$705,Maestros!$A$4:$B$21,2,0)),\"\",VLOOKUP(Egresados!$C$8:$C$705,Maestros!$A$4:$B$21,2,0))","v":"1001"},{"$f":"IF(ISERROR(VLOOKUP(Egresados!$H$8:$H$705,Maestros!$D$4:$E$21,2,0)),\"\",VLOOKUP(Egresados!$H$8:$H$705,Maestros!$D$4:$E$21,2,0))","v":"1121"},{"$f":"IF(OR(UPPER(Egresados!$J$8:$J$705)=\"SI\",UPPER(Egresados!$J$8:$J$705)=\"SÍ\"),1,IF(UPPER(Egresados!$J$8:$J$705)=\"NO\",0,\"\"))","v":0},{"$f":"IF(OR(UPPER(Egresados!$R$8:$R$705)=\"SI\",UPPER(Egresados!$R$8:$R$705)=\"SÍ\"),1,IF(UPPER(Egresados!$R$8:$R$705)=\"NO\",0,\"\"))","v":""},{"$f":"IF(OR(UPPER(Egresados!$S$8:$S$705)=\"SI\",UPPER(Egresados!$S$8:$S$705)=\"SÍ\"),1,IF(UPPER(Egresados!$S$8:$S$705)=\"NO\",0,\"\"))","v":""},{"$f":"IF(ISERROR(VLOOKUP(Egresados!$T$8:$T$705,Maestros!$S$31:$T$530,2,0)),\"\",VLOOKUP(Egresados!$T$8:$T$705,Maestros!$S$31:$T$530,2,0))","v":"62"},{"$f":"IF(ISERROR(VLOOKUP(U215,Maestros!$S$31:$T$530,2,0)),\"\",VLOOKUP(U215,Maestros!$S$31:$T$530,2,0))","v":"62"},{"$f":"IF(ISERROR(VLOOKUP(Egresados!$K$8:$K$705,Maestros!$A$31:$B$130,2,0)),\"\",VLOOKUP(Egresados!$K$8:$K$705,Maestros!$A$31:$B$130,2,0))","v":""},{"$f":"IF(LEN(tablaEgresados[[#This Row],[Nota promedio]])>0,ROUND(tablaEgresados[[#This Row],[Nota promedio]],2),\"\")","v":14.26}]
[208,null,"DNI","45881196","CALLE","PACHECO","VICTOR HUGO","MASCULINO",null,"NO",null,null,null,"2020-1","SEDE CENTRAL","EDUCACION FISICA-DEPORTES",15.42,null,null,"2009-1","2009-1","20090749@une.edu.pe","victorhugo_638@hotmail.com",3133700,976486001,{"$f":"IF(ISERROR(VLOOKUP(Egresados!$N$8:$N$705,Maestros!$D$31:$E$530,2,0)),\"\",VLOOKUP(Egresados!$N$8:$N$705,Maestros!$D$31:$E$530,2,0))","v":"223"},{"$f":"IF(ISERROR(VLOOKUP(Egresados!$O216,Maestros!$G$31:$J$1030,2,0)),\"\",VLOOKUP(Egresados!$O216,Maestros!$G$31:$J$1030,2,0))","v":"8"},{"$f":"CONCATENATE(Egresados!$Z$8:$Z$705,\"a\",Egresados!$AA$8:$AA$705)","v":"223a8"},{"$f":"IF(ISERROR(VLOOKUP(Egresados!$P216,Maestros!$L$31:$Q$1030,2,0)),\"\",VLOOKUP(Egresados!$P216,Maestros!$L$31:$Q$1030,2,0))","v":"12"},{"$f":"CONCATENATE(Egresados!$Z$8:$Z$705,\"a\",Egresados!$AA$8:$AA$705,\"a\",Egresados!$AC$8:$AC$705)","v":"223a8a12"},{"$f":"IF(ISERROR(VLOOKUP(Egresados!$C$8:$C$705,Maestros!$A$4:$B$21,2,0)),\"\",VLOOKUP(Egresados!$C$8:$C$705,Maestros!$A$4:$B$21,2,0))","v":"1001"},{"$f":"IF(ISERROR(VLOOKUP(Egresados!$H$8:$H$705,Maestros!$D$4:$E$21,2,0)),\"\",VLOOKUP(Egresados!$H$8:$H$705,Maestros!$D$4:$E$21,2,0))","v":"1121"},{"$f":"IF(OR(UPPER(Egresados!$J$8:$J$705)=\"SI\",UPPER(Egresados!$J$8:$J$705)=\"SÍ\"),1,IF(UPPER(Egresados!$J$8:$J$705)=\"NO\",0,\"\"))","v":0},{"$f":"IF(OR(UPPER(Egresados!$R$8:$R$705)=\"SI\",UPPER(Egresados!$R$8:$R$705)=\"SÍ\"),1,IF(UPPER(Egresados!$R$8:$R$705)=\"NO\",0,\"\"))","v":""},{"$f":"IF(OR(UPPER(Egresados!$S$8:$S$705)=\"SI\",UPPER(Egresados!$S$8:$S$705)=\"SÍ\"),1,IF(UPPER(Egresados!$S$8:$S$705)=\"NO\",0,\"\"))","v":""},{"$f":"IF(ISERROR(VLOOKUP(Egresados!$T$8:$T$705,Maestros!$S$31:$T$530,2,0)),\"\",VLOOKUP(Egresados!$T$8:$T$705,Maestros!$S$31:$T$530,2,0))","v":"38"},{"$f":"IF(ISERROR(VLOOKUP(U216,Maestros!$S$31:$T$530,2,0)),\"\",VLOOKUP(U216,Maestros!$S$31:$T$530,2,0))","v":"38"},{"$f":"IF(ISERROR(VLOOKUP(Egresados!$K$8:$K$705,Maestros!$A$31:$B$130,2,0)),\"\",VLOOKUP(Egresados!$K$8:$K$705,Maestros!$A$31:$B$130,2,0))","v":""},{"$f":"IF(LEN(tablaEgresados[[#This Row],[Nota promedio]])>0,ROUND(tablaEgresados[[#This Row],[Nota promedio]],2),\"\")","v":15.42}]
[209,null,"DNI","45588107","GUTIERREZ","ENRIQUEZ","DANY WILMER","MASCULINO",null,"NO",null,null,null,"2020-1","SEDE CENTRAL","EDUCACION FISICA-DEPORTES",14.23,null,null,"2012-1","2012-1","20121504@une.edu.pe","dany16_89boys@hotmail.com",3133700,"966666284",{"$f":"IF(ISERROR(VLOOKUP(Egresados!$N$8:$N$705,Maestros!$D$31:$E$530,2,0)),\"\",VLOOKUP(Egresados!$N$8:$N$705,Maestros!$D$31:$E$530,2,0))","v":"223"},{"$f":"IF(ISERROR(VLOOKUP(Egresados!$O217,Maestros!$G$31:$J$1030,2,0)),\"\",VLOOKUP(Egresados!$O217,Maestros!$G$31:$J$1030,2,0))","v":"8"},{"$f":"CONCATENATE(Egresados!$Z$8:$Z$705,\"a\",Egresados!$AA$8:$AA$705)","v":"223a8"},{"$f":"IF(ISERROR(VLOOKUP(Egresados!$P217,Maestros!$L$31:$Q$1030,2,0)),\"\",VLOOKUP(Egresados!$P217,Maestros!$L$31:$Q$1030,2,0))","v":"12"},{"$f":"CONCATENATE(Egresados!$Z$8:$Z$705,\"a\",Egresados!$AA$8:$AA$705,\"a\",Egresados!$AC$8:$AC$705)","v":"223a8a12"},{"$f":"IF(ISERROR(VLOOKUP(Egresados!$C$8:$C$705,Maestros!$A$4:$B$21,2,0)),\"\",VLOOKUP(Egresados!$C$8:$C$705,Maestros!$A$4:$B$21,2,0))","v":"1001"},{"$f":"IF(ISERROR(VLOOKUP(Egresados!$H$8:$H$705,Maestros!$D$4:$E$21,2,0)),\"\",VLOOKUP(Egresados!$H$8:$H$705,Maestros!$D$4:$E$21,2,0))","v":"1121"},{"$f":"IF(OR(UPPER(Egresados!$J$8:$J$705)=\"SI\",UPPER(Egresados!$J$8:$J$705)=\"SÍ\"),1,IF(UPPER(Egresados!$J$8:$J$705)=\"NO\",0,\"\"))","v":0},{"$f":"IF(OR(UPPER(Egresados!$R$8:$R$705)=\"SI\",UPPER(Egresados!$R$8:$R$705)=\"SÍ\"),1,IF(UPPER(Egresados!$R$8:$R$705)=\"NO\",0,\"\"))","v":""},{"$f":"IF(OR(UPPER(Egresados!$S$8:$S$705)=\"SI\",UPPER(Egresados!$S$8:$S$705)=\"SÍ\"),1,IF(UPPER(Egresados!$S$8:$S$705)=\"NO\",0,\"\"))","v":""},{"$f":"IF(ISERROR(VLOOKUP(Egresados!$T$8:$T$705,Maestros!$S$31:$T$530,2,0)),\"\",VLOOKUP(Egresados!$T$8:$T$705,Maestros!$S$31:$T$530,2,0))","v":"50"},{"$f":"IF(ISERROR(VLOOKUP(U217,Maestros!$S$31:$T$530,2,0)),\"\",VLOOKUP(U217,Maestros!$S$31:$T$530,2,0))","v":"50"},{"$f":"IF(ISERROR(VLOOKUP(Egresados!$K$8:$K$705,Maestros!$A$31:$B$130,2,0)),\"\",VLOOKUP(Egresados!$K$8:$K$705,Maestros!$A$31:$B$130,2,0))","v":""},{"$f":"IF(LEN(tablaEgresados[[#This Row],[Nota promedio]])>0,ROUND(tablaEgresados[[#This Row],[Nota promedio]],2),\"\")","v":14.23}]
[210,null,"DNI","46855455","GRADOS","HUAMANI","SANTIAGO JHONY","MASCULINO",null,"NO",null,null,null,"2020-1","SEDE CENTRAL","EDUCACION FISICA-DEPORTES",15.55,null,null,"2015-1","2015-1","20150148@une.edu.pe","santi.grados26@gmail.com",3133700,"989765596",{"$f":"IF(ISERROR(VLOOKUP(Egresados!$N$8:$N$705,Maestros!$D$31:$E$530,2,0)),\"\",VLOOKUP(Egresados!$N$8:$N$705,Maestros!$D$31:$E$530,2,0))","v":"223"},{"$f":"IF(ISERROR(VLOOKUP(Egresados!$O218,Maestros!$G$31:$J$1030,2,0)),\"\",VLOOKUP(Egresados!$O218,Maestros!$G$31:$J$1030,2,0))","v":"8"},{"$f":"CONCATENATE(Egresados!$Z$8:$Z$705,\"a\",Egresados!$AA$8:$AA$705)","v":"223a8"},{"$f":"IF(ISERROR(VLOOKUP(Egresados!$P218,Maestros!$L$31:$Q$1030,2,0)),\"\",VLOOKUP(Egresados!$P218,Maestros!$L$31:$Q$1030,2,0))","v":"12"},{"$f":"CONCATENATE(Egresados!$Z$8:$Z$705,\"a\",Egresados!$AA$8:$AA$705,\"a\",Egresados!$AC$8:$AC$705)","v":"223a8a12"},{"$f":"IF(ISERROR(VLOOKUP(Egresados!$C$8:$C$705,Maestros!$A$4:$B$21,2,0)),\"\",VLOOKUP(Egresados!$C$8:$C$705,Maestros!$A$4:$B$21,2,0))","v":"1001"},{"$f":"IF(ISERROR(VLOOKUP(Egresados!$H$8:$H$705,Maestros!$D$4:$E$21,2,0)),\"\",VLOOKUP(Egresados!$H$8:$H$705,Maestros!$D$4:$E$21,2,0))","v":"1121"},{"$f":"IF(OR(UPPER(Egresados!$J$8:$J$705)=\"SI\",UPPER(Egresados!$J$8:$J$705)=\"SÍ\"),1,IF(UPPER(Egresados!$J$8:$J$705)=\"NO\",0,\"\"))","v":0},{"$f":"IF(OR(UPPER(Egresados!$R$8:$R$705)=\"SI\",UPPER(Egresados!$R$8:$R$705)=\"SÍ\"),1,IF(UPPER(Egresados!$R$8:$R$705)=\"NO\",0,\"\"))","v":""},{"$f":"IF(OR(UPPER(Egresados!$S$8:$S$705)=\"SI\",UPPER(Egresados!$S$8:$S$705)=\"SÍ\"),1,IF(UPPER(Egresados!$S$8:$S$705)=\"NO\",0,\"\"))","v":""},{"$f":"IF(ISERROR(VLOOKUP(Egresados!$T$8:$T$705,Maestros!$S$31:$T$530,2,0)),\"\",VLOOKUP(Egresados!$T$8:$T$705,Maestros!$S$31:$T$530,2,0))","v":"62"},{"$f":"IF(ISERROR(VLOOKUP(U218,Maestros!$S$31:$T$530,2,0)),\"\",VLOOKUP(U218,Maestros!$S$31:$T$530,2,0))","v":"62"},{"$f":"IF(ISERROR(VLOOKUP(Egresados!$K$8:$K$705,Maestros!$A$31:$B$130,2,0)),\"\",VLOOKUP(Egresados!$K$8:$K$705,Maestros!$A$31:$B$130,2,0))","v":""},{"$f":"IF(LEN(tablaEgresados[[#This Row],[Nota promedio]])>0,ROUND(tablaEgresados[[#This Row],[Nota promedio]],2),\"\")","v":15.55}]
[211,null,"DNI","45790645","RUIZ","CAPISTRANO","JUAN JULIO","MASCULINO",null,"NO",null,null,null,"2020-1","SEDE CENTRAL","EDUCACION FISICA-DEPORTES",13.95,null,null,"2011-1","2011-1","20112045@une.edu.pe","juan.jrc@hotmail.com",3133700,"992016401",{"$f":"IF(ISERROR(VLOOKUP(Egresados!$N$8:$N$705,Maestros!$D$31:$E$530,2,0)),\"\",VLOOKUP(Egresados!$N$8:$N$705,Maestros!$D$31:$E$530,2,0))","v":"223"},{"$f":"IF(ISERROR(VLOOKUP(Egresados!$O219,Maestros!$G$31:$J$1030,2,0)),\"\",VLOOKUP(Egresados!$O219,Maestros!$G$31:$J$1030,2,0))","v":"8"},{"$f":"CONCATENATE(Egresados!$Z$8:$Z$705,\"a\",Egresados!$AA$8:$AA$705)","v":"223a8"},{"$f":"IF(ISERROR(VLOOKUP(Egresados!$P219,Maestros!$L$31:$Q$1030,2,0)),\"\",VLOOKUP(Egresados!$P219,Maestros!$L$31:$Q$1030,2,0))","v":"12"},{"$f":"CONCATENATE(Egresados!$Z$8:$Z$705,\"a\",Egresados!$AA$8:$AA$705,\"a\",Egresados!$AC$8:$AC$705)","v":"223a8a12"},{"$f":"IF(ISERROR(VLOOKUP(Egresados!$C$8:$C$705,Maestros!$A$4:$B$21,2,0)),\"\",VLOOKUP(Egresados!$C$8:$C$705,Maestros!$A$4:$B$21,2,0))","v":"1001"},{"$f":"IF(ISERROR(VLOOKUP(Egresados!$H$8:$H$705,Maestros!$D$4:$E$21,2,0)),\"\",VLOOKUP(Egresados!$H$8:$H$705,Maestros!$D$4:$E$21,2,0))","v":"1121"},{"$f":"IF(OR(UPPER(Egresados!$J$8:$J$705)=\"SI\",UPPER(Egresados!$J$8:$J$705)=\"SÍ\"),1,IF(UPPER(Egresados!$J$8:$J$705)=\"NO\",0,\"\"))","v":0},{"$f":"IF(OR(UPPER(Egresados!$R$8:$R$705)=\"SI\",UPPER(Egresados!$R$8:$R$705)=\"SÍ\"),1,IF(UPPER(Egresados!$R$8:$R$705)=\"NO\",0,\"\"))","v":""},{"$f":"IF(OR(UPPER(Egresados!$S$8:$S$705)=\"SI\",UPPER(Egresados!$S$8:$S$705)=\"SÍ\"),1,IF(UPPER(Egresados!$S$8:$S$705)=\"NO\",0,\"\"))","v":""},{"$f":"IF(ISERROR(VLOOKUP(Egresados!$T$8:$T$705,Maestros!$S$31:$T$530,2,0)),\"\",VLOOKUP(Egresados!$T$8:$T$705,Maestros!$S$31:$T$530,2,0))","v":"46"},{"$f":"IF(ISERROR(VLOOKUP(U219,Maestros!$S$31:$T$530,2,0)),\"\",VLOOKUP(U219,Maestros!$S$31:$T$530,2,0))","v":"46"},{"$f":"IF(ISERROR(VLOOKUP(Egresados!$K$8:$K$705,Maestros!$A$31:$B$130,2,0)),\"\",VLOOKUP(Egresados!$K$8:$K$705,Maestros!$A$31:$B$130,2,0))","v":""},{"$f":"IF(LEN(tablaEgresados[[#This Row],[Nota promedio]])>0,ROUND(tablaEgresados[[#This Row],[Nota promedio]],2),\"\")","v":13.95}]
[212,null,"DNI","70446412","MENDOZA","LICAPA","RENZO ANTHONY","MASCULINO",null,"NO",null,null,null,"2020-1","SEDE CENTRAL","EDUCACION FISICA-DEPORTES",14.42,null,null,"2006-1","2006-1","20061409@une.edu.pe","RENZO.MENDOZA1@UNMSM.EDU.PE",3133700,"966158824",{"$f":"IF(ISERROR(VLOOKUP(Egresados!$N$8:$N$705,Maestros!$D$31:$E$530,2,0)),\"\",VLOOKUP(Egresados!$N$8:$N$705,Maestros!$D$31:$E$530,2,0))","v":"223"},{"$f":"IF(ISERROR(VLOOKUP(Egresados!$O220,Maestros!$G$31:$J$1030,2,0)),\"\",VLOOKUP(Egresados!$O220,Maestros!$G$31:$J$1030,2,0))","v":"8"},{"$f":"CONCATENATE(Egresados!$Z$8:$Z$705,\"a\",Egresados!$AA$8:$AA$705)","v":"223a8"},{"$f":"IF(ISERROR(VLOOKUP(Egresados!$P220,Maestros!$L$31:$Q$1030,2,0)),\"\",VLOOKUP(Egresados!$P220,Maestros!$L$31:$Q$1030,2,0))","v":"12"},{"$f":"CONCATENATE(Egresados!$Z$8:$Z$705,\"a\",Egresados!$AA$8:$AA$705,\"a\",Egresados!$AC$8:$AC$705)","v":"223a8a12"},{"$f":"IF(ISERROR(VLOOKUP(Egresados!$C$8:$C$705,Maestros!$A$4:$B$21,2,0)),\"\",VLOOKUP(Egresados!$C$8:$C$705,Maestros!$A$4:$B$21,2,0))","v":"1001"},{"$f":"IF(ISERROR(VLOOKUP(Egresados!$H$8:$H$705,Maestros!$D$4:$E$21,2,0)),\"\",VLOOKUP(Egresados!$H$8:$H$705,Maestros!$D$4:$E$21,2,0))","v":"1121"},{"$f":"IF(OR(UPPER(Egresados!$J$8:$J$705)=\"SI\",UPPER(Egresados!$J$8:$J$705)=\"SÍ\"),1,IF(UPPER(Egresados!$J$8:$J$705)=\"NO\",0,\"\"))","v":0},{"$f":"IF(OR(UPPER(Egresados!$R$8:$R$705)=\"SI\",UPPER(Egresados!$R$8:$R$705)=\"SÍ\"),1,IF(UPPER(Egresados!$R$8:$R$705)=\"NO\",0,\"\"))","v":""},{"$f":"IF(OR(UPPER(Egresados!$S$8:$S$705)=\"SI\",UPPER(Egresados!$S$8:$S$705)=\"SÍ\"),1,IF(UPPER(Egresados!$S$8:$S$705)=\"NO\",0,\"\"))","v":""},{"$f":"IF(ISERROR(VLOOKUP(Egresados!$T$8:$T$705,Maestros!$S$31:$T$530,2,0)),\"\",VLOOKUP(Egresados!$T$8:$T$705,Maestros!$S$31:$T$530,2,0))","v":"26"},{"$f":"IF(ISERROR(VLOOKUP(U220,Maestros!$S$31:$T$530,2,0)),\"\",VLOOKUP(U220,Maestros!$S$31:$T$530,2,0))","v":"26"},{"$f":"IF(ISERROR(VLOOKUP(Egresados!$K$8:$K$705,Maestros!$A$31:$B$130,2,0)),\"\",VLOOKUP(Egresados!$K$8:$K$705,Maestros!$A$31:$B$130,2,0))","v":""},{"$f":"IF(LEN(tablaEgresados[[#This Row],[Nota promedio]])>0,ROUND(tablaEgresados[[#This Row],[Nota promedio]],2),\"\")","v":14.42}]
[213,null,"DNI","73883501","PERDOMO","MACUYAMA","ANGEL SAUL","MASCULINO",null,"NO",null,null,null,"2020-1","SEDE CENTRAL","EDUCACION FISICA-DEPORTES",15.29,null,null,"2015-1","2015-1","20150179@une.edu.pe","angel_perdomo97@hotmail.es",3133700,"980189102",{"$f":"IF(ISERROR(VLOOKUP(Egresados!$N$8:$N$705,Maestros!$D$31:$E$530,2,0)),\"\",VLOOKUP(Egresados!$N$8:$N$705,Maestros!$D$31:$E$530,2,0))","v":"223"},{"$f":"IF(ISERROR(VLOOKUP(Egresados!$O221,Maestros!$G$31:$J$1030,2,0)),\"\",VLOOKUP(Egresados!$O221,Maestros!$G$31:$J$1030,2,0))","v":"8"},{"$f":"CONCATENATE(Egresados!$Z$8:$Z$705,\"a\",Egresados!$AA$8:$AA$705)","v":"223a8"},{"$f":"IF(ISERROR(VLOOKUP(Egresados!$P221,Maestros!$L$31:$Q$1030,2,0)),\"\",VLOOKUP(Egresados!$P221,Maestros!$L$31:$Q$1030,2,0))","v":"12"},{"$f":"CONCATENATE(Egresados!$Z$8:$Z$705,\"a\",Egresados!$AA$8:$AA$705,\"a\",Egresados!$AC$8:$AC$705)","v":"223a8a12"},{"$f":"IF(ISERROR(VLOOKUP(Egresados!$C$8:$C$705,Maestros!$A$4:$B$21,2,0)),\"\",VLOOKUP(Egresados!$C$8:$C$705,Maestros!$A$4:$B$21,2,0))","v":"1001"},{"$f":"IF(ISERROR(VLOOKUP(Egresados!$H$8:$H$705,Maestros!$D$4:$E$21,2,0)),\"\",VLOOKUP(Egresados!$H$8:$H$705,Maestros!$D$4:$E$21,2,0))","v":"1121"},{"$f":"IF(OR(UPPER(Egresados!$J$8:$J$705)=\"SI\",UPPER(Egresados!$J$8:$J$705)=\"SÍ\"),1,IF(UPPER(Egresados!$J$8:$J$705)=\"NO\",0,\"\"))","v":0},{"$f":"IF(OR(UPPER(Egresados!$R$8:$R$705)=\"SI\",UPPER(Egresados!$R$8:$R$705)=\"SÍ\"),1,IF(UPPER(Egresados!$R$8:$R$705)=\"NO\",0,\"\"))","v":""},{"$f":"IF(OR(UPPER(Egresados!$S$8:$S$705)=\"SI\",UPPER(Egresados!$S$8:$S$705)=\"SÍ\"),1,IF(UPPER(Egresados!$S$8:$S$705)=\"NO\",0,\"\"))","v":""},{"$f":"IF(ISERROR(VLOOKUP(Egresados!$T$8:$T$705,Maestros!$S$31:$T$530,2,0)),\"\",VLOOKUP(Egresados!$T$8:$T$705,Maestros!$S$31:$T$530,2,0))","v":"62"},{"$f":"IF(ISERROR(VLOOKUP(U221,Maestros!$S$31:$T$530,2,0)),\"\",VLOOKUP(U221,Maestros!$S$31:$T$530,2,0))","v":"62"},{"$f":"IF(ISERROR(VLOOKUP(Egresados!$K$8:$K$705,Maestros!$A$31:$B$130,2,0)),\"\",VLOOKUP(Egresados!$K$8:$K$705,Maestros!$A$31:$B$130,2,0))","v":""},{"$f":"IF(LEN(tablaEgresados[[#This Row],[Nota promedio]])>0,ROUND(tablaEgresados[[#This Row],[Nota promedio]],2),\"\")","v":15.29}]
[214,null,"DNI","70569544","GARCIA","TORRES","JESUS DAVID","MASCULINO",null,"NO",null,null,null,"2020-1","SEDE CENTRAL","EDUCACION FISICA-DEPORTES",14.34,null,null,"2015-1","2015-1","20150145@une.edu.pe","garciatorresjesusdavid@hotmail.com",3133700,"926924899",{"$f":"IF(ISERROR(VLOOKUP(Egresados!$N$8:$N$705,Maestros!$D$31:$E$530,2,0)),\"\",VLOOKUP(Egresados!$N$8:$N$705,Maestros!$D$31:$E$530,2,0))","v":"223"},{"$f":"IF(ISERROR(VLOOKUP(Egresados!$O222,Maestros!$G$31:$J$1030,2,0)),\"\",VLOOKUP(Egresados!$O222,Maestros!$G$31:$J$1030,2,0))","v":"8"},{"$f":"CONCATENATE(Egresados!$Z$8:$Z$705,\"a\",Egresados!$AA$8:$AA$705)","v":"223a8"},{"$f":"IF(ISERROR(VLOOKUP(Egresados!$P222,Maestros!$L$31:$Q$1030,2,0)),\"\",VLOOKUP(Egresados!$P222,Maestros!$L$31:$Q$1030,2,0))","v":"12"},{"$f":"CONCATENATE(Egresados!$Z$8:$Z$705,\"a\",Egresados!$AA$8:$AA$705,\"a\",Egresados!$AC$8:$AC$705)","v":"223a8a12"},{"$f":"IF(ISERROR(VLOOKUP(Egresados!$C$8:$C$705,Maestros!$A$4:$B$21,2,0)),\"\",VLOOKUP(Egresados!$C$8:$C$705,Maestros!$A$4:$B$21,2,0))","v":"1001"},{"$f":"IF(ISERROR(VLOOKUP(Egresados!$H$8:$H$705,Maestros!$D$4:$E$21,2,0)),\"\",VLOOKUP(Egresados!$H$8:$H$705,Maestros!$D$4:$E$21,2,0))","v":"1121"},{"$f":"IF(OR(UPPER(Egresados!$J$8:$J$705)=\"SI\",UPPER(Egresados!$J$8:$J$705)=\"SÍ\"),1,IF(UPPER(Egresados!$J$8:$J$705)=\"NO\",0,\"\"))","v":0},{"$f":"IF(OR(UPPER(Egresados!$R$8:$R$705)=\"SI\",UPPER(Egresados!$R$8:$R$705)=\"SÍ\"),1,IF(UPPER(Egresados!$R$8:$R$705)=\"NO\",0,\"\"))","v":""},{"$f":"IF(OR(UPPER(Egresados!$S$8:$S$705)=\"SI\",UPPER(Egresados!$S$8:$S$705)=\"SÍ\"),1,IF(UPPER(Egresados!$S$8:$S$705)=\"NO\",0,\"\"))","v":""},{"$f":"IF(ISERROR(VLOOKUP(Egresados!$T$8:$T$705,Maestros!$S$31:$T$530,2,0)),\"\",VLOOKUP(Egresados!$T$8:$T$705,Maestros!$S$31:$T$530,2,0))","v":"62"},{"$f":"IF(ISERROR(VLOOKUP(U222,Maestros!$S$31:$T$530,2,0)),\"\",VLOOKUP(U222,Maestros!$S$31:$T$530,2,0))","v":"62"},{"$f":"IF(ISERROR(VLOOKUP(Egresados!$K$8:$K$705,Maestros!$A$31:$B$130,2,0)),\"\",VLOOKUP(Egresados!$K$8:$K$705,Maestros!$A$31:$B$130,2,0))","v":""},{"$f":"IF(LEN(tablaEgresados[[#This Row],[Nota promedio]])>0,ROUND(tablaEgresados[[#This Row],[Nota promedio]],2),\"\")","v":14.34}]
[215,null,"DNI","43099655","FIGUEROA","CHAVEZ","BERLY CARLOS","MASCULINO",null,"NO",null,null,null,"2020-1","SEDE CENTRAL","EDUCACION FISICA-DEPORTES",14.46,null,null,"2015-1","2015-1","20150138@une.edu.pe","berlyfiguer@gmail.com",3133700,"930643103",{"$f":"IF(ISERROR(VLOOKUP(Egresados!$N$8:$N$705,Maestros!$D$31:$E$530,2,0)),\"\",VLOOKUP(Egresados!$N$8:$N$705,Maestros!$D$31:$E$530,2,0))","v":"223"},{"$f":"IF(ISERROR(VLOOKUP(Egresados!$O223,Maestros!$G$31:$J$1030,2,0)),\"\",VLOOKUP(Egresados!$O223,Maestros!$G$31:$J$1030,2,0))","v":"8"},{"$f":"CONCATENATE(Egresados!$Z$8:$Z$705,\"a\",Egresados!$AA$8:$AA$705)","v":"223a8"},{"$f":"IF(ISERROR(VLOOKUP(Egresados!$P223,Maestros!$L$31:$Q$1030,2,0)),\"\",VLOOKUP(Egresados!$P223,Maestros!$L$31:$Q$1030,2,0))","v":"12"},{"$f":"CONCATENATE(Egresados!$Z$8:$Z$705,\"a\",Egresados!$AA$8:$AA$705,\"a\",Egresados!$AC$8:$AC$705)","v":"223a8a12"},{"$f":"IF(ISERROR(VLOOKUP(Egresados!$C$8:$C$705,Maestros!$A$4:$B$21,2,0)),\"\",VLOOKUP(Egresados!$C$8:$C$705,Maestros!$A$4:$B$21,2,0))","v":"1001"},{"$f":"IF(ISERROR(VLOOKUP(Egresados!$H$8:$H$705,Maestros!$D$4:$E$21,2,0)),\"\",VLOOKUP(Egresados!$H$8:$H$705,Maestros!$D$4:$E$21,2,0))","v":"1121"},{"$f":"IF(OR(UPPER(Egresados!$J$8:$J$705)=\"SI\",UPPER(Egresados!$J$8:$J$705)=\"SÍ\"),1,IF(UPPER(Egresados!$J$8:$J$705)=\"NO\",0,\"\"))","v":0},{"$f":"IF(OR(UPPER(Egresados!$R$8:$R$705)=\"SI\",UPPER(Egresados!$R$8:$R$705)=\"SÍ\"),1,IF(UPPER(Egresados!$R$8:$R$705)=\"NO\",0,\"\"))","v":""},{"$f":"IF(OR(UPPER(Egresados!$S$8:$S$705)=\"SI\",UPPER(Egresados!$S$8:$S$705)=\"SÍ\"),1,IF(UPPER(Egresados!$S$8:$S$705)=\"NO\",0,\"\"))","v":""},{"$f":"IF(ISERROR(VLOOKUP(Egresados!$T$8:$T$705,Maestros!$S$31:$T$530,2,0)),\"\",VLOOKUP(Egresados!$T$8:$T$705,Maestros!$S$31:$T$530,2,0))","v":"62"},{"$f":"IF(ISERROR(VLOOKUP(U223,Maestros!$S$31:$T$530,2,0)),\"\",VLOOKUP(U223,Maestros!$S$31:$T$530,2,0))","v":"62"},{"$f":"IF(ISERROR(VLOOKUP(Egresados!$K$8:$K$705,Maestros!$A$31:$B$130,2,0)),\"\",VLOOKUP(Egresados!$K$8:$K$705,Maestros!$A$31:$B$130,2,0))","v":""},{"$f":"IF(LEN(tablaEgresados[[#This Row],[Nota promedio]])>0,ROUND(tablaEgresados[[#This Row],[Nota promedio]],2),\"\")","v":14.46}]
[216,null,"DNI","73992615","SALVATIERRA","BABILON","GIAN MARCO","MASCULINO",null,"NO",null,null,null,"2020-1","SEDE CENTRAL","EDUCACION FISICA-DEPORTES",14.96,null,null,"2015-1","2015-1","20150195@une.edu.pe","gianmarcosalvaatierra@gmail.com",3133700,"985319506",{"$f":"IF(ISERROR(VLOOKUP(Egresados!$N$8:$N$705,Maestros!$D$31:$E$530,2,0)),\"\",VLOOKUP(Egresados!$N$8:$N$705,Maestros!$D$31:$E$530,2,0))","v":"223"},{"$f":"IF(ISERROR(VLOOKUP(Egresados!$O224,Maestros!$G$31:$J$1030,2,0)),\"\",VLOOKUP(Egresados!$O224,Maestros!$G$31:$J$1030,2,0))","v":"8"},{"$f":"CONCATENATE(Egresados!$Z$8:$Z$705,\"a\",Egresados!$AA$8:$AA$705)","v":"223a8"},{"$f":"IF(ISERROR(VLOOKUP(Egresados!$P224,Maestros!$L$31:$Q$1030,2,0)),\"\",VLOOKUP(Egresados!$P224,Maestros!$L$31:$Q$1030,2,0))","v":"12"},{"$f":"CONCATENATE(Egresados!$Z$8:$Z$705,\"a\",Egresados!$AA$8:$AA$705,\"a\",Egresados!$AC$8:$AC$705)","v":"223a8a12"},{"$f":"IF(ISERROR(VLOOKUP(Egresados!$C$8:$C$705,Maestros!$A$4:$B$21,2,0)),\"\",VLOOKUP(Egresados!$C$8:$C$705,Maestros!$A$4:$B$21,2,0))","v":"1001"},{"$f":"IF(ISERROR(VLOOKUP(Egresados!$H$8:$H$705,Maestros!$D$4:$E$21,2,0)),\"\",VLOOKUP(Egresados!$H$8:$H$705,Maestros!$D$4:$E$21,2,0))","v":"1121"},{"$f":"IF(OR(UPPER(Egresados!$J$8:$J$705)=\"SI\",UPPER(Egresados!$J$8:$J$705)=\"SÍ\"),1,IF(UPPER(Egresados!$J$8:$J$705)=\"NO\",0,\"\"))","v":0},{"$f":"IF(OR(UPPER(Egresados!$R$8:$R$705)=\"SI\",UPPER(Egresados!$R$8:$R$705)=\"SÍ\"),1,IF(UPPER(Egresados!$R$8:$R$705)=\"NO\",0,\"\"))","v":""},{"$f":"IF(OR(UPPER(Egresados!$S$8:$S$705)=\"SI\",UPPER(Egresados!$S$8:$S$705)=\"SÍ\"),1,IF(UPPER(Egresados!$S$8:$S$705)=\"NO\",0,\"\"))","v":""},{"$f":"IF(ISERROR(VLOOKUP(Egresados!$T$8:$T$705,Maestros!$S$31:$T$530,2,0)),\"\",VLOOKUP(Egresados!$T$8:$T$705,Maestros!$S$31:$T$530,2,0))","v":"62"},{"$f":"IF(ISERROR(VLOOKUP(U224,Maestros!$S$31:$T$530,2,0)),\"\",VLOOKUP(U224,Maestros!$S$31:$T$530,2,0))","v":"62"},{"$f":"IF(ISERROR(VLOOKUP(Egresados!$K$8:$K$705,Maestros!$A$31:$B$130,2,0)),\"\",VLOOKUP(Egresados!$K$8:$K$705,Maestros!$A$31:$B$130,2,0))","v":""},{"$f":"IF(LEN(tablaEgresados[[#This Row],[Nota promedio]])>0,ROUND(tablaEgresados[[#This Row],[Nota promedio]],2),\"\")","v":14.96}]
[217,null,"DNI","70970719","ALVARADO","VELASQUEZ","MANUEL JESUS","MASCULINO",null,"NO",null,null,null,"2020-1","SEDE CENTRAL","EDUCACION FISICA-DEPORTES",16.71,null,null,"2015-1","2015-1","20150112@une.edu.pe","psv_ronaldo18@hotmail.com",3133700,"948794511",{"$f":"IF(ISERROR(VLOOKUP(Egresados!$N$8:$N$705,Maestros!$D$31:$E$530,2,0)),\"\",VLOOKUP(Egresados!$N$8:$N$705,Maestros!$D$31:$E$530,2,0))","v":"223"},{"$f":"IF(ISERROR(VLOOKUP(Egresados!$O225,Maestros!$G$31:$J$1030,2,0)),\"\",VLOOKUP(Egresados!$O225,Maestros!$G$31:$J$1030,2,0))","v":"8"},{"$f":"CONCATENATE(Egresados!$Z$8:$Z$705,\"a\",Egresados!$AA$8:$AA$705)","v":"223a8"},{"$f":"IF(ISERROR(VLOOKUP(Egresados!$P225,Maestros!$L$31:$Q$1030,2,0)),\"\",VLOOKUP(Egresados!$P225,Maestros!$L$31:$Q$1030,2,0))","v":"12"},{"$f":"CONCATENATE(Egresados!$Z$8:$Z$705,\"a\",Egresados!$AA$8:$AA$705,\"a\",Egresados!$AC$8:$AC$705)","v":"223a8a12"},{"$f":"IF(ISERROR(VLOOKUP(Egresados!$C$8:$C$705,Maestros!$A$4:$B$21,2,0)),\"\",VLOOKUP(Egresados!$C$8:$C$705,Maestros!$A$4:$B$21,2,0))","v":"1001"},{"$f":"IF(ISERROR(VLOOKUP(Egresados!$H$8:$H$705,Maestros!$D$4:$E$21,2,0)),\"\",VLOOKUP(Egresados!$H$8:$H$705,Maestros!$D$4:$E$21,2,0))","v":"1121"},{"$f":"IF(OR(UPPER(Egresados!$J$8:$J$705)=\"SI\",UPPER(Egresados!$J$8:$J$705)=\"SÍ\"),1,IF(UPPER(Egresados!$J$8:$J$705)=\"NO\",0,\"\"))","v":0},{"$f":"IF(OR(UPPER(Egresados!$R$8:$R$705)=\"SI\",UPPER(Egresados!$R$8:$R$705)=\"SÍ\"),1,IF(UPPER(Egresados!$R$8:$R$705)=\"NO\",0,\"\"))","v":""},{"$f":"IF(OR(UPPER(Egresados!$S$8:$S$705)=\"SI\",UPPER(Egresados!$S$8:$S$705)=\"SÍ\"),1,IF(UPPER(Egresados!$S$8:$S$705)=\"NO\",0,\"\"))","v":""},{"$f":"IF(ISERROR(VLOOKUP(Egresados!$T$8:$T$705,Maestros!$S$31:$T$530,2,0)),\"\",VLOOKUP(Egresados!$T$8:$T$705,Maestros!$S$31:$T$530,2,0))","v":"62"},{"$f":"IF(ISERROR(VLOOKUP(U225,Maestros!$S$31:$T$530,2,0)),\"\",VLOOKUP(U225,Maestros!$S$31:$T$530,2,0))","v":"62"},{"$f":"IF(ISERROR(VLOOKUP(Egresados!$K$8:$K$705,Maestros!$A$31:$B$130,2,0)),\"\",VLOOKUP(Egresados!$K$8:$K$705,Maestros!$A$31:$B$130,2,0))","v":""},{"$f":"IF(LEN(tablaEgresados[[#This Row],[Nota promedio]])>0,ROUND(tablaEgresados[[#This Row],[Nota promedio]],2),\"\")","v":16.71}]
[218,null,"DNI","72959335","VALERO","CCOSCCO","JOSSELY ELIZABETH","FEMENINO",null,"NO",null,null,null,"2020-1","SEDE CENTRAL","EDUCACION FISICA-DEPORTES",15.22,null,null,"2015-1","2015-1","20150208@une.edu.pe","josselyvalero8@gmail.com",3133700,"977303532",{"$f":"IF(ISERROR(VLOOKUP(Egresados!$N$8:$N$705,Maestros!$D$31:$E$530,2,0)),\"\",VLOOKUP(Egresados!$N$8:$N$705,Maestros!$D$31:$E$530,2,0))","v":"223"},{"$f":"IF(ISERROR(VLOOKUP(Egresados!$O226,Maestros!$G$31:$J$1030,2,0)),\"\",VLOOKUP(Egresados!$O226,Maestros!$G$31:$J$1030,2,0))","v":"8"},{"$f":"CONCATENATE(Egresados!$Z$8:$Z$705,\"a\",Egresados!$AA$8:$AA$705)","v":"223a8"},{"$f":"IF(ISERROR(VLOOKUP(Egresados!$P226,Maestros!$L$31:$Q$1030,2,0)),\"\",VLOOKUP(Egresados!$P226,Maestros!$L$31:$Q$1030,2,0))","v":"12"},{"$f":"CONCATENATE(Egresados!$Z$8:$Z$705,\"a\",Egresados!$AA$8:$AA$705,\"a\",Egresados!$AC$8:$AC$705)","v":"223a8a12"},{"$f":"IF(ISERROR(VLOOKUP(Egresados!$C$8:$C$705,Maestros!$A$4:$B$21,2,0)),\"\",VLOOKUP(Egresados!$C$8:$C$705,Maestros!$A$4:$B$21,2,0))","v":"1001"},{"$f":"IF(ISERROR(VLOOKUP(Egresados!$H$8:$H$705,Maestros!$D$4:$E$21,2,0)),\"\",VLOOKUP(Egresados!$H$8:$H$705,Maestros!$D$4:$E$21,2,0))","v":"1122"},{"$f":"IF(OR(UPPER(Egresados!$J$8:$J$705)=\"SI\",UPPER(Egresados!$J$8:$J$705)=\"SÍ\"),1,IF(UPPER(Egresados!$J$8:$J$705)=\"NO\",0,\"\"))","v":0},{"$f":"IF(OR(UPPER(Egresados!$R$8:$R$705)=\"SI\",UPPER(Egresados!$R$8:$R$705)=\"SÍ\"),1,IF(UPPER(Egresados!$R$8:$R$705)=\"NO\",0,\"\"))","v":""},{"$f":"IF(OR(UPPER(Egresados!$S$8:$S$705)=\"SI\",UPPER(Egresados!$S$8:$S$705)=\"SÍ\"),1,IF(UPPER(Egresados!$S$8:$S$705)=\"NO\",0,\"\"))","v":""},{"$f":"IF(ISERROR(VLOOKUP(Egresados!$T$8:$T$705,Maestros!$S$31:$T$530,2,0)),\"\",VLOOKUP(Egresados!$T$8:$T$705,Maestros!$S$31:$T$530,2,0))","v":"62"},{"$f":"IF(ISERROR(VLOOKUP(U226,Maestros!$S$31:$T$530,2,0)),\"\",VLOOKUP(U226,Maestros!$S$31:$T$530,2,0))","v":"62"},{"$f":"IF(ISERROR(VLOOKUP(Egresados!$K$8:$K$705,Maestros!$A$31:$B$130,2,0)),\"\",VLOOKUP(Egresados!$K$8:$K$705,Maestros!$A$31:$B$130,2,0))","v":""},{"$f":"IF(LEN(tablaEgresados[[#This Row],[Nota promedio]])>0,ROUND(tablaEgresados[[#This Row],[Nota promedio]],2),\"\")","v":15.22}]
[219,null,"DNI","75697949","TAIPE","CCENTE","MICHAEL GERSON","MASCULINO",null,"NO",null,null,null,"2020-1","SEDE CENTRAL","EDUCACION FISICA-DEPORTES",14.93,null,null,"2015-1","2015-1","20150206@une.edu.pe","michaeltc8@hotmail.com",3133700,"994915341",{"$f":"IF(ISERROR(VLOOKUP(Egresados!$N$8:$N$705,Maestros!$D$31:$E$530,2,0)),\"\",VLOOKUP(Egresados!$N$8:$N$705,Maestros!$D$31:$E$530,2,0))","v":"223"},{"$f":"IF(ISERROR(VLOOKUP(Egresados!$O227,Maestros!$G$31:$J$1030,2,0)),\"\",VLOOKUP(Egresados!$O227,Maestros!$G$31:$J$1030,2,0))","v":"8"},{"$f":"CONCATENATE(Egresados!$Z$8:$Z$705,\"a\",Egresados!$AA$8:$AA$705)","v":"223a8"},{"$f":"IF(ISERROR(VLOOKUP(Egresados!$P227,Maestros!$L$31:$Q$1030,2,0)),\"\",VLOOKUP(Egresados!$P227,Maestros!$L$31:$Q$1030,2,0))","v":"12"},{"$f":"CONCATENATE(Egresados!$Z$8:$Z$705,\"a\",Egresados!$AA$8:$AA$705,\"a\",Egresados!$AC$8:$AC$705)","v":"223a8a12"},{"$f":"IF(ISERROR(VLOOKUP(Egresados!$C$8:$C$705,Maestros!$A$4:$B$21,2,0)),\"\",VLOOKUP(Egresados!$C$8:$C$705,Maestros!$A$4:$B$21,2,0))","v":"1001"},{"$f":"IF(ISERROR(VLOOKUP(Egresados!$H$8:$H$705,Maestros!$D$4:$E$21,2,0)),\"\",VLOOKUP(Egresados!$H$8:$H$705,Maestros!$D$4:$E$21,2,0))","v":"1121"},{"$f":"IF(OR(UPPER(Egresados!$J$8:$J$705)=\"SI\",UPPER(Egresados!$J$8:$J$705)=\"SÍ\"),1,IF(UPPER(Egresados!$J$8:$J$705)=\"NO\",0,\"\"))","v":0},{"$f":"IF(OR(UPPER(Egresados!$R$8:$R$705)=\"SI\",UPPER(Egresados!$R$8:$R$705)=\"SÍ\"),1,IF(UPPER(Egresados!$R$8:$R$705)=\"NO\",0,\"\"))","v":""},{"$f":"IF(OR(UPPER(Egresados!$S$8:$S$705)=\"SI\",UPPER(Egresados!$S$8:$S$705)=\"SÍ\"),1,IF(UPPER(Egresados!$S$8:$S$705)=\"NO\",0,\"\"))","v":""},{"$f":"IF(ISERROR(VLOOKUP(Egresados!$T$8:$T$705,Maestros!$S$31:$T$530,2,0)),\"\",VLOOKUP(Egresados!$T$8:$T$705,Maestros!$S$31:$T$530,2,0))","v":"62"},{"$f":"IF(ISERROR(VLOOKUP(U227,Maestros!$S$31:$T$530,2,0)),\"\",VLOOKUP(U227,Maestros!$S$31:$T$530,2,0))","v":"62"},{"$f":"IF(ISERROR(VLOOKUP(Egresados!$K$8:$K$705,Maestros!$A$31:$B$130,2,0)),\"\",VLOOKUP(Egresados!$K$8:$K$705,Maestros!$A$31:$B$130,2,0))","v":""},{"$f":"IF(LEN(tablaEgresados[[#This Row],[Nota promedio]])>0,ROUND(tablaEgresados[[#This Row],[Nota promedio]],2),\"\")","v":14.93}]
[220,null,"DNI","48450552","RODRIGUEZ","MANTILLA","LISSET PRIMITIVA","FEMENINO",null,"NO",null,null,null,"2020-1","SEDE CENTRAL","EDUCACION FISICA-DEPORTES",14.88,null,null,"2013-1","2013-1","20131852@une.edu.pe","lissesita_29_14@hotmail.com",3133700,"931947701",{"$f":"IF(ISERROR(VLOOKUP(Egresados!$N$8:$N$705,Maestros!$D$31:$E$530,2,0)),\"\",VLOOKUP(Egresados!$N$8:$N$705,Maestros!$D$31:$E$530,2,0))","v":"223"},{"$f":"IF(ISERROR(VLOOKUP(Egresados!$O228,Maestros!$G$31:$J$1030,2,0)),\"\",VLOOKUP(Egresados!$O228,Maestros!$G$31:$J$1030,2,0))","v":"8"},{"$f":"CONCATENATE(Egresados!$Z$8:$Z$705,\"a\",Egresados!$AA$8:$AA$705)","v":"223a8"},{"$f":"IF(ISERROR(VLOOKUP(Egresados!$P228,Maestros!$L$31:$Q$1030,2,0)),\"\",VLOOKUP(Egresados!$P228,Maestros!$L$31:$Q$1030,2,0))","v":"12"},{"$f":"CONCATENATE(Egresados!$Z$8:$Z$705,\"a\",Egresados!$AA$8:$AA$705,\"a\",Egresados!$AC$8:$AC$705)","v":"223a8a12"},{"$f":"IF(ISERROR(VLOOKUP(Egresados!$C$8:$C$705,Maestros!$A$4:$B$21,2,0)),\"\",VLOOKUP(Egresados!$C$8:$C$705,Maestros!$A$4:$B$21,2,0))","v":"1001"},{"$f":"IF(ISERROR(VLOOKUP(Egresados!$H$8:$H$705,Maestros!$D$4:$E$21,2,0)),\"\",VLOOKUP(Egresados!$H$8:$H$705,Maestros!$D$4:$E$21,2,0))","v":"1122"},{"$f":"IF(OR(UPPER(Egresados!$J$8:$J$705)=\"SI\",UPPER(Egresados!$J$8:$J$705)=\"SÍ\"),1,IF(UPPER(Egresados!$J$8:$J$705)=\"NO\",0,\"\"))","v":0},{"$f":"IF(OR(UPPER(Egresados!$R$8:$R$705)=\"SI\",UPPER(Egresados!$R$8:$R$705)=\"SÍ\"),1,IF(UPPER(Egresados!$R$8:$R$705)=\"NO\",0,\"\"))","v":""},{"$f":"IF(OR(UPPER(Egresados!$S$8:$S$705)=\"SI\",UPPER(Egresados!$S$8:$S$705)=\"SÍ\"),1,IF(UPPER(Egresados!$S$8:$S$705)=\"NO\",0,\"\"))","v":""},{"$f":"IF(ISERROR(VLOOKUP(Egresados!$T$8:$T$705,Maestros!$S$31:$T$530,2,0)),\"\",VLOOKUP(Egresados!$T$8:$T$705,Maestros!$S$31:$T$530,2,0))","v":"54"},{"$f":"IF(ISERROR(VLOOKUP(U228,Maestros!$S$31:$T$530,2,0)),\"\",VLOOKUP(U228,Maestros!$S$31:$T$530,2,0))","v":"54"},{"$f":"IF(ISERROR(VLOOKUP(Egresados!$K$8:$K$705,Maestros!$A$31:$B$130,2,0)),\"\",VLOOKUP(Egresados!$K$8:$K$705,Maestros!$A$31:$B$130,2,0))","v":""},{"$f":"IF(LEN(tablaEgresados[[#This Row],[Nota promedio]])>0,ROUND(tablaEgresados[[#This Row],[Nota promedio]],2),\"\")","v":14.88}]
[221,null,"DNI","70165161","ROMERO","CERAZO","JHONATAN ARTURO","MASCULINO",null,"NO",null,null,null,"2020-1","SEDE CENTRAL","EDUCACION FISICA-DEPORTES",16.12,null,null,"2015-1","2015-1","20150191@une.edu.pe","jhonatancerazo90@gmail.com",3133700,"990827454",{"$f":"IF(ISERROR(VLOOKUP(Egresados!$N$8:$N$705,Maestros!$D$31:$E$530,2,0)),\"\",VLOOKUP(Egresados!$N$8:$N$705,Maestros!$D$31:$E$530,2,0))","v":"223"},{"$f":"IF(ISERROR(VLOOKUP(Egresados!$O229,Maestros!$G$31:$J$1030,2,0)),\"\",VLOOKUP(Egresados!$O229,Maestros!$G$31:$J$1030,2,0))","v":"8"},{"$f":"CONCATENATE(Egresados!$Z$8:$Z$705,\"a\",Egresados!$AA$8:$AA$705)","v":"223a8"},{"$f":"IF(ISERROR(VLOOKUP(Egresados!$P229,Maestros!$L$31:$Q$1030,2,0)),\"\",VLOOKUP(Egresados!$P229,Maestros!$L$31:$Q$1030,2,0))","v":"12"},{"$f":"CONCATENATE(Egresados!$Z$8:$Z$705,\"a\",Egresados!$AA$8:$AA$705,\"a\",Egresados!$AC$8:$AC$705)","v":"223a8a12"},{"$f":"IF(ISERROR(VLOOKUP(Egresados!$C$8:$C$705,Maestros!$A$4:$B$21,2,0)),\"\",VLOOKUP(Egresados!$C$8:$C$705,Maestros!$A$4:$B$21,2,0))","v":"1001"},{"$f":"IF(ISERROR(VLOOKUP(Egresados!$H$8:$H$705,Maestros!$D$4:$E$21,2,0)),\"\",VLOOKUP(Egresados!$H$8:$H$705,Maestros!$D$4:$E$21,2,0))","v":"1121"},{"$f":"IF(OR(UPPER(Egresados!$J$8:$J$705)=\"SI\",UPPER(Egresados!$J$8:$J$705)=\"SÍ\"),1,IF(UPPER(Egresados!$J$8:$J$705)=\"NO\",0,\"\"))","v":0},{"$f":"IF(OR(UPPER(Egresados!$R$8:$R$705)=\"SI\",UPPER(Egresados!$R$8:$R$705)=\"SÍ\"),1,IF(UPPER(Egresados!$R$8:$R$705)=\"NO\",0,\"\"))","v":""},{"$f":"IF(OR(UPPER(Egresados!$S$8:$S$705)=\"SI\",UPPER(Egresados!$S$8:$S$705)=\"SÍ\"),1,IF(UPPER(Egresados!$S$8:$S$705)=\"NO\",0,\"\"))","v":""},{"$f":"IF(ISERROR(VLOOKUP(Egresados!$T$8:$T$705,Maestros!$S$31:$T$530,2,0)),\"\",VLOOKUP(Egresados!$T$8:$T$705,Maestros!$S$31:$T$530,2,0))","v":"62"},{"$f":"IF(ISERROR(VLOOKUP(U229,Maestros!$S$31:$T$530,2,0)),\"\",VLOOKUP(U229,Maestros!$S$31:$T$530,2,0))","v":"62"},{"$f":"IF(ISERROR(VLOOKUP(Egresados!$K$8:$K$705,Maestros!$A$31:$B$130,2,0)),\"\",VLOOKUP(Egresados!$K$8:$K$705,Maestros!$A$31:$B$130,2,0))","v":""},{"$f":"IF(LEN(tablaEgresados[[#This Row],[Nota promedio]])>0,ROUND(tablaEgresados[[#This Row],[Nota promedio]],2),\"\")","v":16.12}]
[222,null,"DNI","76264006","ENCISO","CHAVEZ","MAURO BONNET","MASCULINO",null,"NO",null,null,null,"2020-1","SEDE CENTRAL","EDUCACION FISICA-DEPORTES",14.7,null,null,"2014-1","2014-1","20140700@une.edu.pe","enciso_1997@hotmail.com",3133700,976486001,{"$f":"IF(ISERROR(VLOOKUP(Egresados!$N$8:$N$705,Maestros!$D$31:$E$530,2,0)),\"\",VLOOKUP(Egresados!$N$8:$N$705,Maestros!$D$31:$E$530,2,0))","v":"223"},{"$f":"IF(ISERROR(VLOOKUP(Egresados!$O230,Maestros!$G$31:$J$1030,2,0)),\"\",VLOOKUP(Egresados!$O230,Maestros!$G$31:$J$1030,2,0))","v":"8"},{"$f":"CONCATENATE(Egresados!$Z$8:$Z$705,\"a\",Egresados!$AA$8:$AA$705)","v":"223a8"},{"$f":"IF(ISERROR(VLOOKUP(Egresados!$P230,Maestros!$L$31:$Q$1030,2,0)),\"\",VLOOKUP(Egresados!$P230,Maestros!$L$31:$Q$1030,2,0))","v":"12"},{"$f":"CONCATENATE(Egresados!$Z$8:$Z$705,\"a\",Egresados!$AA$8:$AA$705,\"a\",Egresados!$AC$8:$AC$705)","v":"223a8a12"},{"$f":"IF(ISERROR(VLOOKUP(Egresados!$C$8:$C$705,Maestros!$A$4:$B$21,2,0)),\"\",VLOOKUP(Egresados!$C$8:$C$705,Maestros!$A$4:$B$21,2,0))","v":"1001"},{"$f":"IF(ISERROR(VLOOKUP(Egresados!$H$8:$H$705,Maestros!$D$4:$E$21,2,0)),\"\",VLOOKUP(Egresados!$H$8:$H$705,Maestros!$D$4:$E$21,2,0))","v":"1121"},{"$f":"IF(OR(UPPER(Egresados!$J$8:$J$705)=\"SI\",UPPER(Egresados!$J$8:$J$705)=\"SÍ\"),1,IF(UPPER(Egresados!$J$8:$J$705)=\"NO\",0,\"\"))","v":0},{"$f":"IF(OR(UPPER(Egresados!$R$8:$R$705)=\"SI\",UPPER(Egresados!$R$8:$R$705)=\"SÍ\"),1,IF(UPPER(Egresados!$R$8:$R$705)=\"NO\",0,\"\"))","v":""},{"$f":"IF(OR(UPPER(Egresados!$S$8:$S$705)=\"SI\",UPPER(Egresados!$S$8:$S$705)=\"SÍ\"),1,IF(UPPER(Egresados!$S$8:$S$705)=\"NO\",0,\"\"))","v":""},{"$f":"IF(ISERROR(VLOOKUP(Egresados!$T$8:$T$705,Maestros!$S$31:$T$530,2,0)),\"\",VLOOKUP(Egresados!$T$8:$T$705,Maestros!$S$31:$T$530,2,0))","v":"58"},{"$f":"IF(ISERROR(VLOOKUP(U230,Maestros!$S$31:$T$530,2,0)),\"\",VLOOKUP(U230,Maestros!$S$31:$T$530,2,0))","v":"58"},{"$f":"IF(ISERROR(VLOOKUP(Egresados!$K$8:$K$705,Maestros!$A$31:$B$130,2,0)),\"\",VLOOKUP(Egresados!$K$8:$K$705,Maestros!$A$31:$B$130,2,0))","v":""},{"$f":"IF(LEN(tablaEgresados[[#This Row],[Nota promedio]])>0,ROUND(tablaEgresados[[#This Row],[Nota promedio]],2),\"\")","v":14.7}]
[223,null,"DNI","42684786","PEREZ","CAMASCA","JOSE LUIS","MASCULINO",null,"NO",null,null,null,"2020-1","SEDE CENTRAL","EDUCACION FISICA-DEPORTES",15.22,null,null,"2015-1","2015-1","20150181@une.edu.pe","luis_4285@hotmail.com",3133700,"996627784",{"$f":"IF(ISERROR(VLOOKUP(Egresados!$N$8:$N$705,Maestros!$D$31:$E$530,2,0)),\"\",VLOOKUP(Egresados!$N$8:$N$705,Maestros!$D$31:$E$530,2,0))","v":"223"},{"$f":"IF(ISERROR(VLOOKUP(Egresados!$O231,Maestros!$G$31:$J$1030,2,0)),\"\",VLOOKUP(Egresados!$O231,Maestros!$G$31:$J$1030,2,0))","v":"8"},{"$f":"CONCATENATE(Egresados!$Z$8:$Z$705,\"a\",Egresados!$AA$8:$AA$705)","v":"223a8"},{"$f":"IF(ISERROR(VLOOKUP(Egresados!$P231,Maestros!$L$31:$Q$1030,2,0)),\"\",VLOOKUP(Egresados!$P231,Maestros!$L$31:$Q$1030,2,0))","v":"12"},{"$f":"CONCATENATE(Egresados!$Z$8:$Z$705,\"a\",Egresados!$AA$8:$AA$705,\"a\",Egresados!$AC$8:$AC$705)","v":"223a8a12"},{"$f":"IF(ISERROR(VLOOKUP(Egresados!$C$8:$C$705,Maestros!$A$4:$B$21,2,0)),\"\",VLOOKUP(Egresados!$C$8:$C$705,Maestros!$A$4:$B$21,2,0))","v":"1001"},{"$f":"IF(ISERROR(VLOOKUP(Egresados!$H$8:$H$705,Maestros!$D$4:$E$21,2,0)),\"\",VLOOKUP(Egresados!$H$8:$H$705,Maestros!$D$4:$E$21,2,0))","v":"1121"},{"$f":"IF(OR(UPPER(Egresados!$J$8:$J$705)=\"SI\",UPPER(Egresados!$J$8:$J$705)=\"SÍ\"),1,IF(UPPER(Egresados!$J$8:$J$705)=\"NO\",0,\"\"))","v":0},{"$f":"IF(OR(UPPER(Egresados!$R$8:$R$705)=\"SI\",UPPER(Egresados!$R$8:$R$705)=\"SÍ\"),1,IF(UPPER(Egresados!$R$8:$R$705)=\"NO\",0,\"\"))","v":""},{"$f":"IF(OR(UPPER(Egresados!$S$8:$S$705)=\"SI\",UPPER(Egresados!$S$8:$S$705)=\"SÍ\"),1,IF(UPPER(Egresados!$S$8:$S$705)=\"NO\",0,\"\"))","v":""},{"$f":"IF(ISERROR(VLOOKUP(Egresados!$T$8:$T$705,Maestros!$S$31:$T$530,2,0)),\"\",VLOOKUP(Egresados!$T$8:$T$705,Maestros!$S$31:$T$530,2,0))","v":"62"},{"$f":"IF(ISERROR(VLOOKUP(U231,Maestros!$S$31:$T$530,2,0)),\"\",VLOOKUP(U231,Maestros!$S$31:$T$530,2,0))","v":"62"},{"$f":"IF(ISERROR(VLOOKUP(Egresados!$K$8:$K$705,Maestros!$A$31:$B$130,2,0)),\"\",VLOOKUP(Egresados!$K$8:$K$705,Maestros!$A$31:$B$130,2,0))","v":""},{"$f":"IF(LEN(tablaEgresados[[#This Row],[Nota promedio]])>0,ROUND(tablaEgresados[[#This Row],[Nota promedio]],2),\"\")","v":15.22}]
[224,null,"DNI","44112298","SOTELO","YURIVILCA","MIGUEL ANGEL","MASCULINO",null,"NO",null,null,null,"2020-1","SEDE CENTRAL","EDUCACION FISICA-DEPORTES",14.78,null,null,"2015-1","2015-1","20150204@une.edu.pe","mickysano03@gmail.com",3133700,"941124132",{"$f":"IF(ISERROR(VLOOKUP(Egresados!$N$8:$N$705,Maestros!$D$31:$E$530,2,0)),\"\",VLOOKUP(Egresados!$N$8:$N$705,Maestros!$D$31:$E$530,2,0))","v":"223"},{"$f":"IF(ISERROR(VLOOKUP(Egresados!$O232,Maestros!$G$31:$J$1030,2,0)),\"\",VLOOKUP(Egresados!$O232,Maestros!$G$31:$J$1030,2,0))","v":"8"},{"$f":"CONCATENATE(Egresados!$Z$8:$Z$705,\"a\",Egresados!$AA$8:$AA$705)","v":"223a8"},{"$f":"IF(ISERROR(VLOOKUP(Egresados!$P232,Maestros!$L$31:$Q$1030,2,0)),\"\",VLOOKUP(Egresados!$P232,Maestros!$L$31:$Q$1030,2,0))","v":"12"},{"$f":"CONCATENATE(Egresados!$Z$8:$Z$705,\"a\",Egresados!$AA$8:$AA$705,\"a\",Egresados!$AC$8:$AC$705)","v":"223a8a12"},{"$f":"IF(ISERROR(VLOOKUP(Egresados!$C$8:$C$705,Maestros!$A$4:$B$21,2,0)),\"\",VLOOKUP(Egresados!$C$8:$C$705,Maestros!$A$4:$B$21,2,0))","v":"1001"},{"$f":"IF(ISERROR(VLOOKUP(Egresados!$H$8:$H$705,Maestros!$D$4:$E$21,2,0)),\"\",VLOOKUP(Egresados!$H$8:$H$705,Maestros!$D$4:$E$21,2,0))","v":"1121"},{"$f":"IF(OR(UPPER(Egresados!$J$8:$J$705)=\"SI\",UPPER(Egresados!$J$8:$J$705)=\"SÍ\"),1,IF(UPPER(Egresados!$J$8:$J$705)=\"NO\",0,\"\"))","v":0},{"$f":"IF(OR(UPPER(Egresados!$R$8:$R$705)=\"SI\",UPPER(Egresados!$R$8:$R$705)=\"SÍ\"),1,IF(UPPER(Egresados!$R$8:$R$705)=\"NO\",0,\"\"))","v":""},{"$f":"IF(OR(UPPER(Egresados!$S$8:$S$705)=\"SI\",UPPER(Egresados!$S$8:$S$705)=\"SÍ\"),1,IF(UPPER(Egresados!$S$8:$S$705)=\"NO\",0,\"\"))","v":""},{"$f":"IF(ISERROR(VLOOKUP(Egresados!$T$8:$T$705,Maestros!$S$31:$T$530,2,0)),\"\",VLOOKUP(Egresados!$T$8:$T$705,Maestros!$S$31:$T$530,2,0))","v":"62"},{"$f":"IF(ISERROR(VLOOKUP(U232,Maestros!$S$31:$T$530,2,0)),\"\",VLOOKUP(U232,Maestros!$S$31:$T$530,2,0))","v":"62"},{"$f":"IF(ISERROR(VLOOKUP(Egresados!$K$8:$K$705,Maestros!$A$31:$B$130,2,0)),\"\",VLOOKUP(Egresados!$K$8:$K$705,Maestros!$A$31:$B$130,2,0))","v":""},{"$f":"IF(LEN(tablaEgresados[[#This Row],[Nota promedio]])>0,ROUND(tablaEgresados[[#This Row],[Nota promedio]],2),\"\")","v":14.78}]
[225,null,"DNI","46852397","MEDRANO","FLORES","LUIS ALFREDO","MASCULINO",null,"NO",null,null,null,"2020-1","SEDE CENTRAL","EDUCACION FISICA-DEPORTES",15.07,null,null,"2011-1","2011-1","20110817@une.edu.pe","lucho_239_16@hotmail.com",3133700,"956900654",{"$f":"IF(ISERROR(VLOOKUP(Egresados!$N$8:$N$705,Maestros!$D$31:$E$530,2,0)),\"\",VLOOKUP(Egresados!$N$8:$N$705,Maestros!$D$31:$E$530,2,0))","v":"223"},{"$f":"IF(ISERROR(VLOOKUP(Egresados!$O233,Maestros!$G$31:$J$1030,2,0)),\"\",VLOOKUP(Egresados!$O233,Maestros!$G$31:$J$1030,2,0))","v":"8"},{"$f":"CONCATENATE(Egresados!$Z$8:$Z$705,\"a\",Egresados!$AA$8:$AA$705)","v":"223a8"},{"$f":"IF(ISERROR(VLOOKUP(Egresados!$P233,Maestros!$L$31:$Q$1030,2,0)),\"\",VLOOKUP(Egresados!$P233,Maestros!$L$31:$Q$1030,2,0))","v":"12"},{"$f":"CONCATENATE(Egresados!$Z$8:$Z$705,\"a\",Egresados!$AA$8:$AA$705,\"a\",Egresados!$AC$8:$AC$705)","v":"223a8a12"},{"$f":"IF(ISERROR(VLOOKUP(Egresados!$C$8:$C$705,Maestros!$A$4:$B$21,2,0)),\"\",VLOOKUP(Egresados!$C$8:$C$705,Maestros!$A$4:$B$21,2,0))","v":"1001"},{"$f":"IF(ISERROR(VLOOKUP(Egresados!$H$8:$H$705,Maestros!$D$4:$E$21,2,0)),\"\",VLOOKUP(Egresados!$H$8:$H$705,Maestros!$D$4:$E$21,2,0))","v":"1121"},{"$f":"IF(OR(UPPER(Egresados!$J$8:$J$705)=\"SI\",UPPER(Egresados!$J$8:$J$705)=\"SÍ\"),1,IF(UPPER(Egresados!$J$8:$J$705)=\"NO\",0,\"\"))","v":0},{"$f":"IF(OR(UPPER(Egresados!$R$8:$R$705)=\"SI\",UPPER(Egresados!$R$8:$R$705)=\"SÍ\"),1,IF(UPPER(Egresados!$R$8:$R$705)=\"NO\",0,\"\"))","v":""},{"$f":"IF(OR(UPPER(Egresados!$S$8:$S$705)=\"SI\",UPPER(Egresados!$S$8:$S$705)=\"SÍ\"),1,IF(UPPER(Egresados!$S$8:$S$705)=\"NO\",0,\"\"))","v":""},{"$f":"IF(ISERROR(VLOOKUP(Egresados!$T$8:$T$705,Maestros!$S$31:$T$530,2,0)),\"\",VLOOKUP(Egresados!$T$8:$T$705,Maestros!$S$31:$T$530,2,0))","v":"46"},{"$f":"IF(ISERROR(VLOOKUP(U233,Maestros!$S$31:$T$530,2,0)),\"\",VLOOKUP(U233,Maestros!$S$31:$T$530,2,0))","v":"46"},{"$f":"IF(ISERROR(VLOOKUP(Egresados!$K$8:$K$705,Maestros!$A$31:$B$130,2,0)),\"\",VLOOKUP(Egresados!$K$8:$K$705,Maestros!$A$31:$B$130,2,0))","v":""},{"$f":"IF(LEN(tablaEgresados[[#This Row],[Nota promedio]])>0,ROUND(tablaEgresados[[#This Row],[Nota promedio]],2),\"\")","v":15.07}]
[226,null,"DNI","41090434","CISNEROS","VEGA","EINSTEIN ROOSEVELT","MASCULINO",null,"NO",null,null,null,"2020-1","SEDE CENTRAL","EDUCACION FISICA-DEPORTES",15.1,null,null,"2015-1","2015-1","20150127@une.edu.pe","einstein.cisneros.vega@hotmail.com",3133700,"980702617",{"$f":"IF(ISERROR(VLOOKUP(Egresados!$N$8:$N$705,Maestros!$D$31:$E$530,2,0)),\"\",VLOOKUP(Egresados!$N$8:$N$705,Maestros!$D$31:$E$530,2,0))","v":"223"},{"$f":"IF(ISERROR(VLOOKUP(Egresados!$O234,Maestros!$G$31:$J$1030,2,0)),\"\",VLOOKUP(Egresados!$O234,Maestros!$G$31:$J$1030,2,0))","v":"8"},{"$f":"CONCATENATE(Egresados!$Z$8:$Z$705,\"a\",Egresados!$AA$8:$AA$705)","v":"223a8"},{"$f":"IF(ISERROR(VLOOKUP(Egresados!$P234,Maestros!$L$31:$Q$1030,2,0)),\"\",VLOOKUP(Egresados!$P234,Maestros!$L$31:$Q$1030,2,0))","v":"12"},{"$f":"CONCATENATE(Egresados!$Z$8:$Z$705,\"a\",Egresados!$AA$8:$AA$705,\"a\",Egresados!$AC$8:$AC$705)","v":"223a8a12"},{"$f":"IF(ISERROR(VLOOKUP(Egresados!$C$8:$C$705,Maestros!$A$4:$B$21,2,0)),\"\",VLOOKUP(Egresados!$C$8:$C$705,Maestros!$A$4:$B$21,2,0))","v":"1001"},{"$f":"IF(ISERROR(VLOOKUP(Egresados!$H$8:$H$705,Maestros!$D$4:$E$21,2,0)),\"\",VLOOKUP(Egresados!$H$8:$H$705,Maestros!$D$4:$E$21,2,0))","v":"1121"},{"$f":"IF(OR(UPPER(Egresados!$J$8:$J$705)=\"SI\",UPPER(Egresados!$J$8:$J$705)=\"SÍ\"),1,IF(UPPER(Egresados!$J$8:$J$705)=\"NO\",0,\"\"))","v":0},{"$f":"IF(OR(UPPER(Egresados!$R$8:$R$705)=\"SI\",UPPER(Egresados!$R$8:$R$705)=\"SÍ\"),1,IF(UPPER(Egresados!$R$8:$R$705)=\"NO\",0,\"\"))","v":""},{"$f":"IF(OR(UPPER(Egresados!$S$8:$S$705)=\"SI\",UPPER(Egresados!$S$8:$S$705)=\"SÍ\"),1,IF(UPPER(Egresados!$S$8:$S$705)=\"NO\",0,\"\"))","v":""},{"$f":"IF(ISERROR(VLOOKUP(Egresados!$T$8:$T$705,Maestros!$S$31:$T$530,2,0)),\"\",VLOOKUP(Egresados!$T$8:$T$705,Maestros!$S$31:$T$530,2,0))","v":"62"},{"$f":"IF(ISERROR(VLOOKUP(U234,Maestros!$S$31:$T$530,2,0)),\"\",VLOOKUP(U234,Maestros!$S$31:$T$530,2,0))","v":"62"},{"$f":"IF(ISERROR(VLOOKUP(Egresados!$K$8:$K$705,Maestros!$A$31:$B$130,2,0)),\"\",VLOOKUP(Egresados!$K$8:$K$705,Maestros!$A$31:$B$130,2,0))","v":""},{"$f":"IF(LEN(tablaEgresados[[#This Row],[Nota promedio]])>0,ROUND(tablaEgresados[[#This Row],[Nota promedio]],2),\"\")","v":15.1}]
[227,null,"DNI","47872751","PARAVICINO","SALVADOR","JOSUE JACINTO","MASCULINO",null,"NO",null,null,null,"2020-1","SEDE CENTRAL","EDUCACION FISICA-DEPORTES",14.97,null,null,"2015-1","2015-1","20150178@une.edu.pe","issei_salvador@hotmail.com",3133700,"930172615",{"$f":"IF(ISERROR(VLOOKUP(Egresados!$N$8:$N$705,Maestros!$D$31:$E$530,2,0)),\"\",VLOOKUP(Egresados!$N$8:$N$705,Maestros!$D$31:$E$530,2,0))","v":"223"},{"$f":"IF(ISERROR(VLOOKUP(Egresados!$O235,Maestros!$G$31:$J$1030,2,0)),\"\",VLOOKUP(Egresados!$O235,Maestros!$G$31:$J$1030,2,0))","v":"8"},{"$f":"CONCATENATE(Egresados!$Z$8:$Z$705,\"a\",Egresados!$AA$8:$AA$705)","v":"223a8"},{"$f":"IF(ISERROR(VLOOKUP(Egresados!$P235,Maestros!$L$31:$Q$1030,2,0)),\"\",VLOOKUP(Egresados!$P235,Maestros!$L$31:$Q$1030,2,0))","v":"12"},{"$f":"CONCATENATE(Egresados!$Z$8:$Z$705,\"a\",Egresados!$AA$8:$AA$705,\"a\",Egresados!$AC$8:$AC$705)","v":"223a8a12"},{"$f":"IF(ISERROR(VLOOKUP(Egresados!$C$8:$C$705,Maestros!$A$4:$B$21,2,0)),\"\",VLOOKUP(Egresados!$C$8:$C$705,Maestros!$A$4:$B$21,2,0))","v":"1001"},{"$f":"IF(ISERROR(VLOOKUP(Egresados!$H$8:$H$705,Maestros!$D$4:$E$21,2,0)),\"\",VLOOKUP(Egresados!$H$8:$H$705,Maestros!$D$4:$E$21,2,0))","v":"1121"},{"$f":"IF(OR(UPPER(Egresados!$J$8:$J$705)=\"SI\",UPPER(Egresados!$J$8:$J$705)=\"SÍ\"),1,IF(UPPER(Egresados!$J$8:$J$705)=\"NO\",0,\"\"))","v":0},{"$f":"IF(OR(UPPER(Egresados!$R$8:$R$705)=\"SI\",UPPER(Egresados!$R$8:$R$705)=\"SÍ\"),1,IF(UPPER(Egresados!$R$8:$R$705)=\"NO\",0,\"\"))","v":""},{"$f":"IF(OR(UPPER(Egresados!$S$8:$S$705)=\"SI\",UPPER(Egresados!$S$8:$S$705)=\"SÍ\"),1,IF(UPPER(Egresados!$S$8:$S$705)=\"NO\",0,\"\"))","v":""},{"$f":"IF(ISERROR(VLOOKUP(Egresados!$T$8:$T$705,Maestros!$S$31:$T$530,2,0)),\"\",VLOOKUP(Egresados!$T$8:$T$705,Maestros!$S$31:$T$530,2,0))","v":"62"},{"$f":"IF(ISERROR(VLOOKUP(U235,Maestros!$S$31:$T$530,2,0)),\"\",VLOOKUP(U235,Maestros!$S$31:$T$530,2,0))","v":"62"},{"$f":"IF(ISERROR(VLOOKUP(Egresados!$K$8:$K$705,Maestros!$A$31:$B$130,2,0)),\"\",VLOOKUP(Egresados!$K$8:$K$705,Maestros!$A$31:$B$130,2,0))","v":""},{"$f":"IF(LEN(tablaEgresados[[#This Row],[Nota promedio]])>0,ROUND(tablaEgresados[[#This Row],[Nota promedio]],2),\"\")","v":14.97}]
[228,null,"DNI","43354294","LOPEZ","OLIVARES","ALEXANDER","MASCULINO",null,"NO",null,null,null,"2020-1","SEDE CENTRAL","EDUCACION FISICA-DEPORTES",16.2,null,null,"2014-1","2014-1","20140718@une.edu.pe","lopez_al_tlv@hotmail.com",3133700,"982831969",{"$f":"IF(ISERROR(VLOOKUP(Egresados!$N$8:$N$705,Maestros!$D$31:$E$530,2,0)),\"\",VLOOKUP(Egresados!$N$8:$N$705,Maestros!$D$31:$E$530,2,0))","v":"223"},{"$f":"IF(ISERROR(VLOOKUP(Egresados!$O236,Maestros!$G$31:$J$1030,2,0)),\"\",VLOOKUP(Egresados!$O236,Maestros!$G$31:$J$1030,2,0))","v":"8"},{"$f":"CONCATENATE(Egresados!$Z$8:$Z$705,\"a\",Egresados!$AA$8:$AA$705)","v":"223a8"},{"$f":"IF(ISERROR(VLOOKUP(Egresados!$P236,Maestros!$L$31:$Q$1030,2,0)),\"\",VLOOKUP(Egresados!$P236,Maestros!$L$31:$Q$1030,2,0))","v":"12"},{"$f":"CONCATENATE(Egresados!$Z$8:$Z$705,\"a\",Egresados!$AA$8:$AA$705,\"a\",Egresados!$AC$8:$AC$705)","v":"223a8a12"},{"$f":"IF(ISERROR(VLOOKUP(Egresados!$C$8:$C$705,Maestros!$A$4:$B$21,2,0)),\"\",VLOOKUP(Egresados!$C$8:$C$705,Maestros!$A$4:$B$21,2,0))","v":"1001"},{"$f":"IF(ISERROR(VLOOKUP(Egresados!$H$8:$H$705,Maestros!$D$4:$E$21,2,0)),\"\",VLOOKUP(Egresados!$H$8:$H$705,Maestros!$D$4:$E$21,2,0))","v":"1121"},{"$f":"IF(OR(UPPER(Egresados!$J$8:$J$705)=\"SI\",UPPER(Egresados!$J$8:$J$705)=\"SÍ\"),1,IF(UPPER(Egresados!$J$8:$J$705)=\"NO\",0,\"\"))","v":0},{"$f":"IF(OR(UPPER(Egresados!$R$8:$R$705)=\"SI\",UPPER(Egresados!$R$8:$R$705)=\"SÍ\"),1,IF(UPPER(Egresados!$R$8:$R$705)=\"NO\",0,\"\"))","v":""},{"$f":"IF(OR(UPPER(Egresados!$S$8:$S$705)=\"SI\",UPPER(Egresados!$S$8:$S$705)=\"SÍ\"),1,IF(UPPER(Egresados!$S$8:$S$705)=\"NO\",0,\"\"))","v":""},{"$f":"IF(ISERROR(VLOOKUP(Egresados!$T$8:$T$705,Maestros!$S$31:$T$530,2,0)),\"\",VLOOKUP(Egresados!$T$8:$T$705,Maestros!$S$31:$T$530,2,0))","v":"58"},{"$f":"IF(ISERROR(VLOOKUP(U236,Maestros!$S$31:$T$530,2,0)),\"\",VLOOKUP(U236,Maestros!$S$31:$T$530,2,0))","v":"58"},{"$f":"IF(ISERROR(VLOOKUP(Egresados!$K$8:$K$705,Maestros!$A$31:$B$130,2,0)),\"\",VLOOKUP(Egresados!$K$8:$K$705,Maestros!$A$31:$B$130,2,0))","v":""},{"$f":"IF(LEN(tablaEgresados[[#This Row],[Nota promedio]])>0,ROUND(tablaEgresados[[#This Row],[Nota promedio]],2),\"\")","v":16.2}]
[229,null,"DNI","73889041","ARIAS","CAJACHAGUA","WILLIAMS JHOEL","MASCULINO",null,"NO",null,null,null,"2020-1","SEDE CENTRAL","EDUCACION FISICA-EDUCACION FISICA EN EDADES TEMPRANAS",14.07,null,null,"2012-1","2012-1","20121168@une.edu.pe","jhoelarias10@hotmail.com",3133700,"991403254",{"$f":"IF(ISERROR(VLOOKUP(Egresados!$N$8:$N$705,Maestros!$D$31:$E$530,2,0)),\"\",VLOOKUP(Egresados!$N$8:$N$705,Maestros!$D$31:$E$530,2,0))","v":"223"},{"$f":"IF(ISERROR(VLOOKUP(Egresados!$O237,Maestros!$G$31:$J$1030,2,0)),\"\",VLOOKUP(Egresados!$O237,Maestros!$G$31:$J$1030,2,0))","v":"8"},{"$f":"CONCATENATE(Egresados!$Z$8:$Z$705,\"a\",Egresados!$AA$8:$AA$705)","v":"223a8"},{"$f":"IF(ISERROR(VLOOKUP(Egresados!$P237,Maestros!$L$31:$Q$1030,2,0)),\"\",VLOOKUP(Egresados!$P237,Maestros!$L$31:$Q$1030,2,0))","v":"221"},{"$f":"CONCATENATE(Egresados!$Z$8:$Z$705,\"a\",Egresados!$AA$8:$AA$705,\"a\",Egresados!$AC$8:$AC$705)","v":"223a8a221"},{"$f":"IF(ISERROR(VLOOKUP(Egresados!$C$8:$C$705,Maestros!$A$4:$B$21,2,0)),\"\",VLOOKUP(Egresados!$C$8:$C$705,Maestros!$A$4:$B$21,2,0))","v":"1001"},{"$f":"IF(ISERROR(VLOOKUP(Egresados!$H$8:$H$705,Maestros!$D$4:$E$21,2,0)),\"\",VLOOKUP(Egresados!$H$8:$H$705,Maestros!$D$4:$E$21,2,0))","v":"1121"},{"$f":"IF(OR(UPPER(Egresados!$J$8:$J$705)=\"SI\",UPPER(Egresados!$J$8:$J$705)=\"SÍ\"),1,IF(UPPER(Egresados!$J$8:$J$705)=\"NO\",0,\"\"))","v":0},{"$f":"IF(OR(UPPER(Egresados!$R$8:$R$705)=\"SI\",UPPER(Egresados!$R$8:$R$705)=\"SÍ\"),1,IF(UPPER(Egresados!$R$8:$R$705)=\"NO\",0,\"\"))","v":""},{"$f":"IF(OR(UPPER(Egresados!$S$8:$S$705)=\"SI\",UPPER(Egresados!$S$8:$S$705)=\"SÍ\"),1,IF(UPPER(Egresados!$S$8:$S$705)=\"NO\",0,\"\"))","v":""},{"$f":"IF(ISERROR(VLOOKUP(Egresados!$T$8:$T$705,Maestros!$S$31:$T$530,2,0)),\"\",VLOOKUP(Egresados!$T$8:$T$705,Maestros!$S$31:$T$530,2,0))","v":"50"},{"$f":"IF(ISERROR(VLOOKUP(U237,Maestros!$S$31:$T$530,2,0)),\"\",VLOOKUP(U237,Maestros!$S$31:$T$530,2,0))","v":"50"},{"$f":"IF(ISERROR(VLOOKUP(Egresados!$K$8:$K$705,Maestros!$A$31:$B$130,2,0)),\"\",VLOOKUP(Egresados!$K$8:$K$705,Maestros!$A$31:$B$130,2,0))","v":""},{"$f":"IF(LEN(tablaEgresados[[#This Row],[Nota promedio]])>0,ROUND(tablaEgresados[[#This Row],[Nota promedio]],2),\"\")","v":14.07}]
[230,null,"DNI","71814703","AMBOLAYA","MEZA","ANDERSON ARTURO","MASCULINO",null,"NO",null,null,null,"2020-1","SEDE CENTRAL","EDUCACION FISICA-EDUCACION FISICA EN POBLACIONES ESPECIALES",14.2,null,null,"2012-1","2012-1","20120613@une.edu.pe","and_tauro_15@hotmail.com",3133700,"94091605",{"$f":"IF(ISERROR(VLOOKUP(Egresados!$N$8:$N$705,Maestros!$D$31:$E$530,2,0)),\"\",VLOOKUP(Egresados!$N$8:$N$705,Maestros!$D$31:$E$530,2,0))","v":"223"},{"$f":"IF(ISERROR(VLOOKUP(Egresados!$O238,Maestros!$G$31:$J$1030,2,0)),\"\",VLOOKUP(Egresados!$O238,Maestros!$G$31:$J$1030,2,0))","v":"8"},{"$f":"CONCATENATE(Egresados!$Z$8:$Z$705,\"a\",Egresados!$AA$8:$AA$705)","v":"223a8"},{"$f":"IF(ISERROR(VLOOKUP(Egresados!$P238,Maestros!$L$31:$Q$1030,2,0)),\"\",VLOOKUP(Egresados!$P238,Maestros!$L$31:$Q$1030,2,0))","v":"308"},{"$f":"CONCATENATE(Egresados!$Z$8:$Z$705,\"a\",Egresados!$AA$8:$AA$705,\"a\",Egresados!$AC$8:$AC$705)","v":"223a8a308"},{"$f":"IF(ISERROR(VLOOKUP(Egresados!$C$8:$C$705,Maestros!$A$4:$B$21,2,0)),\"\",VLOOKUP(Egresados!$C$8:$C$705,Maestros!$A$4:$B$21,2,0))","v":"1001"},{"$f":"IF(ISERROR(VLOOKUP(Egresados!$H$8:$H$705,Maestros!$D$4:$E$21,2,0)),\"\",VLOOKUP(Egresados!$H$8:$H$705,Maestros!$D$4:$E$21,2,0))","v":"1121"},{"$f":"IF(OR(UPPER(Egresados!$J$8:$J$705)=\"SI\",UPPER(Egresados!$J$8:$J$705)=\"SÍ\"),1,IF(UPPER(Egresados!$J$8:$J$705)=\"NO\",0,\"\"))","v":0},{"$f":"IF(OR(UPPER(Egresados!$R$8:$R$705)=\"SI\",UPPER(Egresados!$R$8:$R$705)=\"SÍ\"),1,IF(UPPER(Egresados!$R$8:$R$705)=\"NO\",0,\"\"))","v":""},{"$f":"IF(OR(UPPER(Egresados!$S$8:$S$705)=\"SI\",UPPER(Egresados!$S$8:$S$705)=\"SÍ\"),1,IF(UPPER(Egresados!$S$8:$S$705)=\"NO\",0,\"\"))","v":""},{"$f":"IF(ISERROR(VLOOKUP(Egresados!$T$8:$T$705,Maestros!$S$31:$T$530,2,0)),\"\",VLOOKUP(Egresados!$T$8:$T$705,Maestros!$S$31:$T$530,2,0))","v":"50"},{"$f":"IF(ISERROR(VLOOKUP(U238,Maestros!$S$31:$T$530,2,0)),\"\",VLOOKUP(U238,Maestros!$S$31:$T$530,2,0))","v":"50"},{"$f":"IF(ISERROR(VLOOKUP(Egresados!$K$8:$K$705,Maestros!$A$31:$B$130,2,0)),\"\",VLOOKUP(Egresados!$K$8:$K$705,Maestros!$A$31:$B$130,2,0))","v":""},{"$f":"IF(LEN(tablaEgresados[[#This Row],[Nota promedio]])>0,ROUND(tablaEgresados[[#This Row],[Nota promedio]],2),\"\")","v":14.2}]
[231,null,"DNI","07573993","TERRAZAS","CASAS","NANCY","FEMENINO",null,"NO",null,null,null,"2020-1","SEDE CENTRAL","EDUCACION INICIAL",14.06,null,null,"2017-1","2017-1","20172928@une.edu.pe","nancyterraca46@gmail.com",3133700,"961927133",{"$f":"IF(ISERROR(VLOOKUP(Egresados!$N$8:$N$705,Maestros!$D$31:$E$530,2,0)),\"\",VLOOKUP(Egresados!$N$8:$N$705,Maestros!$D$31:$E$530,2,0))","v":"223"},{"$f":"IF(ISERROR(VLOOKUP(Egresados!$O239,Maestros!$G$31:$J$1030,2,0)),\"\",VLOOKUP(Egresados!$O239,Maestros!$G$31:$J$1030,2,0))","v":"8"},{"$f":"CONCATENATE(Egresados!$Z$8:$Z$705,\"a\",Egresados!$AA$8:$AA$705)","v":"223a8"},{"$f":"IF(ISERROR(VLOOKUP(Egresados!$P239,Maestros!$L$31:$Q$1030,2,0)),\"\",VLOOKUP(Egresados!$P239,Maestros!$L$31:$Q$1030,2,0))","v":"385"},{"$f":"CONCATENATE(Egresados!$Z$8:$Z$705,\"a\",Egresados!$AA$8:$AA$705,\"a\",Egresados!$AC$8:$AC$705)","v":"223a8a385"},{"$f":"IF(ISERROR(VLOOKUP(Egresados!$C$8:$C$705,Maestros!$A$4:$B$21,2,0)),\"\",VLOOKUP(Egresados!$C$8:$C$705,Maestros!$A$4:$B$21,2,0))","v":"1001"},{"$f":"IF(ISERROR(VLOOKUP(Egresados!$H$8:$H$705,Maestros!$D$4:$E$21,2,0)),\"\",VLOOKUP(Egresados!$H$8:$H$705,Maestros!$D$4:$E$21,2,0))","v":"1122"},{"$f":"IF(OR(UPPER(Egresados!$J$8:$J$705)=\"SI\",UPPER(Egresados!$J$8:$J$705)=\"SÍ\"),1,IF(UPPER(Egresados!$J$8:$J$705)=\"NO\",0,\"\"))","v":0},{"$f":"IF(OR(UPPER(Egresados!$R$8:$R$705)=\"SI\",UPPER(Egresados!$R$8:$R$705)=\"SÍ\"),1,IF(UPPER(Egresados!$R$8:$R$705)=\"NO\",0,\"\"))","v":""},{"$f":"IF(OR(UPPER(Egresados!$S$8:$S$705)=\"SI\",UPPER(Egresados!$S$8:$S$705)=\"SÍ\"),1,IF(UPPER(Egresados!$S$8:$S$705)=\"NO\",0,\"\"))","v":""},{"$f":"IF(ISERROR(VLOOKUP(Egresados!$T$8:$T$705,Maestros!$S$31:$T$530,2,0)),\"\",VLOOKUP(Egresados!$T$8:$T$705,Maestros!$S$31:$T$530,2,0))","v":"70"},{"$f":"IF(ISERROR(VLOOKUP(U239,Maestros!$S$31:$T$530,2,0)),\"\",VLOOKUP(U239,Maestros!$S$31:$T$530,2,0))","v":"70"},{"$f":"IF(ISERROR(VLOOKUP(Egresados!$K$8:$K$705,Maestros!$A$31:$B$130,2,0)),\"\",VLOOKUP(Egresados!$K$8:$K$705,Maestros!$A$31:$B$130,2,0))","v":""},{"$f":"IF(LEN(tablaEgresados[[#This Row],[Nota promedio]])>0,ROUND(tablaEgresados[[#This Row],[Nota promedio]],2),\"\")","v":14.06}]
[232,null,"DNI","40616473","OCHOA","ARIAS","CARMEN ROSA","FEMENINO",null,"NO",null,null,null,"2020-1","SEDE CENTRAL","EDUCACION INICIAL",14.42,null,null,"2017-1","2017-1","20172925@une.edu.pe","Carmenochoaarias@gmail.com",3133700,"972395869",{"$f":"IF(ISERROR(VLOOKUP(Egresados!$N$8:$N$705,Maestros!$D$31:$E$530,2,0)),\"\",VLOOKUP(Egresados!$N$8:$N$705,Maestros!$D$31:$E$530,2,0))","v":"223"},{"$f":"IF(ISERROR(VLOOKUP(Egresados!$O240,Maestros!$G$31:$J$1030,2,0)),\"\",VLOOKUP(Egresados!$O240,Maestros!$G$31:$J$1030,2,0))","v":"8"},{"$f":"CONCATENATE(Egresados!$Z$8:$Z$705,\"a\",Egresados!$AA$8:$AA$705)","v":"223a8"},{"$f":"IF(ISERROR(VLOOKUP(Egresados!$P240,Maestros!$L$31:$Q$1030,2,0)),\"\",VLOOKUP(Egresados!$P240,Maestros!$L$31:$Q$1030,2,0))","v":"385"},{"$f":"CONCATENATE(Egresados!$Z$8:$Z$705,\"a\",Egresados!$AA$8:$AA$705,\"a\",Egresados!$AC$8:$AC$705)","v":"223a8a385"},{"$f":"IF(ISERROR(VLOOKUP(Egresados!$C$8:$C$705,Maestros!$A$4:$B$21,2,0)),\"\",VLOOKUP(Egresados!$C$8:$C$705,Maestros!$A$4:$B$21,2,0))","v":"1001"},{"$f":"IF(ISERROR(VLOOKUP(Egresados!$H$8:$H$705,Maestros!$D$4:$E$21,2,0)),\"\",VLOOKUP(Egresados!$H$8:$H$705,Maestros!$D$4:$E$21,2,0))","v":"1122"},{"$f":"IF(OR(UPPER(Egresados!$J$8:$J$705)=\"SI\",UPPER(Egresados!$J$8:$J$705)=\"SÍ\"),1,IF(UPPER(Egresados!$J$8:$J$705)=\"NO\",0,\"\"))","v":0},{"$f":"IF(OR(UPPER(Egresados!$R$8:$R$705)=\"SI\",UPPER(Egresados!$R$8:$R$705)=\"SÍ\"),1,IF(UPPER(Egresados!$R$8:$R$705)=\"NO\",0,\"\"))","v":""},{"$f":"IF(OR(UPPER(Egresados!$S$8:$S$705)=\"SI\",UPPER(Egresados!$S$8:$S$705)=\"SÍ\"),1,IF(UPPER(Egresados!$S$8:$S$705)=\"NO\",0,\"\"))","v":""},{"$f":"IF(ISERROR(VLOOKUP(Egresados!$T$8:$T$705,Maestros!$S$31:$T$530,2,0)),\"\",VLOOKUP(Egresados!$T$8:$T$705,Maestros!$S$31:$T$530,2,0))","v":"70"},{"$f":"IF(ISERROR(VLOOKUP(U240,Maestros!$S$31:$T$530,2,0)),\"\",VLOOKUP(U240,Maestros!$S$31:$T$530,2,0))","v":"70"},{"$f":"IF(ISERROR(VLOOKUP(Egresados!$K$8:$K$705,Maestros!$A$31:$B$130,2,0)),\"\",VLOOKUP(Egresados!$K$8:$K$705,Maestros!$A$31:$B$130,2,0))","v":""},{"$f":"IF(LEN(tablaEgresados[[#This Row],[Nota promedio]])>0,ROUND(tablaEgresados[[#This Row],[Nota promedio]],2),\"\")","v":14.42}]
[233,null,"DNI","10466103","FUERTES","SALAZAR","GLADYS NORMA","FEMENINO",null,"NO",null,null,null,"2020-1","SEDE CENTRAL","EDUCACION INICIAL",16.25,null,null,"2018-1","2018-1","20184533@une.edu.pe","gladysf1979@hotmail.com",3133700,"991654447",{"$f":"IF(ISERROR(VLOOKUP(Egresados!$N$8:$N$705,Maestros!$D$31:$E$530,2,0)),\"\",VLOOKUP(Egresados!$N$8:$N$705,Maestros!$D$31:$E$530,2,0))","v":"223"},{"$f":"IF(ISERROR(VLOOKUP(Egresados!$O241,Maestros!$G$31:$J$1030,2,0)),\"\",VLOOKUP(Egresados!$O241,Maestros!$G$31:$J$1030,2,0))","v":"8"},{"$f":"CONCATENATE(Egresados!$Z$8:$Z$705,\"a\",Egresados!$AA$8:$AA$705)","v":"223a8"},{"$f":"IF(ISERROR(VLOOKUP(Egresados!$P241,Maestros!$L$31:$Q$1030,2,0)),\"\",VLOOKUP(Egresados!$P241,Maestros!$L$31:$Q$1030,2,0))","v":"385"},{"$f":"CONCATENATE(Egresados!$Z$8:$Z$705,\"a\",Egresados!$AA$8:$AA$705,\"a\",Egresados!$AC$8:$AC$705)","v":"223a8a385"},{"$f":"IF(ISERROR(VLOOKUP(Egresados!$C$8:$C$705,Maestros!$A$4:$B$21,2,0)),\"\",VLOOKUP(Egresados!$C$8:$C$705,Maestros!$A$4:$B$21,2,0))","v":"1001"},{"$f":"IF(ISERROR(VLOOKUP(Egresados!$H$8:$H$705,Maestros!$D$4:$E$21,2,0)),\"\",VLOOKUP(Egresados!$H$8:$H$705,Maestros!$D$4:$E$21,2,0))","v":"1122"},{"$f":"IF(OR(UPPER(Egresados!$J$8:$J$705)=\"SI\",UPPER(Egresados!$J$8:$J$705)=\"SÍ\"),1,IF(UPPER(Egresados!$J$8:$J$705)=\"NO\",0,\"\"))","v":0},{"$f":"IF(OR(UPPER(Egresados!$R$8:$R$705)=\"SI\",UPPER(Egresados!$R$8:$R$705)=\"SÍ\"),1,IF(UPPER(Egresados!$R$8:$R$705)=\"NO\",0,\"\"))","v":""},{"$f":"IF(OR(UPPER(Egresados!$S$8:$S$705)=\"SI\",UPPER(Egresados!$S$8:$S$705)=\"SÍ\"),1,IF(UPPER(Egresados!$S$8:$S$705)=\"NO\",0,\"\"))","v":""},{"$f":"IF(ISERROR(VLOOKUP(Egresados!$T$8:$T$705,Maestros!$S$31:$T$530,2,0)),\"\",VLOOKUP(Egresados!$T$8:$T$705,Maestros!$S$31:$T$530,2,0))","v":"74"},{"$f":"IF(ISERROR(VLOOKUP(U241,Maestros!$S$31:$T$530,2,0)),\"\",VLOOKUP(U241,Maestros!$S$31:$T$530,2,0))","v":"74"},{"$f":"IF(ISERROR(VLOOKUP(Egresados!$K$8:$K$705,Maestros!$A$31:$B$130,2,0)),\"\",VLOOKUP(Egresados!$K$8:$K$705,Maestros!$A$31:$B$130,2,0))","v":""},{"$f":"IF(LEN(tablaEgresados[[#This Row],[Nota promedio]])>0,ROUND(tablaEgresados[[#This Row],[Nota promedio]],2),\"\")","v":16.25}]
[234,null,"DNI","08827901","GIL","CHAVEZ","ARMIDA ELENA","FEMENINO",null,"NO",null,null,null,"2020-1","SEDE CENTRAL","EDUCACION INICIAL",16.13,null,null,"2017-1","2017-1","20174956@une.edu.pe","lisgarcia82@gmail.com",3133700,976486001,{"$f":"IF(ISERROR(VLOOKUP(Egresados!$N$8:$N$705,Maestros!$D$31:$E$530,2,0)),\"\",VLOOKUP(Egresados!$N$8:$N$705,Maestros!$D$31:$E$530,2,0))","v":"223"},{"$f":"IF(ISERROR(VLOOKUP(Egresados!$O242,Maestros!$G$31:$J$1030,2,0)),\"\",VLOOKUP(Egresados!$O242,Maestros!$G$31:$J$1030,2,0))","v":"8"},{"$f":"CONCATENATE(Egresados!$Z$8:$Z$705,\"a\",Egresados!$AA$8:$AA$705)","v":"223a8"},{"$f":"IF(ISERROR(VLOOKUP(Egresados!$P242,Maestros!$L$31:$Q$1030,2,0)),\"\",VLOOKUP(Egresados!$P242,Maestros!$L$31:$Q$1030,2,0))","v":"385"},{"$f":"CONCATENATE(Egresados!$Z$8:$Z$705,\"a\",Egresados!$AA$8:$AA$705,\"a\",Egresados!$AC$8:$AC$705)","v":"223a8a385"},{"$f":"IF(ISERROR(VLOOKUP(Egresados!$C$8:$C$705,Maestros!$A$4:$B$21,2,0)),\"\",VLOOKUP(Egresados!$C$8:$C$705,Maestros!$A$4:$B$21,2,0))","v":"1001"},{"$f":"IF(ISERROR(VLOOKUP(Egresados!$H$8:$H$705,Maestros!$D$4:$E$21,2,0)),\"\",VLOOKUP(Egresados!$H$8:$H$705,Maestros!$D$4:$E$21,2,0))","v":"1122"},{"$f":"IF(OR(UPPER(Egresados!$J$8:$J$705)=\"SI\",UPPER(Egresados!$J$8:$J$705)=\"SÍ\"),1,IF(UPPER(Egresados!$J$8:$J$705)=\"NO\",0,\"\"))","v":0},{"$f":"IF(OR(UPPER(Egresados!$R$8:$R$705)=\"SI\",UPPER(Egresados!$R$8:$R$705)=\"SÍ\"),1,IF(UPPER(Egresados!$R$8:$R$705)=\"NO\",0,\"\"))","v":""},{"$f":"IF(OR(UPPER(Egresados!$S$8:$S$705)=\"SI\",UPPER(Egresados!$S$8:$S$705)=\"SÍ\"),1,IF(UPPER(Egresados!$S$8:$S$705)=\"NO\",0,\"\"))","v":""},{"$f":"IF(ISERROR(VLOOKUP(Egresados!$T$8:$T$705,Maestros!$S$31:$T$530,2,0)),\"\",VLOOKUP(Egresados!$T$8:$T$705,Maestros!$S$31:$T$530,2,0))","v":"70"},{"$f":"IF(ISERROR(VLOOKUP(U242,Maestros!$S$31:$T$530,2,0)),\"\",VLOOKUP(U242,Maestros!$S$31:$T$530,2,0))","v":"70"},{"$f":"IF(ISERROR(VLOOKUP(Egresados!$K$8:$K$705,Maestros!$A$31:$B$130,2,0)),\"\",VLOOKUP(Egresados!$K$8:$K$705,Maestros!$A$31:$B$130,2,0))","v":""},{"$f":"IF(LEN(tablaEgresados[[#This Row],[Nota promedio]])>0,ROUND(tablaEgresados[[#This Row],[Nota promedio]],2),\"\")","v":16.13}]
[235,null,"DNI","41347948","CALDERON","JACINTO","EDA","FEMENINO",null,"NO",null,null,null,"2020-1","SEDE CENTRAL","EDUCACION INICIAL",16.850000000000001,null,null,"2017-1","2017-1","20174951@une.edu.pe","eda_calderon2010@hotmail.com",3133700,976486001,{"$f":"IF(ISERROR(VLOOKUP(Egresados!$N$8:$N$705,Maestros!$D$31:$E$530,2,0)),\"\",VLOOKUP(Egresados!$N$8:$N$705,Maestros!$D$31:$E$530,2,0))","v":"223"},{"$f":"IF(ISERROR(VLOOKUP(Egresados!$O243,Maestros!$G$31:$J$1030,2,0)),\"\",VLOOKUP(Egresados!$O243,Maestros!$G$31:$J$1030,2,0))","v":"8"},{"$f":"CONCATENATE(Egresados!$Z$8:$Z$705,\"a\",Egresados!$AA$8:$AA$705)","v":"223a8"},{"$f":"IF(ISERROR(VLOOKUP(Egresados!$P243,Maestros!$L$31:$Q$1030,2,0)),\"\",VLOOKUP(Egresados!$P243,Maestros!$L$31:$Q$1030,2,0))","v":"385"},{"$f":"CONCATENATE(Egresados!$Z$8:$Z$705,\"a\",Egresados!$AA$8:$AA$705,\"a\",Egresados!$AC$8:$AC$705)","v":"223a8a385"},{"$f":"IF(ISERROR(VLOOKUP(Egresados!$C$8:$C$705,Maestros!$A$4:$B$21,2,0)),\"\",VLOOKUP(Egresados!$C$8:$C$705,Maestros!$A$4:$B$21,2,0))","v":"1001"},{"$f":"IF(ISERROR(VLOOKUP(Egresados!$H$8:$H$705,Maestros!$D$4:$E$21,2,0)),\"\",VLOOKUP(Egresados!$H$8:$H$705,Maestros!$D$4:$E$21,2,0))","v":"1122"},{"$f":"IF(OR(UPPER(Egresados!$J$8:$J$705)=\"SI\",UPPER(Egresados!$J$8:$J$705)=\"SÍ\"),1,IF(UPPER(Egresados!$J$8:$J$705)=\"NO\",0,\"\"))","v":0},{"$f":"IF(OR(UPPER(Egresados!$R$8:$R$705)=\"SI\",UPPER(Egresados!$R$8:$R$705)=\"SÍ\"),1,IF(UPPER(Egresados!$R$8:$R$705)=\"NO\",0,\"\"))","v":""},{"$f":"IF(OR(UPPER(Egresados!$S$8:$S$705)=\"SI\",UPPER(Egresados!$S$8:$S$705)=\"SÍ\"),1,IF(UPPER(Egresados!$S$8:$S$705)=\"NO\",0,\"\"))","v":""},{"$f":"IF(ISERROR(VLOOKUP(Egresados!$T$8:$T$705,Maestros!$S$31:$T$530,2,0)),\"\",VLOOKUP(Egresados!$T$8:$T$705,Maestros!$S$31:$T$530,2,0))","v":"70"},{"$f":"IF(ISERROR(VLOOKUP(U243,Maestros!$S$31:$T$530,2,0)),\"\",VLOOKUP(U243,Maestros!$S$31:$T$530,2,0))","v":"70"},{"$f":"IF(ISERROR(VLOOKUP(Egresados!$K$8:$K$705,Maestros!$A$31:$B$130,2,0)),\"\",VLOOKUP(Egresados!$K$8:$K$705,Maestros!$A$31:$B$130,2,0))","v":""},{"$f":"IF(LEN(tablaEgresados[[#This Row],[Nota promedio]])>0,ROUND(tablaEgresados[[#This Row],[Nota promedio]],2),\"\")","v":16.850000000000001}]
[236,null,"DNI","06871975","TIBURCIO","NATIVIDAD","CARMEN ELENA","FEMENINO",null,"NO",null,null,null,"2020-1","SEDE CENTRAL","EDUCACION INICIAL",16.22,null,null,"2017-1","2017-1","20174976@une.edu.pe","carmentiburcionatividad@gmail.com",3133700,976486001,{"$f":"IF(ISERROR(VLOOKUP(Egresados!$N$8:$N$705,Maestros!$D$31:$E$530,2,0)),\"\",VLOOKUP(Egresados!$N$8:$N$705,Maestros!$D$31:$E$530,2,0))","v":"223"},{"$f":"IF(ISERROR(VLOOKUP(Egresados!$O244,Maestros!$G$31:$J$1030,2,0)),\"\",VLOOKUP(Egresados!$O244,Maestros!$G$31:$J$1030,2,0))","v":"8"},{"$f":"CONCATENATE(Egresados!$Z$8:$Z$705,\"a\",Egresados!$AA$8:$AA$705)","v":"223a8"},{"$f":"IF(ISERROR(VLOOKUP(Egresados!$P244,Maestros!$L$31:$Q$1030,2,0)),\"\",VLOOKUP(Egresados!$P244,Maestros!$L$31:$Q$1030,2,0))","v":"385"},{"$f":"CONCATENATE(Egresados!$Z$8:$Z$705,\"a\",Egresados!$AA$8:$AA$705,\"a\",Egresados!$AC$8:$AC$705)","v":"223a8a385"},{"$f":"IF(ISERROR(VLOOKUP(Egresados!$C$8:$C$705,Maestros!$A$4:$B$21,2,0)),\"\",VLOOKUP(Egresados!$C$8:$C$705,Maestros!$A$4:$B$21,2,0))","v":"1001"},{"$f":"IF(ISERROR(VLOOKUP(Egresados!$H$8:$H$705,Maestros!$D$4:$E$21,2,0)),\"\",VLOOKUP(Egresados!$H$8:$H$705,Maestros!$D$4:$E$21,2,0))","v":"1122"},{"$f":"IF(OR(UPPER(Egresados!$J$8:$J$705)=\"SI\",UPPER(Egresados!$J$8:$J$705)=\"SÍ\"),1,IF(UPPER(Egresados!$J$8:$J$705)=\"NO\",0,\"\"))","v":0},{"$f":"IF(OR(UPPER(Egresados!$R$8:$R$705)=\"SI\",UPPER(Egresados!$R$8:$R$705)=\"SÍ\"),1,IF(UPPER(Egresados!$R$8:$R$705)=\"NO\",0,\"\"))","v":""},{"$f":"IF(OR(UPPER(Egresados!$S$8:$S$705)=\"SI\",UPPER(Egresados!$S$8:$S$705)=\"SÍ\"),1,IF(UPPER(Egresados!$S$8:$S$705)=\"NO\",0,\"\"))","v":""},{"$f":"IF(ISERROR(VLOOKUP(Egresados!$T$8:$T$705,Maestros!$S$31:$T$530,2,0)),\"\",VLOOKUP(Egresados!$T$8:$T$705,Maestros!$S$31:$T$530,2,0))","v":"70"},{"$f":"IF(ISERROR(VLOOKUP(U244,Maestros!$S$31:$T$530,2,0)),\"\",VLOOKUP(U244,Maestros!$S$31:$T$530,2,0))","v":"70"},{"$f":"IF(ISERROR(VLOOKUP(Egresados!$K$8:$K$705,Maestros!$A$31:$B$130,2,0)),\"\",VLOOKUP(Egresados!$K$8:$K$705,Maestros!$A$31:$B$130,2,0))","v":""},{"$f":"IF(LEN(tablaEgresados[[#This Row],[Nota promedio]])>0,ROUND(tablaEgresados[[#This Row],[Nota promedio]],2),\"\")","v":16.22}]
[237,null,"DNI","42527720","FLORES","CABRERA","YENIFER CARLA","FEMENINO",null,"NO",null,null,null,"2020-1","SEDE CENTRAL","EDUCACION INICIAL",16.13,null,null,"2018-1","2018-1","20182462@une.edu.pe","yeniflor19@hotmail.com",3133700,"991202535",{"$f":"IF(ISERROR(VLOOKUP(Egresados!$N$8:$N$705,Maestros!$D$31:$E$530,2,0)),\"\",VLOOKUP(Egresados!$N$8:$N$705,Maestros!$D$31:$E$530,2,0))","v":"223"},{"$f":"IF(ISERROR(VLOOKUP(Egresados!$O245,Maestros!$G$31:$J$1030,2,0)),\"\",VLOOKUP(Egresados!$O245,Maestros!$G$31:$J$1030,2,0))","v":"8"},{"$f":"CONCATENATE(Egresados!$Z$8:$Z$705,\"a\",Egresados!$AA$8:$AA$705)","v":"223a8"},{"$f":"IF(ISERROR(VLOOKUP(Egresados!$P245,Maestros!$L$31:$Q$1030,2,0)),\"\",VLOOKUP(Egresados!$P245,Maestros!$L$31:$Q$1030,2,0))","v":"385"},{"$f":"CONCATENATE(Egresados!$Z$8:$Z$705,\"a\",Egresados!$AA$8:$AA$705,\"a\",Egresados!$AC$8:$AC$705)","v":"223a8a385"},{"$f":"IF(ISERROR(VLOOKUP(Egresados!$C$8:$C$705,Maestros!$A$4:$B$21,2,0)),\"\",VLOOKUP(Egresados!$C$8:$C$705,Maestros!$A$4:$B$21,2,0))","v":"1001"},{"$f":"IF(ISERROR(VLOOKUP(Egresados!$H$8:$H$705,Maestros!$D$4:$E$21,2,0)),\"\",VLOOKUP(Egresados!$H$8:$H$705,Maestros!$D$4:$E$21,2,0))","v":"1122"},{"$f":"IF(OR(UPPER(Egresados!$J$8:$J$705)=\"SI\",UPPER(Egresados!$J$8:$J$705)=\"SÍ\"),1,IF(UPPER(Egresados!$J$8:$J$705)=\"NO\",0,\"\"))","v":0},{"$f":"IF(OR(UPPER(Egresados!$R$8:$R$705)=\"SI\",UPPER(Egresados!$R$8:$R$705)=\"SÍ\"),1,IF(UPPER(Egresados!$R$8:$R$705)=\"NO\",0,\"\"))","v":""},{"$f":"IF(OR(UPPER(Egresados!$S$8:$S$705)=\"SI\",UPPER(Egresados!$S$8:$S$705)=\"SÍ\"),1,IF(UPPER(Egresados!$S$8:$S$705)=\"NO\",0,\"\"))","v":""},{"$f":"IF(ISERROR(VLOOKUP(Egresados!$T$8:$T$705,Maestros!$S$31:$T$530,2,0)),\"\",VLOOKUP(Egresados!$T$8:$T$705,Maestros!$S$31:$T$530,2,0))","v":"74"},{"$f":"IF(ISERROR(VLOOKUP(U245,Maestros!$S$31:$T$530,2,0)),\"\",VLOOKUP(U245,Maestros!$S$31:$T$530,2,0))","v":"74"},{"$f":"IF(ISERROR(VLOOKUP(Egresados!$K$8:$K$705,Maestros!$A$31:$B$130,2,0)),\"\",VLOOKUP(Egresados!$K$8:$K$705,Maestros!$A$31:$B$130,2,0))","v":""},{"$f":"IF(LEN(tablaEgresados[[#This Row],[Nota promedio]])>0,ROUND(tablaEgresados[[#This Row],[Nota promedio]],2),\"\")","v":16.13}]
[238,null,"DNI","72775525","CHULAN","CONTRERAS","EMILY BRIGIDA","FEMENINO",null,"NO",null,null,null,"2020-1","SEDE CENTRAL","EDUCACION INICIAL",16.38,null,null,"2018-1","2018-1","20184532@une.edu.pe","emely_2309@hotmail.com",3133700,"993459497",{"$f":"IF(ISERROR(VLOOKUP(Egresados!$N$8:$N$705,Maestros!$D$31:$E$530,2,0)),\"\",VLOOKUP(Egresados!$N$8:$N$705,Maestros!$D$31:$E$530,2,0))","v":"223"},{"$f":"IF(ISERROR(VLOOKUP(Egresados!$O246,Maestros!$G$31:$J$1030,2,0)),\"\",VLOOKUP(Egresados!$O246,Maestros!$G$31:$J$1030,2,0))","v":"8"},{"$f":"CONCATENATE(Egresados!$Z$8:$Z$705,\"a\",Egresados!$AA$8:$AA$705)","v":"223a8"},{"$f":"IF(ISERROR(VLOOKUP(Egresados!$P246,Maestros!$L$31:$Q$1030,2,0)),\"\",VLOOKUP(Egresados!$P246,Maestros!$L$31:$Q$1030,2,0))","v":"385"},{"$f":"CONCATENATE(Egresados!$Z$8:$Z$705,\"a\",Egresados!$AA$8:$AA$705,\"a\",Egresados!$AC$8:$AC$705)","v":"223a8a385"},{"$f":"IF(ISERROR(VLOOKUP(Egresados!$C$8:$C$705,Maestros!$A$4:$B$21,2,0)),\"\",VLOOKUP(Egresados!$C$8:$C$705,Maestros!$A$4:$B$21,2,0))","v":"1001"},{"$f":"IF(ISERROR(VLOOKUP(Egresados!$H$8:$H$705,Maestros!$D$4:$E$21,2,0)),\"\",VLOOKUP(Egresados!$H$8:$H$705,Maestros!$D$4:$E$21,2,0))","v":"1122"},{"$f":"IF(OR(UPPER(Egresados!$J$8:$J$705)=\"SI\",UPPER(Egresados!$J$8:$J$705)=\"SÍ\"),1,IF(UPPER(Egresados!$J$8:$J$705)=\"NO\",0,\"\"))","v":0},{"$f":"IF(OR(UPPER(Egresados!$R$8:$R$705)=\"SI\",UPPER(Egresados!$R$8:$R$705)=\"SÍ\"),1,IF(UPPER(Egresados!$R$8:$R$705)=\"NO\",0,\"\"))","v":""},{"$f":"IF(OR(UPPER(Egresados!$S$8:$S$705)=\"SI\",UPPER(Egresados!$S$8:$S$705)=\"SÍ\"),1,IF(UPPER(Egresados!$S$8:$S$705)=\"NO\",0,\"\"))","v":""},{"$f":"IF(ISERROR(VLOOKUP(Egresados!$T$8:$T$705,Maestros!$S$31:$T$530,2,0)),\"\",VLOOKUP(Egresados!$T$8:$T$705,Maestros!$S$31:$T$530,2,0))","v":"74"},{"$f":"IF(ISERROR(VLOOKUP(U246,Maestros!$S$31:$T$530,2,0)),\"\",VLOOKUP(U246,Maestros!$S$31:$T$530,2,0))","v":"74"},{"$f":"IF(ISERROR(VLOOKUP(Egresados!$K$8:$K$705,Maestros!$A$31:$B$130,2,0)),\"\",VLOOKUP(Egresados!$K$8:$K$705,Maestros!$A$31:$B$130,2,0))","v":""},{"$f":"IF(LEN(tablaEgresados[[#This Row],[Nota promedio]])>0,ROUND(tablaEgresados[[#This Row],[Nota promedio]],2),\"\")","v":16.38}]
[239,null,"DNI","70887193","RETAMOZO","AGUILAR","GALUTCHKA EVELYN","FEMENINO",null,"NO",null,null,null,"2020-1","SEDE CENTRAL","EDUCACION INICIAL",16.350000000000001,null,null,"2018-1","2018-1","20184538@une.edu.pe","galu_1994@hotmail.com",3133700,976486001,{"$f":"IF(ISERROR(VLOOKUP(Egresados!$N$8:$N$705,Maestros!$D$31:$E$530,2,0)),\"\",VLOOKUP(Egresados!$N$8:$N$705,Maestros!$D$31:$E$530,2,0))","v":"223"},{"$f":"IF(ISERROR(VLOOKUP(Egresados!$O247,Maestros!$G$31:$J$1030,2,0)),\"\",VLOOKUP(Egresados!$O247,Maestros!$G$31:$J$1030,2,0))","v":"8"},{"$f":"CONCATENATE(Egresados!$Z$8:$Z$705,\"a\",Egresados!$AA$8:$AA$705)","v":"223a8"},{"$f":"IF(ISERROR(VLOOKUP(Egresados!$P247,Maestros!$L$31:$Q$1030,2,0)),\"\",VLOOKUP(Egresados!$P247,Maestros!$L$31:$Q$1030,2,0))","v":"385"},{"$f":"CONCATENATE(Egresados!$Z$8:$Z$705,\"a\",Egresados!$AA$8:$AA$705,\"a\",Egresados!$AC$8:$AC$705)","v":"223a8a385"},{"$f":"IF(ISERROR(VLOOKUP(Egresados!$C$8:$C$705,Maestros!$A$4:$B$21,2,0)),\"\",VLOOKUP(Egresados!$C$8:$C$705,Maestros!$A$4:$B$21,2,0))","v":"1001"},{"$f":"IF(ISERROR(VLOOKUP(Egresados!$H$8:$H$705,Maestros!$D$4:$E$21,2,0)),\"\",VLOOKUP(Egresados!$H$8:$H$705,Maestros!$D$4:$E$21,2,0))","v":"1122"},{"$f":"IF(OR(UPPER(Egresados!$J$8:$J$705)=\"SI\",UPPER(Egresados!$J$8:$J$705)=\"SÍ\"),1,IF(UPPER(Egresados!$J$8:$J$705)=\"NO\",0,\"\"))","v":0},{"$f":"IF(OR(UPPER(Egresados!$R$8:$R$705)=\"SI\",UPPER(Egresados!$R$8:$R$705)=\"SÍ\"),1,IF(UPPER(Egresados!$R$8:$R$705)=\"NO\",0,\"\"))","v":""},{"$f":"IF(OR(UPPER(Egresados!$S$8:$S$705)=\"SI\",UPPER(Egresados!$S$8:$S$705)=\"SÍ\"),1,IF(UPPER(Egresados!$S$8:$S$705)=\"NO\",0,\"\"))","v":""},{"$f":"IF(ISERROR(VLOOKUP(Egresados!$T$8:$T$705,Maestros!$S$31:$T$530,2,0)),\"\",VLOOKUP(Egresados!$T$8:$T$705,Maestros!$S$31:$T$530,2,0))","v":"74"},{"$f":"IF(ISERROR(VLOOKUP(U247,Maestros!$S$31:$T$530,2,0)),\"\",VLOOKUP(U247,Maestros!$S$31:$T$530,2,0))","v":"74"},{"$f":"IF(ISERROR(VLOOKUP(Egresados!$K$8:$K$705,Maestros!$A$31:$B$130,2,0)),\"\",VLOOKUP(Egresados!$K$8:$K$705,Maestros!$A$31:$B$130,2,0))","v":""},{"$f":"IF(LEN(tablaEgresados[[#This Row],[Nota promedio]])>0,ROUND(tablaEgresados[[#This Row],[Nota promedio]],2),\"\")","v":16.350000000000001}]
[240,null,"DNI","43101008","ROSALES","RUIZ","ROSALINA","FEMENINO",null,"NO",null,null,null,"2020-1","SEDE CENTRAL","EDUCACION INICIAL",16.57,null,null,"2017-1","2017-1","20174973@une.edu.pe","china_0608@hotmail.com",3133700,"991624323",{"$f":"IF(ISERROR(VLOOKUP(Egresados!$N$8:$N$705,Maestros!$D$31:$E$530,2,0)),\"\",VLOOKUP(Egresados!$N$8:$N$705,Maestros!$D$31:$E$530,2,0))","v":"223"},{"$f":"IF(ISERROR(VLOOKUP(Egresados!$O248,Maestros!$G$31:$J$1030,2,0)),\"\",VLOOKUP(Egresados!$O248,Maestros!$G$31:$J$1030,2,0))","v":"8"},{"$f":"CONCATENATE(Egresados!$Z$8:$Z$705,\"a\",Egresados!$AA$8:$AA$705)","v":"223a8"},{"$f":"IF(ISERROR(VLOOKUP(Egresados!$P248,Maestros!$L$31:$Q$1030,2,0)),\"\",VLOOKUP(Egresados!$P248,Maestros!$L$31:$Q$1030,2,0))","v":"385"},{"$f":"CONCATENATE(Egresados!$Z$8:$Z$705,\"a\",Egresados!$AA$8:$AA$705,\"a\",Egresados!$AC$8:$AC$705)","v":"223a8a385"},{"$f":"IF(ISERROR(VLOOKUP(Egresados!$C$8:$C$705,Maestros!$A$4:$B$21,2,0)),\"\",VLOOKUP(Egresados!$C$8:$C$705,Maestros!$A$4:$B$21,2,0))","v":"1001"},{"$f":"IF(ISERROR(VLOOKUP(Egresados!$H$8:$H$705,Maestros!$D$4:$E$21,2,0)),\"\",VLOOKUP(Egresados!$H$8:$H$705,Maestros!$D$4:$E$21,2,0))","v":"1122"},{"$f":"IF(OR(UPPER(Egresados!$J$8:$J$705)=\"SI\",UPPER(Egresados!$J$8:$J$705)=\"SÍ\"),1,IF(UPPER(Egresados!$J$8:$J$705)=\"NO\",0,\"\"))","v":0},{"$f":"IF(OR(UPPER(Egresados!$R$8:$R$705)=\"SI\",UPPER(Egresados!$R$8:$R$705)=\"SÍ\"),1,IF(UPPER(Egresados!$R$8:$R$705)=\"NO\",0,\"\"))","v":""},{"$f":"IF(OR(UPPER(Egresados!$S$8:$S$705)=\"SI\",UPPER(Egresados!$S$8:$S$705)=\"SÍ\"),1,IF(UPPER(Egresados!$S$8:$S$705)=\"NO\",0,\"\"))","v":""},{"$f":"IF(ISERROR(VLOOKUP(Egresados!$T$8:$T$705,Maestros!$S$31:$T$530,2,0)),\"\",VLOOKUP(Egresados!$T$8:$T$705,Maestros!$S$31:$T$530,2,0))","v":"70"},{"$f":"IF(ISERROR(VLOOKUP(U248,Maestros!$S$31:$T$530,2,0)),\"\",VLOOKUP(U248,Maestros!$S$31:$T$530,2,0))","v":"70"},{"$f":"IF(ISERROR(VLOOKUP(Egresados!$K$8:$K$705,Maestros!$A$31:$B$130,2,0)),\"\",VLOOKUP(Egresados!$K$8:$K$705,Maestros!$A$31:$B$130,2,0))","v":""},{"$f":"IF(LEN(tablaEgresados[[#This Row],[Nota promedio]])>0,ROUND(tablaEgresados[[#This Row],[Nota promedio]],2),\"\")","v":16.57}]
[241,null,"DNI","41381138","ROQUE","LLACSA","ROSE MARY","FEMENINO",null,"NO",null,null,null,"2020-1","SEDE CENTRAL","EDUCACION INICIAL",16.5,null,null,"2017-1","2017-1","20174971@une.edu.pe","grecia2255@hotmail.com",3133700,"982294970",{"$f":"IF(ISERROR(VLOOKUP(Egresados!$N$8:$N$705,Maestros!$D$31:$E$530,2,0)),\"\",VLOOKUP(Egresados!$N$8:$N$705,Maestros!$D$31:$E$530,2,0))","v":"223"},{"$f":"IF(ISERROR(VLOOKUP(Egresados!$O249,Maestros!$G$31:$J$1030,2,0)),\"\",VLOOKUP(Egresados!$O249,Maestros!$G$31:$J$1030,2,0))","v":"8"},{"$f":"CONCATENATE(Egresados!$Z$8:$Z$705,\"a\",Egresados!$AA$8:$AA$705)","v":"223a8"},{"$f":"IF(ISERROR(VLOOKUP(Egresados!$P249,Maestros!$L$31:$Q$1030,2,0)),\"\",VLOOKUP(Egresados!$P249,Maestros!$L$31:$Q$1030,2,0))","v":"385"},{"$f":"CONCATENATE(Egresados!$Z$8:$Z$705,\"a\",Egresados!$AA$8:$AA$705,\"a\",Egresados!$AC$8:$AC$705)","v":"223a8a385"},{"$f":"IF(ISERROR(VLOOKUP(Egresados!$C$8:$C$705,Maestros!$A$4:$B$21,2,0)),\"\",VLOOKUP(Egresados!$C$8:$C$705,Maestros!$A$4:$B$21,2,0))","v":"1001"},{"$f":"IF(ISERROR(VLOOKUP(Egresados!$H$8:$H$705,Maestros!$D$4:$E$21,2,0)),\"\",VLOOKUP(Egresados!$H$8:$H$705,Maestros!$D$4:$E$21,2,0))","v":"1122"},{"$f":"IF(OR(UPPER(Egresados!$J$8:$J$705)=\"SI\",UPPER(Egresados!$J$8:$J$705)=\"SÍ\"),1,IF(UPPER(Egresados!$J$8:$J$705)=\"NO\",0,\"\"))","v":0},{"$f":"IF(OR(UPPER(Egresados!$R$8:$R$705)=\"SI\",UPPER(Egresados!$R$8:$R$705)=\"SÍ\"),1,IF(UPPER(Egresados!$R$8:$R$705)=\"NO\",0,\"\"))","v":""},{"$f":"IF(OR(UPPER(Egresados!$S$8:$S$705)=\"SI\",UPPER(Egresados!$S$8:$S$705)=\"SÍ\"),1,IF(UPPER(Egresados!$S$8:$S$705)=\"NO\",0,\"\"))","v":""},{"$f":"IF(ISERROR(VLOOKUP(Egresados!$T$8:$T$705,Maestros!$S$31:$T$530,2,0)),\"\",VLOOKUP(Egresados!$T$8:$T$705,Maestros!$S$31:$T$530,2,0))","v":"70"},{"$f":"IF(ISERROR(VLOOKUP(U249,Maestros!$S$31:$T$530,2,0)),\"\",VLOOKUP(U249,Maestros!$S$31:$T$530,2,0))","v":"70"},{"$f":"IF(ISERROR(VLOOKUP(Egresados!$K$8:$K$705,Maestros!$A$31:$B$130,2,0)),\"\",VLOOKUP(Egresados!$K$8:$K$705,Maestros!$A$31:$B$130,2,0))","v":""},{"$f":"IF(LEN(tablaEgresados[[#This Row],[Nota promedio]])>0,ROUND(tablaEgresados[[#This Row],[Nota promedio]],2),\"\")","v":16.5}]
[242,null,"DNI","40494716","VILCAPOMA","PEREZ","ROCIO ETELVINA","FEMENINO",null,"NO",null,null,null,"2020-1","SEDE CENTRAL","EDUCACION INICIAL",17,null,null,"2017-1","2017-1","20174978@une.edu.pe","rociovilcapoma@hotmail.com",3133700,"980681578",{"$f":"IF(ISERROR(VLOOKUP(Egresados!$N$8:$N$705,Maestros!$D$31:$E$530,2,0)),\"\",VLOOKUP(Egresados!$N$8:$N$705,Maestros!$D$31:$E$530,2,0))","v":"223"},{"$f":"IF(ISERROR(VLOOKUP(Egresados!$O250,Maestros!$G$31:$J$1030,2,0)),\"\",VLOOKUP(Egresados!$O250,Maestros!$G$31:$J$1030,2,0))","v":"8"},{"$f":"CONCATENATE(Egresados!$Z$8:$Z$705,\"a\",Egresados!$AA$8:$AA$705)","v":"223a8"},{"$f":"IF(ISERROR(VLOOKUP(Egresados!$P250,Maestros!$L$31:$Q$1030,2,0)),\"\",VLOOKUP(Egresados!$P250,Maestros!$L$31:$Q$1030,2,0))","v":"385"},{"$f":"CONCATENATE(Egresados!$Z$8:$Z$705,\"a\",Egresados!$AA$8:$AA$705,\"a\",Egresados!$AC$8:$AC$705)","v":"223a8a385"},{"$f":"IF(ISERROR(VLOOKUP(Egresados!$C$8:$C$705,Maestros!$A$4:$B$21,2,0)),\"\",VLOOKUP(Egresados!$C$8:$C$705,Maestros!$A$4:$B$21,2,0))","v":"1001"},{"$f":"IF(ISERROR(VLOOKUP(Egresados!$H$8:$H$705,Maestros!$D$4:$E$21,2,0)),\"\",VLOOKUP(Egresados!$H$8:$H$705,Maestros!$D$4:$E$21,2,0))","v":"1122"},{"$f":"IF(OR(UPPER(Egresados!$J$8:$J$705)=\"SI\",UPPER(Egresados!$J$8:$J$705)=\"SÍ\"),1,IF(UPPER(Egresados!$J$8:$J$705)=\"NO\",0,\"\"))","v":0},{"$f":"IF(OR(UPPER(Egresados!$R$8:$R$705)=\"SI\",UPPER(Egresados!$R$8:$R$705)=\"SÍ\"),1,IF(UPPER(Egresados!$R$8:$R$705)=\"NO\",0,\"\"))","v":""},{"$f":"IF(OR(UPPER(Egresados!$S$8:$S$705)=\"SI\",UPPER(Egresados!$S$8:$S$705)=\"SÍ\"),1,IF(UPPER(Egresados!$S$8:$S$705)=\"NO\",0,\"\"))","v":""},{"$f":"IF(ISERROR(VLOOKUP(Egresados!$T$8:$T$705,Maestros!$S$31:$T$530,2,0)),\"\",VLOOKUP(Egresados!$T$8:$T$705,Maestros!$S$31:$T$530,2,0))","v":"70"},{"$f":"IF(ISERROR(VLOOKUP(U250,Maestros!$S$31:$T$530,2,0)),\"\",VLOOKUP(U250,Maestros!$S$31:$T$530,2,0))","v":"70"},{"$f":"IF(ISERROR(VLOOKUP(Egresados!$K$8:$K$705,Maestros!$A$31:$B$130,2,0)),\"\",VLOOKUP(Egresados!$K$8:$K$705,Maestros!$A$31:$B$130,2,0))","v":""},{"$f":"IF(LEN(tablaEgresados[[#This Row],[Nota promedio]])>0,ROUND(tablaEgresados[[#This Row],[Nota promedio]],2),\"\")","v":17}]
[243,null,"DNI","44794652","IBAÑEZ","CHURA","MARINA","FEMENINO",null,"NO",null,null,null,"2020-1","SEDE CENTRAL","EDUCACION INICIAL",16.399999999999999,null,null,"2018-1","2018-1","20182463@une.edu.pe","maritzai3@hotmail.com",3133700,"944720794",{"$f":"IF(ISERROR(VLOOKUP(Egresados!$N$8:$N$705,Maestros!$D$31:$E$530,2,0)),\"\",VLOOKUP(Egresados!$N$8:$N$705,Maestros!$D$31:$E$530,2,0))","v":"223"},{"$f":"IF(ISERROR(VLOOKUP(Egresados!$O251,Maestros!$G$31:$J$1030,2,0)),\"\",VLOOKUP(Egresados!$O251,Maestros!$G$31:$J$1030,2,0))","v":"8"},{"$f":"CONCATENATE(Egresados!$Z$8:$Z$705,\"a\",Egresados!$AA$8:$AA$705)","v":"223a8"},{"$f":"IF(ISERROR(VLOOKUP(Egresados!$P251,Maestros!$L$31:$Q$1030,2,0)),\"\",VLOOKUP(Egresados!$P251,Maestros!$L$31:$Q$1030,2,0))","v":"385"},{"$f":"CONCATENATE(Egresados!$Z$8:$Z$705,\"a\",Egresados!$AA$8:$AA$705,\"a\",Egresados!$AC$8:$AC$705)","v":"223a8a385"},{"$f":"IF(ISERROR(VLOOKUP(Egresados!$C$8:$C$705,Maestros!$A$4:$B$21,2,0)),\"\",VLOOKUP(Egresados!$C$8:$C$705,Maestros!$A$4:$B$21,2,0))","v":"1001"},{"$f":"IF(ISERROR(VLOOKUP(Egresados!$H$8:$H$705,Maestros!$D$4:$E$21,2,0)),\"\",VLOOKUP(Egresados!$H$8:$H$705,Maestros!$D$4:$E$21,2,0))","v":"1122"},{"$f":"IF(OR(UPPER(Egresados!$J$8:$J$705)=\"SI\",UPPER(Egresados!$J$8:$J$705)=\"SÍ\"),1,IF(UPPER(Egresados!$J$8:$J$705)=\"NO\",0,\"\"))","v":0},{"$f":"IF(OR(UPPER(Egresados!$R$8:$R$705)=\"SI\",UPPER(Egresados!$R$8:$R$705)=\"SÍ\"),1,IF(UPPER(Egresados!$R$8:$R$705)=\"NO\",0,\"\"))","v":""},{"$f":"IF(OR(UPPER(Egresados!$S$8:$S$705)=\"SI\",UPPER(Egresados!$S$8:$S$705)=\"SÍ\"),1,IF(UPPER(Egresados!$S$8:$S$705)=\"NO\",0,\"\"))","v":""},{"$f":"IF(ISERROR(VLOOKUP(Egresados!$T$8:$T$705,Maestros!$S$31:$T$530,2,0)),\"\",VLOOKUP(Egresados!$T$8:$T$705,Maestros!$S$31:$T$530,2,0))","v":"74"},{"$f":"IF(ISERROR(VLOOKUP(U251,Maestros!$S$31:$T$530,2,0)),\"\",VLOOKUP(U251,Maestros!$S$31:$T$530,2,0))","v":"74"},{"$f":"IF(ISERROR(VLOOKUP(Egresados!$K$8:$K$705,Maestros!$A$31:$B$130,2,0)),\"\",VLOOKUP(Egresados!$K$8:$K$705,Maestros!$A$31:$B$130,2,0))","v":""},{"$f":"IF(LEN(tablaEgresados[[#This Row],[Nota promedio]])>0,ROUND(tablaEgresados[[#This Row],[Nota promedio]],2),\"\")","v":16.399999999999999}]
[244,null,"DNI","44646129","CABANILLAS","LAGOS","LUCIA JANET","FEMENINO",null,"NO",null,null,null,"2020-1","SEDE CENTRAL","EDUCACION INICIAL",16.420000000000002,null,null,"2017-1","2017-1","20173770@une.edu.pe","janetlu310@yahoo.com",3133700,"993457290",{"$f":"IF(ISERROR(VLOOKUP(Egresados!$N$8:$N$705,Maestros!$D$31:$E$530,2,0)),\"\",VLOOKUP(Egresados!$N$8:$N$705,Maestros!$D$31:$E$530,2,0))","v":"223"},{"$f":"IF(ISERROR(VLOOKUP(Egresados!$O252,Maestros!$G$31:$J$1030,2,0)),\"\",VLOOKUP(Egresados!$O252,Maestros!$G$31:$J$1030,2,0))","v":"8"},{"$f":"CONCATENATE(Egresados!$Z$8:$Z$705,\"a\",Egresados!$AA$8:$AA$705)","v":"223a8"},{"$f":"IF(ISERROR(VLOOKUP(Egresados!$P252,Maestros!$L$31:$Q$1030,2,0)),\"\",VLOOKUP(Egresados!$P252,Maestros!$L$31:$Q$1030,2,0))","v":"385"},{"$f":"CONCATENATE(Egresados!$Z$8:$Z$705,\"a\",Egresados!$AA$8:$AA$705,\"a\",Egresados!$AC$8:$AC$705)","v":"223a8a385"},{"$f":"IF(ISERROR(VLOOKUP(Egresados!$C$8:$C$705,Maestros!$A$4:$B$21,2,0)),\"\",VLOOKUP(Egresados!$C$8:$C$705,Maestros!$A$4:$B$21,2,0))","v":"1001"},{"$f":"IF(ISERROR(VLOOKUP(Egresados!$H$8:$H$705,Maestros!$D$4:$E$21,2,0)),\"\",VLOOKUP(Egresados!$H$8:$H$705,Maestros!$D$4:$E$21,2,0))","v":"1122"},{"$f":"IF(OR(UPPER(Egresados!$J$8:$J$705)=\"SI\",UPPER(Egresados!$J$8:$J$705)=\"SÍ\"),1,IF(UPPER(Egresados!$J$8:$J$705)=\"NO\",0,\"\"))","v":0},{"$f":"IF(OR(UPPER(Egresados!$R$8:$R$705)=\"SI\",UPPER(Egresados!$R$8:$R$705)=\"SÍ\"),1,IF(UPPER(Egresados!$R$8:$R$705)=\"NO\",0,\"\"))","v":""},{"$f":"IF(OR(UPPER(Egresados!$S$8:$S$705)=\"SI\",UPPER(Egresados!$S$8:$S$705)=\"SÍ\"),1,IF(UPPER(Egresados!$S$8:$S$705)=\"NO\",0,\"\"))","v":""},{"$f":"IF(ISERROR(VLOOKUP(Egresados!$T$8:$T$705,Maestros!$S$31:$T$530,2,0)),\"\",VLOOKUP(Egresados!$T$8:$T$705,Maestros!$S$31:$T$530,2,0))","v":"70"},{"$f":"IF(ISERROR(VLOOKUP(U252,Maestros!$S$31:$T$530,2,0)),\"\",VLOOKUP(U252,Maestros!$S$31:$T$530,2,0))","v":"70"},{"$f":"IF(ISERROR(VLOOKUP(Egresados!$K$8:$K$705,Maestros!$A$31:$B$130,2,0)),\"\",VLOOKUP(Egresados!$K$8:$K$705,Maestros!$A$31:$B$130,2,0))","v":""},{"$f":"IF(LEN(tablaEgresados[[#This Row],[Nota promedio]])>0,ROUND(tablaEgresados[[#This Row],[Nota promedio]],2),\"\")","v":16.420000000000002}]
[245,null,"DNI",20437416,"PALPA","RAMON","MARILUZ PATRICIA","FEMENINO",null,"NO",null,null,null,"2020-1","SEDE CENTRAL","EDUCACION INICIAL",14.64,null,null,"2006-1","2006-1","20065996@une.edu.pe","20065996@une.edu.pe",3133700,976486001,{"$f":"IF(ISERROR(VLOOKUP(Egresados!$N$8:$N$705,Maestros!$D$31:$E$530,2,0)),\"\",VLOOKUP(Egresados!$N$8:$N$705,Maestros!$D$31:$E$530,2,0))","v":"223"},{"$f":"IF(ISERROR(VLOOKUP(Egresados!$O253,Maestros!$G$31:$J$1030,2,0)),\"\",VLOOKUP(Egresados!$O253,Maestros!$G$31:$J$1030,2,0))","v":"8"},{"$f":"CONCATENATE(Egresados!$Z$8:$Z$705,\"a\",Egresados!$AA$8:$AA$705)","v":"223a8"},{"$f":"IF(ISERROR(VLOOKUP(Egresados!$P253,Maestros!$L$31:$Q$1030,2,0)),\"\",VLOOKUP(Egresados!$P253,Maestros!$L$31:$Q$1030,2,0))","v":"385"},{"$f":"CONCATENATE(Egresados!$Z$8:$Z$705,\"a\",Egresados!$AA$8:$AA$705,\"a\",Egresados!$AC$8:$AC$705)","v":"223a8a385"},{"$f":"IF(ISERROR(VLOOKUP(Egresados!$C$8:$C$705,Maestros!$A$4:$B$21,2,0)),\"\",VLOOKUP(Egresados!$C$8:$C$705,Maestros!$A$4:$B$21,2,0))","v":"1001"},{"$f":"IF(ISERROR(VLOOKUP(Egresados!$H$8:$H$705,Maestros!$D$4:$E$21,2,0)),\"\",VLOOKUP(Egresados!$H$8:$H$705,Maestros!$D$4:$E$21,2,0))","v":"1122"},{"$f":"IF(OR(UPPER(Egresados!$J$8:$J$705)=\"SI\",UPPER(Egresados!$J$8:$J$705)=\"SÍ\"),1,IF(UPPER(Egresados!$J$8:$J$705)=\"NO\",0,\"\"))","v":0},{"$f":"IF(OR(UPPER(Egresados!$R$8:$R$705)=\"SI\",UPPER(Egresados!$R$8:$R$705)=\"SÍ\"),1,IF(UPPER(Egresados!$R$8:$R$705)=\"NO\",0,\"\"))","v":""},{"$f":"IF(OR(UPPER(Egresados!$S$8:$S$705)=\"SI\",UPPER(Egresados!$S$8:$S$705)=\"SÍ\"),1,IF(UPPER(Egresados!$S$8:$S$705)=\"NO\",0,\"\"))","v":""},{"$f":"IF(ISERROR(VLOOKUP(Egresados!$T$8:$T$705,Maestros!$S$31:$T$530,2,0)),\"\",VLOOKUP(Egresados!$T$8:$T$705,Maestros!$S$31:$T$530,2,0))","v":"26"},{"$f":"IF(ISERROR(VLOOKUP(U253,Maestros!$S$31:$T$530,2,0)),\"\",VLOOKUP(U253,Maestros!$S$31:$T$530,2,0))","v":"26"},{"$f":"IF(ISERROR(VLOOKUP(Egresados!$K$8:$K$705,Maestros!$A$31:$B$130,2,0)),\"\",VLOOKUP(Egresados!$K$8:$K$705,Maestros!$A$31:$B$130,2,0))","v":""},{"$f":"IF(LEN(tablaEgresados[[#This Row],[Nota promedio]])>0,ROUND(tablaEgresados[[#This Row],[Nota promedio]],2),\"\")","v":14.64}]
[246,null,"DNI","32038763","RAMIREZ","HARO","ARIELA OLINDA","FEMENINO",null,"NO",null,null,null,"2020-1","SEDE CENTRAL","EDUCACION INICIAL",14.76,null,null,"2006-1","2006-1","20062956@une.edu.pe","20062956@une.edu.pe",3133700,976486001,{"$f":"IF(ISERROR(VLOOKUP(Egresados!$N$8:$N$705,Maestros!$D$31:$E$530,2,0)),\"\",VLOOKUP(Egresados!$N$8:$N$705,Maestros!$D$31:$E$530,2,0))","v":"223"},{"$f":"IF(ISERROR(VLOOKUP(Egresados!$O254,Maestros!$G$31:$J$1030,2,0)),\"\",VLOOKUP(Egresados!$O254,Maestros!$G$31:$J$1030,2,0))","v":"8"},{"$f":"CONCATENATE(Egresados!$Z$8:$Z$705,\"a\",Egresados!$AA$8:$AA$705)","v":"223a8"},{"$f":"IF(ISERROR(VLOOKUP(Egresados!$P254,Maestros!$L$31:$Q$1030,2,0)),\"\",VLOOKUP(Egresados!$P254,Maestros!$L$31:$Q$1030,2,0))","v":"385"},{"$f":"CONCATENATE(Egresados!$Z$8:$Z$705,\"a\",Egresados!$AA$8:$AA$705,\"a\",Egresados!$AC$8:$AC$705)","v":"223a8a385"},{"$f":"IF(ISERROR(VLOOKUP(Egresados!$C$8:$C$705,Maestros!$A$4:$B$21,2,0)),\"\",VLOOKUP(Egresados!$C$8:$C$705,Maestros!$A$4:$B$21,2,0))","v":"1001"},{"$f":"IF(ISERROR(VLOOKUP(Egresados!$H$8:$H$705,Maestros!$D$4:$E$21,2,0)),\"\",VLOOKUP(Egresados!$H$8:$H$705,Maestros!$D$4:$E$21,2,0))","v":"1122"},{"$f":"IF(OR(UPPER(Egresados!$J$8:$J$705)=\"SI\",UPPER(Egresados!$J$8:$J$705)=\"SÍ\"),1,IF(UPPER(Egresados!$J$8:$J$705)=\"NO\",0,\"\"))","v":0},{"$f":"IF(OR(UPPER(Egresados!$R$8:$R$705)=\"SI\",UPPER(Egresados!$R$8:$R$705)=\"SÍ\"),1,IF(UPPER(Egresados!$R$8:$R$705)=\"NO\",0,\"\"))","v":""},{"$f":"IF(OR(UPPER(Egresados!$S$8:$S$705)=\"SI\",UPPER(Egresados!$S$8:$S$705)=\"SÍ\"),1,IF(UPPER(Egresados!$S$8:$S$705)=\"NO\",0,\"\"))","v":""},{"$f":"IF(ISERROR(VLOOKUP(Egresados!$T$8:$T$705,Maestros!$S$31:$T$530,2,0)),\"\",VLOOKUP(Egresados!$T$8:$T$705,Maestros!$S$31:$T$530,2,0))","v":"26"},{"$f":"IF(ISERROR(VLOOKUP(U254,Maestros!$S$31:$T$530,2,0)),\"\",VLOOKUP(U254,Maestros!$S$31:$T$530,2,0))","v":"26"},{"$f":"IF(ISERROR(VLOOKUP(Egresados!$K$8:$K$705,Maestros!$A$31:$B$130,2,0)),\"\",VLOOKUP(Egresados!$K$8:$K$705,Maestros!$A$31:$B$130,2,0))","v":""},{"$f":"IF(LEN(tablaEgresados[[#This Row],[Nota promedio]])>0,ROUND(tablaEgresados[[#This Row],[Nota promedio]],2),\"\")","v":14.76}]
[247,null,"DNI","03877083","QUEREVALU","LAZO","GRACIELA EDITH","FEMENINO",null,"NO",null,null,null,"2020-1","SEDE CENTRAL","EDUCACION INICIAL",14.58,null,null,"1994-1","1994-1","19941076@une.edu.pe","19941076@une.edu.pe",3133700,976486001,{"$f":"IF(ISERROR(VLOOKUP(Egresados!$N$8:$N$705,Maestros!$D$31:$E$530,2,0)),\"\",VLOOKUP(Egresados!$N$8:$N$705,Maestros!$D$31:$E$530,2,0))","v":"223"},{"$f":"IF(ISERROR(VLOOKUP(Egresados!$O255,Maestros!$G$31:$J$1030,2,0)),\"\",VLOOKUP(Egresados!$O255,Maestros!$G$31:$J$1030,2,0))","v":"8"},{"$f":"CONCATENATE(Egresados!$Z$8:$Z$705,\"a\",Egresados!$AA$8:$AA$705)","v":"223a8"},{"$f":"IF(ISERROR(VLOOKUP(Egresados!$P255,Maestros!$L$31:$Q$1030,2,0)),\"\",VLOOKUP(Egresados!$P255,Maestros!$L$31:$Q$1030,2,0))","v":"385"},{"$f":"CONCATENATE(Egresados!$Z$8:$Z$705,\"a\",Egresados!$AA$8:$AA$705,\"a\",Egresados!$AC$8:$AC$705)","v":"223a8a385"},{"$f":"IF(ISERROR(VLOOKUP(Egresados!$C$8:$C$705,Maestros!$A$4:$B$21,2,0)),\"\",VLOOKUP(Egresados!$C$8:$C$705,Maestros!$A$4:$B$21,2,0))","v":"1001"},{"$f":"IF(ISERROR(VLOOKUP(Egresados!$H$8:$H$705,Maestros!$D$4:$E$21,2,0)),\"\",VLOOKUP(Egresados!$H$8:$H$705,Maestros!$D$4:$E$21,2,0))","v":"1122"},{"$f":"IF(OR(UPPER(Egresados!$J$8:$J$705)=\"SI\",UPPER(Egresados!$J$8:$J$705)=\"SÍ\"),1,IF(UPPER(Egresados!$J$8:$J$705)=\"NO\",0,\"\"))","v":0},{"$f":"IF(OR(UPPER(Egresados!$R$8:$R$705)=\"SI\",UPPER(Egresados!$R$8:$R$705)=\"SÍ\"),1,IF(UPPER(Egresados!$R$8:$R$705)=\"NO\",0,\"\"))","v":""},{"$f":"IF(OR(UPPER(Egresados!$S$8:$S$705)=\"SI\",UPPER(Egresados!$S$8:$S$705)=\"SÍ\"),1,IF(UPPER(Egresados!$S$8:$S$705)=\"NO\",0,\"\"))","v":""},{"$f":"IF(ISERROR(VLOOKUP(Egresados!$T$8:$T$705,Maestros!$S$31:$T$530,2,0)),\"\",VLOOKUP(Egresados!$T$8:$T$705,Maestros!$S$31:$T$530,2,0))","v":"81"},{"$f":"IF(ISERROR(VLOOKUP(U255,Maestros!$S$31:$T$530,2,0)),\"\",VLOOKUP(U255,Maestros!$S$31:$T$530,2,0))","v":"81"},{"$f":"IF(ISERROR(VLOOKUP(Egresados!$K$8:$K$705,Maestros!$A$31:$B$130,2,0)),\"\",VLOOKUP(Egresados!$K$8:$K$705,Maestros!$A$31:$B$130,2,0))","v":""},{"$f":"IF(LEN(tablaEgresados[[#This Row],[Nota promedio]])>0,ROUND(tablaEgresados[[#This Row],[Nota promedio]],2),\"\")","v":14.58}]
[248,null,"DNI",40419390,"PACHECO","MOGOLLON","CAROL EDITH","MASCULINO",null,"NO",null,null,null,"2020-1","SEDE CENTRAL","EDUCACION INICIAL",14.67,null,null,"2012-1","2012-1","20122488@une.edu.pe","20122488@une.edu.pe",3133700,976486001,{"$f":"IF(ISERROR(VLOOKUP(Egresados!$N$8:$N$705,Maestros!$D$31:$E$530,2,0)),\"\",VLOOKUP(Egresados!$N$8:$N$705,Maestros!$D$31:$E$530,2,0))","v":"223"},{"$f":"IF(ISERROR(VLOOKUP(Egresados!$O256,Maestros!$G$31:$J$1030,2,0)),\"\",VLOOKUP(Egresados!$O256,Maestros!$G$31:$J$1030,2,0))","v":"8"},{"$f":"CONCATENATE(Egresados!$Z$8:$Z$705,\"a\",Egresados!$AA$8:$AA$705)","v":"223a8"},{"$f":"IF(ISERROR(VLOOKUP(Egresados!$P256,Maestros!$L$31:$Q$1030,2,0)),\"\",VLOOKUP(Egresados!$P256,Maestros!$L$31:$Q$1030,2,0))","v":"385"},{"$f":"CONCATENATE(Egresados!$Z$8:$Z$705,\"a\",Egresados!$AA$8:$AA$705,\"a\",Egresados!$AC$8:$AC$705)","v":"223a8a385"},{"$f":"IF(ISERROR(VLOOKUP(Egresados!$C$8:$C$705,Maestros!$A$4:$B$21,2,0)),\"\",VLOOKUP(Egresados!$C$8:$C$705,Maestros!$A$4:$B$21,2,0))","v":"1001"},{"$f":"IF(ISERROR(VLOOKUP(Egresados!$H$8:$H$705,Maestros!$D$4:$E$21,2,0)),\"\",VLOOKUP(Egresados!$H$8:$H$705,Maestros!$D$4:$E$21,2,0))","v":"1121"},{"$f":"IF(OR(UPPER(Egresados!$J$8:$J$705)=\"SI\",UPPER(Egresados!$J$8:$J$705)=\"SÍ\"),1,IF(UPPER(Egresados!$J$8:$J$705)=\"NO\",0,\"\"))","v":0},{"$f":"IF(OR(UPPER(Egresados!$R$8:$R$705)=\"SI\",UPPER(Egresados!$R$8:$R$705)=\"SÍ\"),1,IF(UPPER(Egresados!$R$8:$R$705)=\"NO\",0,\"\"))","v":""},{"$f":"IF(OR(UPPER(Egresados!$S$8:$S$705)=\"SI\",UPPER(Egresados!$S$8:$S$705)=\"SÍ\"),1,IF(UPPER(Egresados!$S$8:$S$705)=\"NO\",0,\"\"))","v":""},{"$f":"IF(ISERROR(VLOOKUP(Egresados!$T$8:$T$705,Maestros!$S$31:$T$530,2,0)),\"\",VLOOKUP(Egresados!$T$8:$T$705,Maestros!$S$31:$T$530,2,0))","v":"50"},{"$f":"IF(ISERROR(VLOOKUP(U256,Maestros!$S$31:$T$530,2,0)),\"\",VLOOKUP(U256,Maestros!$S$31:$T$530,2,0))","v":"50"},{"$f":"IF(ISERROR(VLOOKUP(Egresados!$K$8:$K$705,Maestros!$A$31:$B$130,2,0)),\"\",VLOOKUP(Egresados!$K$8:$K$705,Maestros!$A$31:$B$130,2,0))","v":""},{"$f":"IF(LEN(tablaEgresados[[#This Row],[Nota promedio]])>0,ROUND(tablaEgresados[[#This Row],[Nota promedio]],2),\"\")","v":14.67}]
[249,null,"DNI","09828429","ARAGON","PEREZ","MARIA ROSA","FEMENINO",null,"NO",null,null,null,"2020-1","SEDE CENTRAL","EDUCACION INICIAL",14.66,null,null,"2015-1","2015-1","20152754@une.edu.pe","20152754@une.edu.pe",3133700,976486001,{"$f":"IF(ISERROR(VLOOKUP(Egresados!$N$8:$N$705,Maestros!$D$31:$E$530,2,0)),\"\",VLOOKUP(Egresados!$N$8:$N$705,Maestros!$D$31:$E$530,2,0))","v":"223"},{"$f":"IF(ISERROR(VLOOKUP(Egresados!$O257,Maestros!$G$31:$J$1030,2,0)),\"\",VLOOKUP(Egresados!$O257,Maestros!$G$31:$J$1030,2,0))","v":"8"},{"$f":"CONCATENATE(Egresados!$Z$8:$Z$705,\"a\",Egresados!$AA$8:$AA$705)","v":"223a8"},{"$f":"IF(ISERROR(VLOOKUP(Egresados!$P257,Maestros!$L$31:$Q$1030,2,0)),\"\",VLOOKUP(Egresados!$P257,Maestros!$L$31:$Q$1030,2,0))","v":"385"},{"$f":"CONCATENATE(Egresados!$Z$8:$Z$705,\"a\",Egresados!$AA$8:$AA$705,\"a\",Egresados!$AC$8:$AC$705)","v":"223a8a385"},{"$f":"IF(ISERROR(VLOOKUP(Egresados!$C$8:$C$705,Maestros!$A$4:$B$21,2,0)),\"\",VLOOKUP(Egresados!$C$8:$C$705,Maestros!$A$4:$B$21,2,0))","v":"1001"},{"$f":"IF(ISERROR(VLOOKUP(Egresados!$H$8:$H$705,Maestros!$D$4:$E$21,2,0)),\"\",VLOOKUP(Egresados!$H$8:$H$705,Maestros!$D$4:$E$21,2,0))","v":"1122"},{"$f":"IF(OR(UPPER(Egresados!$J$8:$J$705)=\"SI\",UPPER(Egresados!$J$8:$J$705)=\"SÍ\"),1,IF(UPPER(Egresados!$J$8:$J$705)=\"NO\",0,\"\"))","v":0},{"$f":"IF(OR(UPPER(Egresados!$R$8:$R$705)=\"SI\",UPPER(Egresados!$R$8:$R$705)=\"SÍ\"),1,IF(UPPER(Egresados!$R$8:$R$705)=\"NO\",0,\"\"))","v":""},{"$f":"IF(OR(UPPER(Egresados!$S$8:$S$705)=\"SI\",UPPER(Egresados!$S$8:$S$705)=\"SÍ\"),1,IF(UPPER(Egresados!$S$8:$S$705)=\"NO\",0,\"\"))","v":""},{"$f":"IF(ISERROR(VLOOKUP(Egresados!$T$8:$T$705,Maestros!$S$31:$T$530,2,0)),\"\",VLOOKUP(Egresados!$T$8:$T$705,Maestros!$S$31:$T$530,2,0))","v":"62"},{"$f":"IF(ISERROR(VLOOKUP(U257,Maestros!$S$31:$T$530,2,0)),\"\",VLOOKUP(U257,Maestros!$S$31:$T$530,2,0))","v":"62"},{"$f":"IF(ISERROR(VLOOKUP(Egresados!$K$8:$K$705,Maestros!$A$31:$B$130,2,0)),\"\",VLOOKUP(Egresados!$K$8:$K$705,Maestros!$A$31:$B$130,2,0))","v":""},{"$f":"IF(LEN(tablaEgresados[[#This Row],[Nota promedio]])>0,ROUND(tablaEgresados[[#This Row],[Nota promedio]],2),\"\")","v":14.66}]
[250,null,"DNI","10762790","HUAMAN","SANTIAGO","MILINA BRITT","FEMENINO",null,"NO",null,null,null,"2020-1","SEDE CENTRAL","EDUCACION INICIAL",13.95,null,null,"2015-1","2015-1","20152710@une.edu.pe","20152710@une.edu.pe",3133700,976486001,{"$f":"IF(ISERROR(VLOOKUP(Egresados!$N$8:$N$705,Maestros!$D$31:$E$530,2,0)),\"\",VLOOKUP(Egresados!$N$8:$N$705,Maestros!$D$31:$E$530,2,0))","v":"223"},{"$f":"IF(ISERROR(VLOOKUP(Egresados!$O258,Maestros!$G$31:$J$1030,2,0)),\"\",VLOOKUP(Egresados!$O258,Maestros!$G$31:$J$1030,2,0))","v":"8"},{"$f":"CONCATENATE(Egresados!$Z$8:$Z$705,\"a\",Egresados!$AA$8:$AA$705)","v":"223a8"},{"$f":"IF(ISERROR(VLOOKUP(Egresados!$P258,Maestros!$L$31:$Q$1030,2,0)),\"\",VLOOKUP(Egresados!$P258,Maestros!$L$31:$Q$1030,2,0))","v":"385"},{"$f":"CONCATENATE(Egresados!$Z$8:$Z$705,\"a\",Egresados!$AA$8:$AA$705,\"a\",Egresados!$AC$8:$AC$705)","v":"223a8a385"},{"$f":"IF(ISERROR(VLOOKUP(Egresados!$C$8:$C$705,Maestros!$A$4:$B$21,2,0)),\"\",VLOOKUP(Egresados!$C$8:$C$705,Maestros!$A$4:$B$21,2,0))","v":"1001"},{"$f":"IF(ISERROR(VLOOKUP(Egresados!$H$8:$H$705,Maestros!$D$4:$E$21,2,0)),\"\",VLOOKUP(Egresados!$H$8:$H$705,Maestros!$D$4:$E$21,2,0))","v":"1122"},{"$f":"IF(OR(UPPER(Egresados!$J$8:$J$705)=\"SI\",UPPER(Egresados!$J$8:$J$705)=\"SÍ\"),1,IF(UPPER(Egresados!$J$8:$J$705)=\"NO\",0,\"\"))","v":0},{"$f":"IF(OR(UPPER(Egresados!$R$8:$R$705)=\"SI\",UPPER(Egresados!$R$8:$R$705)=\"SÍ\"),1,IF(UPPER(Egresados!$R$8:$R$705)=\"NO\",0,\"\"))","v":""},{"$f":"IF(OR(UPPER(Egresados!$S$8:$S$705)=\"SI\",UPPER(Egresados!$S$8:$S$705)=\"SÍ\"),1,IF(UPPER(Egresados!$S$8:$S$705)=\"NO\",0,\"\"))","v":""},{"$f":"IF(ISERROR(VLOOKUP(Egresados!$T$8:$T$705,Maestros!$S$31:$T$530,2,0)),\"\",VLOOKUP(Egresados!$T$8:$T$705,Maestros!$S$31:$T$530,2,0))","v":"62"},{"$f":"IF(ISERROR(VLOOKUP(U258,Maestros!$S$31:$T$530,2,0)),\"\",VLOOKUP(U258,Maestros!$S$31:$T$530,2,0))","v":"62"},{"$f":"IF(ISERROR(VLOOKUP(Egresados!$K$8:$K$705,Maestros!$A$31:$B$130,2,0)),\"\",VLOOKUP(Egresados!$K$8:$K$705,Maestros!$A$31:$B$130,2,0))","v":""},{"$f":"IF(LEN(tablaEgresados[[#This Row],[Nota promedio]])>0,ROUND(tablaEgresados[[#This Row],[Nota promedio]],2),\"\")","v":13.95}]
[251,null,"DNI","10013326","LAVADO","RIVERA","YSABEL","FEMENINO",null,"NO",null,null,null,"2020-1","SEDE CENTRAL","EDUCACION INICIAL",14.63,null,null,"2017-1","2017-1","20172917@une.edu.pe","20172917@une.edu.pe",3133700,976486001,{"$f":"IF(ISERROR(VLOOKUP(Egresados!$N$8:$N$705,Maestros!$D$31:$E$530,2,0)),\"\",VLOOKUP(Egresados!$N$8:$N$705,Maestros!$D$31:$E$530,2,0))","v":"223"},{"$f":"IF(ISERROR(VLOOKUP(Egresados!$O259,Maestros!$G$31:$J$1030,2,0)),\"\",VLOOKUP(Egresados!$O259,Maestros!$G$31:$J$1030,2,0))","v":"8"},{"$f":"CONCATENATE(Egresados!$Z$8:$Z$705,\"a\",Egresados!$AA$8:$AA$705)","v":"223a8"},{"$f":"IF(ISERROR(VLOOKUP(Egresados!$P259,Maestros!$L$31:$Q$1030,2,0)),\"\",VLOOKUP(Egresados!$P259,Maestros!$L$31:$Q$1030,2,0))","v":"385"},{"$f":"CONCATENATE(Egresados!$Z$8:$Z$705,\"a\",Egresados!$AA$8:$AA$705,\"a\",Egresados!$AC$8:$AC$705)","v":"223a8a385"},{"$f":"IF(ISERROR(VLOOKUP(Egresados!$C$8:$C$705,Maestros!$A$4:$B$21,2,0)),\"\",VLOOKUP(Egresados!$C$8:$C$705,Maestros!$A$4:$B$21,2,0))","v":"1001"},{"$f":"IF(ISERROR(VLOOKUP(Egresados!$H$8:$H$705,Maestros!$D$4:$E$21,2,0)),\"\",VLOOKUP(Egresados!$H$8:$H$705,Maestros!$D$4:$E$21,2,0))","v":"1122"},{"$f":"IF(OR(UPPER(Egresados!$J$8:$J$705)=\"SI\",UPPER(Egresados!$J$8:$J$705)=\"SÍ\"),1,IF(UPPER(Egresados!$J$8:$J$705)=\"NO\",0,\"\"))","v":0},{"$f":"IF(OR(UPPER(Egresados!$R$8:$R$705)=\"SI\",UPPER(Egresados!$R$8:$R$705)=\"SÍ\"),1,IF(UPPER(Egresados!$R$8:$R$705)=\"NO\",0,\"\"))","v":""},{"$f":"IF(OR(UPPER(Egresados!$S$8:$S$705)=\"SI\",UPPER(Egresados!$S$8:$S$705)=\"SÍ\"),1,IF(UPPER(Egresados!$S$8:$S$705)=\"NO\",0,\"\"))","v":""},{"$f":"IF(ISERROR(VLOOKUP(Egresados!$T$8:$T$705,Maestros!$S$31:$T$530,2,0)),\"\",VLOOKUP(Egresados!$T$8:$T$705,Maestros!$S$31:$T$530,2,0))","v":"70"},{"$f":"IF(ISERROR(VLOOKUP(U259,Maestros!$S$31:$T$530,2,0)),\"\",VLOOKUP(U259,Maestros!$S$31:$T$530,2,0))","v":"70"},{"$f":"IF(ISERROR(VLOOKUP(Egresados!$K$8:$K$705,Maestros!$A$31:$B$130,2,0)),\"\",VLOOKUP(Egresados!$K$8:$K$705,Maestros!$A$31:$B$130,2,0))","v":""},{"$f":"IF(LEN(tablaEgresados[[#This Row],[Nota promedio]])>0,ROUND(tablaEgresados[[#This Row],[Nota promedio]],2),\"\")","v":14.63}]
[252,null,"DNI",31924646,"BASILIO","VELASQUEZ","MARIA LUZ","FEMENINO",null,"NO",null,null,null,"2020-1","SEDE CENTRAL","EDUCACION INICIAL",14.5,null,null,"2005-1","2005-1","20058339@une.edu.pe","20058339@une.edu.pe",3133700,976486001,{"$f":"IF(ISERROR(VLOOKUP(Egresados!$N$8:$N$705,Maestros!$D$31:$E$530,2,0)),\"\",VLOOKUP(Egresados!$N$8:$N$705,Maestros!$D$31:$E$530,2,0))","v":"223"},{"$f":"IF(ISERROR(VLOOKUP(Egresados!$O260,Maestros!$G$31:$J$1030,2,0)),\"\",VLOOKUP(Egresados!$O260,Maestros!$G$31:$J$1030,2,0))","v":"8"},{"$f":"CONCATENATE(Egresados!$Z$8:$Z$705,\"a\",Egresados!$AA$8:$AA$705)","v":"223a8"},{"$f":"IF(ISERROR(VLOOKUP(Egresados!$P260,Maestros!$L$31:$Q$1030,2,0)),\"\",VLOOKUP(Egresados!$P260,Maestros!$L$31:$Q$1030,2,0))","v":"385"},{"$f":"CONCATENATE(Egresados!$Z$8:$Z$705,\"a\",Egresados!$AA$8:$AA$705,\"a\",Egresados!$AC$8:$AC$705)","v":"223a8a385"},{"$f":"IF(ISERROR(VLOOKUP(Egresados!$C$8:$C$705,Maestros!$A$4:$B$21,2,0)),\"\",VLOOKUP(Egresados!$C$8:$C$705,Maestros!$A$4:$B$21,2,0))","v":"1001"},{"$f":"IF(ISERROR(VLOOKUP(Egresados!$H$8:$H$705,Maestros!$D$4:$E$21,2,0)),\"\",VLOOKUP(Egresados!$H$8:$H$705,Maestros!$D$4:$E$21,2,0))","v":"1122"},{"$f":"IF(OR(UPPER(Egresados!$J$8:$J$705)=\"SI\",UPPER(Egresados!$J$8:$J$705)=\"SÍ\"),1,IF(UPPER(Egresados!$J$8:$J$705)=\"NO\",0,\"\"))","v":0},{"$f":"IF(OR(UPPER(Egresados!$R$8:$R$705)=\"SI\",UPPER(Egresados!$R$8:$R$705)=\"SÍ\"),1,IF(UPPER(Egresados!$R$8:$R$705)=\"NO\",0,\"\"))","v":""},{"$f":"IF(OR(UPPER(Egresados!$S$8:$S$705)=\"SI\",UPPER(Egresados!$S$8:$S$705)=\"SÍ\"),1,IF(UPPER(Egresados!$S$8:$S$705)=\"NO\",0,\"\"))","v":""},{"$f":"IF(ISERROR(VLOOKUP(Egresados!$T$8:$T$705,Maestros!$S$31:$T$530,2,0)),\"\",VLOOKUP(Egresados!$T$8:$T$705,Maestros!$S$31:$T$530,2,0))","v":"22"},{"$f":"IF(ISERROR(VLOOKUP(U260,Maestros!$S$31:$T$530,2,0)),\"\",VLOOKUP(U260,Maestros!$S$31:$T$530,2,0))","v":"22"},{"$f":"IF(ISERROR(VLOOKUP(Egresados!$K$8:$K$705,Maestros!$A$31:$B$130,2,0)),\"\",VLOOKUP(Egresados!$K$8:$K$705,Maestros!$A$31:$B$130,2,0))","v":""},{"$f":"IF(LEN(tablaEgresados[[#This Row],[Nota promedio]])>0,ROUND(tablaEgresados[[#This Row],[Nota promedio]],2),\"\")","v":14.5}]
[253,null,"DNI","22885169","MALLQUI","HERRADA","SARA RUT","FEMENINO",null,"NO",null,null,null,"2020-1","SEDE CENTRAL","EDUCACION INICIAL",14.98,null,null,"2011-1","2011-1","20112737@une.edu.pe","20112737@une.edu.pe",3133700,976486001,{"$f":"IF(ISERROR(VLOOKUP(Egresados!$N$8:$N$705,Maestros!$D$31:$E$530,2,0)),\"\",VLOOKUP(Egresados!$N$8:$N$705,Maestros!$D$31:$E$530,2,0))","v":"223"},{"$f":"IF(ISERROR(VLOOKUP(Egresados!$O261,Maestros!$G$31:$J$1030,2,0)),\"\",VLOOKUP(Egresados!$O261,Maestros!$G$31:$J$1030,2,0))","v":"8"},{"$f":"CONCATENATE(Egresados!$Z$8:$Z$705,\"a\",Egresados!$AA$8:$AA$705)","v":"223a8"},{"$f":"IF(ISERROR(VLOOKUP(Egresados!$P261,Maestros!$L$31:$Q$1030,2,0)),\"\",VLOOKUP(Egresados!$P261,Maestros!$L$31:$Q$1030,2,0))","v":"385"},{"$f":"CONCATENATE(Egresados!$Z$8:$Z$705,\"a\",Egresados!$AA$8:$AA$705,\"a\",Egresados!$AC$8:$AC$705)","v":"223a8a385"},{"$f":"IF(ISERROR(VLOOKUP(Egresados!$C$8:$C$705,Maestros!$A$4:$B$21,2,0)),\"\",VLOOKUP(Egresados!$C$8:$C$705,Maestros!$A$4:$B$21,2,0))","v":"1001"},{"$f":"IF(ISERROR(VLOOKUP(Egresados!$H$8:$H$705,Maestros!$D$4:$E$21,2,0)),\"\",VLOOKUP(Egresados!$H$8:$H$705,Maestros!$D$4:$E$21,2,0))","v":"1122"},{"$f":"IF(OR(UPPER(Egresados!$J$8:$J$705)=\"SI\",UPPER(Egresados!$J$8:$J$705)=\"SÍ\"),1,IF(UPPER(Egresados!$J$8:$J$705)=\"NO\",0,\"\"))","v":0},{"$f":"IF(OR(UPPER(Egresados!$R$8:$R$705)=\"SI\",UPPER(Egresados!$R$8:$R$705)=\"SÍ\"),1,IF(UPPER(Egresados!$R$8:$R$705)=\"NO\",0,\"\"))","v":""},{"$f":"IF(OR(UPPER(Egresados!$S$8:$S$705)=\"SI\",UPPER(Egresados!$S$8:$S$705)=\"SÍ\"),1,IF(UPPER(Egresados!$S$8:$S$705)=\"NO\",0,\"\"))","v":""},{"$f":"IF(ISERROR(VLOOKUP(Egresados!$T$8:$T$705,Maestros!$S$31:$T$530,2,0)),\"\",VLOOKUP(Egresados!$T$8:$T$705,Maestros!$S$31:$T$530,2,0))","v":"46"},{"$f":"IF(ISERROR(VLOOKUP(U261,Maestros!$S$31:$T$530,2,0)),\"\",VLOOKUP(U261,Maestros!$S$31:$T$530,2,0))","v":"46"},{"$f":"IF(ISERROR(VLOOKUP(Egresados!$K$8:$K$705,Maestros!$A$31:$B$130,2,0)),\"\",VLOOKUP(Egresados!$K$8:$K$705,Maestros!$A$31:$B$130,2,0))","v":""},{"$f":"IF(LEN(tablaEgresados[[#This Row],[Nota promedio]])>0,ROUND(tablaEgresados[[#This Row],[Nota promedio]],2),\"\")","v":14.98}]
[254,null,"DNI","40888289","CASTRO","NAJARRO","JULIA","FEMENINO",null,"NO",null,null,null,"2020-1","SEDE CENTRAL","EDUCACION INICIAL",14.69,null,null,"2017-1","2017-1","20172911@une.edu.pe","20172911@une.edu.pe",3133700,976486001,{"$f":"IF(ISERROR(VLOOKUP(Egresados!$N$8:$N$705,Maestros!$D$31:$E$530,2,0)),\"\",VLOOKUP(Egresados!$N$8:$N$705,Maestros!$D$31:$E$530,2,0))","v":"223"},{"$f":"IF(ISERROR(VLOOKUP(Egresados!$O262,Maestros!$G$31:$J$1030,2,0)),\"\",VLOOKUP(Egresados!$O262,Maestros!$G$31:$J$1030,2,0))","v":"8"},{"$f":"CONCATENATE(Egresados!$Z$8:$Z$705,\"a\",Egresados!$AA$8:$AA$705)","v":"223a8"},{"$f":"IF(ISERROR(VLOOKUP(Egresados!$P262,Maestros!$L$31:$Q$1030,2,0)),\"\",VLOOKUP(Egresados!$P262,Maestros!$L$31:$Q$1030,2,0))","v":"385"},{"$f":"CONCATENATE(Egresados!$Z$8:$Z$705,\"a\",Egresados!$AA$8:$AA$705,\"a\",Egresados!$AC$8:$AC$705)","v":"223a8a385"},{"$f":"IF(ISERROR(VLOOKUP(Egresados!$C$8:$C$705,Maestros!$A$4:$B$21,2,0)),\"\",VLOOKUP(Egresados!$C$8:$C$705,Maestros!$A$4:$B$21,2,0))","v":"1001"},{"$f":"IF(ISERROR(VLOOKUP(Egresados!$H$8:$H$705,Maestros!$D$4:$E$21,2,0)),\"\",VLOOKUP(Egresados!$H$8:$H$705,Maestros!$D$4:$E$21,2,0))","v":"1122"},{"$f":"IF(OR(UPPER(Egresados!$J$8:$J$705)=\"SI\",UPPER(Egresados!$J$8:$J$705)=\"SÍ\"),1,IF(UPPER(Egresados!$J$8:$J$705)=\"NO\",0,\"\"))","v":0},{"$f":"IF(OR(UPPER(Egresados!$R$8:$R$705)=\"SI\",UPPER(Egresados!$R$8:$R$705)=\"SÍ\"),1,IF(UPPER(Egresados!$R$8:$R$705)=\"NO\",0,\"\"))","v":""},{"$f":"IF(OR(UPPER(Egresados!$S$8:$S$705)=\"SI\",UPPER(Egresados!$S$8:$S$705)=\"SÍ\"),1,IF(UPPER(Egresados!$S$8:$S$705)=\"NO\",0,\"\"))","v":""},{"$f":"IF(ISERROR(VLOOKUP(Egresados!$T$8:$T$705,Maestros!$S$31:$T$530,2,0)),\"\",VLOOKUP(Egresados!$T$8:$T$705,Maestros!$S$31:$T$530,2,0))","v":"70"},{"$f":"IF(ISERROR(VLOOKUP(U262,Maestros!$S$31:$T$530,2,0)),\"\",VLOOKUP(U262,Maestros!$S$31:$T$530,2,0))","v":"70"},{"$f":"IF(ISERROR(VLOOKUP(Egresados!$K$8:$K$705,Maestros!$A$31:$B$130,2,0)),\"\",VLOOKUP(Egresados!$K$8:$K$705,Maestros!$A$31:$B$130,2,0))","v":""},{"$f":"IF(LEN(tablaEgresados[[#This Row],[Nota promedio]])>0,ROUND(tablaEgresados[[#This Row],[Nota promedio]],2),\"\")","v":14.69}]
[255,null,"DNI",44040318,"PARRAGA","ORDOÑEZ","CAROLYN","FEMENINO",null,"NO",null,null,null,"2020-1","SEDE CENTRAL","EDUCACION INICIAL",15.55,null,null,"2005-1","2005-1","20057022@une.edu.pe","20057022@une.edu.pe",3133700,976486001,{"$f":"IF(ISERROR(VLOOKUP(Egresados!$N$8:$N$705,Maestros!$D$31:$E$530,2,0)),\"\",VLOOKUP(Egresados!$N$8:$N$705,Maestros!$D$31:$E$530,2,0))","v":"223"},{"$f":"IF(ISERROR(VLOOKUP(Egresados!$O263,Maestros!$G$31:$J$1030,2,0)),\"\",VLOOKUP(Egresados!$O263,Maestros!$G$31:$J$1030,2,0))","v":"8"},{"$f":"CONCATENATE(Egresados!$Z$8:$Z$705,\"a\",Egresados!$AA$8:$AA$705)","v":"223a8"},{"$f":"IF(ISERROR(VLOOKUP(Egresados!$P263,Maestros!$L$31:$Q$1030,2,0)),\"\",VLOOKUP(Egresados!$P263,Maestros!$L$31:$Q$1030,2,0))","v":"385"},{"$f":"CONCATENATE(Egresados!$Z$8:$Z$705,\"a\",Egresados!$AA$8:$AA$705,\"a\",Egresados!$AC$8:$AC$705)","v":"223a8a385"},{"$f":"IF(ISERROR(VLOOKUP(Egresados!$C$8:$C$705,Maestros!$A$4:$B$21,2,0)),\"\",VLOOKUP(Egresados!$C$8:$C$705,Maestros!$A$4:$B$21,2,0))","v":"1001"},{"$f":"IF(ISERROR(VLOOKUP(Egresados!$H$8:$H$705,Maestros!$D$4:$E$21,2,0)),\"\",VLOOKUP(Egresados!$H$8:$H$705,Maestros!$D$4:$E$21,2,0))","v":"1122"},{"$f":"IF(OR(UPPER(Egresados!$J$8:$J$705)=\"SI\",UPPER(Egresados!$J$8:$J$705)=\"SÍ\"),1,IF(UPPER(Egresados!$J$8:$J$705)=\"NO\",0,\"\"))","v":0},{"$f":"IF(OR(UPPER(Egresados!$R$8:$R$705)=\"SI\",UPPER(Egresados!$R$8:$R$705)=\"SÍ\"),1,IF(UPPER(Egresados!$R$8:$R$705)=\"NO\",0,\"\"))","v":""},{"$f":"IF(OR(UPPER(Egresados!$S$8:$S$705)=\"SI\",UPPER(Egresados!$S$8:$S$705)=\"SÍ\"),1,IF(UPPER(Egresados!$S$8:$S$705)=\"NO\",0,\"\"))","v":""},{"$f":"IF(ISERROR(VLOOKUP(Egresados!$T$8:$T$705,Maestros!$S$31:$T$530,2,0)),\"\",VLOOKUP(Egresados!$T$8:$T$705,Maestros!$S$31:$T$530,2,0))","v":"22"},{"$f":"IF(ISERROR(VLOOKUP(U263,Maestros!$S$31:$T$530,2,0)),\"\",VLOOKUP(U263,Maestros!$S$31:$T$530,2,0))","v":"22"},{"$f":"IF(ISERROR(VLOOKUP(Egresados!$K$8:$K$705,Maestros!$A$31:$B$130,2,0)),\"\",VLOOKUP(Egresados!$K$8:$K$705,Maestros!$A$31:$B$130,2,0))","v":""},{"$f":"IF(LEN(tablaEgresados[[#This Row],[Nota promedio]])>0,ROUND(tablaEgresados[[#This Row],[Nota promedio]],2),\"\")","v":15.55}]
[{"$f":"ROW()-8","v":256},null,"DNI","07207683","VALLE","TEJEDA","MARIA GIANINA","FEMENINO",null,"NO",null,null,null,"2020-1","SEDE CENTRAL","EDUCACION INICIAL",14.86,null,null,"2017-1","2017-1","20175020@une.edu.pe","20175020@une.edu.pe",3133700,"940284195",{"$f":"IF(ISERROR(VLOOKUP(Egresados!$N$8:$N$705,Maestros!$D$31:$E$530,2,0)),\"\",VLOOKUP(Egresados!$N$8:$N$705,Maestros!$D$31:$E$530,2,0))","v":"223"},{"$f":"IF(ISERROR(VLOOKUP(Egresados!$O264,Maestros!$G$31:$J$1030,2,0)),\"\",VLOOKUP(Egresados!$O264,Maestros!$G$31:$J$1030,2,0))","v":"8"},{"$f":"CONCATENATE(Egresados!$Z$8:$Z$705,\"a\",Egresados!$AA$8:$AA$705)","v":"223a8"},{"$f":"IF(ISERROR(VLOOKUP(Egresados!$P264,Maestros!$L$31:$Q$1030,2,0)),\"\",VLOOKUP(Egresados!$P264,Maestros!$L$31:$Q$1030,2,0))","v":"385"},{"$f":"CONCATENATE(Egresados!$Z$8:$Z$705,\"a\",Egresados!$AA$8:$AA$705,\"a\",Egresados!$AC$8:$AC$705)","v":"223a8a385"},{"$f":"IF(ISERROR(VLOOKUP(Egresados!$C$8:$C$705,Maestros!$A$4:$B$21,2,0)),\"\",VLOOKUP(Egresados!$C$8:$C$705,Maestros!$A$4:$B$21,2,0))","v":"1001"},{"$f":"IF(ISERROR(VLOOKUP(Egresados!$H$8:$H$705,Maestros!$D$4:$E$21,2,0)),\"\",VLOOKUP(Egresados!$H$8:$H$705,Maestros!$D$4:$E$21,2,0))","v":"1122"},{"$f":"IF(OR(UPPER(Egresados!$J$8:$J$705)=\"SI\",UPPER(Egresados!$J$8:$J$705)=\"SÍ\"),1,IF(UPPER(Egresados!$J$8:$J$705)=\"NO\",0,\"\"))","v":0},{"$f":"IF(OR(UPPER(Egresados!$R$8:$R$705)=\"SI\",UPPER(Egresados!$R$8:$R$705)=\"SÍ\"),1,IF(UPPER(Egresados!$R$8:$R$705)=\"NO\",0,\"\"))","v":""},{"$f":"IF(OR(UPPER(Egresados!$S$8:$S$705)=\"SI\",UPPER(Egresados!$S$8:$S$705)=\"SÍ\"),1,IF(UPPER(Egresados!$S$8:$S$705)=\"NO\",0,\"\"))","v":""},{"$f":"IF(ISERROR(VLOOKUP(Egresados!$T$8:$T$705,Maestros!$S$31:$T$530,2,0)),\"\",VLOOKUP(Egresados!$T$8:$T$705,Maestros!$S$31:$T$530,2,0))","v":"70"},{"$f":"IF(ISERROR(VLOOKUP(U264,Maestros!$S$31:$T$530,2,0)),\"\",VLOOKUP(U264,Maestros!$S$31:$T$530,2,0))","v":"70"},{"$f":"IF(ISERROR(VLOOKUP(Egresados!$K$8:$K$705,Maestros!$A$31:$B$130,2,0)),\"\",VLOOKUP(Egresados!$K$8:$K$705,Maestros!$A$31:$B$130,2,0))","v":""},{"$f":"IF(LEN(tablaEgresados[[#This Row],[Nota promedio]])>0,ROUND(tablaEgresados[[#This Row],[Nota promedio]],2),\"\")","v":14.86}]
[257,null,"DNI",10043485,"LUCAS","CARRILLO","LILIANA PILAR","FEMENINO",null,"NO",null,null,null,"2020-1","SEDE CENTRAL","EDUCACION INICIAL",13.5,null,null,"1992-1","1992-1","19926567@une.edu.pe","19926567@une.edu.pe",3133700,976486001,{"$f":"IF(ISERROR(VLOOKUP(Egresados!$N$8:$N$705,Maestros!$D$31:$E$530,2,0)),\"\",VLOOKUP(Egresados!$N$8:$N$705,Maestros!$D$31:$E$530,2,0))","v":"223"},{"$f":"IF(ISERROR(VLOOKUP(Egresados!$O265,Maestros!$G$31:$J$1030,2,0)),\"\",VLOOKUP(Egresados!$O265,Maestros!$G$31:$J$1030,2,0))","v":"8"},{"$f":"CONCATENATE(Egresados!$Z$8:$Z$705,\"a\",Egresados!$AA$8:$AA$705)","v":"223a8"},{"$f":"IF(ISERROR(VLOOKUP(Egresados!$P265,Maestros!$L$31:$Q$1030,2,0)),\"\",VLOOKUP(Egresados!$P265,Maestros!$L$31:$Q$1030,2,0))","v":"385"},{"$f":"CONCATENATE(Egresados!$Z$8:$Z$705,\"a\",Egresados!$AA$8:$AA$705,\"a\",Egresados!$AC$8:$AC$705)","v":"223a8a385"},{"$f":"IF(ISERROR(VLOOKUP(Egresados!$C$8:$C$705,Maestros!$A$4:$B$21,2,0)),\"\",VLOOKUP(Egresados!$C$8:$C$705,Maestros!$A$4:$B$21,2,0))","v":"1001"},{"$f":"IF(ISERROR(VLOOKUP(Egresados!$H$8:$H$705,Maestros!$D$4:$E$21,2,0)),\"\",VLOOKUP(Egresados!$H$8:$H$705,Maestros!$D$4:$E$21,2,0))","v":"1122"},{"$f":"IF(OR(UPPER(Egresados!$J$8:$J$705)=\"SI\",UPPER(Egresados!$J$8:$J$705)=\"SÍ\"),1,IF(UPPER(Egresados!$J$8:$J$705)=\"NO\",0,\"\"))","v":0},{"$f":"IF(OR(UPPER(Egresados!$R$8:$R$705)=\"SI\",UPPER(Egresados!$R$8:$R$705)=\"SÍ\"),1,IF(UPPER(Egresados!$R$8:$R$705)=\"NO\",0,\"\"))","v":""},{"$f":"IF(OR(UPPER(Egresados!$S$8:$S$705)=\"SI\",UPPER(Egresados!$S$8:$S$705)=\"SÍ\"),1,IF(UPPER(Egresados!$S$8:$S$705)=\"NO\",0,\"\"))","v":""},{"$f":"IF(ISERROR(VLOOKUP(Egresados!$T$8:$T$705,Maestros!$S$31:$T$530,2,0)),\"\",VLOOKUP(Egresados!$T$8:$T$705,Maestros!$S$31:$T$530,2,0))","v":"79"},{"$f":"IF(ISERROR(VLOOKUP(U265,Maestros!$S$31:$T$530,2,0)),\"\",VLOOKUP(U265,Maestros!$S$31:$T$530,2,0))","v":"79"},{"$f":"IF(ISERROR(VLOOKUP(Egresados!$K$8:$K$705,Maestros!$A$31:$B$130,2,0)),\"\",VLOOKUP(Egresados!$K$8:$K$705,Maestros!$A$31:$B$130,2,0))","v":""},{"$f":"IF(LEN(tablaEgresados[[#This Row],[Nota promedio]])>0,ROUND(tablaEgresados[[#This Row],[Nota promedio]],2),\"\")","v":13.5}]
[258,null,"DNI","17454327","SANCHEZ","RUIZ","ERIKA","FEMENINO",null,"NO",null,null,null,"2020-1","SEDE CENTRAL","EDUCACION INICIAL",14.73,null,null,"2013-1","2013-1","20134004@une.edu.pe","20134004@une.edu.pe",3133700,976486001,{"$f":"IF(ISERROR(VLOOKUP(Egresados!$N$8:$N$705,Maestros!$D$31:$E$530,2,0)),\"\",VLOOKUP(Egresados!$N$8:$N$705,Maestros!$D$31:$E$530,2,0))","v":"223"},{"$f":"IF(ISERROR(VLOOKUP(Egresados!$O266,Maestros!$G$31:$J$1030,2,0)),\"\",VLOOKUP(Egresados!$O266,Maestros!$G$31:$J$1030,2,0))","v":"8"},{"$f":"CONCATENATE(Egresados!$Z$8:$Z$705,\"a\",Egresados!$AA$8:$AA$705)","v":"223a8"},{"$f":"IF(ISERROR(VLOOKUP(Egresados!$P266,Maestros!$L$31:$Q$1030,2,0)),\"\",VLOOKUP(Egresados!$P266,Maestros!$L$31:$Q$1030,2,0))","v":"385"},{"$f":"CONCATENATE(Egresados!$Z$8:$Z$705,\"a\",Egresados!$AA$8:$AA$705,\"a\",Egresados!$AC$8:$AC$705)","v":"223a8a385"},{"$f":"IF(ISERROR(VLOOKUP(Egresados!$C$8:$C$705,Maestros!$A$4:$B$21,2,0)),\"\",VLOOKUP(Egresados!$C$8:$C$705,Maestros!$A$4:$B$21,2,0))","v":"1001"},{"$f":"IF(ISERROR(VLOOKUP(Egresados!$H$8:$H$705,Maestros!$D$4:$E$21,2,0)),\"\",VLOOKUP(Egresados!$H$8:$H$705,Maestros!$D$4:$E$21,2,0))","v":"1122"},{"$f":"IF(OR(UPPER(Egresados!$J$8:$J$705)=\"SI\",UPPER(Egresados!$J$8:$J$705)=\"SÍ\"),1,IF(UPPER(Egresados!$J$8:$J$705)=\"NO\",0,\"\"))","v":0},{"$f":"IF(OR(UPPER(Egresados!$R$8:$R$705)=\"SI\",UPPER(Egresados!$R$8:$R$705)=\"SÍ\"),1,IF(UPPER(Egresados!$R$8:$R$705)=\"NO\",0,\"\"))","v":""},{"$f":"IF(OR(UPPER(Egresados!$S$8:$S$705)=\"SI\",UPPER(Egresados!$S$8:$S$705)=\"SÍ\"),1,IF(UPPER(Egresados!$S$8:$S$705)=\"NO\",0,\"\"))","v":""},{"$f":"IF(ISERROR(VLOOKUP(Egresados!$T$8:$T$705,Maestros!$S$31:$T$530,2,0)),\"\",VLOOKUP(Egresados!$T$8:$T$705,Maestros!$S$31:$T$530,2,0))","v":"54"},{"$f":"IF(ISERROR(VLOOKUP(U266,Maestros!$S$31:$T$530,2,0)),\"\",VLOOKUP(U266,Maestros!$S$31:$T$530,2,0))","v":"54"},{"$f":"IF(ISERROR(VLOOKUP(Egresados!$K$8:$K$705,Maestros!$A$31:$B$130,2,0)),\"\",VLOOKUP(Egresados!$K$8:$K$705,Maestros!$A$31:$B$130,2,0))","v":""},{"$f":"IF(LEN(tablaEgresados[[#This Row],[Nota promedio]])>0,ROUND(tablaEgresados[[#This Row],[Nota promedio]],2),\"\")","v":14.73}]
[259,null,"DNI","10743692","JARAMILLO","HURTADO","BETTY ANGELICA","FEMENINO",null,"NO",null,null,null,"2020-1","SEDE CENTRAL","EDUCACION INICIAL",16.420000000000002,null,null,"2017-1","2017-1","20174964@une.edu.pe","20174964@une.edu.pe",3133700,976486001,{"$f":"IF(ISERROR(VLOOKUP(Egresados!$N$8:$N$705,Maestros!$D$31:$E$530,2,0)),\"\",VLOOKUP(Egresados!$N$8:$N$705,Maestros!$D$31:$E$530,2,0))","v":"223"},{"$f":"IF(ISERROR(VLOOKUP(Egresados!$O267,Maestros!$G$31:$J$1030,2,0)),\"\",VLOOKUP(Egresados!$O267,Maestros!$G$31:$J$1030,2,0))","v":"8"},{"$f":"CONCATENATE(Egresados!$Z$8:$Z$705,\"a\",Egresados!$AA$8:$AA$705)","v":"223a8"},{"$f":"IF(ISERROR(VLOOKUP(Egresados!$P267,Maestros!$L$31:$Q$1030,2,0)),\"\",VLOOKUP(Egresados!$P267,Maestros!$L$31:$Q$1030,2,0))","v":"385"},{"$f":"CONCATENATE(Egresados!$Z$8:$Z$705,\"a\",Egresados!$AA$8:$AA$705,\"a\",Egresados!$AC$8:$AC$705)","v":"223a8a385"},{"$f":"IF(ISERROR(VLOOKUP(Egresados!$C$8:$C$705,Maestros!$A$4:$B$21,2,0)),\"\",VLOOKUP(Egresados!$C$8:$C$705,Maestros!$A$4:$B$21,2,0))","v":"1001"},{"$f":"IF(ISERROR(VLOOKUP(Egresados!$H$8:$H$705,Maestros!$D$4:$E$21,2,0)),\"\",VLOOKUP(Egresados!$H$8:$H$705,Maestros!$D$4:$E$21,2,0))","v":"1122"},{"$f":"IF(OR(UPPER(Egresados!$J$8:$J$705)=\"SI\",UPPER(Egresados!$J$8:$J$705)=\"SÍ\"),1,IF(UPPER(Egresados!$J$8:$J$705)=\"NO\",0,\"\"))","v":0},{"$f":"IF(OR(UPPER(Egresados!$R$8:$R$705)=\"SI\",UPPER(Egresados!$R$8:$R$705)=\"SÍ\"),1,IF(UPPER(Egresados!$R$8:$R$705)=\"NO\",0,\"\"))","v":""},{"$f":"IF(OR(UPPER(Egresados!$S$8:$S$705)=\"SI\",UPPER(Egresados!$S$8:$S$705)=\"SÍ\"),1,IF(UPPER(Egresados!$S$8:$S$705)=\"NO\",0,\"\"))","v":""},{"$f":"IF(ISERROR(VLOOKUP(Egresados!$T$8:$T$705,Maestros!$S$31:$T$530,2,0)),\"\",VLOOKUP(Egresados!$T$8:$T$705,Maestros!$S$31:$T$530,2,0))","v":"70"},{"$f":"IF(ISERROR(VLOOKUP(U267,Maestros!$S$31:$T$530,2,0)),\"\",VLOOKUP(U267,Maestros!$S$31:$T$530,2,0))","v":"70"},{"$f":"IF(ISERROR(VLOOKUP(Egresados!$K$8:$K$705,Maestros!$A$31:$B$130,2,0)),\"\",VLOOKUP(Egresados!$K$8:$K$705,Maestros!$A$31:$B$130,2,0))","v":""},{"$f":"IF(LEN(tablaEgresados[[#This Row],[Nota promedio]])>0,ROUND(tablaEgresados[[#This Row],[Nota promedio]],2),\"\")","v":16.420000000000002}]
[260,null,"DNI","45418354","FERNANDEZ","POLIN","FLOR DAYSI","FEMENINO",null,"NO",null,null,null,"2020-1","SEDE CENTRAL","EDUCACION INICIAL",13.92,null,null,"2015-1","2015-1","20152709@une.edu.pe","20152709@une.edu.pe",3133700,976486001,{"$f":"IF(ISERROR(VLOOKUP(Egresados!$N$8:$N$705,Maestros!$D$31:$E$530,2,0)),\"\",VLOOKUP(Egresados!$N$8:$N$705,Maestros!$D$31:$E$530,2,0))","v":"223"},{"$f":"IF(ISERROR(VLOOKUP(Egresados!$O268,Maestros!$G$31:$J$1030,2,0)),\"\",VLOOKUP(Egresados!$O268,Maestros!$G$31:$J$1030,2,0))","v":"8"},{"$f":"CONCATENATE(Egresados!$Z$8:$Z$705,\"a\",Egresados!$AA$8:$AA$705)","v":"223a8"},{"$f":"IF(ISERROR(VLOOKUP(Egresados!$P268,Maestros!$L$31:$Q$1030,2,0)),\"\",VLOOKUP(Egresados!$P268,Maestros!$L$31:$Q$1030,2,0))","v":"385"},{"$f":"CONCATENATE(Egresados!$Z$8:$Z$705,\"a\",Egresados!$AA$8:$AA$705,\"a\",Egresados!$AC$8:$AC$705)","v":"223a8a385"},{"$f":"IF(ISERROR(VLOOKUP(Egresados!$C$8:$C$705,Maestros!$A$4:$B$21,2,0)),\"\",VLOOKUP(Egresados!$C$8:$C$705,Maestros!$A$4:$B$21,2,0))","v":"1001"},{"$f":"IF(ISERROR(VLOOKUP(Egresados!$H$8:$H$705,Maestros!$D$4:$E$21,2,0)),\"\",VLOOKUP(Egresados!$H$8:$H$705,Maestros!$D$4:$E$21,2,0))","v":"1122"},{"$f":"IF(OR(UPPER(Egresados!$J$8:$J$705)=\"SI\",UPPER(Egresados!$J$8:$J$705)=\"SÍ\"),1,IF(UPPER(Egresados!$J$8:$J$705)=\"NO\",0,\"\"))","v":0},{"$f":"IF(OR(UPPER(Egresados!$R$8:$R$705)=\"SI\",UPPER(Egresados!$R$8:$R$705)=\"SÍ\"),1,IF(UPPER(Egresados!$R$8:$R$705)=\"NO\",0,\"\"))","v":""},{"$f":"IF(OR(UPPER(Egresados!$S$8:$S$705)=\"SI\",UPPER(Egresados!$S$8:$S$705)=\"SÍ\"),1,IF(UPPER(Egresados!$S$8:$S$705)=\"NO\",0,\"\"))","v":""},{"$f":"IF(ISERROR(VLOOKUP(Egresados!$T$8:$T$705,Maestros!$S$31:$T$530,2,0)),\"\",VLOOKUP(Egresados!$T$8:$T$705,Maestros!$S$31:$T$530,2,0))","v":"62"},{"$f":"IF(ISERROR(VLOOKUP(U268,Maestros!$S$31:$T$530,2,0)),\"\",VLOOKUP(U268,Maestros!$S$31:$T$530,2,0))","v":"62"},{"$f":"IF(ISERROR(VLOOKUP(Egresados!$K$8:$K$705,Maestros!$A$31:$B$130,2,0)),\"\",VLOOKUP(Egresados!$K$8:$K$705,Maestros!$A$31:$B$130,2,0))","v":""},{"$f":"IF(LEN(tablaEgresados[[#This Row],[Nota promedio]])>0,ROUND(tablaEgresados[[#This Row],[Nota promedio]],2),\"\")","v":13.92}]
[261,null,"DNI",41197941,"VICENTE","CHANGANA","DANISSA LISET","FEMENINO",null,"NO",null,null,null,"2020-1","SEDE CENTRAL","EDUCACION INICIAL",14.89,null,null,"2004-1","2004-1","20042085@une.edu.pe","20042085@une.edu.pe",3133700,976486001,{"$f":"IF(ISERROR(VLOOKUP(Egresados!$N$8:$N$705,Maestros!$D$31:$E$530,2,0)),\"\",VLOOKUP(Egresados!$N$8:$N$705,Maestros!$D$31:$E$530,2,0))","v":"223"},{"$f":"IF(ISERROR(VLOOKUP(Egresados!$O269,Maestros!$G$31:$J$1030,2,0)),\"\",VLOOKUP(Egresados!$O269,Maestros!$G$31:$J$1030,2,0))","v":"8"},{"$f":"CONCATENATE(Egresados!$Z$8:$Z$705,\"a\",Egresados!$AA$8:$AA$705)","v":"223a8"},{"$f":"IF(ISERROR(VLOOKUP(Egresados!$P269,Maestros!$L$31:$Q$1030,2,0)),\"\",VLOOKUP(Egresados!$P269,Maestros!$L$31:$Q$1030,2,0))","v":"385"},{"$f":"CONCATENATE(Egresados!$Z$8:$Z$705,\"a\",Egresados!$AA$8:$AA$705,\"a\",Egresados!$AC$8:$AC$705)","v":"223a8a385"},{"$f":"IF(ISERROR(VLOOKUP(Egresados!$C$8:$C$705,Maestros!$A$4:$B$21,2,0)),\"\",VLOOKUP(Egresados!$C$8:$C$705,Maestros!$A$4:$B$21,2,0))","v":"1001"},{"$f":"IF(ISERROR(VLOOKUP(Egresados!$H$8:$H$705,Maestros!$D$4:$E$21,2,0)),\"\",VLOOKUP(Egresados!$H$8:$H$705,Maestros!$D$4:$E$21,2,0))","v":"1122"},{"$f":"IF(OR(UPPER(Egresados!$J$8:$J$705)=\"SI\",UPPER(Egresados!$J$8:$J$705)=\"SÍ\"),1,IF(UPPER(Egresados!$J$8:$J$705)=\"NO\",0,\"\"))","v":0},{"$f":"IF(OR(UPPER(Egresados!$R$8:$R$705)=\"SI\",UPPER(Egresados!$R$8:$R$705)=\"SÍ\"),1,IF(UPPER(Egresados!$R$8:$R$705)=\"NO\",0,\"\"))","v":""},{"$f":"IF(OR(UPPER(Egresados!$S$8:$S$705)=\"SI\",UPPER(Egresados!$S$8:$S$705)=\"SÍ\"),1,IF(UPPER(Egresados!$S$8:$S$705)=\"NO\",0,\"\"))","v":""},{"$f":"IF(ISERROR(VLOOKUP(Egresados!$T$8:$T$705,Maestros!$S$31:$T$530,2,0)),\"\",VLOOKUP(Egresados!$T$8:$T$705,Maestros!$S$31:$T$530,2,0))","v":"18"},{"$f":"IF(ISERROR(VLOOKUP(U269,Maestros!$S$31:$T$530,2,0)),\"\",VLOOKUP(U269,Maestros!$S$31:$T$530,2,0))","v":"18"},{"$f":"IF(ISERROR(VLOOKUP(Egresados!$K$8:$K$705,Maestros!$A$31:$B$130,2,0)),\"\",VLOOKUP(Egresados!$K$8:$K$705,Maestros!$A$31:$B$130,2,0))","v":""},{"$f":"IF(LEN(tablaEgresados[[#This Row],[Nota promedio]])>0,ROUND(tablaEgresados[[#This Row],[Nota promedio]],2),\"\")","v":14.89}]
[262,null,"DNI",16010599,"SANCHEZ","CARVALLO","URSULA ANDREA","FEMENINO",null,"NO",null,null,null,"2020-1","SEDE CENTRAL","EDUCACION INICIAL",14.57,null,null,"2009-1","2009-1","20093358@une.edu.pe","20093358@une.edu.pe",3133700,976486001,{"$f":"IF(ISERROR(VLOOKUP(Egresados!$N$8:$N$705,Maestros!$D$31:$E$530,2,0)),\"\",VLOOKUP(Egresados!$N$8:$N$705,Maestros!$D$31:$E$530,2,0))","v":"223"},{"$f":"IF(ISERROR(VLOOKUP(Egresados!$O270,Maestros!$G$31:$J$1030,2,0)),\"\",VLOOKUP(Egresados!$O270,Maestros!$G$31:$J$1030,2,0))","v":"8"},{"$f":"CONCATENATE(Egresados!$Z$8:$Z$705,\"a\",Egresados!$AA$8:$AA$705)","v":"223a8"},{"$f":"IF(ISERROR(VLOOKUP(Egresados!$P270,Maestros!$L$31:$Q$1030,2,0)),\"\",VLOOKUP(Egresados!$P270,Maestros!$L$31:$Q$1030,2,0))","v":"385"},{"$f":"CONCATENATE(Egresados!$Z$8:$Z$705,\"a\",Egresados!$AA$8:$AA$705,\"a\",Egresados!$AC$8:$AC$705)","v":"223a8a385"},{"$f":"IF(ISERROR(VLOOKUP(Egresados!$C$8:$C$705,Maestros!$A$4:$B$21,2,0)),\"\",VLOOKUP(Egresados!$C$8:$C$705,Maestros!$A$4:$B$21,2,0))","v":"1001"},{"$f":"IF(ISERROR(VLOOKUP(Egresados!$H$8:$H$705,Maestros!$D$4:$E$21,2,0)),\"\",VLOOKUP(Egresados!$H$8:$H$705,Maestros!$D$4:$E$21,2,0))","v":"1122"},{"$f":"IF(OR(UPPER(Egresados!$J$8:$J$705)=\"SI\",UPPER(Egresados!$J$8:$J$705)=\"SÍ\"),1,IF(UPPER(Egresados!$J$8:$J$705)=\"NO\",0,\"\"))","v":0},{"$f":"IF(OR(UPPER(Egresados!$R$8:$R$705)=\"SI\",UPPER(Egresados!$R$8:$R$705)=\"SÍ\"),1,IF(UPPER(Egresados!$R$8:$R$705)=\"NO\",0,\"\"))","v":""},{"$f":"IF(OR(UPPER(Egresados!$S$8:$S$705)=\"SI\",UPPER(Egresados!$S$8:$S$705)=\"SÍ\"),1,IF(UPPER(Egresados!$S$8:$S$705)=\"NO\",0,\"\"))","v":""},{"$f":"IF(ISERROR(VLOOKUP(Egresados!$T$8:$T$705,Maestros!$S$31:$T$530,2,0)),\"\",VLOOKUP(Egresados!$T$8:$T$705,Maestros!$S$31:$T$530,2,0))","v":"38"},{"$f":"IF(ISERROR(VLOOKUP(U270,Maestros!$S$31:$T$530,2,0)),\"\",VLOOKUP(U270,Maestros!$S$31:$T$530,2,0))","v":"38"},{"$f":"IF(ISERROR(VLOOKUP(Egresados!$K$8:$K$705,Maestros!$A$31:$B$130,2,0)),\"\",VLOOKUP(Egresados!$K$8:$K$705,Maestros!$A$31:$B$130,2,0))","v":""},{"$f":"IF(LEN(tablaEgresados[[#This Row],[Nota promedio]])>0,ROUND(tablaEgresados[[#This Row],[Nota promedio]],2),\"\")","v":14.57}]
[263,null,"DNI","15411674","BENAVENTE","REYES","CARMEN ROSA","FEMENINO",null,"NO",null,null,null,"2020-1","SEDE CENTRAL","EDUCACION INICIAL",14.25,null,null,"2004-1","2004-1","20042756@une.edu.pe","20042756@une.edu.pe",3133700,976486001,{"$f":"IF(ISERROR(VLOOKUP(Egresados!$N$8:$N$705,Maestros!$D$31:$E$530,2,0)),\"\",VLOOKUP(Egresados!$N$8:$N$705,Maestros!$D$31:$E$530,2,0))","v":"223"},{"$f":"IF(ISERROR(VLOOKUP(Egresados!$O271,Maestros!$G$31:$J$1030,2,0)),\"\",VLOOKUP(Egresados!$O271,Maestros!$G$31:$J$1030,2,0))","v":"8"},{"$f":"CONCATENATE(Egresados!$Z$8:$Z$705,\"a\",Egresados!$AA$8:$AA$705)","v":"223a8"},{"$f":"IF(ISERROR(VLOOKUP(Egresados!$P271,Maestros!$L$31:$Q$1030,2,0)),\"\",VLOOKUP(Egresados!$P271,Maestros!$L$31:$Q$1030,2,0))","v":"385"},{"$f":"CONCATENATE(Egresados!$Z$8:$Z$705,\"a\",Egresados!$AA$8:$AA$705,\"a\",Egresados!$AC$8:$AC$705)","v":"223a8a385"},{"$f":"IF(ISERROR(VLOOKUP(Egresados!$C$8:$C$705,Maestros!$A$4:$B$21,2,0)),\"\",VLOOKUP(Egresados!$C$8:$C$705,Maestros!$A$4:$B$21,2,0))","v":"1001"},{"$f":"IF(ISERROR(VLOOKUP(Egresados!$H$8:$H$705,Maestros!$D$4:$E$21,2,0)),\"\",VLOOKUP(Egresados!$H$8:$H$705,Maestros!$D$4:$E$21,2,0))","v":"1122"},{"$f":"IF(OR(UPPER(Egresados!$J$8:$J$705)=\"SI\",UPPER(Egresados!$J$8:$J$705)=\"SÍ\"),1,IF(UPPER(Egresados!$J$8:$J$705)=\"NO\",0,\"\"))","v":0},{"$f":"IF(OR(UPPER(Egresados!$R$8:$R$705)=\"SI\",UPPER(Egresados!$R$8:$R$705)=\"SÍ\"),1,IF(UPPER(Egresados!$R$8:$R$705)=\"NO\",0,\"\"))","v":""},{"$f":"IF(OR(UPPER(Egresados!$S$8:$S$705)=\"SI\",UPPER(Egresados!$S$8:$S$705)=\"SÍ\"),1,IF(UPPER(Egresados!$S$8:$S$705)=\"NO\",0,\"\"))","v":""},{"$f":"IF(ISERROR(VLOOKUP(Egresados!$T$8:$T$705,Maestros!$S$31:$T$530,2,0)),\"\",VLOOKUP(Egresados!$T$8:$T$705,Maestros!$S$31:$T$530,2,0))","v":"18"},{"$f":"IF(ISERROR(VLOOKUP(U271,Maestros!$S$31:$T$530,2,0)),\"\",VLOOKUP(U271,Maestros!$S$31:$T$530,2,0))","v":"18"},{"$f":"IF(ISERROR(VLOOKUP(Egresados!$K$8:$K$705,Maestros!$A$31:$B$130,2,0)),\"\",VLOOKUP(Egresados!$K$8:$K$705,Maestros!$A$31:$B$130,2,0))","v":""},{"$f":"IF(LEN(tablaEgresados[[#This Row],[Nota promedio]])>0,ROUND(tablaEgresados[[#This Row],[Nota promedio]],2),\"\")","v":14.25}]
[264,null,"DNI",10601546,"HUAMAN","QUINTO","ELMA","MASCULINO",null,"NO",null,null,null,"2020-1","SEDE CENTRAL","EDUCACION INICIAL",14.02,null,null,"2012-1","2012-1","20123629@une.edu.pe","20123629@une.edu.pe",3133700,976486001,{"$f":"IF(ISERROR(VLOOKUP(Egresados!$N$8:$N$705,Maestros!$D$31:$E$530,2,0)),\"\",VLOOKUP(Egresados!$N$8:$N$705,Maestros!$D$31:$E$530,2,0))","v":"223"},{"$f":"IF(ISERROR(VLOOKUP(Egresados!$O272,Maestros!$G$31:$J$1030,2,0)),\"\",VLOOKUP(Egresados!$O272,Maestros!$G$31:$J$1030,2,0))","v":"8"},{"$f":"CONCATENATE(Egresados!$Z$8:$Z$705,\"a\",Egresados!$AA$8:$AA$705)","v":"223a8"},{"$f":"IF(ISERROR(VLOOKUP(Egresados!$P272,Maestros!$L$31:$Q$1030,2,0)),\"\",VLOOKUP(Egresados!$P272,Maestros!$L$31:$Q$1030,2,0))","v":"385"},{"$f":"CONCATENATE(Egresados!$Z$8:$Z$705,\"a\",Egresados!$AA$8:$AA$705,\"a\",Egresados!$AC$8:$AC$705)","v":"223a8a385"},{"$f":"IF(ISERROR(VLOOKUP(Egresados!$C$8:$C$705,Maestros!$A$4:$B$21,2,0)),\"\",VLOOKUP(Egresados!$C$8:$C$705,Maestros!$A$4:$B$21,2,0))","v":"1001"},{"$f":"IF(ISERROR(VLOOKUP(Egresados!$H$8:$H$705,Maestros!$D$4:$E$21,2,0)),\"\",VLOOKUP(Egresados!$H$8:$H$705,Maestros!$D$4:$E$21,2,0))","v":"1121"},{"$f":"IF(OR(UPPER(Egresados!$J$8:$J$705)=\"SI\",UPPER(Egresados!$J$8:$J$705)=\"SÍ\"),1,IF(UPPER(Egresados!$J$8:$J$705)=\"NO\",0,\"\"))","v":0},{"$f":"IF(OR(UPPER(Egresados!$R$8:$R$705)=\"SI\",UPPER(Egresados!$R$8:$R$705)=\"SÍ\"),1,IF(UPPER(Egresados!$R$8:$R$705)=\"NO\",0,\"\"))","v":""},{"$f":"IF(OR(UPPER(Egresados!$S$8:$S$705)=\"SI\",UPPER(Egresados!$S$8:$S$705)=\"SÍ\"),1,IF(UPPER(Egresados!$S$8:$S$705)=\"NO\",0,\"\"))","v":""},{"$f":"IF(ISERROR(VLOOKUP(Egresados!$T$8:$T$705,Maestros!$S$31:$T$530,2,0)),\"\",VLOOKUP(Egresados!$T$8:$T$705,Maestros!$S$31:$T$530,2,0))","v":"50"},{"$f":"IF(ISERROR(VLOOKUP(U272,Maestros!$S$31:$T$530,2,0)),\"\",VLOOKUP(U272,Maestros!$S$31:$T$530,2,0))","v":"50"},{"$f":"IF(ISERROR(VLOOKUP(Egresados!$K$8:$K$705,Maestros!$A$31:$B$130,2,0)),\"\",VLOOKUP(Egresados!$K$8:$K$705,Maestros!$A$31:$B$130,2,0))","v":""},{"$f":"IF(LEN(tablaEgresados[[#This Row],[Nota promedio]])>0,ROUND(tablaEgresados[[#This Row],[Nota promedio]],2),\"\")","v":14.02}]
[265,null,"DNI","09775093","CHATTE","HUAMAN","MARLENE TERESA","FEMENINO",null,"NO",null,null,null,"2020-1","SEDE CENTRAL","EDUCACION INICIAL",0,null,null,"2004-1","2004-1","20042508@une.edu.pe","20042508@une.edu.pe",3133700,976486001,{"$f":"IF(ISERROR(VLOOKUP(Egresados!$N$8:$N$705,Maestros!$D$31:$E$530,2,0)),\"\",VLOOKUP(Egresados!$N$8:$N$705,Maestros!$D$31:$E$530,2,0))","v":"223"},{"$f":"IF(ISERROR(VLOOKUP(Egresados!$O273,Maestros!$G$31:$J$1030,2,0)),\"\",VLOOKUP(Egresados!$O273,Maestros!$G$31:$J$1030,2,0))","v":"8"},{"$f":"CONCATENATE(Egresados!$Z$8:$Z$705,\"a\",Egresados!$AA$8:$AA$705)","v":"223a8"},{"$f":"IF(ISERROR(VLOOKUP(Egresados!$P273,Maestros!$L$31:$Q$1030,2,0)),\"\",VLOOKUP(Egresados!$P273,Maestros!$L$31:$Q$1030,2,0))","v":"385"},{"$f":"CONCATENATE(Egresados!$Z$8:$Z$705,\"a\",Egresados!$AA$8:$AA$705,\"a\",Egresados!$AC$8:$AC$705)","v":"223a8a385"},{"$f":"IF(ISERROR(VLOOKUP(Egresados!$C$8:$C$705,Maestros!$A$4:$B$21,2,0)),\"\",VLOOKUP(Egresados!$C$8:$C$705,Maestros!$A$4:$B$21,2,0))","v":"1001"},{"$f":"IF(ISERROR(VLOOKUP(Egresados!$H$8:$H$705,Maestros!$D$4:$E$21,2,0)),\"\",VLOOKUP(Egresados!$H$8:$H$705,Maestros!$D$4:$E$21,2,0))","v":"1122"},{"$f":"IF(OR(UPPER(Egresados!$J$8:$J$705)=\"SI\",UPPER(Egresados!$J$8:$J$705)=\"SÍ\"),1,IF(UPPER(Egresados!$J$8:$J$705)=\"NO\",0,\"\"))","v":0},{"$f":"IF(OR(UPPER(Egresados!$R$8:$R$705)=\"SI\",UPPER(Egresados!$R$8:$R$705)=\"SÍ\"),1,IF(UPPER(Egresados!$R$8:$R$705)=\"NO\",0,\"\"))","v":""},{"$f":"IF(OR(UPPER(Egresados!$S$8:$S$705)=\"SI\",UPPER(Egresados!$S$8:$S$705)=\"SÍ\"),1,IF(UPPER(Egresados!$S$8:$S$705)=\"NO\",0,\"\"))","v":""},{"$f":"IF(ISERROR(VLOOKUP(Egresados!$T$8:$T$705,Maestros!$S$31:$T$530,2,0)),\"\",VLOOKUP(Egresados!$T$8:$T$705,Maestros!$S$31:$T$530,2,0))","v":"18"},{"$f":"IF(ISERROR(VLOOKUP(U273,Maestros!$S$31:$T$530,2,0)),\"\",VLOOKUP(U273,Maestros!$S$31:$T$530,2,0))","v":"18"},{"$f":"IF(ISERROR(VLOOKUP(Egresados!$K$8:$K$705,Maestros!$A$31:$B$130,2,0)),\"\",VLOOKUP(Egresados!$K$8:$K$705,Maestros!$A$31:$B$130,2,0))","v":""},{"$f":"IF(LEN(tablaEgresados[[#This Row],[Nota promedio]])>0,ROUND(tablaEgresados[[#This Row],[Nota promedio]],2),\"\")","v":0}]
[266,null,"DNI","41078675","TRILLO","LOZA","EVELYN ROSARIO","FEMENINO",null,"NO",null,null,null,"2020-1","SEDE CENTRAL","EDUCACION INICIAL",16.48,null,null,"2016-1","2016-1","20162226@une.edu.pe","20162226@une.edu.pe",3133700,976486001,{"$f":"IF(ISERROR(VLOOKUP(Egresados!$N$8:$N$705,Maestros!$D$31:$E$530,2,0)),\"\",VLOOKUP(Egresados!$N$8:$N$705,Maestros!$D$31:$E$530,2,0))","v":"223"},{"$f":"IF(ISERROR(VLOOKUP(Egresados!$O274,Maestros!$G$31:$J$1030,2,0)),\"\",VLOOKUP(Egresados!$O274,Maestros!$G$31:$J$1030,2,0))","v":"8"},{"$f":"CONCATENATE(Egresados!$Z$8:$Z$705,\"a\",Egresados!$AA$8:$AA$705)","v":"223a8"},{"$f":"IF(ISERROR(VLOOKUP(Egresados!$P274,Maestros!$L$31:$Q$1030,2,0)),\"\",VLOOKUP(Egresados!$P274,Maestros!$L$31:$Q$1030,2,0))","v":"385"},{"$f":"CONCATENATE(Egresados!$Z$8:$Z$705,\"a\",Egresados!$AA$8:$AA$705,\"a\",Egresados!$AC$8:$AC$705)","v":"223a8a385"},{"$f":"IF(ISERROR(VLOOKUP(Egresados!$C$8:$C$705,Maestros!$A$4:$B$21,2,0)),\"\",VLOOKUP(Egresados!$C$8:$C$705,Maestros!$A$4:$B$21,2,0))","v":"1001"},{"$f":"IF(ISERROR(VLOOKUP(Egresados!$H$8:$H$705,Maestros!$D$4:$E$21,2,0)),\"\",VLOOKUP(Egresados!$H$8:$H$705,Maestros!$D$4:$E$21,2,0))","v":"1122"},{"$f":"IF(OR(UPPER(Egresados!$J$8:$J$705)=\"SI\",UPPER(Egresados!$J$8:$J$705)=\"SÍ\"),1,IF(UPPER(Egresados!$J$8:$J$705)=\"NO\",0,\"\"))","v":0},{"$f":"IF(OR(UPPER(Egresados!$R$8:$R$705)=\"SI\",UPPER(Egresados!$R$8:$R$705)=\"SÍ\"),1,IF(UPPER(Egresados!$R$8:$R$705)=\"NO\",0,\"\"))","v":""},{"$f":"IF(OR(UPPER(Egresados!$S$8:$S$705)=\"SI\",UPPER(Egresados!$S$8:$S$705)=\"SÍ\"),1,IF(UPPER(Egresados!$S$8:$S$705)=\"NO\",0,\"\"))","v":""},{"$f":"IF(ISERROR(VLOOKUP(Egresados!$T$8:$T$705,Maestros!$S$31:$T$530,2,0)),\"\",VLOOKUP(Egresados!$T$8:$T$705,Maestros!$S$31:$T$530,2,0))","v":"66"},{"$f":"IF(ISERROR(VLOOKUP(U274,Maestros!$S$31:$T$530,2,0)),\"\",VLOOKUP(U274,Maestros!$S$31:$T$530,2,0))","v":"66"},{"$f":"IF(ISERROR(VLOOKUP(Egresados!$K$8:$K$705,Maestros!$A$31:$B$130,2,0)),\"\",VLOOKUP(Egresados!$K$8:$K$705,Maestros!$A$31:$B$130,2,0))","v":""},{"$f":"IF(LEN(tablaEgresados[[#This Row],[Nota promedio]])>0,ROUND(tablaEgresados[[#This Row],[Nota promedio]],2),\"\")","v":16.48}]
[267,null,"DNI","44436594","CHINCHAY","MENDOZA","YACKELINE IRIS","FEMENINO",null,"NO",null,null,null,"2020-1","SEDE CENTRAL","EDUCACION INICIAL",15.29,null,null,"2015-1","2015-1","20152888@une.edu.pe","20152888@une.edu.pe",3133700,976486001,{"$f":"IF(ISERROR(VLOOKUP(Egresados!$N$8:$N$705,Maestros!$D$31:$E$530,2,0)),\"\",VLOOKUP(Egresados!$N$8:$N$705,Maestros!$D$31:$E$530,2,0))","v":"223"},{"$f":"IF(ISERROR(VLOOKUP(Egresados!$O275,Maestros!$G$31:$J$1030,2,0)),\"\",VLOOKUP(Egresados!$O275,Maestros!$G$31:$J$1030,2,0))","v":"8"},{"$f":"CONCATENATE(Egresados!$Z$8:$Z$705,\"a\",Egresados!$AA$8:$AA$705)","v":"223a8"},{"$f":"IF(ISERROR(VLOOKUP(Egresados!$P275,Maestros!$L$31:$Q$1030,2,0)),\"\",VLOOKUP(Egresados!$P275,Maestros!$L$31:$Q$1030,2,0))","v":"385"},{"$f":"CONCATENATE(Egresados!$Z$8:$Z$705,\"a\",Egresados!$AA$8:$AA$705,\"a\",Egresados!$AC$8:$AC$705)","v":"223a8a385"},{"$f":"IF(ISERROR(VLOOKUP(Egresados!$C$8:$C$705,Maestros!$A$4:$B$21,2,0)),\"\",VLOOKUP(Egresados!$C$8:$C$705,Maestros!$A$4:$B$21,2,0))","v":"1001"},{"$f":"IF(ISERROR(VLOOKUP(Egresados!$H$8:$H$705,Maestros!$D$4:$E$21,2,0)),\"\",VLOOKUP(Egresados!$H$8:$H$705,Maestros!$D$4:$E$21,2,0))","v":"1122"},{"$f":"IF(OR(UPPER(Egresados!$J$8:$J$705)=\"SI\",UPPER(Egresados!$J$8:$J$705)=\"SÍ\"),1,IF(UPPER(Egresados!$J$8:$J$705)=\"NO\",0,\"\"))","v":0},{"$f":"IF(OR(UPPER(Egresados!$R$8:$R$705)=\"SI\",UPPER(Egresados!$R$8:$R$705)=\"SÍ\"),1,IF(UPPER(Egresados!$R$8:$R$705)=\"NO\",0,\"\"))","v":""},{"$f":"IF(OR(UPPER(Egresados!$S$8:$S$705)=\"SI\",UPPER(Egresados!$S$8:$S$705)=\"SÍ\"),1,IF(UPPER(Egresados!$S$8:$S$705)=\"NO\",0,\"\"))","v":""},{"$f":"IF(ISERROR(VLOOKUP(Egresados!$T$8:$T$705,Maestros!$S$31:$T$530,2,0)),\"\",VLOOKUP(Egresados!$T$8:$T$705,Maestros!$S$31:$T$530,2,0))","v":"62"},{"$f":"IF(ISERROR(VLOOKUP(U275,Maestros!$S$31:$T$530,2,0)),\"\",VLOOKUP(U275,Maestros!$S$31:$T$530,2,0))","v":"62"},{"$f":"IF(ISERROR(VLOOKUP(Egresados!$K$8:$K$705,Maestros!$A$31:$B$130,2,0)),\"\",VLOOKUP(Egresados!$K$8:$K$705,Maestros!$A$31:$B$130,2,0))","v":""},{"$f":"IF(LEN(tablaEgresados[[#This Row],[Nota promedio]])>0,ROUND(tablaEgresados[[#This Row],[Nota promedio]],2),\"\")","v":15.29}]
[268,null,"DNI","46390911","HUAMANI","ISASI","SHAILY TERESA","FEMENINO",null,"NO",null,null,null,"2020-1","SEDE CENTRAL","EDUCACION INICIAL-NIÑEZ TEMPRANA",16.079999999999998,null,null,"2015-1","2015-1","20150053@une.edu.pe","shaily_7790@hotmail.com",3133700,"922251758",{"$f":"IF(ISERROR(VLOOKUP(Egresados!$N$8:$N$705,Maestros!$D$31:$E$530,2,0)),\"\",VLOOKUP(Egresados!$N$8:$N$705,Maestros!$D$31:$E$530,2,0))","v":"223"},{"$f":"IF(ISERROR(VLOOKUP(Egresados!$O276,Maestros!$G$31:$J$1030,2,0)),\"\",VLOOKUP(Egresados!$O276,Maestros!$G$31:$J$1030,2,0))","v":"8"},{"$f":"CONCATENATE(Egresados!$Z$8:$Z$705,\"a\",Egresados!$AA$8:$AA$705)","v":"223a8"},{"$f":"IF(ISERROR(VLOOKUP(Egresados!$P276,Maestros!$L$31:$Q$1030,2,0)),\"\",VLOOKUP(Egresados!$P276,Maestros!$L$31:$Q$1030,2,0))","v":"65"},{"$f":"CONCATENATE(Egresados!$Z$8:$Z$705,\"a\",Egresados!$AA$8:$AA$705,\"a\",Egresados!$AC$8:$AC$705)","v":"223a8a65"},{"$f":"IF(ISERROR(VLOOKUP(Egresados!$C$8:$C$705,Maestros!$A$4:$B$21,2,0)),\"\",VLOOKUP(Egresados!$C$8:$C$705,Maestros!$A$4:$B$21,2,0))","v":"1001"},{"$f":"IF(ISERROR(VLOOKUP(Egresados!$H$8:$H$705,Maestros!$D$4:$E$21,2,0)),\"\",VLOOKUP(Egresados!$H$8:$H$705,Maestros!$D$4:$E$21,2,0))","v":"1122"},{"$f":"IF(OR(UPPER(Egresados!$J$8:$J$705)=\"SI\",UPPER(Egresados!$J$8:$J$705)=\"SÍ\"),1,IF(UPPER(Egresados!$J$8:$J$705)=\"NO\",0,\"\"))","v":0},{"$f":"IF(OR(UPPER(Egresados!$R$8:$R$705)=\"SI\",UPPER(Egresados!$R$8:$R$705)=\"SÍ\"),1,IF(UPPER(Egresados!$R$8:$R$705)=\"NO\",0,\"\"))","v":""},{"$f":"IF(OR(UPPER(Egresados!$S$8:$S$705)=\"SI\",UPPER(Egresados!$S$8:$S$705)=\"SÍ\"),1,IF(UPPER(Egresados!$S$8:$S$705)=\"NO\",0,\"\"))","v":""},{"$f":"IF(ISERROR(VLOOKUP(Egresados!$T$8:$T$705,Maestros!$S$31:$T$530,2,0)),\"\",VLOOKUP(Egresados!$T$8:$T$705,Maestros!$S$31:$T$530,2,0))","v":"62"},{"$f":"IF(ISERROR(VLOOKUP(U276,Maestros!$S$31:$T$530,2,0)),\"\",VLOOKUP(U276,Maestros!$S$31:$T$530,2,0))","v":"62"},{"$f":"IF(ISERROR(VLOOKUP(Egresados!$K$8:$K$705,Maestros!$A$31:$B$130,2,0)),\"\",VLOOKUP(Egresados!$K$8:$K$705,Maestros!$A$31:$B$130,2,0))","v":""},{"$f":"IF(LEN(tablaEgresados[[#This Row],[Nota promedio]])>0,ROUND(tablaEgresados[[#This Row],[Nota promedio]],2),\"\")","v":16.079999999999998}]
[269,null,"DNI","48455235","LLACCOLLA","QUISPE","LUZ NILDA","FEMENINO",null,"NO",null,null,null,"2020-1","SEDE CENTRAL","EDUCACION INICIAL-NIÑEZ TEMPRANA",16.739999999999998,null,null,"2015-1","2015-1","20150061@une.edu.pe","luz050894@gmail.com",3133700,"989511012",{"$f":"IF(ISERROR(VLOOKUP(Egresados!$N$8:$N$705,Maestros!$D$31:$E$530,2,0)),\"\",VLOOKUP(Egresados!$N$8:$N$705,Maestros!$D$31:$E$530,2,0))","v":"223"},{"$f":"IF(ISERROR(VLOOKUP(Egresados!$O277,Maestros!$G$31:$J$1030,2,0)),\"\",VLOOKUP(Egresados!$O277,Maestros!$G$31:$J$1030,2,0))","v":"8"},{"$f":"CONCATENATE(Egresados!$Z$8:$Z$705,\"a\",Egresados!$AA$8:$AA$705)","v":"223a8"},{"$f":"IF(ISERROR(VLOOKUP(Egresados!$P277,Maestros!$L$31:$Q$1030,2,0)),\"\",VLOOKUP(Egresados!$P277,Maestros!$L$31:$Q$1030,2,0))","v":"65"},{"$f":"CONCATENATE(Egresados!$Z$8:$Z$705,\"a\",Egresados!$AA$8:$AA$705,\"a\",Egresados!$AC$8:$AC$705)","v":"223a8a65"},{"$f":"IF(ISERROR(VLOOKUP(Egresados!$C$8:$C$705,Maestros!$A$4:$B$21,2,0)),\"\",VLOOKUP(Egresados!$C$8:$C$705,Maestros!$A$4:$B$21,2,0))","v":"1001"},{"$f":"IF(ISERROR(VLOOKUP(Egresados!$H$8:$H$705,Maestros!$D$4:$E$21,2,0)),\"\",VLOOKUP(Egresados!$H$8:$H$705,Maestros!$D$4:$E$21,2,0))","v":"1122"},{"$f":"IF(OR(UPPER(Egresados!$J$8:$J$705)=\"SI\",UPPER(Egresados!$J$8:$J$705)=\"SÍ\"),1,IF(UPPER(Egresados!$J$8:$J$705)=\"NO\",0,\"\"))","v":0},{"$f":"IF(OR(UPPER(Egresados!$R$8:$R$705)=\"SI\",UPPER(Egresados!$R$8:$R$705)=\"SÍ\"),1,IF(UPPER(Egresados!$R$8:$R$705)=\"NO\",0,\"\"))","v":""},{"$f":"IF(OR(UPPER(Egresados!$S$8:$S$705)=\"SI\",UPPER(Egresados!$S$8:$S$705)=\"SÍ\"),1,IF(UPPER(Egresados!$S$8:$S$705)=\"NO\",0,\"\"))","v":""},{"$f":"IF(ISERROR(VLOOKUP(Egresados!$T$8:$T$705,Maestros!$S$31:$T$530,2,0)),\"\",VLOOKUP(Egresados!$T$8:$T$705,Maestros!$S$31:$T$530,2,0))","v":"62"},{"$f":"IF(ISERROR(VLOOKUP(U277,Maestros!$S$31:$T$530,2,0)),\"\",VLOOKUP(U277,Maestros!$S$31:$T$530,2,0))","v":"62"},{"$f":"IF(ISERROR(VLOOKUP(Egresados!$K$8:$K$705,Maestros!$A$31:$B$130,2,0)),\"\",VLOOKUP(Egresados!$K$8:$K$705,Maestros!$A$31:$B$130,2,0))","v":""},{"$f":"IF(LEN(tablaEgresados[[#This Row],[Nota promedio]])>0,ROUND(tablaEgresados[[#This Row],[Nota promedio]],2),\"\")","v":16.739999999999998}]
[270,null,"DNI","76572673","ANCCASI","CASAVILCA","LILIAN VICTORIA","FEMENINO",null,"NO",null,null,null,"2020-1","SEDE CENTRAL","EDUCACION INICIAL-NIÑEZ TEMPRANA",15.56,null,null,"2015-1","2015-1","20150006@une.edu.pe","lilian.anccasi@gmail.com",3133700,"969371148",{"$f":"IF(ISERROR(VLOOKUP(Egresados!$N$8:$N$705,Maestros!$D$31:$E$530,2,0)),\"\",VLOOKUP(Egresados!$N$8:$N$705,Maestros!$D$31:$E$530,2,0))","v":"223"},{"$f":"IF(ISERROR(VLOOKUP(Egresados!$O278,Maestros!$G$31:$J$1030,2,0)),\"\",VLOOKUP(Egresados!$O278,Maestros!$G$31:$J$1030,2,0))","v":"8"},{"$f":"CONCATENATE(Egresados!$Z$8:$Z$705,\"a\",Egresados!$AA$8:$AA$705)","v":"223a8"},{"$f":"IF(ISERROR(VLOOKUP(Egresados!$P278,Maestros!$L$31:$Q$1030,2,0)),\"\",VLOOKUP(Egresados!$P278,Maestros!$L$31:$Q$1030,2,0))","v":"65"},{"$f":"CONCATENATE(Egresados!$Z$8:$Z$705,\"a\",Egresados!$AA$8:$AA$705,\"a\",Egresados!$AC$8:$AC$705)","v":"223a8a65"},{"$f":"IF(ISERROR(VLOOKUP(Egresados!$C$8:$C$705,Maestros!$A$4:$B$21,2,0)),\"\",VLOOKUP(Egresados!$C$8:$C$705,Maestros!$A$4:$B$21,2,0))","v":"1001"},{"$f":"IF(ISERROR(VLOOKUP(Egresados!$H$8:$H$705,Maestros!$D$4:$E$21,2,0)),\"\",VLOOKUP(Egresados!$H$8:$H$705,Maestros!$D$4:$E$21,2,0))","v":"1122"},{"$f":"IF(OR(UPPER(Egresados!$J$8:$J$705)=\"SI\",UPPER(Egresados!$J$8:$J$705)=\"SÍ\"),1,IF(UPPER(Egresados!$J$8:$J$705)=\"NO\",0,\"\"))","v":0},{"$f":"IF(OR(UPPER(Egresados!$R$8:$R$705)=\"SI\",UPPER(Egresados!$R$8:$R$705)=\"SÍ\"),1,IF(UPPER(Egresados!$R$8:$R$705)=\"NO\",0,\"\"))","v":""},{"$f":"IF(OR(UPPER(Egresados!$S$8:$S$705)=\"SI\",UPPER(Egresados!$S$8:$S$705)=\"SÍ\"),1,IF(UPPER(Egresados!$S$8:$S$705)=\"NO\",0,\"\"))","v":""},{"$f":"IF(ISERROR(VLOOKUP(Egresados!$T$8:$T$705,Maestros!$S$31:$T$530,2,0)),\"\",VLOOKUP(Egresados!$T$8:$T$705,Maestros!$S$31:$T$530,2,0))","v":"62"},{"$f":"IF(ISERROR(VLOOKUP(U278,Maestros!$S$31:$T$530,2,0)),\"\",VLOOKUP(U278,Maestros!$S$31:$T$530,2,0))","v":"62"},{"$f":"IF(ISERROR(VLOOKUP(Egresados!$K$8:$K$705,Maestros!$A$31:$B$130,2,0)),\"\",VLOOKUP(Egresados!$K$8:$K$705,Maestros!$A$31:$B$130,2,0))","v":""},{"$f":"IF(LEN(tablaEgresados[[#This Row],[Nota promedio]])>0,ROUND(tablaEgresados[[#This Row],[Nota promedio]],2),\"\")","v":15.56}]
[271,null,"DNI","76429839","GAMBOA","QUISPE","GABRIELA","FEMENINO",null,"NO",null,null,null,"2020-1","SEDE CENTRAL","EDUCACION INICIAL-NIÑEZ TEMPRANA",16.41,null,null,"2015-1","2015-1","20150047@une.edu.pe","gabrielagamboaq@gmail.com",3133700,"942356935",{"$f":"IF(ISERROR(VLOOKUP(Egresados!$N$8:$N$705,Maestros!$D$31:$E$530,2,0)),\"\",VLOOKUP(Egresados!$N$8:$N$705,Maestros!$D$31:$E$530,2,0))","v":"223"},{"$f":"IF(ISERROR(VLOOKUP(Egresados!$O279,Maestros!$G$31:$J$1030,2,0)),\"\",VLOOKUP(Egresados!$O279,Maestros!$G$31:$J$1030,2,0))","v":"8"},{"$f":"CONCATENATE(Egresados!$Z$8:$Z$705,\"a\",Egresados!$AA$8:$AA$705)","v":"223a8"},{"$f":"IF(ISERROR(VLOOKUP(Egresados!$P279,Maestros!$L$31:$Q$1030,2,0)),\"\",VLOOKUP(Egresados!$P279,Maestros!$L$31:$Q$1030,2,0))","v":"65"},{"$f":"CONCATENATE(Egresados!$Z$8:$Z$705,\"a\",Egresados!$AA$8:$AA$705,\"a\",Egresados!$AC$8:$AC$705)","v":"223a8a65"},{"$f":"IF(ISERROR(VLOOKUP(Egresados!$C$8:$C$705,Maestros!$A$4:$B$21,2,0)),\"\",VLOOKUP(Egresados!$C$8:$C$705,Maestros!$A$4:$B$21,2,0))","v":"1001"},{"$f":"IF(ISERROR(VLOOKUP(Egresados!$H$8:$H$705,Maestros!$D$4:$E$21,2,0)),\"\",VLOOKUP(Egresados!$H$8:$H$705,Maestros!$D$4:$E$21,2,0))","v":"1122"},{"$f":"IF(OR(UPPER(Egresados!$J$8:$J$705)=\"SI\",UPPER(Egresados!$J$8:$J$705)=\"SÍ\"),1,IF(UPPER(Egresados!$J$8:$J$705)=\"NO\",0,\"\"))","v":0},{"$f":"IF(OR(UPPER(Egresados!$R$8:$R$705)=\"SI\",UPPER(Egresados!$R$8:$R$705)=\"SÍ\"),1,IF(UPPER(Egresados!$R$8:$R$705)=\"NO\",0,\"\"))","v":""},{"$f":"IF(OR(UPPER(Egresados!$S$8:$S$705)=\"SI\",UPPER(Egresados!$S$8:$S$705)=\"SÍ\"),1,IF(UPPER(Egresados!$S$8:$S$705)=\"NO\",0,\"\"))","v":""},{"$f":"IF(ISERROR(VLOOKUP(Egresados!$T$8:$T$705,Maestros!$S$31:$T$530,2,0)),\"\",VLOOKUP(Egresados!$T$8:$T$705,Maestros!$S$31:$T$530,2,0))","v":"62"},{"$f":"IF(ISERROR(VLOOKUP(U279,Maestros!$S$31:$T$530,2,0)),\"\",VLOOKUP(U279,Maestros!$S$31:$T$530,2,0))","v":"62"},{"$f":"IF(ISERROR(VLOOKUP(Egresados!$K$8:$K$705,Maestros!$A$31:$B$130,2,0)),\"\",VLOOKUP(Egresados!$K$8:$K$705,Maestros!$A$31:$B$130,2,0))","v":""},{"$f":"IF(LEN(tablaEgresados[[#This Row],[Nota promedio]])>0,ROUND(tablaEgresados[[#This Row],[Nota promedio]],2),\"\")","v":16.41}]
[272,null,"DNI","70822287","JULCA","NUÑEZ","EVELYN","FEMENINO",null,"NO",null,null,null,"2020-1","SEDE CENTRAL","EDUCACION INICIAL-NIÑEZ TEMPRANA",15.6,null,null,"2015-1","2015-1","20150059@une.edu.pe","evelynjulcanunez@gmail.com",3133700,"985404665",{"$f":"IF(ISERROR(VLOOKUP(Egresados!$N$8:$N$705,Maestros!$D$31:$E$530,2,0)),\"\",VLOOKUP(Egresados!$N$8:$N$705,Maestros!$D$31:$E$530,2,0))","v":"223"},{"$f":"IF(ISERROR(VLOOKUP(Egresados!$O280,Maestros!$G$31:$J$1030,2,0)),\"\",VLOOKUP(Egresados!$O280,Maestros!$G$31:$J$1030,2,0))","v":"8"},{"$f":"CONCATENATE(Egresados!$Z$8:$Z$705,\"a\",Egresados!$AA$8:$AA$705)","v":"223a8"},{"$f":"IF(ISERROR(VLOOKUP(Egresados!$P280,Maestros!$L$31:$Q$1030,2,0)),\"\",VLOOKUP(Egresados!$P280,Maestros!$L$31:$Q$1030,2,0))","v":"65"},{"$f":"CONCATENATE(Egresados!$Z$8:$Z$705,\"a\",Egresados!$AA$8:$AA$705,\"a\",Egresados!$AC$8:$AC$705)","v":"223a8a65"},{"$f":"IF(ISERROR(VLOOKUP(Egresados!$C$8:$C$705,Maestros!$A$4:$B$21,2,0)),\"\",VLOOKUP(Egresados!$C$8:$C$705,Maestros!$A$4:$B$21,2,0))","v":"1001"},{"$f":"IF(ISERROR(VLOOKUP(Egresados!$H$8:$H$705,Maestros!$D$4:$E$21,2,0)),\"\",VLOOKUP(Egresados!$H$8:$H$705,Maestros!$D$4:$E$21,2,0))","v":"1122"},{"$f":"IF(OR(UPPER(Egresados!$J$8:$J$705)=\"SI\",UPPER(Egresados!$J$8:$J$705)=\"SÍ\"),1,IF(UPPER(Egresados!$J$8:$J$705)=\"NO\",0,\"\"))","v":0},{"$f":"IF(OR(UPPER(Egresados!$R$8:$R$705)=\"SI\",UPPER(Egresados!$R$8:$R$705)=\"SÍ\"),1,IF(UPPER(Egresados!$R$8:$R$705)=\"NO\",0,\"\"))","v":""},{"$f":"IF(OR(UPPER(Egresados!$S$8:$S$705)=\"SI\",UPPER(Egresados!$S$8:$S$705)=\"SÍ\"),1,IF(UPPER(Egresados!$S$8:$S$705)=\"NO\",0,\"\"))","v":""},{"$f":"IF(ISERROR(VLOOKUP(Egresados!$T$8:$T$705,Maestros!$S$31:$T$530,2,0)),\"\",VLOOKUP(Egresados!$T$8:$T$705,Maestros!$S$31:$T$530,2,0))","v":"62"},{"$f":"IF(ISERROR(VLOOKUP(U280,Maestros!$S$31:$T$530,2,0)),\"\",VLOOKUP(U280,Maestros!$S$31:$T$530,2,0))","v":"62"},{"$f":"IF(ISERROR(VLOOKUP(Egresados!$K$8:$K$705,Maestros!$A$31:$B$130,2,0)),\"\",VLOOKUP(Egresados!$K$8:$K$705,Maestros!$A$31:$B$130,2,0))","v":""},{"$f":"IF(LEN(tablaEgresados[[#This Row],[Nota promedio]])>0,ROUND(tablaEgresados[[#This Row],[Nota promedio]],2),\"\")","v":15.6}]
[273,null,"DNI","46366203","GUZMAN","BASURTO","SANDRA BETSABETH","FEMENINO",null,"NO",null,null,null,"2020-1","SEDE CENTRAL","EDUCACION INICIAL-NIÑEZ TEMPRANA",15.8,null,null,"2013-1","2013-1","20131794@une.edu.pe","sandy_betsygb@hotmail.com",3133700,976486001,{"$f":"IF(ISERROR(VLOOKUP(Egresados!$N$8:$N$705,Maestros!$D$31:$E$530,2,0)),\"\",VLOOKUP(Egresados!$N$8:$N$705,Maestros!$D$31:$E$530,2,0))","v":"223"},{"$f":"IF(ISERROR(VLOOKUP(Egresados!$O281,Maestros!$G$31:$J$1030,2,0)),\"\",VLOOKUP(Egresados!$O281,Maestros!$G$31:$J$1030,2,0))","v":"8"},{"$f":"CONCATENATE(Egresados!$Z$8:$Z$705,\"a\",Egresados!$AA$8:$AA$705)","v":"223a8"},{"$f":"IF(ISERROR(VLOOKUP(Egresados!$P281,Maestros!$L$31:$Q$1030,2,0)),\"\",VLOOKUP(Egresados!$P281,Maestros!$L$31:$Q$1030,2,0))","v":"65"},{"$f":"CONCATENATE(Egresados!$Z$8:$Z$705,\"a\",Egresados!$AA$8:$AA$705,\"a\",Egresados!$AC$8:$AC$705)","v":"223a8a65"},{"$f":"IF(ISERROR(VLOOKUP(Egresados!$C$8:$C$705,Maestros!$A$4:$B$21,2,0)),\"\",VLOOKUP(Egresados!$C$8:$C$705,Maestros!$A$4:$B$21,2,0))","v":"1001"},{"$f":"IF(ISERROR(VLOOKUP(Egresados!$H$8:$H$705,Maestros!$D$4:$E$21,2,0)),\"\",VLOOKUP(Egresados!$H$8:$H$705,Maestros!$D$4:$E$21,2,0))","v":"1122"},{"$f":"IF(OR(UPPER(Egresados!$J$8:$J$705)=\"SI\",UPPER(Egresados!$J$8:$J$705)=\"SÍ\"),1,IF(UPPER(Egresados!$J$8:$J$705)=\"NO\",0,\"\"))","v":0},{"$f":"IF(OR(UPPER(Egresados!$R$8:$R$705)=\"SI\",UPPER(Egresados!$R$8:$R$705)=\"SÍ\"),1,IF(UPPER(Egresados!$R$8:$R$705)=\"NO\",0,\"\"))","v":""},{"$f":"IF(OR(UPPER(Egresados!$S$8:$S$705)=\"SI\",UPPER(Egresados!$S$8:$S$705)=\"SÍ\"),1,IF(UPPER(Egresados!$S$8:$S$705)=\"NO\",0,\"\"))","v":""},{"$f":"IF(ISERROR(VLOOKUP(Egresados!$T$8:$T$705,Maestros!$S$31:$T$530,2,0)),\"\",VLOOKUP(Egresados!$T$8:$T$705,Maestros!$S$31:$T$530,2,0))","v":"54"},{"$f":"IF(ISERROR(VLOOKUP(U281,Maestros!$S$31:$T$530,2,0)),\"\",VLOOKUP(U281,Maestros!$S$31:$T$530,2,0))","v":"54"},{"$f":"IF(ISERROR(VLOOKUP(Egresados!$K$8:$K$705,Maestros!$A$31:$B$130,2,0)),\"\",VLOOKUP(Egresados!$K$8:$K$705,Maestros!$A$31:$B$130,2,0))","v":""},{"$f":"IF(LEN(tablaEgresados[[#This Row],[Nota promedio]])>0,ROUND(tablaEgresados[[#This Row],[Nota promedio]],2),\"\")","v":15.8}]
[274,null,"DNI","72872374","ROMAINVILLE","IZAGUIRRE","ELIZABETH LUCERO","FEMENINO",null,"NO",null,null,null,"2020-1","SEDE CENTRAL","EDUCACION INICIAL-NIÑEZ TEMPRANA",17.079999999999998,null,null,"2015-1","2015-1","20150095@une.edu.pe","roizCx@gmail.com",3133700,"971006863",{"$f":"IF(ISERROR(VLOOKUP(Egresados!$N$8:$N$705,Maestros!$D$31:$E$530,2,0)),\"\",VLOOKUP(Egresados!$N$8:$N$705,Maestros!$D$31:$E$530,2,0))","v":"223"},{"$f":"IF(ISERROR(VLOOKUP(Egresados!$O282,Maestros!$G$31:$J$1030,2,0)),\"\",VLOOKUP(Egresados!$O282,Maestros!$G$31:$J$1030,2,0))","v":"8"},{"$f":"CONCATENATE(Egresados!$Z$8:$Z$705,\"a\",Egresados!$AA$8:$AA$705)","v":"223a8"},{"$f":"IF(ISERROR(VLOOKUP(Egresados!$P282,Maestros!$L$31:$Q$1030,2,0)),\"\",VLOOKUP(Egresados!$P282,Maestros!$L$31:$Q$1030,2,0))","v":"65"},{"$f":"CONCATENATE(Egresados!$Z$8:$Z$705,\"a\",Egresados!$AA$8:$AA$705,\"a\",Egresados!$AC$8:$AC$705)","v":"223a8a65"},{"$f":"IF(ISERROR(VLOOKUP(Egresados!$C$8:$C$705,Maestros!$A$4:$B$21,2,0)),\"\",VLOOKUP(Egresados!$C$8:$C$705,Maestros!$A$4:$B$21,2,0))","v":"1001"},{"$f":"IF(ISERROR(VLOOKUP(Egresados!$H$8:$H$705,Maestros!$D$4:$E$21,2,0)),\"\",VLOOKUP(Egresados!$H$8:$H$705,Maestros!$D$4:$E$21,2,0))","v":"1122"},{"$f":"IF(OR(UPPER(Egresados!$J$8:$J$705)=\"SI\",UPPER(Egresados!$J$8:$J$705)=\"SÍ\"),1,IF(UPPER(Egresados!$J$8:$J$705)=\"NO\",0,\"\"))","v":0},{"$f":"IF(OR(UPPER(Egresados!$R$8:$R$705)=\"SI\",UPPER(Egresados!$R$8:$R$705)=\"SÍ\"),1,IF(UPPER(Egresados!$R$8:$R$705)=\"NO\",0,\"\"))","v":""},{"$f":"IF(OR(UPPER(Egresados!$S$8:$S$705)=\"SI\",UPPER(Egresados!$S$8:$S$705)=\"SÍ\"),1,IF(UPPER(Egresados!$S$8:$S$705)=\"NO\",0,\"\"))","v":""},{"$f":"IF(ISERROR(VLOOKUP(Egresados!$T$8:$T$705,Maestros!$S$31:$T$530,2,0)),\"\",VLOOKUP(Egresados!$T$8:$T$705,Maestros!$S$31:$T$530,2,0))","v":"62"},{"$f":"IF(ISERROR(VLOOKUP(U282,Maestros!$S$31:$T$530,2,0)),\"\",VLOOKUP(U282,Maestros!$S$31:$T$530,2,0))","v":"62"},{"$f":"IF(ISERROR(VLOOKUP(Egresados!$K$8:$K$705,Maestros!$A$31:$B$130,2,0)),\"\",VLOOKUP(Egresados!$K$8:$K$705,Maestros!$A$31:$B$130,2,0))","v":""},{"$f":"IF(LEN(tablaEgresados[[#This Row],[Nota promedio]])>0,ROUND(tablaEgresados[[#This Row],[Nota promedio]],2),\"\")","v":17.079999999999998}]
[275,null,"DNI","44783086","FLORES","FAZIO","ROSSANA MARIA","FEMENINO",null,"NO",null,null,null,"2020-1","SEDE CENTRAL","EDUCACION INICIAL-NIÑEZ TEMPRANA",15.69,null,null,"2014-1","2014-1","20141600@une.edu.pe","rousalessa@gmail.com",3133700,"947692101",{"$f":"IF(ISERROR(VLOOKUP(Egresados!$N$8:$N$705,Maestros!$D$31:$E$530,2,0)),\"\",VLOOKUP(Egresados!$N$8:$N$705,Maestros!$D$31:$E$530,2,0))","v":"223"},{"$f":"IF(ISERROR(VLOOKUP(Egresados!$O283,Maestros!$G$31:$J$1030,2,0)),\"\",VLOOKUP(Egresados!$O283,Maestros!$G$31:$J$1030,2,0))","v":"8"},{"$f":"CONCATENATE(Egresados!$Z$8:$Z$705,\"a\",Egresados!$AA$8:$AA$705)","v":"223a8"},{"$f":"IF(ISERROR(VLOOKUP(Egresados!$P283,Maestros!$L$31:$Q$1030,2,0)),\"\",VLOOKUP(Egresados!$P283,Maestros!$L$31:$Q$1030,2,0))","v":"65"},{"$f":"CONCATENATE(Egresados!$Z$8:$Z$705,\"a\",Egresados!$AA$8:$AA$705,\"a\",Egresados!$AC$8:$AC$705)","v":"223a8a65"},{"$f":"IF(ISERROR(VLOOKUP(Egresados!$C$8:$C$705,Maestros!$A$4:$B$21,2,0)),\"\",VLOOKUP(Egresados!$C$8:$C$705,Maestros!$A$4:$B$21,2,0))","v":"1001"},{"$f":"IF(ISERROR(VLOOKUP(Egresados!$H$8:$H$705,Maestros!$D$4:$E$21,2,0)),\"\",VLOOKUP(Egresados!$H$8:$H$705,Maestros!$D$4:$E$21,2,0))","v":"1122"},{"$f":"IF(OR(UPPER(Egresados!$J$8:$J$705)=\"SI\",UPPER(Egresados!$J$8:$J$705)=\"SÍ\"),1,IF(UPPER(Egresados!$J$8:$J$705)=\"NO\",0,\"\"))","v":0},{"$f":"IF(OR(UPPER(Egresados!$R$8:$R$705)=\"SI\",UPPER(Egresados!$R$8:$R$705)=\"SÍ\"),1,IF(UPPER(Egresados!$R$8:$R$705)=\"NO\",0,\"\"))","v":""},{"$f":"IF(OR(UPPER(Egresados!$S$8:$S$705)=\"SI\",UPPER(Egresados!$S$8:$S$705)=\"SÍ\"),1,IF(UPPER(Egresados!$S$8:$S$705)=\"NO\",0,\"\"))","v":""},{"$f":"IF(ISERROR(VLOOKUP(Egresados!$T$8:$T$705,Maestros!$S$31:$T$530,2,0)),\"\",VLOOKUP(Egresados!$T$8:$T$705,Maestros!$S$31:$T$530,2,0))","v":"58"},{"$f":"IF(ISERROR(VLOOKUP(U283,Maestros!$S$31:$T$530,2,0)),\"\",VLOOKUP(U283,Maestros!$S$31:$T$530,2,0))","v":"58"},{"$f":"IF(ISERROR(VLOOKUP(Egresados!$K$8:$K$705,Maestros!$A$31:$B$130,2,0)),\"\",VLOOKUP(Egresados!$K$8:$K$705,Maestros!$A$31:$B$130,2,0))","v":""},{"$f":"IF(LEN(tablaEgresados[[#This Row],[Nota promedio]])>0,ROUND(tablaEgresados[[#This Row],[Nota promedio]],2),\"\")","v":15.69}]
[276,null,"DNI","16127275","NAUPA","ROQUE","PAULA GISELLA","FEMENINO",null,"NO",null,null,null,"2020-1","SEDE CENTRAL","EDUCACION INICIAL-NIÑEZ TEMPRANA",15.76,null,null,"2014-1","2014-1","20140631@une.edu.pe","paula_15_03@hotmail.com",3133700,"989478428",{"$f":"IF(ISERROR(VLOOKUP(Egresados!$N$8:$N$705,Maestros!$D$31:$E$530,2,0)),\"\",VLOOKUP(Egresados!$N$8:$N$705,Maestros!$D$31:$E$530,2,0))","v":"223"},{"$f":"IF(ISERROR(VLOOKUP(Egresados!$O284,Maestros!$G$31:$J$1030,2,0)),\"\",VLOOKUP(Egresados!$O284,Maestros!$G$31:$J$1030,2,0))","v":"8"},{"$f":"CONCATENATE(Egresados!$Z$8:$Z$705,\"a\",Egresados!$AA$8:$AA$705)","v":"223a8"},{"$f":"IF(ISERROR(VLOOKUP(Egresados!$P284,Maestros!$L$31:$Q$1030,2,0)),\"\",VLOOKUP(Egresados!$P284,Maestros!$L$31:$Q$1030,2,0))","v":"65"},{"$f":"CONCATENATE(Egresados!$Z$8:$Z$705,\"a\",Egresados!$AA$8:$AA$705,\"a\",Egresados!$AC$8:$AC$705)","v":"223a8a65"},{"$f":"IF(ISERROR(VLOOKUP(Egresados!$C$8:$C$705,Maestros!$A$4:$B$21,2,0)),\"\",VLOOKUP(Egresados!$C$8:$C$705,Maestros!$A$4:$B$21,2,0))","v":"1001"},{"$f":"IF(ISERROR(VLOOKUP(Egresados!$H$8:$H$705,Maestros!$D$4:$E$21,2,0)),\"\",VLOOKUP(Egresados!$H$8:$H$705,Maestros!$D$4:$E$21,2,0))","v":"1122"},{"$f":"IF(OR(UPPER(Egresados!$J$8:$J$705)=\"SI\",UPPER(Egresados!$J$8:$J$705)=\"SÍ\"),1,IF(UPPER(Egresados!$J$8:$J$705)=\"NO\",0,\"\"))","v":0},{"$f":"IF(OR(UPPER(Egresados!$R$8:$R$705)=\"SI\",UPPER(Egresados!$R$8:$R$705)=\"SÍ\"),1,IF(UPPER(Egresados!$R$8:$R$705)=\"NO\",0,\"\"))","v":""},{"$f":"IF(OR(UPPER(Egresados!$S$8:$S$705)=\"SI\",UPPER(Egresados!$S$8:$S$705)=\"SÍ\"),1,IF(UPPER(Egresados!$S$8:$S$705)=\"NO\",0,\"\"))","v":""},{"$f":"IF(ISERROR(VLOOKUP(Egresados!$T$8:$T$705,Maestros!$S$31:$T$530,2,0)),\"\",VLOOKUP(Egresados!$T$8:$T$705,Maestros!$S$31:$T$530,2,0))","v":"58"},{"$f":"IF(ISERROR(VLOOKUP(U284,Maestros!$S$31:$T$530,2,0)),\"\",VLOOKUP(U284,Maestros!$S$31:$T$530,2,0))","v":"58"},{"$f":"IF(ISERROR(VLOOKUP(Egresados!$K$8:$K$705,Maestros!$A$31:$B$130,2,0)),\"\",VLOOKUP(Egresados!$K$8:$K$705,Maestros!$A$31:$B$130,2,0))","v":""},{"$f":"IF(LEN(tablaEgresados[[#This Row],[Nota promedio]])>0,ROUND(tablaEgresados[[#This Row],[Nota promedio]],2),\"\")","v":15.76}]
[277,null,"DNI","45670289","DAVILA","JALLUCO","GLORIA LIZBETH JACKELINE","FEMENINO",null,"NO",null,null,null,"2020-1","SEDE CENTRAL","EDUCACION INICIAL-NIÑEZ TEMPRANA",14.7,null,null,"2015-1","2015-1","20150038@une.edu.pe","chinita_1_57@hotmail.com",3133700,"946590740",{"$f":"IF(ISERROR(VLOOKUP(Egresados!$N$8:$N$705,Maestros!$D$31:$E$530,2,0)),\"\",VLOOKUP(Egresados!$N$8:$N$705,Maestros!$D$31:$E$530,2,0))","v":"223"},{"$f":"IF(ISERROR(VLOOKUP(Egresados!$O285,Maestros!$G$31:$J$1030,2,0)),\"\",VLOOKUP(Egresados!$O285,Maestros!$G$31:$J$1030,2,0))","v":"8"},{"$f":"CONCATENATE(Egresados!$Z$8:$Z$705,\"a\",Egresados!$AA$8:$AA$705)","v":"223a8"},{"$f":"IF(ISERROR(VLOOKUP(Egresados!$P285,Maestros!$L$31:$Q$1030,2,0)),\"\",VLOOKUP(Egresados!$P285,Maestros!$L$31:$Q$1030,2,0))","v":"65"},{"$f":"CONCATENATE(Egresados!$Z$8:$Z$705,\"a\",Egresados!$AA$8:$AA$705,\"a\",Egresados!$AC$8:$AC$705)","v":"223a8a65"},{"$f":"IF(ISERROR(VLOOKUP(Egresados!$C$8:$C$705,Maestros!$A$4:$B$21,2,0)),\"\",VLOOKUP(Egresados!$C$8:$C$705,Maestros!$A$4:$B$21,2,0))","v":"1001"},{"$f":"IF(ISERROR(VLOOKUP(Egresados!$H$8:$H$705,Maestros!$D$4:$E$21,2,0)),\"\",VLOOKUP(Egresados!$H$8:$H$705,Maestros!$D$4:$E$21,2,0))","v":"1122"},{"$f":"IF(OR(UPPER(Egresados!$J$8:$J$705)=\"SI\",UPPER(Egresados!$J$8:$J$705)=\"SÍ\"),1,IF(UPPER(Egresados!$J$8:$J$705)=\"NO\",0,\"\"))","v":0},{"$f":"IF(OR(UPPER(Egresados!$R$8:$R$705)=\"SI\",UPPER(Egresados!$R$8:$R$705)=\"SÍ\"),1,IF(UPPER(Egresados!$R$8:$R$705)=\"NO\",0,\"\"))","v":""},{"$f":"IF(OR(UPPER(Egresados!$S$8:$S$705)=\"SI\",UPPER(Egresados!$S$8:$S$705)=\"SÍ\"),1,IF(UPPER(Egresados!$S$8:$S$705)=\"NO\",0,\"\"))","v":""},{"$f":"IF(ISERROR(VLOOKUP(Egresados!$T$8:$T$705,Maestros!$S$31:$T$530,2,0)),\"\",VLOOKUP(Egresados!$T$8:$T$705,Maestros!$S$31:$T$530,2,0))","v":"62"},{"$f":"IF(ISERROR(VLOOKUP(U285,Maestros!$S$31:$T$530,2,0)),\"\",VLOOKUP(U285,Maestros!$S$31:$T$530,2,0))","v":"62"},{"$f":"IF(ISERROR(VLOOKUP(Egresados!$K$8:$K$705,Maestros!$A$31:$B$130,2,0)),\"\",VLOOKUP(Egresados!$K$8:$K$705,Maestros!$A$31:$B$130,2,0))","v":""},{"$f":"IF(LEN(tablaEgresados[[#This Row],[Nota promedio]])>0,ROUND(tablaEgresados[[#This Row],[Nota promedio]],2),\"\")","v":14.7}]
[278,null,"DNI","48453448","ACAPANA","SAMANIEGO","ERIKA ZULEMA","FEMENINO",null,"NO",null,null,null,"2020-1","SEDE CENTRAL","EDUCACION INICIAL-NIÑEZ TEMPRANA",15.83,null,null,"2015-1","2015-1","20150002@une.edu.pe","acapanaerika@gmail.com",3133700,"962223850",{"$f":"IF(ISERROR(VLOOKUP(Egresados!$N$8:$N$705,Maestros!$D$31:$E$530,2,0)),\"\",VLOOKUP(Egresados!$N$8:$N$705,Maestros!$D$31:$E$530,2,0))","v":"223"},{"$f":"IF(ISERROR(VLOOKUP(Egresados!$O286,Maestros!$G$31:$J$1030,2,0)),\"\",VLOOKUP(Egresados!$O286,Maestros!$G$31:$J$1030,2,0))","v":"8"},{"$f":"CONCATENATE(Egresados!$Z$8:$Z$705,\"a\",Egresados!$AA$8:$AA$705)","v":"223a8"},{"$f":"IF(ISERROR(VLOOKUP(Egresados!$P286,Maestros!$L$31:$Q$1030,2,0)),\"\",VLOOKUP(Egresados!$P286,Maestros!$L$31:$Q$1030,2,0))","v":"65"},{"$f":"CONCATENATE(Egresados!$Z$8:$Z$705,\"a\",Egresados!$AA$8:$AA$705,\"a\",Egresados!$AC$8:$AC$705)","v":"223a8a65"},{"$f":"IF(ISERROR(VLOOKUP(Egresados!$C$8:$C$705,Maestros!$A$4:$B$21,2,0)),\"\",VLOOKUP(Egresados!$C$8:$C$705,Maestros!$A$4:$B$21,2,0))","v":"1001"},{"$f":"IF(ISERROR(VLOOKUP(Egresados!$H$8:$H$705,Maestros!$D$4:$E$21,2,0)),\"\",VLOOKUP(Egresados!$H$8:$H$705,Maestros!$D$4:$E$21,2,0))","v":"1122"},{"$f":"IF(OR(UPPER(Egresados!$J$8:$J$705)=\"SI\",UPPER(Egresados!$J$8:$J$705)=\"SÍ\"),1,IF(UPPER(Egresados!$J$8:$J$705)=\"NO\",0,\"\"))","v":0},{"$f":"IF(OR(UPPER(Egresados!$R$8:$R$705)=\"SI\",UPPER(Egresados!$R$8:$R$705)=\"SÍ\"),1,IF(UPPER(Egresados!$R$8:$R$705)=\"NO\",0,\"\"))","v":""},{"$f":"IF(OR(UPPER(Egresados!$S$8:$S$705)=\"SI\",UPPER(Egresados!$S$8:$S$705)=\"SÍ\"),1,IF(UPPER(Egresados!$S$8:$S$705)=\"NO\",0,\"\"))","v":""},{"$f":"IF(ISERROR(VLOOKUP(Egresados!$T$8:$T$705,Maestros!$S$31:$T$530,2,0)),\"\",VLOOKUP(Egresados!$T$8:$T$705,Maestros!$S$31:$T$530,2,0))","v":"62"},{"$f":"IF(ISERROR(VLOOKUP(U286,Maestros!$S$31:$T$530,2,0)),\"\",VLOOKUP(U286,Maestros!$S$31:$T$530,2,0))","v":"62"},{"$f":"IF(ISERROR(VLOOKUP(Egresados!$K$8:$K$705,Maestros!$A$31:$B$130,2,0)),\"\",VLOOKUP(Egresados!$K$8:$K$705,Maestros!$A$31:$B$130,2,0))","v":""},{"$f":"IF(LEN(tablaEgresados[[#This Row],[Nota promedio]])>0,ROUND(tablaEgresados[[#This Row],[Nota promedio]],2),\"\")","v":15.83}]
[279,null,"DNI","45865524","RAMIREZ","HUACHACA","GIOVANNA NOEMI","FEMENINO",null,"NO",null,null,null,"2020-1","SEDE CENTRAL","EDUCACION INICIAL-NIÑEZ TEMPRANA",14.22,null,null,"2009-1","2009-1","20091469@une.edu.pe","giovanna1488@hotmail.com",3133700,"992961574",{"$f":"IF(ISERROR(VLOOKUP(Egresados!$N$8:$N$705,Maestros!$D$31:$E$530,2,0)),\"\",VLOOKUP(Egresados!$N$8:$N$705,Maestros!$D$31:$E$530,2,0))","v":"223"},{"$f":"IF(ISERROR(VLOOKUP(Egresados!$O287,Maestros!$G$31:$J$1030,2,0)),\"\",VLOOKUP(Egresados!$O287,Maestros!$G$31:$J$1030,2,0))","v":"8"},{"$f":"CONCATENATE(Egresados!$Z$8:$Z$705,\"a\",Egresados!$AA$8:$AA$705)","v":"223a8"},{"$f":"IF(ISERROR(VLOOKUP(Egresados!$P287,Maestros!$L$31:$Q$1030,2,0)),\"\",VLOOKUP(Egresados!$P287,Maestros!$L$31:$Q$1030,2,0))","v":"65"},{"$f":"CONCATENATE(Egresados!$Z$8:$Z$705,\"a\",Egresados!$AA$8:$AA$705,\"a\",Egresados!$AC$8:$AC$705)","v":"223a8a65"},{"$f":"IF(ISERROR(VLOOKUP(Egresados!$C$8:$C$705,Maestros!$A$4:$B$21,2,0)),\"\",VLOOKUP(Egresados!$C$8:$C$705,Maestros!$A$4:$B$21,2,0))","v":"1001"},{"$f":"IF(ISERROR(VLOOKUP(Egresados!$H$8:$H$705,Maestros!$D$4:$E$21,2,0)),\"\",VLOOKUP(Egresados!$H$8:$H$705,Maestros!$D$4:$E$21,2,0))","v":"1122"},{"$f":"IF(OR(UPPER(Egresados!$J$8:$J$705)=\"SI\",UPPER(Egresados!$J$8:$J$705)=\"SÍ\"),1,IF(UPPER(Egresados!$J$8:$J$705)=\"NO\",0,\"\"))","v":0},{"$f":"IF(OR(UPPER(Egresados!$R$8:$R$705)=\"SI\",UPPER(Egresados!$R$8:$R$705)=\"SÍ\"),1,IF(UPPER(Egresados!$R$8:$R$705)=\"NO\",0,\"\"))","v":""},{"$f":"IF(OR(UPPER(Egresados!$S$8:$S$705)=\"SI\",UPPER(Egresados!$S$8:$S$705)=\"SÍ\"),1,IF(UPPER(Egresados!$S$8:$S$705)=\"NO\",0,\"\"))","v":""},{"$f":"IF(ISERROR(VLOOKUP(Egresados!$T$8:$T$705,Maestros!$S$31:$T$530,2,0)),\"\",VLOOKUP(Egresados!$T$8:$T$705,Maestros!$S$31:$T$530,2,0))","v":"38"},{"$f":"IF(ISERROR(VLOOKUP(U287,Maestros!$S$31:$T$530,2,0)),\"\",VLOOKUP(U287,Maestros!$S$31:$T$530,2,0))","v":"38"},{"$f":"IF(ISERROR(VLOOKUP(Egresados!$K$8:$K$705,Maestros!$A$31:$B$130,2,0)),\"\",VLOOKUP(Egresados!$K$8:$K$705,Maestros!$A$31:$B$130,2,0))","v":""},{"$f":"IF(LEN(tablaEgresados[[#This Row],[Nota promedio]])>0,ROUND(tablaEgresados[[#This Row],[Nota promedio]],2),\"\")","v":14.22}]
[280,null,"DNI","42704764","MEDINA","SOLIS","ERIKA JANETH","FEMENINO",null,"NO",null,null,null,"2020-1","SEDE CENTRAL","EDUCACION INICIAL-NIÑEZ TEMPRANA",15.72,null,null,"2014-1","2014-1","20141605@une.edu.pe","erika23_mesol@hotmail.com",3133700,"971163030",{"$f":"IF(ISERROR(VLOOKUP(Egresados!$N$8:$N$705,Maestros!$D$31:$E$530,2,0)),\"\",VLOOKUP(Egresados!$N$8:$N$705,Maestros!$D$31:$E$530,2,0))","v":"223"},{"$f":"IF(ISERROR(VLOOKUP(Egresados!$O288,Maestros!$G$31:$J$1030,2,0)),\"\",VLOOKUP(Egresados!$O288,Maestros!$G$31:$J$1030,2,0))","v":"8"},{"$f":"CONCATENATE(Egresados!$Z$8:$Z$705,\"a\",Egresados!$AA$8:$AA$705)","v":"223a8"},{"$f":"IF(ISERROR(VLOOKUP(Egresados!$P288,Maestros!$L$31:$Q$1030,2,0)),\"\",VLOOKUP(Egresados!$P288,Maestros!$L$31:$Q$1030,2,0))","v":"65"},{"$f":"CONCATENATE(Egresados!$Z$8:$Z$705,\"a\",Egresados!$AA$8:$AA$705,\"a\",Egresados!$AC$8:$AC$705)","v":"223a8a65"},{"$f":"IF(ISERROR(VLOOKUP(Egresados!$C$8:$C$705,Maestros!$A$4:$B$21,2,0)),\"\",VLOOKUP(Egresados!$C$8:$C$705,Maestros!$A$4:$B$21,2,0))","v":"1001"},{"$f":"IF(ISERROR(VLOOKUP(Egresados!$H$8:$H$705,Maestros!$D$4:$E$21,2,0)),\"\",VLOOKUP(Egresados!$H$8:$H$705,Maestros!$D$4:$E$21,2,0))","v":"1122"},{"$f":"IF(OR(UPPER(Egresados!$J$8:$J$705)=\"SI\",UPPER(Egresados!$J$8:$J$705)=\"SÍ\"),1,IF(UPPER(Egresados!$J$8:$J$705)=\"NO\",0,\"\"))","v":0},{"$f":"IF(OR(UPPER(Egresados!$R$8:$R$705)=\"SI\",UPPER(Egresados!$R$8:$R$705)=\"SÍ\"),1,IF(UPPER(Egresados!$R$8:$R$705)=\"NO\",0,\"\"))","v":""},{"$f":"IF(OR(UPPER(Egresados!$S$8:$S$705)=\"SI\",UPPER(Egresados!$S$8:$S$705)=\"SÍ\"),1,IF(UPPER(Egresados!$S$8:$S$705)=\"NO\",0,\"\"))","v":""},{"$f":"IF(ISERROR(VLOOKUP(Egresados!$T$8:$T$705,Maestros!$S$31:$T$530,2,0)),\"\",VLOOKUP(Egresados!$T$8:$T$705,Maestros!$S$31:$T$530,2,0))","v":"58"},{"$f":"IF(ISERROR(VLOOKUP(U288,Maestros!$S$31:$T$530,2,0)),\"\",VLOOKUP(U288,Maestros!$S$31:$T$530,2,0))","v":"58"},{"$f":"IF(ISERROR(VLOOKUP(Egresados!$K$8:$K$705,Maestros!$A$31:$B$130,2,0)),\"\",VLOOKUP(Egresados!$K$8:$K$705,Maestros!$A$31:$B$130,2,0))","v":""},{"$f":"IF(LEN(tablaEgresados[[#This Row],[Nota promedio]])>0,ROUND(tablaEgresados[[#This Row],[Nota promedio]],2),\"\")","v":15.72}]
[281,null,"DNI","77539039","CUADROS","TORRES","KAREN CRISTHEL","FEMENINO",null,"NO",null,null,null,"2020-1","SEDE CENTRAL","EDUCACION INICIAL-NIÑEZ TEMPRANA",15.46,null,null,"2014-1","2014-1","20140601@une.edu.pe","karencuadrostj@gmail.com",3133700,"967275169",{"$f":"IF(ISERROR(VLOOKUP(Egresados!$N$8:$N$705,Maestros!$D$31:$E$530,2,0)),\"\",VLOOKUP(Egresados!$N$8:$N$705,Maestros!$D$31:$E$530,2,0))","v":"223"},{"$f":"IF(ISERROR(VLOOKUP(Egresados!$O289,Maestros!$G$31:$J$1030,2,0)),\"\",VLOOKUP(Egresados!$O289,Maestros!$G$31:$J$1030,2,0))","v":"8"},{"$f":"CONCATENATE(Egresados!$Z$8:$Z$705,\"a\",Egresados!$AA$8:$AA$705)","v":"223a8"},{"$f":"IF(ISERROR(VLOOKUP(Egresados!$P289,Maestros!$L$31:$Q$1030,2,0)),\"\",VLOOKUP(Egresados!$P289,Maestros!$L$31:$Q$1030,2,0))","v":"65"},{"$f":"CONCATENATE(Egresados!$Z$8:$Z$705,\"a\",Egresados!$AA$8:$AA$705,\"a\",Egresados!$AC$8:$AC$705)","v":"223a8a65"},{"$f":"IF(ISERROR(VLOOKUP(Egresados!$C$8:$C$705,Maestros!$A$4:$B$21,2,0)),\"\",VLOOKUP(Egresados!$C$8:$C$705,Maestros!$A$4:$B$21,2,0))","v":"1001"},{"$f":"IF(ISERROR(VLOOKUP(Egresados!$H$8:$H$705,Maestros!$D$4:$E$21,2,0)),\"\",VLOOKUP(Egresados!$H$8:$H$705,Maestros!$D$4:$E$21,2,0))","v":"1122"},{"$f":"IF(OR(UPPER(Egresados!$J$8:$J$705)=\"SI\",UPPER(Egresados!$J$8:$J$705)=\"SÍ\"),1,IF(UPPER(Egresados!$J$8:$J$705)=\"NO\",0,\"\"))","v":0},{"$f":"IF(OR(UPPER(Egresados!$R$8:$R$705)=\"SI\",UPPER(Egresados!$R$8:$R$705)=\"SÍ\"),1,IF(UPPER(Egresados!$R$8:$R$705)=\"NO\",0,\"\"))","v":""},{"$f":"IF(OR(UPPER(Egresados!$S$8:$S$705)=\"SI\",UPPER(Egresados!$S$8:$S$705)=\"SÍ\"),1,IF(UPPER(Egresados!$S$8:$S$705)=\"NO\",0,\"\"))","v":""},{"$f":"IF(ISERROR(VLOOKUP(Egresados!$T$8:$T$705,Maestros!$S$31:$T$530,2,0)),\"\",VLOOKUP(Egresados!$T$8:$T$705,Maestros!$S$31:$T$530,2,0))","v":"58"},{"$f":"IF(ISERROR(VLOOKUP(U289,Maestros!$S$31:$T$530,2,0)),\"\",VLOOKUP(U289,Maestros!$S$31:$T$530,2,0))","v":"58"},{"$f":"IF(ISERROR(VLOOKUP(Egresados!$K$8:$K$705,Maestros!$A$31:$B$130,2,0)),\"\",VLOOKUP(Egresados!$K$8:$K$705,Maestros!$A$31:$B$130,2,0))","v":""},{"$f":"IF(LEN(tablaEgresados[[#This Row],[Nota promedio]])>0,ROUND(tablaEgresados[[#This Row],[Nota promedio]],2),\"\")","v":15.46}]
[282,null,"DNI","74642441","CUYA","URBINA","MAYRA ALEXANDRA","FEMENINO",null,"NO",null,null,null,"2020-1","SEDE CENTRAL","EDUCACION INICIAL-NIÑEZ TEMPRANA",16.100000000000001,null,null,"2015-1","2015-1","20150031@une.edu.pe","briana_28_09@hotmail.com",3133700,"931350150",{"$f":"IF(ISERROR(VLOOKUP(Egresados!$N$8:$N$705,Maestros!$D$31:$E$530,2,0)),\"\",VLOOKUP(Egresados!$N$8:$N$705,Maestros!$D$31:$E$530,2,0))","v":"223"},{"$f":"IF(ISERROR(VLOOKUP(Egresados!$O290,Maestros!$G$31:$J$1030,2,0)),\"\",VLOOKUP(Egresados!$O290,Maestros!$G$31:$J$1030,2,0))","v":"8"},{"$f":"CONCATENATE(Egresados!$Z$8:$Z$705,\"a\",Egresados!$AA$8:$AA$705)","v":"223a8"},{"$f":"IF(ISERROR(VLOOKUP(Egresados!$P290,Maestros!$L$31:$Q$1030,2,0)),\"\",VLOOKUP(Egresados!$P290,Maestros!$L$31:$Q$1030,2,0))","v":"65"},{"$f":"CONCATENATE(Egresados!$Z$8:$Z$705,\"a\",Egresados!$AA$8:$AA$705,\"a\",Egresados!$AC$8:$AC$705)","v":"223a8a65"},{"$f":"IF(ISERROR(VLOOKUP(Egresados!$C$8:$C$705,Maestros!$A$4:$B$21,2,0)),\"\",VLOOKUP(Egresados!$C$8:$C$705,Maestros!$A$4:$B$21,2,0))","v":"1001"},{"$f":"IF(ISERROR(VLOOKUP(Egresados!$H$8:$H$705,Maestros!$D$4:$E$21,2,0)),\"\",VLOOKUP(Egresados!$H$8:$H$705,Maestros!$D$4:$E$21,2,0))","v":"1122"},{"$f":"IF(OR(UPPER(Egresados!$J$8:$J$705)=\"SI\",UPPER(Egresados!$J$8:$J$705)=\"SÍ\"),1,IF(UPPER(Egresados!$J$8:$J$705)=\"NO\",0,\"\"))","v":0},{"$f":"IF(OR(UPPER(Egresados!$R$8:$R$705)=\"SI\",UPPER(Egresados!$R$8:$R$705)=\"SÍ\"),1,IF(UPPER(Egresados!$R$8:$R$705)=\"NO\",0,\"\"))","v":""},{"$f":"IF(OR(UPPER(Egresados!$S$8:$S$705)=\"SI\",UPPER(Egresados!$S$8:$S$705)=\"SÍ\"),1,IF(UPPER(Egresados!$S$8:$S$705)=\"NO\",0,\"\"))","v":""},{"$f":"IF(ISERROR(VLOOKUP(Egresados!$T$8:$T$705,Maestros!$S$31:$T$530,2,0)),\"\",VLOOKUP(Egresados!$T$8:$T$705,Maestros!$S$31:$T$530,2,0))","v":"62"},{"$f":"IF(ISERROR(VLOOKUP(U290,Maestros!$S$31:$T$530,2,0)),\"\",VLOOKUP(U290,Maestros!$S$31:$T$530,2,0))","v":"62"},{"$f":"IF(ISERROR(VLOOKUP(Egresados!$K$8:$K$705,Maestros!$A$31:$B$130,2,0)),\"\",VLOOKUP(Egresados!$K$8:$K$705,Maestros!$A$31:$B$130,2,0))","v":""},{"$f":"IF(LEN(tablaEgresados[[#This Row],[Nota promedio]])>0,ROUND(tablaEgresados[[#This Row],[Nota promedio]],2),\"\")","v":16.100000000000001}]
[283,null,"DNI","46634492","GUADALUPE","ROMERO","MARIA FERNANDA","FEMENINO",null,"NO",null,null,null,"2020-1","SEDE CENTRAL","EDUCACION INICIAL-NIÑEZ TEMPRANA",16.239999999999998,null,null,"2014-1","2014-1","20140613@une.edu.pe","fernanda_gr_90@hotmail.com",3133700,"966992219",{"$f":"IF(ISERROR(VLOOKUP(Egresados!$N$8:$N$705,Maestros!$D$31:$E$530,2,0)),\"\",VLOOKUP(Egresados!$N$8:$N$705,Maestros!$D$31:$E$530,2,0))","v":"223"},{"$f":"IF(ISERROR(VLOOKUP(Egresados!$O291,Maestros!$G$31:$J$1030,2,0)),\"\",VLOOKUP(Egresados!$O291,Maestros!$G$31:$J$1030,2,0))","v":"8"},{"$f":"CONCATENATE(Egresados!$Z$8:$Z$705,\"a\",Egresados!$AA$8:$AA$705)","v":"223a8"},{"$f":"IF(ISERROR(VLOOKUP(Egresados!$P291,Maestros!$L$31:$Q$1030,2,0)),\"\",VLOOKUP(Egresados!$P291,Maestros!$L$31:$Q$1030,2,0))","v":"65"},{"$f":"CONCATENATE(Egresados!$Z$8:$Z$705,\"a\",Egresados!$AA$8:$AA$705,\"a\",Egresados!$AC$8:$AC$705)","v":"223a8a65"},{"$f":"IF(ISERROR(VLOOKUP(Egresados!$C$8:$C$705,Maestros!$A$4:$B$21,2,0)),\"\",VLOOKUP(Egresados!$C$8:$C$705,Maestros!$A$4:$B$21,2,0))","v":"1001"},{"$f":"IF(ISERROR(VLOOKUP(Egresados!$H$8:$H$705,Maestros!$D$4:$E$21,2,0)),\"\",VLOOKUP(Egresados!$H$8:$H$705,Maestros!$D$4:$E$21,2,0))","v":"1122"},{"$f":"IF(OR(UPPER(Egresados!$J$8:$J$705)=\"SI\",UPPER(Egresados!$J$8:$J$705)=\"SÍ\"),1,IF(UPPER(Egresados!$J$8:$J$705)=\"NO\",0,\"\"))","v":0},{"$f":"IF(OR(UPPER(Egresados!$R$8:$R$705)=\"SI\",UPPER(Egresados!$R$8:$R$705)=\"SÍ\"),1,IF(UPPER(Egresados!$R$8:$R$705)=\"NO\",0,\"\"))","v":""},{"$f":"IF(OR(UPPER(Egresados!$S$8:$S$705)=\"SI\",UPPER(Egresados!$S$8:$S$705)=\"SÍ\"),1,IF(UPPER(Egresados!$S$8:$S$705)=\"NO\",0,\"\"))","v":""},{"$f":"IF(ISERROR(VLOOKUP(Egresados!$T$8:$T$705,Maestros!$S$31:$T$530,2,0)),\"\",VLOOKUP(Egresados!$T$8:$T$705,Maestros!$S$31:$T$530,2,0))","v":"58"},{"$f":"IF(ISERROR(VLOOKUP(U291,Maestros!$S$31:$T$530,2,0)),\"\",VLOOKUP(U291,Maestros!$S$31:$T$530,2,0))","v":"58"},{"$f":"IF(ISERROR(VLOOKUP(Egresados!$K$8:$K$705,Maestros!$A$31:$B$130,2,0)),\"\",VLOOKUP(Egresados!$K$8:$K$705,Maestros!$A$31:$B$130,2,0))","v":""},{"$f":"IF(LEN(tablaEgresados[[#This Row],[Nota promedio]])>0,ROUND(tablaEgresados[[#This Row],[Nota promedio]],2),\"\")","v":16.239999999999998}]
[284,null,"DNI","70682094","ANDIA","CARDENAS","DEISY ROSMERY","MASCULINO",null,"NO",null,null,null,"2020-1","SEDE CENTRAL","EDUCACION INICIAL-NIÑEZ TEMPRANA",15.1,null,null,"2015-1","2015-1","20150008@une.edu.pe","deisy_cardenas2017@hotmail.com",3133700,"975705331",{"$f":"IF(ISERROR(VLOOKUP(Egresados!$N$8:$N$705,Maestros!$D$31:$E$530,2,0)),\"\",VLOOKUP(Egresados!$N$8:$N$705,Maestros!$D$31:$E$530,2,0))","v":"223"},{"$f":"IF(ISERROR(VLOOKUP(Egresados!$O292,Maestros!$G$31:$J$1030,2,0)),\"\",VLOOKUP(Egresados!$O292,Maestros!$G$31:$J$1030,2,0))","v":"8"},{"$f":"CONCATENATE(Egresados!$Z$8:$Z$705,\"a\",Egresados!$AA$8:$AA$705)","v":"223a8"},{"$f":"IF(ISERROR(VLOOKUP(Egresados!$P292,Maestros!$L$31:$Q$1030,2,0)),\"\",VLOOKUP(Egresados!$P292,Maestros!$L$31:$Q$1030,2,0))","v":"65"},{"$f":"CONCATENATE(Egresados!$Z$8:$Z$705,\"a\",Egresados!$AA$8:$AA$705,\"a\",Egresados!$AC$8:$AC$705)","v":"223a8a65"},{"$f":"IF(ISERROR(VLOOKUP(Egresados!$C$8:$C$705,Maestros!$A$4:$B$21,2,0)),\"\",VLOOKUP(Egresados!$C$8:$C$705,Maestros!$A$4:$B$21,2,0))","v":"1001"},{"$f":"IF(ISERROR(VLOOKUP(Egresados!$H$8:$H$705,Maestros!$D$4:$E$21,2,0)),\"\",VLOOKUP(Egresados!$H$8:$H$705,Maestros!$D$4:$E$21,2,0))","v":"1121"},{"$f":"IF(OR(UPPER(Egresados!$J$8:$J$705)=\"SI\",UPPER(Egresados!$J$8:$J$705)=\"SÍ\"),1,IF(UPPER(Egresados!$J$8:$J$705)=\"NO\",0,\"\"))","v":0},{"$f":"IF(OR(UPPER(Egresados!$R$8:$R$705)=\"SI\",UPPER(Egresados!$R$8:$R$705)=\"SÍ\"),1,IF(UPPER(Egresados!$R$8:$R$705)=\"NO\",0,\"\"))","v":""},{"$f":"IF(OR(UPPER(Egresados!$S$8:$S$705)=\"SI\",UPPER(Egresados!$S$8:$S$705)=\"SÍ\"),1,IF(UPPER(Egresados!$S$8:$S$705)=\"NO\",0,\"\"))","v":""},{"$f":"IF(ISERROR(VLOOKUP(Egresados!$T$8:$T$705,Maestros!$S$31:$T$530,2,0)),\"\",VLOOKUP(Egresados!$T$8:$T$705,Maestros!$S$31:$T$530,2,0))","v":"62"},{"$f":"IF(ISERROR(VLOOKUP(U292,Maestros!$S$31:$T$530,2,0)),\"\",VLOOKUP(U292,Maestros!$S$31:$T$530,2,0))","v":"62"},{"$f":"IF(ISERROR(VLOOKUP(Egresados!$K$8:$K$705,Maestros!$A$31:$B$130,2,0)),\"\",VLOOKUP(Egresados!$K$8:$K$705,Maestros!$A$31:$B$130,2,0))","v":""},{"$f":"IF(LEN(tablaEgresados[[#This Row],[Nota promedio]])>0,ROUND(tablaEgresados[[#This Row],[Nota promedio]],2),\"\")","v":15.1}]
[285,null,"DNI","71437170","DOMINGUEZ","VERA","ALEJANDRA MARILYN","FEMENINO",null,"NO",null,null,null,"2020-1","SEDE CENTRAL","EDUCACION INICIAL-NIÑEZ TEMPRANA",16.28,null,null,"2015-1","2015-1","20150037@une.edu.pe","Alejandra_do15@hotmail.com",3133700,"959307992",{"$f":"IF(ISERROR(VLOOKUP(Egresados!$N$8:$N$705,Maestros!$D$31:$E$530,2,0)),\"\",VLOOKUP(Egresados!$N$8:$N$705,Maestros!$D$31:$E$530,2,0))","v":"223"},{"$f":"IF(ISERROR(VLOOKUP(Egresados!$O293,Maestros!$G$31:$J$1030,2,0)),\"\",VLOOKUP(Egresados!$O293,Maestros!$G$31:$J$1030,2,0))","v":"8"},{"$f":"CONCATENATE(Egresados!$Z$8:$Z$705,\"a\",Egresados!$AA$8:$AA$705)","v":"223a8"},{"$f":"IF(ISERROR(VLOOKUP(Egresados!$P293,Maestros!$L$31:$Q$1030,2,0)),\"\",VLOOKUP(Egresados!$P293,Maestros!$L$31:$Q$1030,2,0))","v":"65"},{"$f":"CONCATENATE(Egresados!$Z$8:$Z$705,\"a\",Egresados!$AA$8:$AA$705,\"a\",Egresados!$AC$8:$AC$705)","v":"223a8a65"},{"$f":"IF(ISERROR(VLOOKUP(Egresados!$C$8:$C$705,Maestros!$A$4:$B$21,2,0)),\"\",VLOOKUP(Egresados!$C$8:$C$705,Maestros!$A$4:$B$21,2,0))","v":"1001"},{"$f":"IF(ISERROR(VLOOKUP(Egresados!$H$8:$H$705,Maestros!$D$4:$E$21,2,0)),\"\",VLOOKUP(Egresados!$H$8:$H$705,Maestros!$D$4:$E$21,2,0))","v":"1122"},{"$f":"IF(OR(UPPER(Egresados!$J$8:$J$705)=\"SI\",UPPER(Egresados!$J$8:$J$705)=\"SÍ\"),1,IF(UPPER(Egresados!$J$8:$J$705)=\"NO\",0,\"\"))","v":0},{"$f":"IF(OR(UPPER(Egresados!$R$8:$R$705)=\"SI\",UPPER(Egresados!$R$8:$R$705)=\"SÍ\"),1,IF(UPPER(Egresados!$R$8:$R$705)=\"NO\",0,\"\"))","v":""},{"$f":"IF(OR(UPPER(Egresados!$S$8:$S$705)=\"SI\",UPPER(Egresados!$S$8:$S$705)=\"SÍ\"),1,IF(UPPER(Egresados!$S$8:$S$705)=\"NO\",0,\"\"))","v":""},{"$f":"IF(ISERROR(VLOOKUP(Egresados!$T$8:$T$705,Maestros!$S$31:$T$530,2,0)),\"\",VLOOKUP(Egresados!$T$8:$T$705,Maestros!$S$31:$T$530,2,0))","v":"62"},{"$f":"IF(ISERROR(VLOOKUP(U293,Maestros!$S$31:$T$530,2,0)),\"\",VLOOKUP(U293,Maestros!$S$31:$T$530,2,0))","v":"62"},{"$f":"IF(ISERROR(VLOOKUP(Egresados!$K$8:$K$705,Maestros!$A$31:$B$130,2,0)),\"\",VLOOKUP(Egresados!$K$8:$K$705,Maestros!$A$31:$B$130,2,0))","v":""},{"$f":"IF(LEN(tablaEgresados[[#This Row],[Nota promedio]])>0,ROUND(tablaEgresados[[#This Row],[Nota promedio]],2),\"\")","v":16.28}]
[286,null,"DNI","76709848","AVILA","ALVAREZ","FIANELA SATOMY","FEMENINO",null,"NO",null,null,null,"2020-1","SEDE CENTRAL","EDUCACION INICIAL-NIÑEZ TEMPRANA",15.96,null,null,"2015-1","2015-1","20150016@une.edu.pe","satomy.fiane@gmail.com",3133700,"939125296",{"$f":"IF(ISERROR(VLOOKUP(Egresados!$N$8:$N$705,Maestros!$D$31:$E$530,2,0)),\"\",VLOOKUP(Egresados!$N$8:$N$705,Maestros!$D$31:$E$530,2,0))","v":"223"},{"$f":"IF(ISERROR(VLOOKUP(Egresados!$O294,Maestros!$G$31:$J$1030,2,0)),\"\",VLOOKUP(Egresados!$O294,Maestros!$G$31:$J$1030,2,0))","v":"8"},{"$f":"CONCATENATE(Egresados!$Z$8:$Z$705,\"a\",Egresados!$AA$8:$AA$705)","v":"223a8"},{"$f":"IF(ISERROR(VLOOKUP(Egresados!$P294,Maestros!$L$31:$Q$1030,2,0)),\"\",VLOOKUP(Egresados!$P294,Maestros!$L$31:$Q$1030,2,0))","v":"65"},{"$f":"CONCATENATE(Egresados!$Z$8:$Z$705,\"a\",Egresados!$AA$8:$AA$705,\"a\",Egresados!$AC$8:$AC$705)","v":"223a8a65"},{"$f":"IF(ISERROR(VLOOKUP(Egresados!$C$8:$C$705,Maestros!$A$4:$B$21,2,0)),\"\",VLOOKUP(Egresados!$C$8:$C$705,Maestros!$A$4:$B$21,2,0))","v":"1001"},{"$f":"IF(ISERROR(VLOOKUP(Egresados!$H$8:$H$705,Maestros!$D$4:$E$21,2,0)),\"\",VLOOKUP(Egresados!$H$8:$H$705,Maestros!$D$4:$E$21,2,0))","v":"1122"},{"$f":"IF(OR(UPPER(Egresados!$J$8:$J$705)=\"SI\",UPPER(Egresados!$J$8:$J$705)=\"SÍ\"),1,IF(UPPER(Egresados!$J$8:$J$705)=\"NO\",0,\"\"))","v":0},{"$f":"IF(OR(UPPER(Egresados!$R$8:$R$705)=\"SI\",UPPER(Egresados!$R$8:$R$705)=\"SÍ\"),1,IF(UPPER(Egresados!$R$8:$R$705)=\"NO\",0,\"\"))","v":""},{"$f":"IF(OR(UPPER(Egresados!$S$8:$S$705)=\"SI\",UPPER(Egresados!$S$8:$S$705)=\"SÍ\"),1,IF(UPPER(Egresados!$S$8:$S$705)=\"NO\",0,\"\"))","v":""},{"$f":"IF(ISERROR(VLOOKUP(Egresados!$T$8:$T$705,Maestros!$S$31:$T$530,2,0)),\"\",VLOOKUP(Egresados!$T$8:$T$705,Maestros!$S$31:$T$530,2,0))","v":"62"},{"$f":"IF(ISERROR(VLOOKUP(U294,Maestros!$S$31:$T$530,2,0)),\"\",VLOOKUP(U294,Maestros!$S$31:$T$530,2,0))","v":"62"},{"$f":"IF(ISERROR(VLOOKUP(Egresados!$K$8:$K$705,Maestros!$A$31:$B$130,2,0)),\"\",VLOOKUP(Egresados!$K$8:$K$705,Maestros!$A$31:$B$130,2,0))","v":""},{"$f":"IF(LEN(tablaEgresados[[#This Row],[Nota promedio]])>0,ROUND(tablaEgresados[[#This Row],[Nota promedio]],2),\"\")","v":15.96}]
[287,null,"DNI","70573040","CHOCCE","GARCIA","ANEL ROSA","FEMENINO",null,"NO",null,null,null,"2020-1","SEDE CENTRAL","EDUCACION INICIAL-NIÑEZ TEMPRANA",16.5,null,null,"2015-1","2015-1","20150034@une.edu.pe","anelchoccegarcia@gmail.com",3133700,"953022159",{"$f":"IF(ISERROR(VLOOKUP(Egresados!$N$8:$N$705,Maestros!$D$31:$E$530,2,0)),\"\",VLOOKUP(Egresados!$N$8:$N$705,Maestros!$D$31:$E$530,2,0))","v":"223"},{"$f":"IF(ISERROR(VLOOKUP(Egresados!$O295,Maestros!$G$31:$J$1030,2,0)),\"\",VLOOKUP(Egresados!$O295,Maestros!$G$31:$J$1030,2,0))","v":"8"},{"$f":"CONCATENATE(Egresados!$Z$8:$Z$705,\"a\",Egresados!$AA$8:$AA$705)","v":"223a8"},{"$f":"IF(ISERROR(VLOOKUP(Egresados!$P295,Maestros!$L$31:$Q$1030,2,0)),\"\",VLOOKUP(Egresados!$P295,Maestros!$L$31:$Q$1030,2,0))","v":"65"},{"$f":"CONCATENATE(Egresados!$Z$8:$Z$705,\"a\",Egresados!$AA$8:$AA$705,\"a\",Egresados!$AC$8:$AC$705)","v":"223a8a65"},{"$f":"IF(ISERROR(VLOOKUP(Egresados!$C$8:$C$705,Maestros!$A$4:$B$21,2,0)),\"\",VLOOKUP(Egresados!$C$8:$C$705,Maestros!$A$4:$B$21,2,0))","v":"1001"},{"$f":"IF(ISERROR(VLOOKUP(Egresados!$H$8:$H$705,Maestros!$D$4:$E$21,2,0)),\"\",VLOOKUP(Egresados!$H$8:$H$705,Maestros!$D$4:$E$21,2,0))","v":"1122"},{"$f":"IF(OR(UPPER(Egresados!$J$8:$J$705)=\"SI\",UPPER(Egresados!$J$8:$J$705)=\"SÍ\"),1,IF(UPPER(Egresados!$J$8:$J$705)=\"NO\",0,\"\"))","v":0},{"$f":"IF(OR(UPPER(Egresados!$R$8:$R$705)=\"SI\",UPPER(Egresados!$R$8:$R$705)=\"SÍ\"),1,IF(UPPER(Egresados!$R$8:$R$705)=\"NO\",0,\"\"))","v":""},{"$f":"IF(OR(UPPER(Egresados!$S$8:$S$705)=\"SI\",UPPER(Egresados!$S$8:$S$705)=\"SÍ\"),1,IF(UPPER(Egresados!$S$8:$S$705)=\"NO\",0,\"\"))","v":""},{"$f":"IF(ISERROR(VLOOKUP(Egresados!$T$8:$T$705,Maestros!$S$31:$T$530,2,0)),\"\",VLOOKUP(Egresados!$T$8:$T$705,Maestros!$S$31:$T$530,2,0))","v":"62"},{"$f":"IF(ISERROR(VLOOKUP(U295,Maestros!$S$31:$T$530,2,0)),\"\",VLOOKUP(U295,Maestros!$S$31:$T$530,2,0))","v":"62"},{"$f":"IF(ISERROR(VLOOKUP(Egresados!$K$8:$K$705,Maestros!$A$31:$B$130,2,0)),\"\",VLOOKUP(Egresados!$K$8:$K$705,Maestros!$A$31:$B$130,2,0))","v":""},{"$f":"IF(LEN(tablaEgresados[[#This Row],[Nota promedio]])>0,ROUND(tablaEgresados[[#This Row],[Nota promedio]],2),\"\")","v":16.5}]
[288,null,"DNI","75527661","SALINAS","CAPCHA","NICOL","FEMENINO",null,"NO",null,null,null,"2020-1","SEDE CENTRAL","EDUCACION INICIAL-NIÑEZ TEMPRANA",15.94,null,null,"2015-1","2015-1","20150098@une.edu.pe","nikole_beyni2306@gmail.com",3133700,"975118126",{"$f":"IF(ISERROR(VLOOKUP(Egresados!$N$8:$N$705,Maestros!$D$31:$E$530,2,0)),\"\",VLOOKUP(Egresados!$N$8:$N$705,Maestros!$D$31:$E$530,2,0))","v":"223"},{"$f":"IF(ISERROR(VLOOKUP(Egresados!$O296,Maestros!$G$31:$J$1030,2,0)),\"\",VLOOKUP(Egresados!$O296,Maestros!$G$31:$J$1030,2,0))","v":"8"},{"$f":"CONCATENATE(Egresados!$Z$8:$Z$705,\"a\",Egresados!$AA$8:$AA$705)","v":"223a8"},{"$f":"IF(ISERROR(VLOOKUP(Egresados!$P296,Maestros!$L$31:$Q$1030,2,0)),\"\",VLOOKUP(Egresados!$P296,Maestros!$L$31:$Q$1030,2,0))","v":"65"},{"$f":"CONCATENATE(Egresados!$Z$8:$Z$705,\"a\",Egresados!$AA$8:$AA$705,\"a\",Egresados!$AC$8:$AC$705)","v":"223a8a65"},{"$f":"IF(ISERROR(VLOOKUP(Egresados!$C$8:$C$705,Maestros!$A$4:$B$21,2,0)),\"\",VLOOKUP(Egresados!$C$8:$C$705,Maestros!$A$4:$B$21,2,0))","v":"1001"},{"$f":"IF(ISERROR(VLOOKUP(Egresados!$H$8:$H$705,Maestros!$D$4:$E$21,2,0)),\"\",VLOOKUP(Egresados!$H$8:$H$705,Maestros!$D$4:$E$21,2,0))","v":"1122"},{"$f":"IF(OR(UPPER(Egresados!$J$8:$J$705)=\"SI\",UPPER(Egresados!$J$8:$J$705)=\"SÍ\"),1,IF(UPPER(Egresados!$J$8:$J$705)=\"NO\",0,\"\"))","v":0},{"$f":"IF(OR(UPPER(Egresados!$R$8:$R$705)=\"SI\",UPPER(Egresados!$R$8:$R$705)=\"SÍ\"),1,IF(UPPER(Egresados!$R$8:$R$705)=\"NO\",0,\"\"))","v":""},{"$f":"IF(OR(UPPER(Egresados!$S$8:$S$705)=\"SI\",UPPER(Egresados!$S$8:$S$705)=\"SÍ\"),1,IF(UPPER(Egresados!$S$8:$S$705)=\"NO\",0,\"\"))","v":""},{"$f":"IF(ISERROR(VLOOKUP(Egresados!$T$8:$T$705,Maestros!$S$31:$T$530,2,0)),\"\",VLOOKUP(Egresados!$T$8:$T$705,Maestros!$S$31:$T$530,2,0))","v":"62"},{"$f":"IF(ISERROR(VLOOKUP(U296,Maestros!$S$31:$T$530,2,0)),\"\",VLOOKUP(U296,Maestros!$S$31:$T$530,2,0))","v":"62"},{"$f":"IF(ISERROR(VLOOKUP(Egresados!$K$8:$K$705,Maestros!$A$31:$B$130,2,0)),\"\",VLOOKUP(Egresados!$K$8:$K$705,Maestros!$A$31:$B$130,2,0))","v":""},{"$f":"IF(LEN(tablaEgresados[[#This Row],[Nota promedio]])>0,ROUND(tablaEgresados[[#This Row],[Nota promedio]],2),\"\")","v":15.94}]
[289,null,"DNI","76386503","ANYOSA","NUÑEZ","STEFANNIE LIZBET","FEMENINO",null,"NO",null,null,null,"2020-1","SEDE CENTRAL","EDUCACION INICIAL-NIÑEZ TEMPRANA",15.83,null,null,"2015-1","2015-1","20150009@une.edu.pe","stefannieanyosa20@gmail.com",3133700,"987520800",{"$f":"IF(ISERROR(VLOOKUP(Egresados!$N$8:$N$705,Maestros!$D$31:$E$530,2,0)),\"\",VLOOKUP(Egresados!$N$8:$N$705,Maestros!$D$31:$E$530,2,0))","v":"223"},{"$f":"IF(ISERROR(VLOOKUP(Egresados!$O297,Maestros!$G$31:$J$1030,2,0)),\"\",VLOOKUP(Egresados!$O297,Maestros!$G$31:$J$1030,2,0))","v":"8"},{"$f":"CONCATENATE(Egresados!$Z$8:$Z$705,\"a\",Egresados!$AA$8:$AA$705)","v":"223a8"},{"$f":"IF(ISERROR(VLOOKUP(Egresados!$P297,Maestros!$L$31:$Q$1030,2,0)),\"\",VLOOKUP(Egresados!$P297,Maestros!$L$31:$Q$1030,2,0))","v":"65"},{"$f":"CONCATENATE(Egresados!$Z$8:$Z$705,\"a\",Egresados!$AA$8:$AA$705,\"a\",Egresados!$AC$8:$AC$705)","v":"223a8a65"},{"$f":"IF(ISERROR(VLOOKUP(Egresados!$C$8:$C$705,Maestros!$A$4:$B$21,2,0)),\"\",VLOOKUP(Egresados!$C$8:$C$705,Maestros!$A$4:$B$21,2,0))","v":"1001"},{"$f":"IF(ISERROR(VLOOKUP(Egresados!$H$8:$H$705,Maestros!$D$4:$E$21,2,0)),\"\",VLOOKUP(Egresados!$H$8:$H$705,Maestros!$D$4:$E$21,2,0))","v":"1122"},{"$f":"IF(OR(UPPER(Egresados!$J$8:$J$705)=\"SI\",UPPER(Egresados!$J$8:$J$705)=\"SÍ\"),1,IF(UPPER(Egresados!$J$8:$J$705)=\"NO\",0,\"\"))","v":0},{"$f":"IF(OR(UPPER(Egresados!$R$8:$R$705)=\"SI\",UPPER(Egresados!$R$8:$R$705)=\"SÍ\"),1,IF(UPPER(Egresados!$R$8:$R$705)=\"NO\",0,\"\"))","v":""},{"$f":"IF(OR(UPPER(Egresados!$S$8:$S$705)=\"SI\",UPPER(Egresados!$S$8:$S$705)=\"SÍ\"),1,IF(UPPER(Egresados!$S$8:$S$705)=\"NO\",0,\"\"))","v":""},{"$f":"IF(ISERROR(VLOOKUP(Egresados!$T$8:$T$705,Maestros!$S$31:$T$530,2,0)),\"\",VLOOKUP(Egresados!$T$8:$T$705,Maestros!$S$31:$T$530,2,0))","v":"62"},{"$f":"IF(ISERROR(VLOOKUP(U297,Maestros!$S$31:$T$530,2,0)),\"\",VLOOKUP(U297,Maestros!$S$31:$T$530,2,0))","v":"62"},{"$f":"IF(ISERROR(VLOOKUP(Egresados!$K$8:$K$705,Maestros!$A$31:$B$130,2,0)),\"\",VLOOKUP(Egresados!$K$8:$K$705,Maestros!$A$31:$B$130,2,0))","v":""},{"$f":"IF(LEN(tablaEgresados[[#This Row],[Nota promedio]])>0,ROUND(tablaEgresados[[#This Row],[Nota promedio]],2),\"\")","v":15.83}]
[290,null,"DNI","71828288","MIRANDA","LLAMOCCA","CORALY WENDY","MASCULINO",null,"NO",null,null,null,"2020-1","SEDE CENTRAL","EDUCACION INICIAL-NIÑEZ TEMPRANA",15.1,null,null,"2015-1","2015-1","20150076@une.edu.pe","mirandita_22@hotmail.com",3133700,"935942526",{"$f":"IF(ISERROR(VLOOKUP(Egresados!$N$8:$N$705,Maestros!$D$31:$E$530,2,0)),\"\",VLOOKUP(Egresados!$N$8:$N$705,Maestros!$D$31:$E$530,2,0))","v":"223"},{"$f":"IF(ISERROR(VLOOKUP(Egresados!$O298,Maestros!$G$31:$J$1030,2,0)),\"\",VLOOKUP(Egresados!$O298,Maestros!$G$31:$J$1030,2,0))","v":"8"},{"$f":"CONCATENATE(Egresados!$Z$8:$Z$705,\"a\",Egresados!$AA$8:$AA$705)","v":"223a8"},{"$f":"IF(ISERROR(VLOOKUP(Egresados!$P298,Maestros!$L$31:$Q$1030,2,0)),\"\",VLOOKUP(Egresados!$P298,Maestros!$L$31:$Q$1030,2,0))","v":"65"},{"$f":"CONCATENATE(Egresados!$Z$8:$Z$705,\"a\",Egresados!$AA$8:$AA$705,\"a\",Egresados!$AC$8:$AC$705)","v":"223a8a65"},{"$f":"IF(ISERROR(VLOOKUP(Egresados!$C$8:$C$705,Maestros!$A$4:$B$21,2,0)),\"\",VLOOKUP(Egresados!$C$8:$C$705,Maestros!$A$4:$B$21,2,0))","v":"1001"},{"$f":"IF(ISERROR(VLOOKUP(Egresados!$H$8:$H$705,Maestros!$D$4:$E$21,2,0)),\"\",VLOOKUP(Egresados!$H$8:$H$705,Maestros!$D$4:$E$21,2,0))","v":"1121"},{"$f":"IF(OR(UPPER(Egresados!$J$8:$J$705)=\"SI\",UPPER(Egresados!$J$8:$J$705)=\"SÍ\"),1,IF(UPPER(Egresados!$J$8:$J$705)=\"NO\",0,\"\"))","v":0},{"$f":"IF(OR(UPPER(Egresados!$R$8:$R$705)=\"SI\",UPPER(Egresados!$R$8:$R$705)=\"SÍ\"),1,IF(UPPER(Egresados!$R$8:$R$705)=\"NO\",0,\"\"))","v":""},{"$f":"IF(OR(UPPER(Egresados!$S$8:$S$705)=\"SI\",UPPER(Egresados!$S$8:$S$705)=\"SÍ\"),1,IF(UPPER(Egresados!$S$8:$S$705)=\"NO\",0,\"\"))","v":""},{"$f":"IF(ISERROR(VLOOKUP(Egresados!$T$8:$T$705,Maestros!$S$31:$T$530,2,0)),\"\",VLOOKUP(Egresados!$T$8:$T$705,Maestros!$S$31:$T$530,2,0))","v":"62"},{"$f":"IF(ISERROR(VLOOKUP(U298,Maestros!$S$31:$T$530,2,0)),\"\",VLOOKUP(U298,Maestros!$S$31:$T$530,2,0))","v":"62"},{"$f":"IF(ISERROR(VLOOKUP(Egresados!$K$8:$K$705,Maestros!$A$31:$B$130,2,0)),\"\",VLOOKUP(Egresados!$K$8:$K$705,Maestros!$A$31:$B$130,2,0))","v":""},{"$f":"IF(LEN(tablaEgresados[[#This Row],[Nota promedio]])>0,ROUND(tablaEgresados[[#This Row],[Nota promedio]],2),\"\")","v":15.1}]
[291,null,"DNI","48233955","RODRIGUEZ","VILLODAS","ROSA LUZ","FEMENINO",null,"NO",null,null,null,"2020-1","SEDE CENTRAL","EDUCACION INICIAL-NIÑEZ TEMPRANA",15.55,null,null,"2015-1","2015-1","20150092@une.edu.pe","rosa_luz_rodriguez@hotmail.com",3133700,"994764446",{"$f":"IF(ISERROR(VLOOKUP(Egresados!$N$8:$N$705,Maestros!$D$31:$E$530,2,0)),\"\",VLOOKUP(Egresados!$N$8:$N$705,Maestros!$D$31:$E$530,2,0))","v":"223"},{"$f":"IF(ISERROR(VLOOKUP(Egresados!$O299,Maestros!$G$31:$J$1030,2,0)),\"\",VLOOKUP(Egresados!$O299,Maestros!$G$31:$J$1030,2,0))","v":"8"},{"$f":"CONCATENATE(Egresados!$Z$8:$Z$705,\"a\",Egresados!$AA$8:$AA$705)","v":"223a8"},{"$f":"IF(ISERROR(VLOOKUP(Egresados!$P299,Maestros!$L$31:$Q$1030,2,0)),\"\",VLOOKUP(Egresados!$P299,Maestros!$L$31:$Q$1030,2,0))","v":"65"},{"$f":"CONCATENATE(Egresados!$Z$8:$Z$705,\"a\",Egresados!$AA$8:$AA$705,\"a\",Egresados!$AC$8:$AC$705)","v":"223a8a65"},{"$f":"IF(ISERROR(VLOOKUP(Egresados!$C$8:$C$705,Maestros!$A$4:$B$21,2,0)),\"\",VLOOKUP(Egresados!$C$8:$C$705,Maestros!$A$4:$B$21,2,0))","v":"1001"},{"$f":"IF(ISERROR(VLOOKUP(Egresados!$H$8:$H$705,Maestros!$D$4:$E$21,2,0)),\"\",VLOOKUP(Egresados!$H$8:$H$705,Maestros!$D$4:$E$21,2,0))","v":"1122"},{"$f":"IF(OR(UPPER(Egresados!$J$8:$J$705)=\"SI\",UPPER(Egresados!$J$8:$J$705)=\"SÍ\"),1,IF(UPPER(Egresados!$J$8:$J$705)=\"NO\",0,\"\"))","v":0},{"$f":"IF(OR(UPPER(Egresados!$R$8:$R$705)=\"SI\",UPPER(Egresados!$R$8:$R$705)=\"SÍ\"),1,IF(UPPER(Egresados!$R$8:$R$705)=\"NO\",0,\"\"))","v":""},{"$f":"IF(OR(UPPER(Egresados!$S$8:$S$705)=\"SI\",UPPER(Egresados!$S$8:$S$705)=\"SÍ\"),1,IF(UPPER(Egresados!$S$8:$S$705)=\"NO\",0,\"\"))","v":""},{"$f":"IF(ISERROR(VLOOKUP(Egresados!$T$8:$T$705,Maestros!$S$31:$T$530,2,0)),\"\",VLOOKUP(Egresados!$T$8:$T$705,Maestros!$S$31:$T$530,2,0))","v":"62"},{"$f":"IF(ISERROR(VLOOKUP(U299,Maestros!$S$31:$T$530,2,0)),\"\",VLOOKUP(U299,Maestros!$S$31:$T$530,2,0))","v":"62"},{"$f":"IF(ISERROR(VLOOKUP(Egresados!$K$8:$K$705,Maestros!$A$31:$B$130,2,0)),\"\",VLOOKUP(Egresados!$K$8:$K$705,Maestros!$A$31:$B$130,2,0))","v":""},{"$f":"IF(LEN(tablaEgresados[[#This Row],[Nota promedio]])>0,ROUND(tablaEgresados[[#This Row],[Nota promedio]],2),\"\")","v":15.55}]
[292,null,"DNI","47937475","SALAS","TAMAYO","JANET MELISSA","FEMENINO",null,"NO",null,null,null,"2020-1","SEDE CENTRAL","EDUCACION INICIAL-NIÑEZ TEMPRANA",17.48,null,null,"2015-1","2015-1","20150539@une.edu.pe","rouz99917@hotmail.com",3133700,"935675432",{"$f":"IF(ISERROR(VLOOKUP(Egresados!$N$8:$N$705,Maestros!$D$31:$E$530,2,0)),\"\",VLOOKUP(Egresados!$N$8:$N$705,Maestros!$D$31:$E$530,2,0))","v":"223"},{"$f":"IF(ISERROR(VLOOKUP(Egresados!$O300,Maestros!$G$31:$J$1030,2,0)),\"\",VLOOKUP(Egresados!$O300,Maestros!$G$31:$J$1030,2,0))","v":"8"},{"$f":"CONCATENATE(Egresados!$Z$8:$Z$705,\"a\",Egresados!$AA$8:$AA$705)","v":"223a8"},{"$f":"IF(ISERROR(VLOOKUP(Egresados!$P300,Maestros!$L$31:$Q$1030,2,0)),\"\",VLOOKUP(Egresados!$P300,Maestros!$L$31:$Q$1030,2,0))","v":"65"},{"$f":"CONCATENATE(Egresados!$Z$8:$Z$705,\"a\",Egresados!$AA$8:$AA$705,\"a\",Egresados!$AC$8:$AC$705)","v":"223a8a65"},{"$f":"IF(ISERROR(VLOOKUP(Egresados!$C$8:$C$705,Maestros!$A$4:$B$21,2,0)),\"\",VLOOKUP(Egresados!$C$8:$C$705,Maestros!$A$4:$B$21,2,0))","v":"1001"},{"$f":"IF(ISERROR(VLOOKUP(Egresados!$H$8:$H$705,Maestros!$D$4:$E$21,2,0)),\"\",VLOOKUP(Egresados!$H$8:$H$705,Maestros!$D$4:$E$21,2,0))","v":"1122"},{"$f":"IF(OR(UPPER(Egresados!$J$8:$J$705)=\"SI\",UPPER(Egresados!$J$8:$J$705)=\"SÍ\"),1,IF(UPPER(Egresados!$J$8:$J$705)=\"NO\",0,\"\"))","v":0},{"$f":"IF(OR(UPPER(Egresados!$R$8:$R$705)=\"SI\",UPPER(Egresados!$R$8:$R$705)=\"SÍ\"),1,IF(UPPER(Egresados!$R$8:$R$705)=\"NO\",0,\"\"))","v":""},{"$f":"IF(OR(UPPER(Egresados!$S$8:$S$705)=\"SI\",UPPER(Egresados!$S$8:$S$705)=\"SÍ\"),1,IF(UPPER(Egresados!$S$8:$S$705)=\"NO\",0,\"\"))","v":""},{"$f":"IF(ISERROR(VLOOKUP(Egresados!$T$8:$T$705,Maestros!$S$31:$T$530,2,0)),\"\",VLOOKUP(Egresados!$T$8:$T$705,Maestros!$S$31:$T$530,2,0))","v":"62"},{"$f":"IF(ISERROR(VLOOKUP(U300,Maestros!$S$31:$T$530,2,0)),\"\",VLOOKUP(U300,Maestros!$S$31:$T$530,2,0))","v":"62"},{"$f":"IF(ISERROR(VLOOKUP(Egresados!$K$8:$K$705,Maestros!$A$31:$B$130,2,0)),\"\",VLOOKUP(Egresados!$K$8:$K$705,Maestros!$A$31:$B$130,2,0))","v":""},{"$f":"IF(LEN(tablaEgresados[[#This Row],[Nota promedio]])>0,ROUND(tablaEgresados[[#This Row],[Nota promedio]],2),\"\")","v":17.48}]
[293,null,"DNI","70827839","GOMEZ","VILLAVICENCIO","FLORA","FEMENINO",null,"NO",null,null,null,"2020-1","SEDE CENTRAL","EDUCACION INICIAL-NIÑEZ TEMPRANA",15.7,null,null,"2015-1","2015-1","20150051@une.edu.pe","floragomezvillavicencio@gmail.com",3133700,"959381187",{"$f":"IF(ISERROR(VLOOKUP(Egresados!$N$8:$N$705,Maestros!$D$31:$E$530,2,0)),\"\",VLOOKUP(Egresados!$N$8:$N$705,Maestros!$D$31:$E$530,2,0))","v":"223"},{"$f":"IF(ISERROR(VLOOKUP(Egresados!$O301,Maestros!$G$31:$J$1030,2,0)),\"\",VLOOKUP(Egresados!$O301,Maestros!$G$31:$J$1030,2,0))","v":"8"},{"$f":"CONCATENATE(Egresados!$Z$8:$Z$705,\"a\",Egresados!$AA$8:$AA$705)","v":"223a8"},{"$f":"IF(ISERROR(VLOOKUP(Egresados!$P301,Maestros!$L$31:$Q$1030,2,0)),\"\",VLOOKUP(Egresados!$P301,Maestros!$L$31:$Q$1030,2,0))","v":"65"},{"$f":"CONCATENATE(Egresados!$Z$8:$Z$705,\"a\",Egresados!$AA$8:$AA$705,\"a\",Egresados!$AC$8:$AC$705)","v":"223a8a65"},{"$f":"IF(ISERROR(VLOOKUP(Egresados!$C$8:$C$705,Maestros!$A$4:$B$21,2,0)),\"\",VLOOKUP(Egresados!$C$8:$C$705,Maestros!$A$4:$B$21,2,0))","v":"1001"},{"$f":"IF(ISERROR(VLOOKUP(Egresados!$H$8:$H$705,Maestros!$D$4:$E$21,2,0)),\"\",VLOOKUP(Egresados!$H$8:$H$705,Maestros!$D$4:$E$21,2,0))","v":"1122"},{"$f":"IF(OR(UPPER(Egresados!$J$8:$J$705)=\"SI\",UPPER(Egresados!$J$8:$J$705)=\"SÍ\"),1,IF(UPPER(Egresados!$J$8:$J$705)=\"NO\",0,\"\"))","v":0},{"$f":"IF(OR(UPPER(Egresados!$R$8:$R$705)=\"SI\",UPPER(Egresados!$R$8:$R$705)=\"SÍ\"),1,IF(UPPER(Egresados!$R$8:$R$705)=\"NO\",0,\"\"))","v":""},{"$f":"IF(OR(UPPER(Egresados!$S$8:$S$705)=\"SI\",UPPER(Egresados!$S$8:$S$705)=\"SÍ\"),1,IF(UPPER(Egresados!$S$8:$S$705)=\"NO\",0,\"\"))","v":""},{"$f":"IF(ISERROR(VLOOKUP(Egresados!$T$8:$T$705,Maestros!$S$31:$T$530,2,0)),\"\",VLOOKUP(Egresados!$T$8:$T$705,Maestros!$S$31:$T$530,2,0))","v":"62"},{"$f":"IF(ISERROR(VLOOKUP(U301,Maestros!$S$31:$T$530,2,0)),\"\",VLOOKUP(U301,Maestros!$S$31:$T$530,2,0))","v":"62"},{"$f":"IF(ISERROR(VLOOKUP(Egresados!$K$8:$K$705,Maestros!$A$31:$B$130,2,0)),\"\",VLOOKUP(Egresados!$K$8:$K$705,Maestros!$A$31:$B$130,2,0))","v":""},{"$f":"IF(LEN(tablaEgresados[[#This Row],[Nota promedio]])>0,ROUND(tablaEgresados[[#This Row],[Nota promedio]],2),\"\")","v":15.7}]
[294,null,"DNI","70091477","CORONADO","CHAVARRIA","LUCIA ISABEL","FEMENINO",null,"NO",null,null,null,"2020-1","SEDE CENTRAL","EDUCACION INICIAL-NIÑEZ TEMPRANA",15.7,null,null,"2015-1","2015-1","20150027@une.edu.pe","anlu221010@gmail.com",3133700,"931580499",{"$f":"IF(ISERROR(VLOOKUP(Egresados!$N$8:$N$705,Maestros!$D$31:$E$530,2,0)),\"\",VLOOKUP(Egresados!$N$8:$N$705,Maestros!$D$31:$E$530,2,0))","v":"223"},{"$f":"IF(ISERROR(VLOOKUP(Egresados!$O302,Maestros!$G$31:$J$1030,2,0)),\"\",VLOOKUP(Egresados!$O302,Maestros!$G$31:$J$1030,2,0))","v":"8"},{"$f":"CONCATENATE(Egresados!$Z$8:$Z$705,\"a\",Egresados!$AA$8:$AA$705)","v":"223a8"},{"$f":"IF(ISERROR(VLOOKUP(Egresados!$P302,Maestros!$L$31:$Q$1030,2,0)),\"\",VLOOKUP(Egresados!$P302,Maestros!$L$31:$Q$1030,2,0))","v":"65"},{"$f":"CONCATENATE(Egresados!$Z$8:$Z$705,\"a\",Egresados!$AA$8:$AA$705,\"a\",Egresados!$AC$8:$AC$705)","v":"223a8a65"},{"$f":"IF(ISERROR(VLOOKUP(Egresados!$C$8:$C$705,Maestros!$A$4:$B$21,2,0)),\"\",VLOOKUP(Egresados!$C$8:$C$705,Maestros!$A$4:$B$21,2,0))","v":"1001"},{"$f":"IF(ISERROR(VLOOKUP(Egresados!$H$8:$H$705,Maestros!$D$4:$E$21,2,0)),\"\",VLOOKUP(Egresados!$H$8:$H$705,Maestros!$D$4:$E$21,2,0))","v":"1122"},{"$f":"IF(OR(UPPER(Egresados!$J$8:$J$705)=\"SI\",UPPER(Egresados!$J$8:$J$705)=\"SÍ\"),1,IF(UPPER(Egresados!$J$8:$J$705)=\"NO\",0,\"\"))","v":0},{"$f":"IF(OR(UPPER(Egresados!$R$8:$R$705)=\"SI\",UPPER(Egresados!$R$8:$R$705)=\"SÍ\"),1,IF(UPPER(Egresados!$R$8:$R$705)=\"NO\",0,\"\"))","v":""},{"$f":"IF(OR(UPPER(Egresados!$S$8:$S$705)=\"SI\",UPPER(Egresados!$S$8:$S$705)=\"SÍ\"),1,IF(UPPER(Egresados!$S$8:$S$705)=\"NO\",0,\"\"))","v":""},{"$f":"IF(ISERROR(VLOOKUP(Egresados!$T$8:$T$705,Maestros!$S$31:$T$530,2,0)),\"\",VLOOKUP(Egresados!$T$8:$T$705,Maestros!$S$31:$T$530,2,0))","v":"62"},{"$f":"IF(ISERROR(VLOOKUP(U302,Maestros!$S$31:$T$530,2,0)),\"\",VLOOKUP(U302,Maestros!$S$31:$T$530,2,0))","v":"62"},{"$f":"IF(ISERROR(VLOOKUP(Egresados!$K$8:$K$705,Maestros!$A$31:$B$130,2,0)),\"\",VLOOKUP(Egresados!$K$8:$K$705,Maestros!$A$31:$B$130,2,0))","v":""},{"$f":"IF(LEN(tablaEgresados[[#This Row],[Nota promedio]])>0,ROUND(tablaEgresados[[#This Row],[Nota promedio]],2),\"\")","v":15.7}]
[295,null,"DNI","48384149","SALINAS","ANCIETA","ANALI MARGOT","FEMENINO",null,"NO",null,null,null,"2020-1","SEDE CENTRAL","EDUCACION INICIAL-NIÑEZ TEMPRANA",17.25,null,null,"2015-1","2015-1","20150097@une.edu.pe","analisalinanci@gmail.com",3133700,"993353803",{"$f":"IF(ISERROR(VLOOKUP(Egresados!$N$8:$N$705,Maestros!$D$31:$E$530,2,0)),\"\",VLOOKUP(Egresados!$N$8:$N$705,Maestros!$D$31:$E$530,2,0))","v":"223"},{"$f":"IF(ISERROR(VLOOKUP(Egresados!$O303,Maestros!$G$31:$J$1030,2,0)),\"\",VLOOKUP(Egresados!$O303,Maestros!$G$31:$J$1030,2,0))","v":"8"},{"$f":"CONCATENATE(Egresados!$Z$8:$Z$705,\"a\",Egresados!$AA$8:$AA$705)","v":"223a8"},{"$f":"IF(ISERROR(VLOOKUP(Egresados!$P303,Maestros!$L$31:$Q$1030,2,0)),\"\",VLOOKUP(Egresados!$P303,Maestros!$L$31:$Q$1030,2,0))","v":"65"},{"$f":"CONCATENATE(Egresados!$Z$8:$Z$705,\"a\",Egresados!$AA$8:$AA$705,\"a\",Egresados!$AC$8:$AC$705)","v":"223a8a65"},{"$f":"IF(ISERROR(VLOOKUP(Egresados!$C$8:$C$705,Maestros!$A$4:$B$21,2,0)),\"\",VLOOKUP(Egresados!$C$8:$C$705,Maestros!$A$4:$B$21,2,0))","v":"1001"},{"$f":"IF(ISERROR(VLOOKUP(Egresados!$H$8:$H$705,Maestros!$D$4:$E$21,2,0)),\"\",VLOOKUP(Egresados!$H$8:$H$705,Maestros!$D$4:$E$21,2,0))","v":"1122"},{"$f":"IF(OR(UPPER(Egresados!$J$8:$J$705)=\"SI\",UPPER(Egresados!$J$8:$J$705)=\"SÍ\"),1,IF(UPPER(Egresados!$J$8:$J$705)=\"NO\",0,\"\"))","v":0},{"$f":"IF(OR(UPPER(Egresados!$R$8:$R$705)=\"SI\",UPPER(Egresados!$R$8:$R$705)=\"SÍ\"),1,IF(UPPER(Egresados!$R$8:$R$705)=\"NO\",0,\"\"))","v":""},{"$f":"IF(OR(UPPER(Egresados!$S$8:$S$705)=\"SI\",UPPER(Egresados!$S$8:$S$705)=\"SÍ\"),1,IF(UPPER(Egresados!$S$8:$S$705)=\"NO\",0,\"\"))","v":""},{"$f":"IF(ISERROR(VLOOKUP(Egresados!$T$8:$T$705,Maestros!$S$31:$T$530,2,0)),\"\",VLOOKUP(Egresados!$T$8:$T$705,Maestros!$S$31:$T$530,2,0))","v":"62"},{"$f":"IF(ISERROR(VLOOKUP(U303,Maestros!$S$31:$T$530,2,0)),\"\",VLOOKUP(U303,Maestros!$S$31:$T$530,2,0))","v":"62"},{"$f":"IF(ISERROR(VLOOKUP(Egresados!$K$8:$K$705,Maestros!$A$31:$B$130,2,0)),\"\",VLOOKUP(Egresados!$K$8:$K$705,Maestros!$A$31:$B$130,2,0))","v":""},{"$f":"IF(LEN(tablaEgresados[[#This Row],[Nota promedio]])>0,ROUND(tablaEgresados[[#This Row],[Nota promedio]],2),\"\")","v":17.25}]
[296,null,"DNI","70994428","ESPINOZA","SOLIS","VERONICA LIZETH","MASCULINO",null,"NO",null,null,null,"2020-1","SEDE CENTRAL","EDUCACION INICIAL-NIÑEZ TEMPRANA",14.6,null,null,"2015-1","2015-1","20150043@une.edu.pe","lizeth1234562015@hotmail.com",3133700,"932303828",{"$f":"IF(ISERROR(VLOOKUP(Egresados!$N$8:$N$705,Maestros!$D$31:$E$530,2,0)),\"\",VLOOKUP(Egresados!$N$8:$N$705,Maestros!$D$31:$E$530,2,0))","v":"223"},{"$f":"IF(ISERROR(VLOOKUP(Egresados!$O304,Maestros!$G$31:$J$1030,2,0)),\"\",VLOOKUP(Egresados!$O304,Maestros!$G$31:$J$1030,2,0))","v":"8"},{"$f":"CONCATENATE(Egresados!$Z$8:$Z$705,\"a\",Egresados!$AA$8:$AA$705)","v":"223a8"},{"$f":"IF(ISERROR(VLOOKUP(Egresados!$P304,Maestros!$L$31:$Q$1030,2,0)),\"\",VLOOKUP(Egresados!$P304,Maestros!$L$31:$Q$1030,2,0))","v":"65"},{"$f":"CONCATENATE(Egresados!$Z$8:$Z$705,\"a\",Egresados!$AA$8:$AA$705,\"a\",Egresados!$AC$8:$AC$705)","v":"223a8a65"},{"$f":"IF(ISERROR(VLOOKUP(Egresados!$C$8:$C$705,Maestros!$A$4:$B$21,2,0)),\"\",VLOOKUP(Egresados!$C$8:$C$705,Maestros!$A$4:$B$21,2,0))","v":"1001"},{"$f":"IF(ISERROR(VLOOKUP(Egresados!$H$8:$H$705,Maestros!$D$4:$E$21,2,0)),\"\",VLOOKUP(Egresados!$H$8:$H$705,Maestros!$D$4:$E$21,2,0))","v":"1121"},{"$f":"IF(OR(UPPER(Egresados!$J$8:$J$705)=\"SI\",UPPER(Egresados!$J$8:$J$705)=\"SÍ\"),1,IF(UPPER(Egresados!$J$8:$J$705)=\"NO\",0,\"\"))","v":0},{"$f":"IF(OR(UPPER(Egresados!$R$8:$R$705)=\"SI\",UPPER(Egresados!$R$8:$R$705)=\"SÍ\"),1,IF(UPPER(Egresados!$R$8:$R$705)=\"NO\",0,\"\"))","v":""},{"$f":"IF(OR(UPPER(Egresados!$S$8:$S$705)=\"SI\",UPPER(Egresados!$S$8:$S$705)=\"SÍ\"),1,IF(UPPER(Egresados!$S$8:$S$705)=\"NO\",0,\"\"))","v":""},{"$f":"IF(ISERROR(VLOOKUP(Egresados!$T$8:$T$705,Maestros!$S$31:$T$530,2,0)),\"\",VLOOKUP(Egresados!$T$8:$T$705,Maestros!$S$31:$T$530,2,0))","v":"62"},{"$f":"IF(ISERROR(VLOOKUP(U304,Maestros!$S$31:$T$530,2,0)),\"\",VLOOKUP(U304,Maestros!$S$31:$T$530,2,0))","v":"62"},{"$f":"IF(ISERROR(VLOOKUP(Egresados!$K$8:$K$705,Maestros!$A$31:$B$130,2,0)),\"\",VLOOKUP(Egresados!$K$8:$K$705,Maestros!$A$31:$B$130,2,0))","v":""},{"$f":"IF(LEN(tablaEgresados[[#This Row],[Nota promedio]])>0,ROUND(tablaEgresados[[#This Row],[Nota promedio]],2),\"\")","v":14.6}]
[297,null,"DNI","74139662","TORRES","HUATUCO","GERALDINE MILAGROS","FEMENINO",null,"NO",null,null,null,"2020-1","SEDE CENTRAL","EDUCACION INICIAL-NIÑEZ TEMPRANA",15.31,null,null,"2015-1","2015-1","20150102@une.edu.pe","geral_0507th@hotmail.com",3133700,"935654246",{"$f":"IF(ISERROR(VLOOKUP(Egresados!$N$8:$N$705,Maestros!$D$31:$E$530,2,0)),\"\",VLOOKUP(Egresados!$N$8:$N$705,Maestros!$D$31:$E$530,2,0))","v":"223"},{"$f":"IF(ISERROR(VLOOKUP(Egresados!$O305,Maestros!$G$31:$J$1030,2,0)),\"\",VLOOKUP(Egresados!$O305,Maestros!$G$31:$J$1030,2,0))","v":"8"},{"$f":"CONCATENATE(Egresados!$Z$8:$Z$705,\"a\",Egresados!$AA$8:$AA$705)","v":"223a8"},{"$f":"IF(ISERROR(VLOOKUP(Egresados!$P305,Maestros!$L$31:$Q$1030,2,0)),\"\",VLOOKUP(Egresados!$P305,Maestros!$L$31:$Q$1030,2,0))","v":"65"},{"$f":"CONCATENATE(Egresados!$Z$8:$Z$705,\"a\",Egresados!$AA$8:$AA$705,\"a\",Egresados!$AC$8:$AC$705)","v":"223a8a65"},{"$f":"IF(ISERROR(VLOOKUP(Egresados!$C$8:$C$705,Maestros!$A$4:$B$21,2,0)),\"\",VLOOKUP(Egresados!$C$8:$C$705,Maestros!$A$4:$B$21,2,0))","v":"1001"},{"$f":"IF(ISERROR(VLOOKUP(Egresados!$H$8:$H$705,Maestros!$D$4:$E$21,2,0)),\"\",VLOOKUP(Egresados!$H$8:$H$705,Maestros!$D$4:$E$21,2,0))","v":"1122"},{"$f":"IF(OR(UPPER(Egresados!$J$8:$J$705)=\"SI\",UPPER(Egresados!$J$8:$J$705)=\"SÍ\"),1,IF(UPPER(Egresados!$J$8:$J$705)=\"NO\",0,\"\"))","v":0},{"$f":"IF(OR(UPPER(Egresados!$R$8:$R$705)=\"SI\",UPPER(Egresados!$R$8:$R$705)=\"SÍ\"),1,IF(UPPER(Egresados!$R$8:$R$705)=\"NO\",0,\"\"))","v":""},{"$f":"IF(OR(UPPER(Egresados!$S$8:$S$705)=\"SI\",UPPER(Egresados!$S$8:$S$705)=\"SÍ\"),1,IF(UPPER(Egresados!$S$8:$S$705)=\"NO\",0,\"\"))","v":""},{"$f":"IF(ISERROR(VLOOKUP(Egresados!$T$8:$T$705,Maestros!$S$31:$T$530,2,0)),\"\",VLOOKUP(Egresados!$T$8:$T$705,Maestros!$S$31:$T$530,2,0))","v":"62"},{"$f":"IF(ISERROR(VLOOKUP(U305,Maestros!$S$31:$T$530,2,0)),\"\",VLOOKUP(U305,Maestros!$S$31:$T$530,2,0))","v":"62"},{"$f":"IF(ISERROR(VLOOKUP(Egresados!$K$8:$K$705,Maestros!$A$31:$B$130,2,0)),\"\",VLOOKUP(Egresados!$K$8:$K$705,Maestros!$A$31:$B$130,2,0))","v":""},{"$f":"IF(LEN(tablaEgresados[[#This Row],[Nota promedio]])>0,ROUND(tablaEgresados[[#This Row],[Nota promedio]],2),\"\")","v":15.31}]
[298,null,"DNI","45665163","ARELLANO","ARCE","DOLY CLOTILDE","FEMENINO",null,"NO",null,null,null,"2020-1","SEDE CENTRAL","EDUCACION INICIAL-NIÑEZ TEMPRANA",15.45,null,null,"2015-1","2015-1","20150012@une.edu.pe","dolyarellano@outlook.com",3133700,"986640791",{"$f":"IF(ISERROR(VLOOKUP(Egresados!$N$8:$N$705,Maestros!$D$31:$E$530,2,0)),\"\",VLOOKUP(Egresados!$N$8:$N$705,Maestros!$D$31:$E$530,2,0))","v":"223"},{"$f":"IF(ISERROR(VLOOKUP(Egresados!$O306,Maestros!$G$31:$J$1030,2,0)),\"\",VLOOKUP(Egresados!$O306,Maestros!$G$31:$J$1030,2,0))","v":"8"},{"$f":"CONCATENATE(Egresados!$Z$8:$Z$705,\"a\",Egresados!$AA$8:$AA$705)","v":"223a8"},{"$f":"IF(ISERROR(VLOOKUP(Egresados!$P306,Maestros!$L$31:$Q$1030,2,0)),\"\",VLOOKUP(Egresados!$P306,Maestros!$L$31:$Q$1030,2,0))","v":"65"},{"$f":"CONCATENATE(Egresados!$Z$8:$Z$705,\"a\",Egresados!$AA$8:$AA$705,\"a\",Egresados!$AC$8:$AC$705)","v":"223a8a65"},{"$f":"IF(ISERROR(VLOOKUP(Egresados!$C$8:$C$705,Maestros!$A$4:$B$21,2,0)),\"\",VLOOKUP(Egresados!$C$8:$C$705,Maestros!$A$4:$B$21,2,0))","v":"1001"},{"$f":"IF(ISERROR(VLOOKUP(Egresados!$H$8:$H$705,Maestros!$D$4:$E$21,2,0)),\"\",VLOOKUP(Egresados!$H$8:$H$705,Maestros!$D$4:$E$21,2,0))","v":"1122"},{"$f":"IF(OR(UPPER(Egresados!$J$8:$J$705)=\"SI\",UPPER(Egresados!$J$8:$J$705)=\"SÍ\"),1,IF(UPPER(Egresados!$J$8:$J$705)=\"NO\",0,\"\"))","v":0},{"$f":"IF(OR(UPPER(Egresados!$R$8:$R$705)=\"SI\",UPPER(Egresados!$R$8:$R$705)=\"SÍ\"),1,IF(UPPER(Egresados!$R$8:$R$705)=\"NO\",0,\"\"))","v":""},{"$f":"IF(OR(UPPER(Egresados!$S$8:$S$705)=\"SI\",UPPER(Egresados!$S$8:$S$705)=\"SÍ\"),1,IF(UPPER(Egresados!$S$8:$S$705)=\"NO\",0,\"\"))","v":""},{"$f":"IF(ISERROR(VLOOKUP(Egresados!$T$8:$T$705,Maestros!$S$31:$T$530,2,0)),\"\",VLOOKUP(Egresados!$T$8:$T$705,Maestros!$S$31:$T$530,2,0))","v":"62"},{"$f":"IF(ISERROR(VLOOKUP(U306,Maestros!$S$31:$T$530,2,0)),\"\",VLOOKUP(U306,Maestros!$S$31:$T$530,2,0))","v":"62"},{"$f":"IF(ISERROR(VLOOKUP(Egresados!$K$8:$K$705,Maestros!$A$31:$B$130,2,0)),\"\",VLOOKUP(Egresados!$K$8:$K$705,Maestros!$A$31:$B$130,2,0))","v":""},{"$f":"IF(LEN(tablaEgresados[[#This Row],[Nota promedio]])>0,ROUND(tablaEgresados[[#This Row],[Nota promedio]],2),\"\")","v":15.45}]
[299,null,"DNI","76346613","PARIONA","NUÑEZ","TANIA RAQUEL","FEMENINO",null,"NO",null,null,null,"2020-1","SEDE CENTRAL","EDUCACION INICIAL-NIÑEZ TEMPRANA",16.579999999999998,null,null,"2015-1","2015-1","20150084@une.edu.pe","tania.pariona.abigail@hotmail.com",3133700,"955853789",{"$f":"IF(ISERROR(VLOOKUP(Egresados!$N$8:$N$705,Maestros!$D$31:$E$530,2,0)),\"\",VLOOKUP(Egresados!$N$8:$N$705,Maestros!$D$31:$E$530,2,0))","v":"223"},{"$f":"IF(ISERROR(VLOOKUP(Egresados!$O307,Maestros!$G$31:$J$1030,2,0)),\"\",VLOOKUP(Egresados!$O307,Maestros!$G$31:$J$1030,2,0))","v":"8"},{"$f":"CONCATENATE(Egresados!$Z$8:$Z$705,\"a\",Egresados!$AA$8:$AA$705)","v":"223a8"},{"$f":"IF(ISERROR(VLOOKUP(Egresados!$P307,Maestros!$L$31:$Q$1030,2,0)),\"\",VLOOKUP(Egresados!$P307,Maestros!$L$31:$Q$1030,2,0))","v":"65"},{"$f":"CONCATENATE(Egresados!$Z$8:$Z$705,\"a\",Egresados!$AA$8:$AA$705,\"a\",Egresados!$AC$8:$AC$705)","v":"223a8a65"},{"$f":"IF(ISERROR(VLOOKUP(Egresados!$C$8:$C$705,Maestros!$A$4:$B$21,2,0)),\"\",VLOOKUP(Egresados!$C$8:$C$705,Maestros!$A$4:$B$21,2,0))","v":"1001"},{"$f":"IF(ISERROR(VLOOKUP(Egresados!$H$8:$H$705,Maestros!$D$4:$E$21,2,0)),\"\",VLOOKUP(Egresados!$H$8:$H$705,Maestros!$D$4:$E$21,2,0))","v":"1122"},{"$f":"IF(OR(UPPER(Egresados!$J$8:$J$705)=\"SI\",UPPER(Egresados!$J$8:$J$705)=\"SÍ\"),1,IF(UPPER(Egresados!$J$8:$J$705)=\"NO\",0,\"\"))","v":0},{"$f":"IF(OR(UPPER(Egresados!$R$8:$R$705)=\"SI\",UPPER(Egresados!$R$8:$R$705)=\"SÍ\"),1,IF(UPPER(Egresados!$R$8:$R$705)=\"NO\",0,\"\"))","v":""},{"$f":"IF(OR(UPPER(Egresados!$S$8:$S$705)=\"SI\",UPPER(Egresados!$S$8:$S$705)=\"SÍ\"),1,IF(UPPER(Egresados!$S$8:$S$705)=\"NO\",0,\"\"))","v":""},{"$f":"IF(ISERROR(VLOOKUP(Egresados!$T$8:$T$705,Maestros!$S$31:$T$530,2,0)),\"\",VLOOKUP(Egresados!$T$8:$T$705,Maestros!$S$31:$T$530,2,0))","v":"62"},{"$f":"IF(ISERROR(VLOOKUP(U307,Maestros!$S$31:$T$530,2,0)),\"\",VLOOKUP(U307,Maestros!$S$31:$T$530,2,0))","v":"62"},{"$f":"IF(ISERROR(VLOOKUP(Egresados!$K$8:$K$705,Maestros!$A$31:$B$130,2,0)),\"\",VLOOKUP(Egresados!$K$8:$K$705,Maestros!$A$31:$B$130,2,0))","v":""},{"$f":"IF(LEN(tablaEgresados[[#This Row],[Nota promedio]])>0,ROUND(tablaEgresados[[#This Row],[Nota promedio]],2),\"\")","v":16.579999999999998}]
[300,null,"DNI","73658282","HUARANGA"," GOZAR","LIZBETH","FEMENINO",null,"NO",null,null,null,"2020-1","SEDE CENTRAL","EDUCACION INICIAL-NIÑEZ TEMPRANA",15.92,null,null,"2015-1","2015-1","20150055@une.edu.pe","lizbethhuarangagozar03@gmail.com",3133700,"933385678",{"$f":"IF(ISERROR(VLOOKUP(Egresados!$N$8:$N$705,Maestros!$D$31:$E$530,2,0)),\"\",VLOOKUP(Egresados!$N$8:$N$705,Maestros!$D$31:$E$530,2,0))","v":"223"},{"$f":"IF(ISERROR(VLOOKUP(Egresados!$O308,Maestros!$G$31:$J$1030,2,0)),\"\",VLOOKUP(Egresados!$O308,Maestros!$G$31:$J$1030,2,0))","v":"8"},{"$f":"CONCATENATE(Egresados!$Z$8:$Z$705,\"a\",Egresados!$AA$8:$AA$705)","v":"223a8"},{"$f":"IF(ISERROR(VLOOKUP(Egresados!$P308,Maestros!$L$31:$Q$1030,2,0)),\"\",VLOOKUP(Egresados!$P308,Maestros!$L$31:$Q$1030,2,0))","v":"65"},{"$f":"CONCATENATE(Egresados!$Z$8:$Z$705,\"a\",Egresados!$AA$8:$AA$705,\"a\",Egresados!$AC$8:$AC$705)","v":"223a8a65"},{"$f":"IF(ISERROR(VLOOKUP(Egresados!$C$8:$C$705,Maestros!$A$4:$B$21,2,0)),\"\",VLOOKUP(Egresados!$C$8:$C$705,Maestros!$A$4:$B$21,2,0))","v":"1001"},{"$f":"IF(ISERROR(VLOOKUP(Egresados!$H$8:$H$705,Maestros!$D$4:$E$21,2,0)),\"\",VLOOKUP(Egresados!$H$8:$H$705,Maestros!$D$4:$E$21,2,0))","v":"1122"},{"$f":"IF(OR(UPPER(Egresados!$J$8:$J$705)=\"SI\",UPPER(Egresados!$J$8:$J$705)=\"SÍ\"),1,IF(UPPER(Egresados!$J$8:$J$705)=\"NO\",0,\"\"))","v":0},{"$f":"IF(OR(UPPER(Egresados!$R$8:$R$705)=\"SI\",UPPER(Egresados!$R$8:$R$705)=\"SÍ\"),1,IF(UPPER(Egresados!$R$8:$R$705)=\"NO\",0,\"\"))","v":""},{"$f":"IF(OR(UPPER(Egresados!$S$8:$S$705)=\"SI\",UPPER(Egresados!$S$8:$S$705)=\"SÍ\"),1,IF(UPPER(Egresados!$S$8:$S$705)=\"NO\",0,\"\"))","v":""},{"$f":"IF(ISERROR(VLOOKUP(Egresados!$T$8:$T$705,Maestros!$S$31:$T$530,2,0)),\"\",VLOOKUP(Egresados!$T$8:$T$705,Maestros!$S$31:$T$530,2,0))","v":"62"},{"$f":"IF(ISERROR(VLOOKUP(U308,Maestros!$S$31:$T$530,2,0)),\"\",VLOOKUP(U308,Maestros!$S$31:$T$530,2,0))","v":"62"},{"$f":"IF(ISERROR(VLOOKUP(Egresados!$K$8:$K$705,Maestros!$A$31:$B$130,2,0)),\"\",VLOOKUP(Egresados!$K$8:$K$705,Maestros!$A$31:$B$130,2,0))","v":""},{"$f":"IF(LEN(tablaEgresados[[#This Row],[Nota promedio]])>0,ROUND(tablaEgresados[[#This Row],[Nota promedio]],2),\"\")","v":15.92}]
[301,null,"DNI","72217077","NIÑO","PINTO","LOURDES EUDOSIA","FEMENINO",null,"NO",null,null,null,"2020-1","SEDE CENTRAL","EDUCACION INICIAL-NIÑEZ TEMPRANA",16.079999999999998,null,null,"2015-1","2015-1","20150079@une.edu.pe","lourdesninopinto@gmail.com",3133700,"967865514",{"$f":"IF(ISERROR(VLOOKUP(Egresados!$N$8:$N$705,Maestros!$D$31:$E$530,2,0)),\"\",VLOOKUP(Egresados!$N$8:$N$705,Maestros!$D$31:$E$530,2,0))","v":"223"},{"$f":"IF(ISERROR(VLOOKUP(Egresados!$O309,Maestros!$G$31:$J$1030,2,0)),\"\",VLOOKUP(Egresados!$O309,Maestros!$G$31:$J$1030,2,0))","v":"8"},{"$f":"CONCATENATE(Egresados!$Z$8:$Z$705,\"a\",Egresados!$AA$8:$AA$705)","v":"223a8"},{"$f":"IF(ISERROR(VLOOKUP(Egresados!$P309,Maestros!$L$31:$Q$1030,2,0)),\"\",VLOOKUP(Egresados!$P309,Maestros!$L$31:$Q$1030,2,0))","v":"65"},{"$f":"CONCATENATE(Egresados!$Z$8:$Z$705,\"a\",Egresados!$AA$8:$AA$705,\"a\",Egresados!$AC$8:$AC$705)","v":"223a8a65"},{"$f":"IF(ISERROR(VLOOKUP(Egresados!$C$8:$C$705,Maestros!$A$4:$B$21,2,0)),\"\",VLOOKUP(Egresados!$C$8:$C$705,Maestros!$A$4:$B$21,2,0))","v":"1001"},{"$f":"IF(ISERROR(VLOOKUP(Egresados!$H$8:$H$705,Maestros!$D$4:$E$21,2,0)),\"\",VLOOKUP(Egresados!$H$8:$H$705,Maestros!$D$4:$E$21,2,0))","v":"1122"},{"$f":"IF(OR(UPPER(Egresados!$J$8:$J$705)=\"SI\",UPPER(Egresados!$J$8:$J$705)=\"SÍ\"),1,IF(UPPER(Egresados!$J$8:$J$705)=\"NO\",0,\"\"))","v":0},{"$f":"IF(OR(UPPER(Egresados!$R$8:$R$705)=\"SI\",UPPER(Egresados!$R$8:$R$705)=\"SÍ\"),1,IF(UPPER(Egresados!$R$8:$R$705)=\"NO\",0,\"\"))","v":""},{"$f":"IF(OR(UPPER(Egresados!$S$8:$S$705)=\"SI\",UPPER(Egresados!$S$8:$S$705)=\"SÍ\"),1,IF(UPPER(Egresados!$S$8:$S$705)=\"NO\",0,\"\"))","v":""},{"$f":"IF(ISERROR(VLOOKUP(Egresados!$T$8:$T$705,Maestros!$S$31:$T$530,2,0)),\"\",VLOOKUP(Egresados!$T$8:$T$705,Maestros!$S$31:$T$530,2,0))","v":"62"},{"$f":"IF(ISERROR(VLOOKUP(U309,Maestros!$S$31:$T$530,2,0)),\"\",VLOOKUP(U309,Maestros!$S$31:$T$530,2,0))","v":"62"},{"$f":"IF(ISERROR(VLOOKUP(Egresados!$K$8:$K$705,Maestros!$A$31:$B$130,2,0)),\"\",VLOOKUP(Egresados!$K$8:$K$705,Maestros!$A$31:$B$130,2,0))","v":""},{"$f":"IF(LEN(tablaEgresados[[#This Row],[Nota promedio]])>0,ROUND(tablaEgresados[[#This Row],[Nota promedio]],2),\"\")","v":16.079999999999998}]
[302,null,"DNI","71463461","CASTILLO","RODRIGUEZ","LESLY GESABEL","FEMENINO",null,"NO",null,null,null,"2020-1","SEDE CENTRAL","EDUCACION INICIAL-NIÑEZ TEMPRANA",16.23,null,null,"2014-1","2014-1","20140596@une.edu.pe","lesly-20@hotmail.es",3133700,"932945315",{"$f":"IF(ISERROR(VLOOKUP(Egresados!$N$8:$N$705,Maestros!$D$31:$E$530,2,0)),\"\",VLOOKUP(Egresados!$N$8:$N$705,Maestros!$D$31:$E$530,2,0))","v":"223"},{"$f":"IF(ISERROR(VLOOKUP(Egresados!$O310,Maestros!$G$31:$J$1030,2,0)),\"\",VLOOKUP(Egresados!$O310,Maestros!$G$31:$J$1030,2,0))","v":"8"},{"$f":"CONCATENATE(Egresados!$Z$8:$Z$705,\"a\",Egresados!$AA$8:$AA$705)","v":"223a8"},{"$f":"IF(ISERROR(VLOOKUP(Egresados!$P310,Maestros!$L$31:$Q$1030,2,0)),\"\",VLOOKUP(Egresados!$P310,Maestros!$L$31:$Q$1030,2,0))","v":"65"},{"$f":"CONCATENATE(Egresados!$Z$8:$Z$705,\"a\",Egresados!$AA$8:$AA$705,\"a\",Egresados!$AC$8:$AC$705)","v":"223a8a65"},{"$f":"IF(ISERROR(VLOOKUP(Egresados!$C$8:$C$705,Maestros!$A$4:$B$21,2,0)),\"\",VLOOKUP(Egresados!$C$8:$C$705,Maestros!$A$4:$B$21,2,0))","v":"1001"},{"$f":"IF(ISERROR(VLOOKUP(Egresados!$H$8:$H$705,Maestros!$D$4:$E$21,2,0)),\"\",VLOOKUP(Egresados!$H$8:$H$705,Maestros!$D$4:$E$21,2,0))","v":"1122"},{"$f":"IF(OR(UPPER(Egresados!$J$8:$J$705)=\"SI\",UPPER(Egresados!$J$8:$J$705)=\"SÍ\"),1,IF(UPPER(Egresados!$J$8:$J$705)=\"NO\",0,\"\"))","v":0},{"$f":"IF(OR(UPPER(Egresados!$R$8:$R$705)=\"SI\",UPPER(Egresados!$R$8:$R$705)=\"SÍ\"),1,IF(UPPER(Egresados!$R$8:$R$705)=\"NO\",0,\"\"))","v":""},{"$f":"IF(OR(UPPER(Egresados!$S$8:$S$705)=\"SI\",UPPER(Egresados!$S$8:$S$705)=\"SÍ\"),1,IF(UPPER(Egresados!$S$8:$S$705)=\"NO\",0,\"\"))","v":""},{"$f":"IF(ISERROR(VLOOKUP(Egresados!$T$8:$T$705,Maestros!$S$31:$T$530,2,0)),\"\",VLOOKUP(Egresados!$T$8:$T$705,Maestros!$S$31:$T$530,2,0))","v":"58"},{"$f":"IF(ISERROR(VLOOKUP(U310,Maestros!$S$31:$T$530,2,0)),\"\",VLOOKUP(U310,Maestros!$S$31:$T$530,2,0))","v":"58"},{"$f":"IF(ISERROR(VLOOKUP(Egresados!$K$8:$K$705,Maestros!$A$31:$B$130,2,0)),\"\",VLOOKUP(Egresados!$K$8:$K$705,Maestros!$A$31:$B$130,2,0))","v":""},{"$f":"IF(LEN(tablaEgresados[[#This Row],[Nota promedio]])>0,ROUND(tablaEgresados[[#This Row],[Nota promedio]],2),\"\")","v":16.23}]
[303,null,"DNI","44929210","PELAEZ","PUELLES","JOAN ELIZABETH","FEMENINO",null,"NO",null,null,null,"2020-1","SEDE CENTRAL","EDUCACION INICIAL-NIÑEZ TEMPRANA",15.22,null,null,"2010-1","2010-1","20101606@une.edu.pe","eli_libra16@hotmail.com",3133700,"940911573",{"$f":"IF(ISERROR(VLOOKUP(Egresados!$N$8:$N$705,Maestros!$D$31:$E$530,2,0)),\"\",VLOOKUP(Egresados!$N$8:$N$705,Maestros!$D$31:$E$530,2,0))","v":"223"},{"$f":"IF(ISERROR(VLOOKUP(Egresados!$O311,Maestros!$G$31:$J$1030,2,0)),\"\",VLOOKUP(Egresados!$O311,Maestros!$G$31:$J$1030,2,0))","v":"8"},{"$f":"CONCATENATE(Egresados!$Z$8:$Z$705,\"a\",Egresados!$AA$8:$AA$705)","v":"223a8"},{"$f":"IF(ISERROR(VLOOKUP(Egresados!$P311,Maestros!$L$31:$Q$1030,2,0)),\"\",VLOOKUP(Egresados!$P311,Maestros!$L$31:$Q$1030,2,0))","v":"65"},{"$f":"CONCATENATE(Egresados!$Z$8:$Z$705,\"a\",Egresados!$AA$8:$AA$705,\"a\",Egresados!$AC$8:$AC$705)","v":"223a8a65"},{"$f":"IF(ISERROR(VLOOKUP(Egresados!$C$8:$C$705,Maestros!$A$4:$B$21,2,0)),\"\",VLOOKUP(Egresados!$C$8:$C$705,Maestros!$A$4:$B$21,2,0))","v":"1001"},{"$f":"IF(ISERROR(VLOOKUP(Egresados!$H$8:$H$705,Maestros!$D$4:$E$21,2,0)),\"\",VLOOKUP(Egresados!$H$8:$H$705,Maestros!$D$4:$E$21,2,0))","v":"1122"},{"$f":"IF(OR(UPPER(Egresados!$J$8:$J$705)=\"SI\",UPPER(Egresados!$J$8:$J$705)=\"SÍ\"),1,IF(UPPER(Egresados!$J$8:$J$705)=\"NO\",0,\"\"))","v":0},{"$f":"IF(OR(UPPER(Egresados!$R$8:$R$705)=\"SI\",UPPER(Egresados!$R$8:$R$705)=\"SÍ\"),1,IF(UPPER(Egresados!$R$8:$R$705)=\"NO\",0,\"\"))","v":""},{"$f":"IF(OR(UPPER(Egresados!$S$8:$S$705)=\"SI\",UPPER(Egresados!$S$8:$S$705)=\"SÍ\"),1,IF(UPPER(Egresados!$S$8:$S$705)=\"NO\",0,\"\"))","v":""},{"$f":"IF(ISERROR(VLOOKUP(Egresados!$T$8:$T$705,Maestros!$S$31:$T$530,2,0)),\"\",VLOOKUP(Egresados!$T$8:$T$705,Maestros!$S$31:$T$530,2,0))","v":"42"},{"$f":"IF(ISERROR(VLOOKUP(U311,Maestros!$S$31:$T$530,2,0)),\"\",VLOOKUP(U311,Maestros!$S$31:$T$530,2,0))","v":"42"},{"$f":"IF(ISERROR(VLOOKUP(Egresados!$K$8:$K$705,Maestros!$A$31:$B$130,2,0)),\"\",VLOOKUP(Egresados!$K$8:$K$705,Maestros!$A$31:$B$130,2,0))","v":""},{"$f":"IF(LEN(tablaEgresados[[#This Row],[Nota promedio]])>0,ROUND(tablaEgresados[[#This Row],[Nota promedio]],2),\"\")","v":15.22}]
[304,null,"DNI","71407284","BEJARANO","DEL CASTILLO","ROSARIO STEPHANI","FEMENINO",null,"NO",null,null,null,"2020-1","SEDE CENTRAL","EDUCACION INICIAL-NIÑEZ TEMPRANA",15.67,null,null,"2015-1","2015-1","20150017@une.edu.pe","rosarioestrella009@hotmail.com",3133700,976486001,{"$f":"IF(ISERROR(VLOOKUP(Egresados!$N$8:$N$705,Maestros!$D$31:$E$530,2,0)),\"\",VLOOKUP(Egresados!$N$8:$N$705,Maestros!$D$31:$E$530,2,0))","v":"223"},{"$f":"IF(ISERROR(VLOOKUP(Egresados!$O312,Maestros!$G$31:$J$1030,2,0)),\"\",VLOOKUP(Egresados!$O312,Maestros!$G$31:$J$1030,2,0))","v":"8"},{"$f":"CONCATENATE(Egresados!$Z$8:$Z$705,\"a\",Egresados!$AA$8:$AA$705)","v":"223a8"},{"$f":"IF(ISERROR(VLOOKUP(Egresados!$P312,Maestros!$L$31:$Q$1030,2,0)),\"\",VLOOKUP(Egresados!$P312,Maestros!$L$31:$Q$1030,2,0))","v":"65"},{"$f":"CONCATENATE(Egresados!$Z$8:$Z$705,\"a\",Egresados!$AA$8:$AA$705,\"a\",Egresados!$AC$8:$AC$705)","v":"223a8a65"},{"$f":"IF(ISERROR(VLOOKUP(Egresados!$C$8:$C$705,Maestros!$A$4:$B$21,2,0)),\"\",VLOOKUP(Egresados!$C$8:$C$705,Maestros!$A$4:$B$21,2,0))","v":"1001"},{"$f":"IF(ISERROR(VLOOKUP(Egresados!$H$8:$H$705,Maestros!$D$4:$E$21,2,0)),\"\",VLOOKUP(Egresados!$H$8:$H$705,Maestros!$D$4:$E$21,2,0))","v":"1122"},{"$f":"IF(OR(UPPER(Egresados!$J$8:$J$705)=\"SI\",UPPER(Egresados!$J$8:$J$705)=\"SÍ\"),1,IF(UPPER(Egresados!$J$8:$J$705)=\"NO\",0,\"\"))","v":0},{"$f":"IF(OR(UPPER(Egresados!$R$8:$R$705)=\"SI\",UPPER(Egresados!$R$8:$R$705)=\"SÍ\"),1,IF(UPPER(Egresados!$R$8:$R$705)=\"NO\",0,\"\"))","v":""},{"$f":"IF(OR(UPPER(Egresados!$S$8:$S$705)=\"SI\",UPPER(Egresados!$S$8:$S$705)=\"SÍ\"),1,IF(UPPER(Egresados!$S$8:$S$705)=\"NO\",0,\"\"))","v":""},{"$f":"IF(ISERROR(VLOOKUP(Egresados!$T$8:$T$705,Maestros!$S$31:$T$530,2,0)),\"\",VLOOKUP(Egresados!$T$8:$T$705,Maestros!$S$31:$T$530,2,0))","v":"62"},{"$f":"IF(ISERROR(VLOOKUP(U312,Maestros!$S$31:$T$530,2,0)),\"\",VLOOKUP(U312,Maestros!$S$31:$T$530,2,0))","v":"62"},{"$f":"IF(ISERROR(VLOOKUP(Egresados!$K$8:$K$705,Maestros!$A$31:$B$130,2,0)),\"\",VLOOKUP(Egresados!$K$8:$K$705,Maestros!$A$31:$B$130,2,0))","v":""},{"$f":"IF(LEN(tablaEgresados[[#This Row],[Nota promedio]])>0,ROUND(tablaEgresados[[#This Row],[Nota promedio]],2),\"\")","v":15.67}]
[305,null,"DNI","72127660","CAMAN","VENEGAS","LUZ ANGELA ESTHER","FEMENINO",null,"NO",null,null,null,"2020-1","SEDE CENTRAL","EDUCACION INICIAL-NIÑEZ TEMPRANA",15.82,null,null,"2015-1","2015-1","20150021@une.edu.pe","lusesita86@hotmail.com",3133700,976486001,{"$f":"IF(ISERROR(VLOOKUP(Egresados!$N$8:$N$705,Maestros!$D$31:$E$530,2,0)),\"\",VLOOKUP(Egresados!$N$8:$N$705,Maestros!$D$31:$E$530,2,0))","v":"223"},{"$f":"IF(ISERROR(VLOOKUP(Egresados!$O313,Maestros!$G$31:$J$1030,2,0)),\"\",VLOOKUP(Egresados!$O313,Maestros!$G$31:$J$1030,2,0))","v":"8"},{"$f":"CONCATENATE(Egresados!$Z$8:$Z$705,\"a\",Egresados!$AA$8:$AA$705)","v":"223a8"},{"$f":"IF(ISERROR(VLOOKUP(Egresados!$P313,Maestros!$L$31:$Q$1030,2,0)),\"\",VLOOKUP(Egresados!$P313,Maestros!$L$31:$Q$1030,2,0))","v":"65"},{"$f":"CONCATENATE(Egresados!$Z$8:$Z$705,\"a\",Egresados!$AA$8:$AA$705,\"a\",Egresados!$AC$8:$AC$705)","v":"223a8a65"},{"$f":"IF(ISERROR(VLOOKUP(Egresados!$C$8:$C$705,Maestros!$A$4:$B$21,2,0)),\"\",VLOOKUP(Egresados!$C$8:$C$705,Maestros!$A$4:$B$21,2,0))","v":"1001"},{"$f":"IF(ISERROR(VLOOKUP(Egresados!$H$8:$H$705,Maestros!$D$4:$E$21,2,0)),\"\",VLOOKUP(Egresados!$H$8:$H$705,Maestros!$D$4:$E$21,2,0))","v":"1122"},{"$f":"IF(OR(UPPER(Egresados!$J$8:$J$705)=\"SI\",UPPER(Egresados!$J$8:$J$705)=\"SÍ\"),1,IF(UPPER(Egresados!$J$8:$J$705)=\"NO\",0,\"\"))","v":0},{"$f":"IF(OR(UPPER(Egresados!$R$8:$R$705)=\"SI\",UPPER(Egresados!$R$8:$R$705)=\"SÍ\"),1,IF(UPPER(Egresados!$R$8:$R$705)=\"NO\",0,\"\"))","v":""},{"$f":"IF(OR(UPPER(Egresados!$S$8:$S$705)=\"SI\",UPPER(Egresados!$S$8:$S$705)=\"SÍ\"),1,IF(UPPER(Egresados!$S$8:$S$705)=\"NO\",0,\"\"))","v":""},{"$f":"IF(ISERROR(VLOOKUP(Egresados!$T$8:$T$705,Maestros!$S$31:$T$530,2,0)),\"\",VLOOKUP(Egresados!$T$8:$T$705,Maestros!$S$31:$T$530,2,0))","v":"62"},{"$f":"IF(ISERROR(VLOOKUP(U313,Maestros!$S$31:$T$530,2,0)),\"\",VLOOKUP(U313,Maestros!$S$31:$T$530,2,0))","v":"62"},{"$f":"IF(ISERROR(VLOOKUP(Egresados!$K$8:$K$705,Maestros!$A$31:$B$130,2,0)),\"\",VLOOKUP(Egresados!$K$8:$K$705,Maestros!$A$31:$B$130,2,0))","v":""},{"$f":"IF(LEN(tablaEgresados[[#This Row],[Nota promedio]])>0,ROUND(tablaEgresados[[#This Row],[Nota promedio]],2),\"\")","v":15.82}]
[306,null,"DNI","72898324","UGARTE","MORA","MARYURI MICHEL","FEMENINO",null,"NO",null,null,null,"2020-1","SEDE CENTRAL","EDUCACION INICIAL-NIÑEZ TEMPRANA",15.89,null,null,"2015-1","2015-1","20150103@une.edu.pe","mar_yuri03@hotmail.com",3133700,"976374519",{"$f":"IF(ISERROR(VLOOKUP(Egresados!$N$8:$N$705,Maestros!$D$31:$E$530,2,0)),\"\",VLOOKUP(Egresados!$N$8:$N$705,Maestros!$D$31:$E$530,2,0))","v":"223"},{"$f":"IF(ISERROR(VLOOKUP(Egresados!$O314,Maestros!$G$31:$J$1030,2,0)),\"\",VLOOKUP(Egresados!$O314,Maestros!$G$31:$J$1030,2,0))","v":"8"},{"$f":"CONCATENATE(Egresados!$Z$8:$Z$705,\"a\",Egresados!$AA$8:$AA$705)","v":"223a8"},{"$f":"IF(ISERROR(VLOOKUP(Egresados!$P314,Maestros!$L$31:$Q$1030,2,0)),\"\",VLOOKUP(Egresados!$P314,Maestros!$L$31:$Q$1030,2,0))","v":"65"},{"$f":"CONCATENATE(Egresados!$Z$8:$Z$705,\"a\",Egresados!$AA$8:$AA$705,\"a\",Egresados!$AC$8:$AC$705)","v":"223a8a65"},{"$f":"IF(ISERROR(VLOOKUP(Egresados!$C$8:$C$705,Maestros!$A$4:$B$21,2,0)),\"\",VLOOKUP(Egresados!$C$8:$C$705,Maestros!$A$4:$B$21,2,0))","v":"1001"},{"$f":"IF(ISERROR(VLOOKUP(Egresados!$H$8:$H$705,Maestros!$D$4:$E$21,2,0)),\"\",VLOOKUP(Egresados!$H$8:$H$705,Maestros!$D$4:$E$21,2,0))","v":"1122"},{"$f":"IF(OR(UPPER(Egresados!$J$8:$J$705)=\"SI\",UPPER(Egresados!$J$8:$J$705)=\"SÍ\"),1,IF(UPPER(Egresados!$J$8:$J$705)=\"NO\",0,\"\"))","v":0},{"$f":"IF(OR(UPPER(Egresados!$R$8:$R$705)=\"SI\",UPPER(Egresados!$R$8:$R$705)=\"SÍ\"),1,IF(UPPER(Egresados!$R$8:$R$705)=\"NO\",0,\"\"))","v":""},{"$f":"IF(OR(UPPER(Egresados!$S$8:$S$705)=\"SI\",UPPER(Egresados!$S$8:$S$705)=\"SÍ\"),1,IF(UPPER(Egresados!$S$8:$S$705)=\"NO\",0,\"\"))","v":""},{"$f":"IF(ISERROR(VLOOKUP(Egresados!$T$8:$T$705,Maestros!$S$31:$T$530,2,0)),\"\",VLOOKUP(Egresados!$T$8:$T$705,Maestros!$S$31:$T$530,2,0))","v":"62"},{"$f":"IF(ISERROR(VLOOKUP(U314,Maestros!$S$31:$T$530,2,0)),\"\",VLOOKUP(U314,Maestros!$S$31:$T$530,2,0))","v":"62"},{"$f":"IF(ISERROR(VLOOKUP(Egresados!$K$8:$K$705,Maestros!$A$31:$B$130,2,0)),\"\",VLOOKUP(Egresados!$K$8:$K$705,Maestros!$A$31:$B$130,2,0))","v":""},{"$f":"IF(LEN(tablaEgresados[[#This Row],[Nota promedio]])>0,ROUND(tablaEgresados[[#This Row],[Nota promedio]],2),\"\")","v":15.89}]
[307,null,"DNI","48467756","CHAMBI","TUANAMA","DIANA ELENA","FEMENINO",null,"NO",null,null,null,"2020-1","SEDE CENTRAL","EDUCACION INICIAL-NIÑEZ TEMPRANA",15.96,null,null,"2015-1","2015-1","20150033@une.edu.pe","diana1236@hotmail.com",3133700,"922960135",{"$f":"IF(ISERROR(VLOOKUP(Egresados!$N$8:$N$705,Maestros!$D$31:$E$530,2,0)),\"\",VLOOKUP(Egresados!$N$8:$N$705,Maestros!$D$31:$E$530,2,0))","v":"223"},{"$f":"IF(ISERROR(VLOOKUP(Egresados!$O315,Maestros!$G$31:$J$1030,2,0)),\"\",VLOOKUP(Egresados!$O315,Maestros!$G$31:$J$1030,2,0))","v":"8"},{"$f":"CONCATENATE(Egresados!$Z$8:$Z$705,\"a\",Egresados!$AA$8:$AA$705)","v":"223a8"},{"$f":"IF(ISERROR(VLOOKUP(Egresados!$P315,Maestros!$L$31:$Q$1030,2,0)),\"\",VLOOKUP(Egresados!$P315,Maestros!$L$31:$Q$1030,2,0))","v":"65"},{"$f":"CONCATENATE(Egresados!$Z$8:$Z$705,\"a\",Egresados!$AA$8:$AA$705,\"a\",Egresados!$AC$8:$AC$705)","v":"223a8a65"},{"$f":"IF(ISERROR(VLOOKUP(Egresados!$C$8:$C$705,Maestros!$A$4:$B$21,2,0)),\"\",VLOOKUP(Egresados!$C$8:$C$705,Maestros!$A$4:$B$21,2,0))","v":"1001"},{"$f":"IF(ISERROR(VLOOKUP(Egresados!$H$8:$H$705,Maestros!$D$4:$E$21,2,0)),\"\",VLOOKUP(Egresados!$H$8:$H$705,Maestros!$D$4:$E$21,2,0))","v":"1122"},{"$f":"IF(OR(UPPER(Egresados!$J$8:$J$705)=\"SI\",UPPER(Egresados!$J$8:$J$705)=\"SÍ\"),1,IF(UPPER(Egresados!$J$8:$J$705)=\"NO\",0,\"\"))","v":0},{"$f":"IF(OR(UPPER(Egresados!$R$8:$R$705)=\"SI\",UPPER(Egresados!$R$8:$R$705)=\"SÍ\"),1,IF(UPPER(Egresados!$R$8:$R$705)=\"NO\",0,\"\"))","v":""},{"$f":"IF(OR(UPPER(Egresados!$S$8:$S$705)=\"SI\",UPPER(Egresados!$S$8:$S$705)=\"SÍ\"),1,IF(UPPER(Egresados!$S$8:$S$705)=\"NO\",0,\"\"))","v":""},{"$f":"IF(ISERROR(VLOOKUP(Egresados!$T$8:$T$705,Maestros!$S$31:$T$530,2,0)),\"\",VLOOKUP(Egresados!$T$8:$T$705,Maestros!$S$31:$T$530,2,0))","v":"62"},{"$f":"IF(ISERROR(VLOOKUP(U315,Maestros!$S$31:$T$530,2,0)),\"\",VLOOKUP(U315,Maestros!$S$31:$T$530,2,0))","v":"62"},{"$f":"IF(ISERROR(VLOOKUP(Egresados!$K$8:$K$705,Maestros!$A$31:$B$130,2,0)),\"\",VLOOKUP(Egresados!$K$8:$K$705,Maestros!$A$31:$B$130,2,0))","v":""},{"$f":"IF(LEN(tablaEgresados[[#This Row],[Nota promedio]])>0,ROUND(tablaEgresados[[#This Row],[Nota promedio]],2),\"\")","v":15.96}]
[308,null,"DNI","72860574","VELARDE","PINARES","DANIA GRECIA ANGIE","FEMENINO",null,"NO",null,null,null,"2020-1","SEDE CENTRAL","EDUCACION INICIAL-NIÑEZ TEMPRANA",15.2,null,null,"2015-1","2015-1","20150105@une.edu.pe","super_angie1998@hotmail.com",3133700,"931827543",{"$f":"IF(ISERROR(VLOOKUP(Egresados!$N$8:$N$705,Maestros!$D$31:$E$530,2,0)),\"\",VLOOKUP(Egresados!$N$8:$N$705,Maestros!$D$31:$E$530,2,0))","v":"223"},{"$f":"IF(ISERROR(VLOOKUP(Egresados!$O316,Maestros!$G$31:$J$1030,2,0)),\"\",VLOOKUP(Egresados!$O316,Maestros!$G$31:$J$1030,2,0))","v":"8"},{"$f":"CONCATENATE(Egresados!$Z$8:$Z$705,\"a\",Egresados!$AA$8:$AA$705)","v":"223a8"},{"$f":"IF(ISERROR(VLOOKUP(Egresados!$P316,Maestros!$L$31:$Q$1030,2,0)),\"\",VLOOKUP(Egresados!$P316,Maestros!$L$31:$Q$1030,2,0))","v":"65"},{"$f":"CONCATENATE(Egresados!$Z$8:$Z$705,\"a\",Egresados!$AA$8:$AA$705,\"a\",Egresados!$AC$8:$AC$705)","v":"223a8a65"},{"$f":"IF(ISERROR(VLOOKUP(Egresados!$C$8:$C$705,Maestros!$A$4:$B$21,2,0)),\"\",VLOOKUP(Egresados!$C$8:$C$705,Maestros!$A$4:$B$21,2,0))","v":"1001"},{"$f":"IF(ISERROR(VLOOKUP(Egresados!$H$8:$H$705,Maestros!$D$4:$E$21,2,0)),\"\",VLOOKUP(Egresados!$H$8:$H$705,Maestros!$D$4:$E$21,2,0))","v":"1122"},{"$f":"IF(OR(UPPER(Egresados!$J$8:$J$705)=\"SI\",UPPER(Egresados!$J$8:$J$705)=\"SÍ\"),1,IF(UPPER(Egresados!$J$8:$J$705)=\"NO\",0,\"\"))","v":0},{"$f":"IF(OR(UPPER(Egresados!$R$8:$R$705)=\"SI\",UPPER(Egresados!$R$8:$R$705)=\"SÍ\"),1,IF(UPPER(Egresados!$R$8:$R$705)=\"NO\",0,\"\"))","v":""},{"$f":"IF(OR(UPPER(Egresados!$S$8:$S$705)=\"SI\",UPPER(Egresados!$S$8:$S$705)=\"SÍ\"),1,IF(UPPER(Egresados!$S$8:$S$705)=\"NO\",0,\"\"))","v":""},{"$f":"IF(ISERROR(VLOOKUP(Egresados!$T$8:$T$705,Maestros!$S$31:$T$530,2,0)),\"\",VLOOKUP(Egresados!$T$8:$T$705,Maestros!$S$31:$T$530,2,0))","v":"62"},{"$f":"IF(ISERROR(VLOOKUP(U316,Maestros!$S$31:$T$530,2,0)),\"\",VLOOKUP(U316,Maestros!$S$31:$T$530,2,0))","v":"62"},{"$f":"IF(ISERROR(VLOOKUP(Egresados!$K$8:$K$705,Maestros!$A$31:$B$130,2,0)),\"\",VLOOKUP(Egresados!$K$8:$K$705,Maestros!$A$31:$B$130,2,0))","v":""},{"$f":"IF(LEN(tablaEgresados[[#This Row],[Nota promedio]])>0,ROUND(tablaEgresados[[#This Row],[Nota promedio]],2),\"\")","v":15.2}]
[309,null,"DNI","73853023","GAVILAN","HUACHACA","JHENNY ROCIO","MASCULINO",null,"NO",null,null,null,"2020-1","SEDE CENTRAL","EDUCACION INICIAL-NIÑEZ TEMPRANA",14.73,null,null,"2013-1","2013-1","20130995@une.edu.pe","jhennyshita@gmail.com",3133700,"948941375",{"$f":"IF(ISERROR(VLOOKUP(Egresados!$N$8:$N$705,Maestros!$D$31:$E$530,2,0)),\"\",VLOOKUP(Egresados!$N$8:$N$705,Maestros!$D$31:$E$530,2,0))","v":"223"},{"$f":"IF(ISERROR(VLOOKUP(Egresados!$O317,Maestros!$G$31:$J$1030,2,0)),\"\",VLOOKUP(Egresados!$O317,Maestros!$G$31:$J$1030,2,0))","v":"8"},{"$f":"CONCATENATE(Egresados!$Z$8:$Z$705,\"a\",Egresados!$AA$8:$AA$705)","v":"223a8"},{"$f":"IF(ISERROR(VLOOKUP(Egresados!$P317,Maestros!$L$31:$Q$1030,2,0)),\"\",VLOOKUP(Egresados!$P317,Maestros!$L$31:$Q$1030,2,0))","v":"65"},{"$f":"CONCATENATE(Egresados!$Z$8:$Z$705,\"a\",Egresados!$AA$8:$AA$705,\"a\",Egresados!$AC$8:$AC$705)","v":"223a8a65"},{"$f":"IF(ISERROR(VLOOKUP(Egresados!$C$8:$C$705,Maestros!$A$4:$B$21,2,0)),\"\",VLOOKUP(Egresados!$C$8:$C$705,Maestros!$A$4:$B$21,2,0))","v":"1001"},{"$f":"IF(ISERROR(VLOOKUP(Egresados!$H$8:$H$705,Maestros!$D$4:$E$21,2,0)),\"\",VLOOKUP(Egresados!$H$8:$H$705,Maestros!$D$4:$E$21,2,0))","v":"1121"},{"$f":"IF(OR(UPPER(Egresados!$J$8:$J$705)=\"SI\",UPPER(Egresados!$J$8:$J$705)=\"SÍ\"),1,IF(UPPER(Egresados!$J$8:$J$705)=\"NO\",0,\"\"))","v":0},{"$f":"IF(OR(UPPER(Egresados!$R$8:$R$705)=\"SI\",UPPER(Egresados!$R$8:$R$705)=\"SÍ\"),1,IF(UPPER(Egresados!$R$8:$R$705)=\"NO\",0,\"\"))","v":""},{"$f":"IF(OR(UPPER(Egresados!$S$8:$S$705)=\"SI\",UPPER(Egresados!$S$8:$S$705)=\"SÍ\"),1,IF(UPPER(Egresados!$S$8:$S$705)=\"NO\",0,\"\"))","v":""},{"$f":"IF(ISERROR(VLOOKUP(Egresados!$T$8:$T$705,Maestros!$S$31:$T$530,2,0)),\"\",VLOOKUP(Egresados!$T$8:$T$705,Maestros!$S$31:$T$530,2,0))","v":"54"},{"$f":"IF(ISERROR(VLOOKUP(U317,Maestros!$S$31:$T$530,2,0)),\"\",VLOOKUP(U317,Maestros!$S$31:$T$530,2,0))","v":"54"},{"$f":"IF(ISERROR(VLOOKUP(Egresados!$K$8:$K$705,Maestros!$A$31:$B$130,2,0)),\"\",VLOOKUP(Egresados!$K$8:$K$705,Maestros!$A$31:$B$130,2,0))","v":""},{"$f":"IF(LEN(tablaEgresados[[#This Row],[Nota promedio]])>0,ROUND(tablaEgresados[[#This Row],[Nota promedio]],2),\"\")","v":14.73}]
[310,null,"DNI","76517310","CORNEJO","MEZA","MARIA EUGENIA","FEMENINO",null,"NO",null,null,null,"2020-1","SEDE CENTRAL","EDUCACION INICIAL-NIÑEZ TEMPRANA",15.58,null,null,"2015-1","2015-1","20150026@une.edu.pe","maripo.cm@hotmail.es",3133700,"957056888",{"$f":"IF(ISERROR(VLOOKUP(Egresados!$N$8:$N$705,Maestros!$D$31:$E$530,2,0)),\"\",VLOOKUP(Egresados!$N$8:$N$705,Maestros!$D$31:$E$530,2,0))","v":"223"},{"$f":"IF(ISERROR(VLOOKUP(Egresados!$O318,Maestros!$G$31:$J$1030,2,0)),\"\",VLOOKUP(Egresados!$O318,Maestros!$G$31:$J$1030,2,0))","v":"8"},{"$f":"CONCATENATE(Egresados!$Z$8:$Z$705,\"a\",Egresados!$AA$8:$AA$705)","v":"223a8"},{"$f":"IF(ISERROR(VLOOKUP(Egresados!$P318,Maestros!$L$31:$Q$1030,2,0)),\"\",VLOOKUP(Egresados!$P318,Maestros!$L$31:$Q$1030,2,0))","v":"65"},{"$f":"CONCATENATE(Egresados!$Z$8:$Z$705,\"a\",Egresados!$AA$8:$AA$705,\"a\",Egresados!$AC$8:$AC$705)","v":"223a8a65"},{"$f":"IF(ISERROR(VLOOKUP(Egresados!$C$8:$C$705,Maestros!$A$4:$B$21,2,0)),\"\",VLOOKUP(Egresados!$C$8:$C$705,Maestros!$A$4:$B$21,2,0))","v":"1001"},{"$f":"IF(ISERROR(VLOOKUP(Egresados!$H$8:$H$705,Maestros!$D$4:$E$21,2,0)),\"\",VLOOKUP(Egresados!$H$8:$H$705,Maestros!$D$4:$E$21,2,0))","v":"1122"},{"$f":"IF(OR(UPPER(Egresados!$J$8:$J$705)=\"SI\",UPPER(Egresados!$J$8:$J$705)=\"SÍ\"),1,IF(UPPER(Egresados!$J$8:$J$705)=\"NO\",0,\"\"))","v":0},{"$f":"IF(OR(UPPER(Egresados!$R$8:$R$705)=\"SI\",UPPER(Egresados!$R$8:$R$705)=\"SÍ\"),1,IF(UPPER(Egresados!$R$8:$R$705)=\"NO\",0,\"\"))","v":""},{"$f":"IF(OR(UPPER(Egresados!$S$8:$S$705)=\"SI\",UPPER(Egresados!$S$8:$S$705)=\"SÍ\"),1,IF(UPPER(Egresados!$S$8:$S$705)=\"NO\",0,\"\"))","v":""},{"$f":"IF(ISERROR(VLOOKUP(Egresados!$T$8:$T$705,Maestros!$S$31:$T$530,2,0)),\"\",VLOOKUP(Egresados!$T$8:$T$705,Maestros!$S$31:$T$530,2,0))","v":"62"},{"$f":"IF(ISERROR(VLOOKUP(U318,Maestros!$S$31:$T$530,2,0)),\"\",VLOOKUP(U318,Maestros!$S$31:$T$530,2,0))","v":"62"},{"$f":"IF(ISERROR(VLOOKUP(Egresados!$K$8:$K$705,Maestros!$A$31:$B$130,2,0)),\"\",VLOOKUP(Egresados!$K$8:$K$705,Maestros!$A$31:$B$130,2,0))","v":""},{"$f":"IF(LEN(tablaEgresados[[#This Row],[Nota promedio]])>0,ROUND(tablaEgresados[[#This Row],[Nota promedio]],2),\"\")","v":15.58}]
[311,null,"DNI","73211201","ATANACIO","GUERRA","EUGENIA DONATILA","FEMENINO",null,"NO",null,null,null,"2020-1","SEDE CENTRAL","EDUCACION INICIAL-NIÑEZ TEMPRANA",16.690000000000001,null,null,"2015-1","2015-1","20150014@une.edu.pe","capricornio_euge@hotmail.com",3133700,"968101644",{"$f":"IF(ISERROR(VLOOKUP(Egresados!$N$8:$N$705,Maestros!$D$31:$E$530,2,0)),\"\",VLOOKUP(Egresados!$N$8:$N$705,Maestros!$D$31:$E$530,2,0))","v":"223"},{"$f":"IF(ISERROR(VLOOKUP(Egresados!$O319,Maestros!$G$31:$J$1030,2,0)),\"\",VLOOKUP(Egresados!$O319,Maestros!$G$31:$J$1030,2,0))","v":"8"},{"$f":"CONCATENATE(Egresados!$Z$8:$Z$705,\"a\",Egresados!$AA$8:$AA$705)","v":"223a8"},{"$f":"IF(ISERROR(VLOOKUP(Egresados!$P319,Maestros!$L$31:$Q$1030,2,0)),\"\",VLOOKUP(Egresados!$P319,Maestros!$L$31:$Q$1030,2,0))","v":"65"},{"$f":"CONCATENATE(Egresados!$Z$8:$Z$705,\"a\",Egresados!$AA$8:$AA$705,\"a\",Egresados!$AC$8:$AC$705)","v":"223a8a65"},{"$f":"IF(ISERROR(VLOOKUP(Egresados!$C$8:$C$705,Maestros!$A$4:$B$21,2,0)),\"\",VLOOKUP(Egresados!$C$8:$C$705,Maestros!$A$4:$B$21,2,0))","v":"1001"},{"$f":"IF(ISERROR(VLOOKUP(Egresados!$H$8:$H$705,Maestros!$D$4:$E$21,2,0)),\"\",VLOOKUP(Egresados!$H$8:$H$705,Maestros!$D$4:$E$21,2,0))","v":"1122"},{"$f":"IF(OR(UPPER(Egresados!$J$8:$J$705)=\"SI\",UPPER(Egresados!$J$8:$J$705)=\"SÍ\"),1,IF(UPPER(Egresados!$J$8:$J$705)=\"NO\",0,\"\"))","v":0},{"$f":"IF(OR(UPPER(Egresados!$R$8:$R$705)=\"SI\",UPPER(Egresados!$R$8:$R$705)=\"SÍ\"),1,IF(UPPER(Egresados!$R$8:$R$705)=\"NO\",0,\"\"))","v":""},{"$f":"IF(OR(UPPER(Egresados!$S$8:$S$705)=\"SI\",UPPER(Egresados!$S$8:$S$705)=\"SÍ\"),1,IF(UPPER(Egresados!$S$8:$S$705)=\"NO\",0,\"\"))","v":""},{"$f":"IF(ISERROR(VLOOKUP(Egresados!$T$8:$T$705,Maestros!$S$31:$T$530,2,0)),\"\",VLOOKUP(Egresados!$T$8:$T$705,Maestros!$S$31:$T$530,2,0))","v":"62"},{"$f":"IF(ISERROR(VLOOKUP(U319,Maestros!$S$31:$T$530,2,0)),\"\",VLOOKUP(U319,Maestros!$S$31:$T$530,2,0))","v":"62"},{"$f":"IF(ISERROR(VLOOKUP(Egresados!$K$8:$K$705,Maestros!$A$31:$B$130,2,0)),\"\",VLOOKUP(Egresados!$K$8:$K$705,Maestros!$A$31:$B$130,2,0))","v":""},{"$f":"IF(LEN(tablaEgresados[[#This Row],[Nota promedio]])>0,ROUND(tablaEgresados[[#This Row],[Nota promedio]],2),\"\")","v":16.690000000000001}]
[312,null,"DNI","75308970","GARCIA","PAREDES","ATHINA ALEXIA","FEMENINO",null,"NO",null,null,null,"2020-1","SEDE CENTRAL","EDUCACION INICIAL-NIÑEZ TEMPRANA",16.86,null,null,"2015-1","2015-1","20150048@une.edu.pe","alexiagarcia29@outlook.com",3133700,"940301583",{"$f":"IF(ISERROR(VLOOKUP(Egresados!$N$8:$N$705,Maestros!$D$31:$E$530,2,0)),\"\",VLOOKUP(Egresados!$N$8:$N$705,Maestros!$D$31:$E$530,2,0))","v":"223"},{"$f":"IF(ISERROR(VLOOKUP(Egresados!$O320,Maestros!$G$31:$J$1030,2,0)),\"\",VLOOKUP(Egresados!$O320,Maestros!$G$31:$J$1030,2,0))","v":"8"},{"$f":"CONCATENATE(Egresados!$Z$8:$Z$705,\"a\",Egresados!$AA$8:$AA$705)","v":"223a8"},{"$f":"IF(ISERROR(VLOOKUP(Egresados!$P320,Maestros!$L$31:$Q$1030,2,0)),\"\",VLOOKUP(Egresados!$P320,Maestros!$L$31:$Q$1030,2,0))","v":"65"},{"$f":"CONCATENATE(Egresados!$Z$8:$Z$705,\"a\",Egresados!$AA$8:$AA$705,\"a\",Egresados!$AC$8:$AC$705)","v":"223a8a65"},{"$f":"IF(ISERROR(VLOOKUP(Egresados!$C$8:$C$705,Maestros!$A$4:$B$21,2,0)),\"\",VLOOKUP(Egresados!$C$8:$C$705,Maestros!$A$4:$B$21,2,0))","v":"1001"},{"$f":"IF(ISERROR(VLOOKUP(Egresados!$H$8:$H$705,Maestros!$D$4:$E$21,2,0)),\"\",VLOOKUP(Egresados!$H$8:$H$705,Maestros!$D$4:$E$21,2,0))","v":"1122"},{"$f":"IF(OR(UPPER(Egresados!$J$8:$J$705)=\"SI\",UPPER(Egresados!$J$8:$J$705)=\"SÍ\"),1,IF(UPPER(Egresados!$J$8:$J$705)=\"NO\",0,\"\"))","v":0},{"$f":"IF(OR(UPPER(Egresados!$R$8:$R$705)=\"SI\",UPPER(Egresados!$R$8:$R$705)=\"SÍ\"),1,IF(UPPER(Egresados!$R$8:$R$705)=\"NO\",0,\"\"))","v":""},{"$f":"IF(OR(UPPER(Egresados!$S$8:$S$705)=\"SI\",UPPER(Egresados!$S$8:$S$705)=\"SÍ\"),1,IF(UPPER(Egresados!$S$8:$S$705)=\"NO\",0,\"\"))","v":""},{"$f":"IF(ISERROR(VLOOKUP(Egresados!$T$8:$T$705,Maestros!$S$31:$T$530,2,0)),\"\",VLOOKUP(Egresados!$T$8:$T$705,Maestros!$S$31:$T$530,2,0))","v":"62"},{"$f":"IF(ISERROR(VLOOKUP(U320,Maestros!$S$31:$T$530,2,0)),\"\",VLOOKUP(U320,Maestros!$S$31:$T$530,2,0))","v":"62"},{"$f":"IF(ISERROR(VLOOKUP(Egresados!$K$8:$K$705,Maestros!$A$31:$B$130,2,0)),\"\",VLOOKUP(Egresados!$K$8:$K$705,Maestros!$A$31:$B$130,2,0))","v":""},{"$f":"IF(LEN(tablaEgresados[[#This Row],[Nota promedio]])>0,ROUND(tablaEgresados[[#This Row],[Nota promedio]],2),\"\")","v":16.86}]
[313,null,"DNI",43030950,"HUARCAYA","YAURI","ANA MARIA","FEMENINO",null,"NO",null,null,null,"2020-1","SEDE CENTRAL","EDUCACION INICIAL-NIÑEZ TEMPRANA",14.88,null,null,"2006-1","2006-1","20061329@une.edu.pe","20061329@une.edu.pe",3133700,976486001,{"$f":"IF(ISERROR(VLOOKUP(Egresados!$N$8:$N$705,Maestros!$D$31:$E$530,2,0)),\"\",VLOOKUP(Egresados!$N$8:$N$705,Maestros!$D$31:$E$530,2,0))","v":"223"},{"$f":"IF(ISERROR(VLOOKUP(Egresados!$O321,Maestros!$G$31:$J$1030,2,0)),\"\",VLOOKUP(Egresados!$O321,Maestros!$G$31:$J$1030,2,0))","v":"8"},{"$f":"CONCATENATE(Egresados!$Z$8:$Z$705,\"a\",Egresados!$AA$8:$AA$705)","v":"223a8"},{"$f":"IF(ISERROR(VLOOKUP(Egresados!$P321,Maestros!$L$31:$Q$1030,2,0)),\"\",VLOOKUP(Egresados!$P321,Maestros!$L$31:$Q$1030,2,0))","v":"65"},{"$f":"CONCATENATE(Egresados!$Z$8:$Z$705,\"a\",Egresados!$AA$8:$AA$705,\"a\",Egresados!$AC$8:$AC$705)","v":"223a8a65"},{"$f":"IF(ISERROR(VLOOKUP(Egresados!$C$8:$C$705,Maestros!$A$4:$B$21,2,0)),\"\",VLOOKUP(Egresados!$C$8:$C$705,Maestros!$A$4:$B$21,2,0))","v":"1001"},{"$f":"IF(ISERROR(VLOOKUP(Egresados!$H$8:$H$705,Maestros!$D$4:$E$21,2,0)),\"\",VLOOKUP(Egresados!$H$8:$H$705,Maestros!$D$4:$E$21,2,0))","v":"1122"},{"$f":"IF(OR(UPPER(Egresados!$J$8:$J$705)=\"SI\",UPPER(Egresados!$J$8:$J$705)=\"SÍ\"),1,IF(UPPER(Egresados!$J$8:$J$705)=\"NO\",0,\"\"))","v":0},{"$f":"IF(OR(UPPER(Egresados!$R$8:$R$705)=\"SI\",UPPER(Egresados!$R$8:$R$705)=\"SÍ\"),1,IF(UPPER(Egresados!$R$8:$R$705)=\"NO\",0,\"\"))","v":""},{"$f":"IF(OR(UPPER(Egresados!$S$8:$S$705)=\"SI\",UPPER(Egresados!$S$8:$S$705)=\"SÍ\"),1,IF(UPPER(Egresados!$S$8:$S$705)=\"NO\",0,\"\"))","v":""},{"$f":"IF(ISERROR(VLOOKUP(Egresados!$T$8:$T$705,Maestros!$S$31:$T$530,2,0)),\"\",VLOOKUP(Egresados!$T$8:$T$705,Maestros!$S$31:$T$530,2,0))","v":"26"},{"$f":"IF(ISERROR(VLOOKUP(U321,Maestros!$S$31:$T$530,2,0)),\"\",VLOOKUP(U321,Maestros!$S$31:$T$530,2,0))","v":"26"},{"$f":"IF(ISERROR(VLOOKUP(Egresados!$K$8:$K$705,Maestros!$A$31:$B$130,2,0)),\"\",VLOOKUP(Egresados!$K$8:$K$705,Maestros!$A$31:$B$130,2,0))","v":""},{"$f":"IF(LEN(tablaEgresados[[#This Row],[Nota promedio]])>0,ROUND(tablaEgresados[[#This Row],[Nota promedio]],2),\"\")","v":14.88}]
[314,null,"DNI","47083589","PEREZ","MOSCOSO","FLORA JOSEFINA","FEMENINO",null,"NO",null,null,null,"2020-1","SEDE CENTRAL","EDUCACION INICIAL-NIÑEZ TEMPRANA",15.07,null,null,"2010-1","2010-1","20101233@une.edu.pe","20101233@une.edu.pe",3133700,976486001,{"$f":"IF(ISERROR(VLOOKUP(Egresados!$N$8:$N$705,Maestros!$D$31:$E$530,2,0)),\"\",VLOOKUP(Egresados!$N$8:$N$705,Maestros!$D$31:$E$530,2,0))","v":"223"},{"$f":"IF(ISERROR(VLOOKUP(Egresados!$O322,Maestros!$G$31:$J$1030,2,0)),\"\",VLOOKUP(Egresados!$O322,Maestros!$G$31:$J$1030,2,0))","v":"8"},{"$f":"CONCATENATE(Egresados!$Z$8:$Z$705,\"a\",Egresados!$AA$8:$AA$705)","v":"223a8"},{"$f":"IF(ISERROR(VLOOKUP(Egresados!$P322,Maestros!$L$31:$Q$1030,2,0)),\"\",VLOOKUP(Egresados!$P322,Maestros!$L$31:$Q$1030,2,0))","v":"65"},{"$f":"CONCATENATE(Egresados!$Z$8:$Z$705,\"a\",Egresados!$AA$8:$AA$705,\"a\",Egresados!$AC$8:$AC$705)","v":"223a8a65"},{"$f":"IF(ISERROR(VLOOKUP(Egresados!$C$8:$C$705,Maestros!$A$4:$B$21,2,0)),\"\",VLOOKUP(Egresados!$C$8:$C$705,Maestros!$A$4:$B$21,2,0))","v":"1001"},{"$f":"IF(ISERROR(VLOOKUP(Egresados!$H$8:$H$705,Maestros!$D$4:$E$21,2,0)),\"\",VLOOKUP(Egresados!$H$8:$H$705,Maestros!$D$4:$E$21,2,0))","v":"1122"},{"$f":"IF(OR(UPPER(Egresados!$J$8:$J$705)=\"SI\",UPPER(Egresados!$J$8:$J$705)=\"SÍ\"),1,IF(UPPER(Egresados!$J$8:$J$705)=\"NO\",0,\"\"))","v":0},{"$f":"IF(OR(UPPER(Egresados!$R$8:$R$705)=\"SI\",UPPER(Egresados!$R$8:$R$705)=\"SÍ\"),1,IF(UPPER(Egresados!$R$8:$R$705)=\"NO\",0,\"\"))","v":""},{"$f":"IF(OR(UPPER(Egresados!$S$8:$S$705)=\"SI\",UPPER(Egresados!$S$8:$S$705)=\"SÍ\"),1,IF(UPPER(Egresados!$S$8:$S$705)=\"NO\",0,\"\"))","v":""},{"$f":"IF(ISERROR(VLOOKUP(Egresados!$T$8:$T$705,Maestros!$S$31:$T$530,2,0)),\"\",VLOOKUP(Egresados!$T$8:$T$705,Maestros!$S$31:$T$530,2,0))","v":"42"},{"$f":"IF(ISERROR(VLOOKUP(U322,Maestros!$S$31:$T$530,2,0)),\"\",VLOOKUP(U322,Maestros!$S$31:$T$530,2,0))","v":"42"},{"$f":"IF(ISERROR(VLOOKUP(Egresados!$K$8:$K$705,Maestros!$A$31:$B$130,2,0)),\"\",VLOOKUP(Egresados!$K$8:$K$705,Maestros!$A$31:$B$130,2,0))","v":""},{"$f":"IF(LEN(tablaEgresados[[#This Row],[Nota promedio]])>0,ROUND(tablaEgresados[[#This Row],[Nota promedio]],2),\"\")","v":15.07}]
[315,null,"DNI","47572486","LEIVA","SHUÑA","MARYVONNE ORFITA","MASCULINO",null,"NO",null,null,null,"2020-1","SEDE CENTRAL","EDUCACION INICIAL-NIÑEZ TEMPRANA",15.68,null,null,"2012-1","2012-1","20122135@une.edu.pe","20122135@une.edu.pe",3133700,976486001,{"$f":"IF(ISERROR(VLOOKUP(Egresados!$N$8:$N$705,Maestros!$D$31:$E$530,2,0)),\"\",VLOOKUP(Egresados!$N$8:$N$705,Maestros!$D$31:$E$530,2,0))","v":"223"},{"$f":"IF(ISERROR(VLOOKUP(Egresados!$O323,Maestros!$G$31:$J$1030,2,0)),\"\",VLOOKUP(Egresados!$O323,Maestros!$G$31:$J$1030,2,0))","v":"8"},{"$f":"CONCATENATE(Egresados!$Z$8:$Z$705,\"a\",Egresados!$AA$8:$AA$705)","v":"223a8"},{"$f":"IF(ISERROR(VLOOKUP(Egresados!$P323,Maestros!$L$31:$Q$1030,2,0)),\"\",VLOOKUP(Egresados!$P323,Maestros!$L$31:$Q$1030,2,0))","v":"65"},{"$f":"CONCATENATE(Egresados!$Z$8:$Z$705,\"a\",Egresados!$AA$8:$AA$705,\"a\",Egresados!$AC$8:$AC$705)","v":"223a8a65"},{"$f":"IF(ISERROR(VLOOKUP(Egresados!$C$8:$C$705,Maestros!$A$4:$B$21,2,0)),\"\",VLOOKUP(Egresados!$C$8:$C$705,Maestros!$A$4:$B$21,2,0))","v":"1001"},{"$f":"IF(ISERROR(VLOOKUP(Egresados!$H$8:$H$705,Maestros!$D$4:$E$21,2,0)),\"\",VLOOKUP(Egresados!$H$8:$H$705,Maestros!$D$4:$E$21,2,0))","v":"1121"},{"$f":"IF(OR(UPPER(Egresados!$J$8:$J$705)=\"SI\",UPPER(Egresados!$J$8:$J$705)=\"SÍ\"),1,IF(UPPER(Egresados!$J$8:$J$705)=\"NO\",0,\"\"))","v":0},{"$f":"IF(OR(UPPER(Egresados!$R$8:$R$705)=\"SI\",UPPER(Egresados!$R$8:$R$705)=\"SÍ\"),1,IF(UPPER(Egresados!$R$8:$R$705)=\"NO\",0,\"\"))","v":""},{"$f":"IF(OR(UPPER(Egresados!$S$8:$S$705)=\"SI\",UPPER(Egresados!$S$8:$S$705)=\"SÍ\"),1,IF(UPPER(Egresados!$S$8:$S$705)=\"NO\",0,\"\"))","v":""},{"$f":"IF(ISERROR(VLOOKUP(Egresados!$T$8:$T$705,Maestros!$S$31:$T$530,2,0)),\"\",VLOOKUP(Egresados!$T$8:$T$705,Maestros!$S$31:$T$530,2,0))","v":"50"},{"$f":"IF(ISERROR(VLOOKUP(U323,Maestros!$S$31:$T$530,2,0)),\"\",VLOOKUP(U323,Maestros!$S$31:$T$530,2,0))","v":"50"},{"$f":"IF(ISERROR(VLOOKUP(Egresados!$K$8:$K$705,Maestros!$A$31:$B$130,2,0)),\"\",VLOOKUP(Egresados!$K$8:$K$705,Maestros!$A$31:$B$130,2,0))","v":""},{"$f":"IF(LEN(tablaEgresados[[#This Row],[Nota promedio]])>0,ROUND(tablaEgresados[[#This Row],[Nota promedio]],2),\"\")","v":15.68}]
[316,null,"DNI","42854033","PEREDA","ROJAS","JENNY INES","FEMENINO",null,"NO",null,null,null,"2020-1","SEDE CENTRAL","EDUCACION INICIAL-RETARDO MENTAL",15.49,null,null,"2014-1","2014-1","20140644@une.edu.pe","jenny_pereda@hotmail.com",3133700,"947265500",{"$f":"IF(ISERROR(VLOOKUP(Egresados!$N$8:$N$705,Maestros!$D$31:$E$530,2,0)),\"\",VLOOKUP(Egresados!$N$8:$N$705,Maestros!$D$31:$E$530,2,0))","v":"223"},{"$f":"IF(ISERROR(VLOOKUP(Egresados!$O324,Maestros!$G$31:$J$1030,2,0)),\"\",VLOOKUP(Egresados!$O324,Maestros!$G$31:$J$1030,2,0))","v":"8"},{"$f":"CONCATENATE(Egresados!$Z$8:$Z$705,\"a\",Egresados!$AA$8:$AA$705)","v":"223a8"},{"$f":"IF(ISERROR(VLOOKUP(Egresados!$P324,Maestros!$L$31:$Q$1030,2,0)),\"\",VLOOKUP(Egresados!$P324,Maestros!$L$31:$Q$1030,2,0))","v":"216"},{"$f":"CONCATENATE(Egresados!$Z$8:$Z$705,\"a\",Egresados!$AA$8:$AA$705,\"a\",Egresados!$AC$8:$AC$705)","v":"223a8a216"},{"$f":"IF(ISERROR(VLOOKUP(Egresados!$C$8:$C$705,Maestros!$A$4:$B$21,2,0)),\"\",VLOOKUP(Egresados!$C$8:$C$705,Maestros!$A$4:$B$21,2,0))","v":"1001"},{"$f":"IF(ISERROR(VLOOKUP(Egresados!$H$8:$H$705,Maestros!$D$4:$E$21,2,0)),\"\",VLOOKUP(Egresados!$H$8:$H$705,Maestros!$D$4:$E$21,2,0))","v":"1122"},{"$f":"IF(OR(UPPER(Egresados!$J$8:$J$705)=\"SI\",UPPER(Egresados!$J$8:$J$705)=\"SÍ\"),1,IF(UPPER(Egresados!$J$8:$J$705)=\"NO\",0,\"\"))","v":0},{"$f":"IF(OR(UPPER(Egresados!$R$8:$R$705)=\"SI\",UPPER(Egresados!$R$8:$R$705)=\"SÍ\"),1,IF(UPPER(Egresados!$R$8:$R$705)=\"NO\",0,\"\"))","v":""},{"$f":"IF(OR(UPPER(Egresados!$S$8:$S$705)=\"SI\",UPPER(Egresados!$S$8:$S$705)=\"SÍ\"),1,IF(UPPER(Egresados!$S$8:$S$705)=\"NO\",0,\"\"))","v":""},{"$f":"IF(ISERROR(VLOOKUP(Egresados!$T$8:$T$705,Maestros!$S$31:$T$530,2,0)),\"\",VLOOKUP(Egresados!$T$8:$T$705,Maestros!$S$31:$T$530,2,0))","v":"58"},{"$f":"IF(ISERROR(VLOOKUP(U324,Maestros!$S$31:$T$530,2,0)),\"\",VLOOKUP(U324,Maestros!$S$31:$T$530,2,0))","v":"58"},{"$f":"IF(ISERROR(VLOOKUP(Egresados!$K$8:$K$705,Maestros!$A$31:$B$130,2,0)),\"\",VLOOKUP(Egresados!$K$8:$K$705,Maestros!$A$31:$B$130,2,0))","v":""},{"$f":"IF(LEN(tablaEgresados[[#This Row],[Nota promedio]])>0,ROUND(tablaEgresados[[#This Row],[Nota promedio]],2),\"\")","v":15.49}]
[317,null,"DNI","72635248","HUARANGA","ORIHUELA","VENICIA LIZBETH","FEMENINO",null,"NO",null,null,null,"2020-1","SEDE CENTRAL","EDUCACION INICIAL-RETARDO MENTAL",15.71,null,null,"2015-1","2015-1","20150056@une.edu.pe","jvenicia@hotmail.com",3133700,"956966639",{"$f":"IF(ISERROR(VLOOKUP(Egresados!$N$8:$N$705,Maestros!$D$31:$E$530,2,0)),\"\",VLOOKUP(Egresados!$N$8:$N$705,Maestros!$D$31:$E$530,2,0))","v":"223"},{"$f":"IF(ISERROR(VLOOKUP(Egresados!$O325,Maestros!$G$31:$J$1030,2,0)),\"\",VLOOKUP(Egresados!$O325,Maestros!$G$31:$J$1030,2,0))","v":"8"},{"$f":"CONCATENATE(Egresados!$Z$8:$Z$705,\"a\",Egresados!$AA$8:$AA$705)","v":"223a8"},{"$f":"IF(ISERROR(VLOOKUP(Egresados!$P325,Maestros!$L$31:$Q$1030,2,0)),\"\",VLOOKUP(Egresados!$P325,Maestros!$L$31:$Q$1030,2,0))","v":"216"},{"$f":"CONCATENATE(Egresados!$Z$8:$Z$705,\"a\",Egresados!$AA$8:$AA$705,\"a\",Egresados!$AC$8:$AC$705)","v":"223a8a216"},{"$f":"IF(ISERROR(VLOOKUP(Egresados!$C$8:$C$705,Maestros!$A$4:$B$21,2,0)),\"\",VLOOKUP(Egresados!$C$8:$C$705,Maestros!$A$4:$B$21,2,0))","v":"1001"},{"$f":"IF(ISERROR(VLOOKUP(Egresados!$H$8:$H$705,Maestros!$D$4:$E$21,2,0)),\"\",VLOOKUP(Egresados!$H$8:$H$705,Maestros!$D$4:$E$21,2,0))","v":"1122"},{"$f":"IF(OR(UPPER(Egresados!$J$8:$J$705)=\"SI\",UPPER(Egresados!$J$8:$J$705)=\"SÍ\"),1,IF(UPPER(Egresados!$J$8:$J$705)=\"NO\",0,\"\"))","v":0},{"$f":"IF(OR(UPPER(Egresados!$R$8:$R$705)=\"SI\",UPPER(Egresados!$R$8:$R$705)=\"SÍ\"),1,IF(UPPER(Egresados!$R$8:$R$705)=\"NO\",0,\"\"))","v":""},{"$f":"IF(OR(UPPER(Egresados!$S$8:$S$705)=\"SI\",UPPER(Egresados!$S$8:$S$705)=\"SÍ\"),1,IF(UPPER(Egresados!$S$8:$S$705)=\"NO\",0,\"\"))","v":""},{"$f":"IF(ISERROR(VLOOKUP(Egresados!$T$8:$T$705,Maestros!$S$31:$T$530,2,0)),\"\",VLOOKUP(Egresados!$T$8:$T$705,Maestros!$S$31:$T$530,2,0))","v":"62"},{"$f":"IF(ISERROR(VLOOKUP(U325,Maestros!$S$31:$T$530,2,0)),\"\",VLOOKUP(U325,Maestros!$S$31:$T$530,2,0))","v":"62"},{"$f":"IF(ISERROR(VLOOKUP(Egresados!$K$8:$K$705,Maestros!$A$31:$B$130,2,0)),\"\",VLOOKUP(Egresados!$K$8:$K$705,Maestros!$A$31:$B$130,2,0))","v":""},{"$f":"IF(LEN(tablaEgresados[[#This Row],[Nota promedio]])>0,ROUND(tablaEgresados[[#This Row],[Nota promedio]],2),\"\")","v":15.71}]
[318,null,"DNI","48259940","ONOFRE","BARZOLA","SUSAN ALEJANDRA","FEMENINO",null,"NO",null,null,null,"2020-1","SEDE CENTRAL","EDUCACION INICIAL-RETARDO MENTAL",15.19,null,null,"2014-1","2014-1","20140634@une.edu.pe","susanonofre20@gmail.com",3133700,"978508269",{"$f":"IF(ISERROR(VLOOKUP(Egresados!$N$8:$N$705,Maestros!$D$31:$E$530,2,0)),\"\",VLOOKUP(Egresados!$N$8:$N$705,Maestros!$D$31:$E$530,2,0))","v":"223"},{"$f":"IF(ISERROR(VLOOKUP(Egresados!$O326,Maestros!$G$31:$J$1030,2,0)),\"\",VLOOKUP(Egresados!$O326,Maestros!$G$31:$J$1030,2,0))","v":"8"},{"$f":"CONCATENATE(Egresados!$Z$8:$Z$705,\"a\",Egresados!$AA$8:$AA$705)","v":"223a8"},{"$f":"IF(ISERROR(VLOOKUP(Egresados!$P326,Maestros!$L$31:$Q$1030,2,0)),\"\",VLOOKUP(Egresados!$P326,Maestros!$L$31:$Q$1030,2,0))","v":"216"},{"$f":"CONCATENATE(Egresados!$Z$8:$Z$705,\"a\",Egresados!$AA$8:$AA$705,\"a\",Egresados!$AC$8:$AC$705)","v":"223a8a216"},{"$f":"IF(ISERROR(VLOOKUP(Egresados!$C$8:$C$705,Maestros!$A$4:$B$21,2,0)),\"\",VLOOKUP(Egresados!$C$8:$C$705,Maestros!$A$4:$B$21,2,0))","v":"1001"},{"$f":"IF(ISERROR(VLOOKUP(Egresados!$H$8:$H$705,Maestros!$D$4:$E$21,2,0)),\"\",VLOOKUP(Egresados!$H$8:$H$705,Maestros!$D$4:$E$21,2,0))","v":"1122"},{"$f":"IF(OR(UPPER(Egresados!$J$8:$J$705)=\"SI\",UPPER(Egresados!$J$8:$J$705)=\"SÍ\"),1,IF(UPPER(Egresados!$J$8:$J$705)=\"NO\",0,\"\"))","v":0},{"$f":"IF(OR(UPPER(Egresados!$R$8:$R$705)=\"SI\",UPPER(Egresados!$R$8:$R$705)=\"SÍ\"),1,IF(UPPER(Egresados!$R$8:$R$705)=\"NO\",0,\"\"))","v":""},{"$f":"IF(OR(UPPER(Egresados!$S$8:$S$705)=\"SI\",UPPER(Egresados!$S$8:$S$705)=\"SÍ\"),1,IF(UPPER(Egresados!$S$8:$S$705)=\"NO\",0,\"\"))","v":""},{"$f":"IF(ISERROR(VLOOKUP(Egresados!$T$8:$T$705,Maestros!$S$31:$T$530,2,0)),\"\",VLOOKUP(Egresados!$T$8:$T$705,Maestros!$S$31:$T$530,2,0))","v":"58"},{"$f":"IF(ISERROR(VLOOKUP(U326,Maestros!$S$31:$T$530,2,0)),\"\",VLOOKUP(U326,Maestros!$S$31:$T$530,2,0))","v":"58"},{"$f":"IF(ISERROR(VLOOKUP(Egresados!$K$8:$K$705,Maestros!$A$31:$B$130,2,0)),\"\",VLOOKUP(Egresados!$K$8:$K$705,Maestros!$A$31:$B$130,2,0))","v":""},{"$f":"IF(LEN(tablaEgresados[[#This Row],[Nota promedio]])>0,ROUND(tablaEgresados[[#This Row],[Nota promedio]],2),\"\")","v":15.19}]
[{"$f":"ROW()-8","v":319},null,"DNI","76438669","ESCALANTE","ORTIZ","NATHALY ANDREA","FEMENINO",null,"NO",null,null,null,"2020-1","SEDE CENTRAL","EDUCACION INICIAL-RETARDO MENTAL",16.600000000000001,null,null,"2015-1","2015-1","20150039@une.edu.pe","nathaly_15.7@outlook.com",3133700,"951392043",{"$f":"IF(ISERROR(VLOOKUP(Egresados!$N$8:$N$705,Maestros!$D$31:$E$530,2,0)),\"\",VLOOKUP(Egresados!$N$8:$N$705,Maestros!$D$31:$E$530,2,0))","v":"223"},{"$f":"IF(ISERROR(VLOOKUP(Egresados!$O327,Maestros!$G$31:$J$1030,2,0)),\"\",VLOOKUP(Egresados!$O327,Maestros!$G$31:$J$1030,2,0))","v":"8"},{"$f":"CONCATENATE(Egresados!$Z$8:$Z$705,\"a\",Egresados!$AA$8:$AA$705)","v":"223a8"},{"$f":"IF(ISERROR(VLOOKUP(Egresados!$P327,Maestros!$L$31:$Q$1030,2,0)),\"\",VLOOKUP(Egresados!$P327,Maestros!$L$31:$Q$1030,2,0))","v":"216"},{"$f":"CONCATENATE(Egresados!$Z$8:$Z$705,\"a\",Egresados!$AA$8:$AA$705,\"a\",Egresados!$AC$8:$AC$705)","v":"223a8a216"},{"$f":"IF(ISERROR(VLOOKUP(Egresados!$C$8:$C$705,Maestros!$A$4:$B$21,2,0)),\"\",VLOOKUP(Egresados!$C$8:$C$705,Maestros!$A$4:$B$21,2,0))","v":"1001"},{"$f":"IF(ISERROR(VLOOKUP(Egresados!$H$8:$H$705,Maestros!$D$4:$E$21,2,0)),\"\",VLOOKUP(Egresados!$H$8:$H$705,Maestros!$D$4:$E$21,2,0))","v":"1122"},{"$f":"IF(OR(UPPER(Egresados!$J$8:$J$705)=\"SI\",UPPER(Egresados!$J$8:$J$705)=\"SÍ\"),1,IF(UPPER(Egresados!$J$8:$J$705)=\"NO\",0,\"\"))","v":0},{"$f":"IF(OR(UPPER(Egresados!$R$8:$R$705)=\"SI\",UPPER(Egresados!$R$8:$R$705)=\"SÍ\"),1,IF(UPPER(Egresados!$R$8:$R$705)=\"NO\",0,\"\"))","v":""},{"$f":"IF(OR(UPPER(Egresados!$S$8:$S$705)=\"SI\",UPPER(Egresados!$S$8:$S$705)=\"SÍ\"),1,IF(UPPER(Egresados!$S$8:$S$705)=\"NO\",0,\"\"))","v":""},{"$f":"IF(ISERROR(VLOOKUP(Egresados!$T$8:$T$705,Maestros!$S$31:$T$530,2,0)),\"\",VLOOKUP(Egresados!$T$8:$T$705,Maestros!$S$31:$T$530,2,0))","v":"62"},{"$f":"IF(ISERROR(VLOOKUP(U327,Maestros!$S$31:$T$530,2,0)),\"\",VLOOKUP(U327,Maestros!$S$31:$T$530,2,0))","v":"62"},{"$f":"IF(ISERROR(VLOOKUP(Egresados!$K$8:$K$705,Maestros!$A$31:$B$130,2,0)),\"\",VLOOKUP(Egresados!$K$8:$K$705,Maestros!$A$31:$B$130,2,0))","v":""},{"$f":"IF(LEN(tablaEgresados[[#This Row],[Nota promedio]])>0,ROUND(tablaEgresados[[#This Row],[Nota promedio]],2),\"\")","v":16.600000000000001}]
[320,null,"DNI","76778410","ESPINOZA","ROJAS","EVELIN MARYORI","FEMENINO",null,"NO",null,null,null,"2020-1","SEDE CENTRAL","EDUCACION INICIAL-RETARDO MENTAL",16.7,null,null,"2015-1","2015-1","20150042@une.edu.pe","evelinmaryoriespinoza@gmail.com",3133700,"961963163",{"$f":"IF(ISERROR(VLOOKUP(Egresados!$N$8:$N$705,Maestros!$D$31:$E$530,2,0)),\"\",VLOOKUP(Egresados!$N$8:$N$705,Maestros!$D$31:$E$530,2,0))","v":"223"},{"$f":"IF(ISERROR(VLOOKUP(Egresados!$O328,Maestros!$G$31:$J$1030,2,0)),\"\",VLOOKUP(Egresados!$O328,Maestros!$G$31:$J$1030,2,0))","v":"8"},{"$f":"CONCATENATE(Egresados!$Z$8:$Z$705,\"a\",Egresados!$AA$8:$AA$705)","v":"223a8"},{"$f":"IF(ISERROR(VLOOKUP(Egresados!$P328,Maestros!$L$31:$Q$1030,2,0)),\"\",VLOOKUP(Egresados!$P328,Maestros!$L$31:$Q$1030,2,0))","v":"216"},{"$f":"CONCATENATE(Egresados!$Z$8:$Z$705,\"a\",Egresados!$AA$8:$AA$705,\"a\",Egresados!$AC$8:$AC$705)","v":"223a8a216"},{"$f":"IF(ISERROR(VLOOKUP(Egresados!$C$8:$C$705,Maestros!$A$4:$B$21,2,0)),\"\",VLOOKUP(Egresados!$C$8:$C$705,Maestros!$A$4:$B$21,2,0))","v":"1001"},{"$f":"IF(ISERROR(VLOOKUP(Egresados!$H$8:$H$705,Maestros!$D$4:$E$21,2,0)),\"\",VLOOKUP(Egresados!$H$8:$H$705,Maestros!$D$4:$E$21,2,0))","v":"1122"},{"$f":"IF(OR(UPPER(Egresados!$J$8:$J$705)=\"SI\",UPPER(Egresados!$J$8:$J$705)=\"SÍ\"),1,IF(UPPER(Egresados!$J$8:$J$705)=\"NO\",0,\"\"))","v":0},{"$f":"IF(OR(UPPER(Egresados!$R$8:$R$705)=\"SI\",UPPER(Egresados!$R$8:$R$705)=\"SÍ\"),1,IF(UPPER(Egresados!$R$8:$R$705)=\"NO\",0,\"\"))","v":""},{"$f":"IF(OR(UPPER(Egresados!$S$8:$S$705)=\"SI\",UPPER(Egresados!$S$8:$S$705)=\"SÍ\"),1,IF(UPPER(Egresados!$S$8:$S$705)=\"NO\",0,\"\"))","v":""},{"$f":"IF(ISERROR(VLOOKUP(Egresados!$T$8:$T$705,Maestros!$S$31:$T$530,2,0)),\"\",VLOOKUP(Egresados!$T$8:$T$705,Maestros!$S$31:$T$530,2,0))","v":"62"},{"$f":"IF(ISERROR(VLOOKUP(U328,Maestros!$S$31:$T$530,2,0)),\"\",VLOOKUP(U328,Maestros!$S$31:$T$530,2,0))","v":"62"},{"$f":"IF(ISERROR(VLOOKUP(Egresados!$K$8:$K$705,Maestros!$A$31:$B$130,2,0)),\"\",VLOOKUP(Egresados!$K$8:$K$705,Maestros!$A$31:$B$130,2,0))","v":""},{"$f":"IF(LEN(tablaEgresados[[#This Row],[Nota promedio]])>0,ROUND(tablaEgresados[[#This Row],[Nota promedio]],2),\"\")","v":16.7}]
[321,null,"DNI","75687185","OSORES","AGUILAR","JULEISI ELIDA","FEMENINO",null,"NO",null,null,null,"2020-1","SEDE CENTRAL","EDUCACION INICIAL-RETARDO MENTAL",16.14,null,null,"2015-1","2015-1","20150081@une.edu.pe","july_11_tlv@outlook.com",3133700,"924974062",{"$f":"IF(ISERROR(VLOOKUP(Egresados!$N$8:$N$705,Maestros!$D$31:$E$530,2,0)),\"\",VLOOKUP(Egresados!$N$8:$N$705,Maestros!$D$31:$E$530,2,0))","v":"223"},{"$f":"IF(ISERROR(VLOOKUP(Egresados!$O329,Maestros!$G$31:$J$1030,2,0)),\"\",VLOOKUP(Egresados!$O329,Maestros!$G$31:$J$1030,2,0))","v":"8"},{"$f":"CONCATENATE(Egresados!$Z$8:$Z$705,\"a\",Egresados!$AA$8:$AA$705)","v":"223a8"},{"$f":"IF(ISERROR(VLOOKUP(Egresados!$P329,Maestros!$L$31:$Q$1030,2,0)),\"\",VLOOKUP(Egresados!$P329,Maestros!$L$31:$Q$1030,2,0))","v":"216"},{"$f":"CONCATENATE(Egresados!$Z$8:$Z$705,\"a\",Egresados!$AA$8:$AA$705,\"a\",Egresados!$AC$8:$AC$705)","v":"223a8a216"},{"$f":"IF(ISERROR(VLOOKUP(Egresados!$C$8:$C$705,Maestros!$A$4:$B$21,2,0)),\"\",VLOOKUP(Egresados!$C$8:$C$705,Maestros!$A$4:$B$21,2,0))","v":"1001"},{"$f":"IF(ISERROR(VLOOKUP(Egresados!$H$8:$H$705,Maestros!$D$4:$E$21,2,0)),\"\",VLOOKUP(Egresados!$H$8:$H$705,Maestros!$D$4:$E$21,2,0))","v":"1122"},{"$f":"IF(OR(UPPER(Egresados!$J$8:$J$705)=\"SI\",UPPER(Egresados!$J$8:$J$705)=\"SÍ\"),1,IF(UPPER(Egresados!$J$8:$J$705)=\"NO\",0,\"\"))","v":0},{"$f":"IF(OR(UPPER(Egresados!$R$8:$R$705)=\"SI\",UPPER(Egresados!$R$8:$R$705)=\"SÍ\"),1,IF(UPPER(Egresados!$R$8:$R$705)=\"NO\",0,\"\"))","v":""},{"$f":"IF(OR(UPPER(Egresados!$S$8:$S$705)=\"SI\",UPPER(Egresados!$S$8:$S$705)=\"SÍ\"),1,IF(UPPER(Egresados!$S$8:$S$705)=\"NO\",0,\"\"))","v":""},{"$f":"IF(ISERROR(VLOOKUP(Egresados!$T$8:$T$705,Maestros!$S$31:$T$530,2,0)),\"\",VLOOKUP(Egresados!$T$8:$T$705,Maestros!$S$31:$T$530,2,0))","v":"62"},{"$f":"IF(ISERROR(VLOOKUP(U329,Maestros!$S$31:$T$530,2,0)),\"\",VLOOKUP(U329,Maestros!$S$31:$T$530,2,0))","v":"62"},{"$f":"IF(ISERROR(VLOOKUP(Egresados!$K$8:$K$705,Maestros!$A$31:$B$130,2,0)),\"\",VLOOKUP(Egresados!$K$8:$K$705,Maestros!$A$31:$B$130,2,0))","v":""},{"$f":"IF(LEN(tablaEgresados[[#This Row],[Nota promedio]])>0,ROUND(tablaEgresados[[#This Row],[Nota promedio]],2),\"\")","v":16.14}]
[322,null,"DNI","47836593","POMA","COTERA","NEYLA ROXANA","FEMENINO",null,"NO",null,null,null,"2020-1","SEDE CENTRAL","EDUCACION INICIAL-RETARDO MENTAL",15.59,null,null,"2015-1","2015-1","20150088@une.edu.pe","neylapomacotera@gmail.com",3133700,976486001,{"$f":"IF(ISERROR(VLOOKUP(Egresados!$N$8:$N$705,Maestros!$D$31:$E$530,2,0)),\"\",VLOOKUP(Egresados!$N$8:$N$705,Maestros!$D$31:$E$530,2,0))","v":"223"},{"$f":"IF(ISERROR(VLOOKUP(Egresados!$O330,Maestros!$G$31:$J$1030,2,0)),\"\",VLOOKUP(Egresados!$O330,Maestros!$G$31:$J$1030,2,0))","v":"8"},{"$f":"CONCATENATE(Egresados!$Z$8:$Z$705,\"a\",Egresados!$AA$8:$AA$705)","v":"223a8"},{"$f":"IF(ISERROR(VLOOKUP(Egresados!$P330,Maestros!$L$31:$Q$1030,2,0)),\"\",VLOOKUP(Egresados!$P330,Maestros!$L$31:$Q$1030,2,0))","v":"216"},{"$f":"CONCATENATE(Egresados!$Z$8:$Z$705,\"a\",Egresados!$AA$8:$AA$705,\"a\",Egresados!$AC$8:$AC$705)","v":"223a8a216"},{"$f":"IF(ISERROR(VLOOKUP(Egresados!$C$8:$C$705,Maestros!$A$4:$B$21,2,0)),\"\",VLOOKUP(Egresados!$C$8:$C$705,Maestros!$A$4:$B$21,2,0))","v":"1001"},{"$f":"IF(ISERROR(VLOOKUP(Egresados!$H$8:$H$705,Maestros!$D$4:$E$21,2,0)),\"\",VLOOKUP(Egresados!$H$8:$H$705,Maestros!$D$4:$E$21,2,0))","v":"1122"},{"$f":"IF(OR(UPPER(Egresados!$J$8:$J$705)=\"SI\",UPPER(Egresados!$J$8:$J$705)=\"SÍ\"),1,IF(UPPER(Egresados!$J$8:$J$705)=\"NO\",0,\"\"))","v":0},{"$f":"IF(OR(UPPER(Egresados!$R$8:$R$705)=\"SI\",UPPER(Egresados!$R$8:$R$705)=\"SÍ\"),1,IF(UPPER(Egresados!$R$8:$R$705)=\"NO\",0,\"\"))","v":""},{"$f":"IF(OR(UPPER(Egresados!$S$8:$S$705)=\"SI\",UPPER(Egresados!$S$8:$S$705)=\"SÍ\"),1,IF(UPPER(Egresados!$S$8:$S$705)=\"NO\",0,\"\"))","v":""},{"$f":"IF(ISERROR(VLOOKUP(Egresados!$T$8:$T$705,Maestros!$S$31:$T$530,2,0)),\"\",VLOOKUP(Egresados!$T$8:$T$705,Maestros!$S$31:$T$530,2,0))","v":"62"},{"$f":"IF(ISERROR(VLOOKUP(U330,Maestros!$S$31:$T$530,2,0)),\"\",VLOOKUP(U330,Maestros!$S$31:$T$530,2,0))","v":"62"},{"$f":"IF(ISERROR(VLOOKUP(Egresados!$K$8:$K$705,Maestros!$A$31:$B$130,2,0)),\"\",VLOOKUP(Egresados!$K$8:$K$705,Maestros!$A$31:$B$130,2,0))","v":""},{"$f":"IF(LEN(tablaEgresados[[#This Row],[Nota promedio]])>0,ROUND(tablaEgresados[[#This Row],[Nota promedio]],2),\"\")","v":15.59}]
[323,null,"DNI","72206889","MONZON","JANAMPA","ISABOT ARAIDA","FEMENINO",null,"NO",null,null,null,"2020-1","SEDE CENTRAL","EDUCACION INICIAL-RETARDO MENTAL",16.09,null,null,"2015-1","2015-1","20150077@une.edu.pe","isabotaraida@gmail.com",3133700,"986388341",{"$f":"IF(ISERROR(VLOOKUP(Egresados!$N$8:$N$705,Maestros!$D$31:$E$530,2,0)),\"\",VLOOKUP(Egresados!$N$8:$N$705,Maestros!$D$31:$E$530,2,0))","v":"223"},{"$f":"IF(ISERROR(VLOOKUP(Egresados!$O331,Maestros!$G$31:$J$1030,2,0)),\"\",VLOOKUP(Egresados!$O331,Maestros!$G$31:$J$1030,2,0))","v":"8"},{"$f":"CONCATENATE(Egresados!$Z$8:$Z$705,\"a\",Egresados!$AA$8:$AA$705)","v":"223a8"},{"$f":"IF(ISERROR(VLOOKUP(Egresados!$P331,Maestros!$L$31:$Q$1030,2,0)),\"\",VLOOKUP(Egresados!$P331,Maestros!$L$31:$Q$1030,2,0))","v":"216"},{"$f":"CONCATENATE(Egresados!$Z$8:$Z$705,\"a\",Egresados!$AA$8:$AA$705,\"a\",Egresados!$AC$8:$AC$705)","v":"223a8a216"},{"$f":"IF(ISERROR(VLOOKUP(Egresados!$C$8:$C$705,Maestros!$A$4:$B$21,2,0)),\"\",VLOOKUP(Egresados!$C$8:$C$705,Maestros!$A$4:$B$21,2,0))","v":"1001"},{"$f":"IF(ISERROR(VLOOKUP(Egresados!$H$8:$H$705,Maestros!$D$4:$E$21,2,0)),\"\",VLOOKUP(Egresados!$H$8:$H$705,Maestros!$D$4:$E$21,2,0))","v":"1122"},{"$f":"IF(OR(UPPER(Egresados!$J$8:$J$705)=\"SI\",UPPER(Egresados!$J$8:$J$705)=\"SÍ\"),1,IF(UPPER(Egresados!$J$8:$J$705)=\"NO\",0,\"\"))","v":0},{"$f":"IF(OR(UPPER(Egresados!$R$8:$R$705)=\"SI\",UPPER(Egresados!$R$8:$R$705)=\"SÍ\"),1,IF(UPPER(Egresados!$R$8:$R$705)=\"NO\",0,\"\"))","v":""},{"$f":"IF(OR(UPPER(Egresados!$S$8:$S$705)=\"SI\",UPPER(Egresados!$S$8:$S$705)=\"SÍ\"),1,IF(UPPER(Egresados!$S$8:$S$705)=\"NO\",0,\"\"))","v":""},{"$f":"IF(ISERROR(VLOOKUP(Egresados!$T$8:$T$705,Maestros!$S$31:$T$530,2,0)),\"\",VLOOKUP(Egresados!$T$8:$T$705,Maestros!$S$31:$T$530,2,0))","v":"62"},{"$f":"IF(ISERROR(VLOOKUP(U331,Maestros!$S$31:$T$530,2,0)),\"\",VLOOKUP(U331,Maestros!$S$31:$T$530,2,0))","v":"62"},{"$f":"IF(ISERROR(VLOOKUP(Egresados!$K$8:$K$705,Maestros!$A$31:$B$130,2,0)),\"\",VLOOKUP(Egresados!$K$8:$K$705,Maestros!$A$31:$B$130,2,0))","v":""},{"$f":"IF(LEN(tablaEgresados[[#This Row],[Nota promedio]])>0,ROUND(tablaEgresados[[#This Row],[Nota promedio]],2),\"\")","v":16.09}]
[324,null,"DNI","76782781","BOLIMBO","MARIN","INGRID MARISOL","FEMENINO",null,"NO",null,null,null,"2020-1","SEDE CENTRAL","EDUCACION INICIAL-RETARDO MENTAL",15.35,null,null,"2015-1","2015-1","20150018@une.edu.pe","Ingrid_654_2016@hotmail.com",3133700,"967078213",{"$f":"IF(ISERROR(VLOOKUP(Egresados!$N$8:$N$705,Maestros!$D$31:$E$530,2,0)),\"\",VLOOKUP(Egresados!$N$8:$N$705,Maestros!$D$31:$E$530,2,0))","v":"223"},{"$f":"IF(ISERROR(VLOOKUP(Egresados!$O332,Maestros!$G$31:$J$1030,2,0)),\"\",VLOOKUP(Egresados!$O332,Maestros!$G$31:$J$1030,2,0))","v":"8"},{"$f":"CONCATENATE(Egresados!$Z$8:$Z$705,\"a\",Egresados!$AA$8:$AA$705)","v":"223a8"},{"$f":"IF(ISERROR(VLOOKUP(Egresados!$P332,Maestros!$L$31:$Q$1030,2,0)),\"\",VLOOKUP(Egresados!$P332,Maestros!$L$31:$Q$1030,2,0))","v":"216"},{"$f":"CONCATENATE(Egresados!$Z$8:$Z$705,\"a\",Egresados!$AA$8:$AA$705,\"a\",Egresados!$AC$8:$AC$705)","v":"223a8a216"},{"$f":"IF(ISERROR(VLOOKUP(Egresados!$C$8:$C$705,Maestros!$A$4:$B$21,2,0)),\"\",VLOOKUP(Egresados!$C$8:$C$705,Maestros!$A$4:$B$21,2,0))","v":"1001"},{"$f":"IF(ISERROR(VLOOKUP(Egresados!$H$8:$H$705,Maestros!$D$4:$E$21,2,0)),\"\",VLOOKUP(Egresados!$H$8:$H$705,Maestros!$D$4:$E$21,2,0))","v":"1122"},{"$f":"IF(OR(UPPER(Egresados!$J$8:$J$705)=\"SI\",UPPER(Egresados!$J$8:$J$705)=\"SÍ\"),1,IF(UPPER(Egresados!$J$8:$J$705)=\"NO\",0,\"\"))","v":0},{"$f":"IF(OR(UPPER(Egresados!$R$8:$R$705)=\"SI\",UPPER(Egresados!$R$8:$R$705)=\"SÍ\"),1,IF(UPPER(Egresados!$R$8:$R$705)=\"NO\",0,\"\"))","v":""},{"$f":"IF(OR(UPPER(Egresados!$S$8:$S$705)=\"SI\",UPPER(Egresados!$S$8:$S$705)=\"SÍ\"),1,IF(UPPER(Egresados!$S$8:$S$705)=\"NO\",0,\"\"))","v":""},{"$f":"IF(ISERROR(VLOOKUP(Egresados!$T$8:$T$705,Maestros!$S$31:$T$530,2,0)),\"\",VLOOKUP(Egresados!$T$8:$T$705,Maestros!$S$31:$T$530,2,0))","v":"62"},{"$f":"IF(ISERROR(VLOOKUP(U332,Maestros!$S$31:$T$530,2,0)),\"\",VLOOKUP(U332,Maestros!$S$31:$T$530,2,0))","v":"62"},{"$f":"IF(ISERROR(VLOOKUP(Egresados!$K$8:$K$705,Maestros!$A$31:$B$130,2,0)),\"\",VLOOKUP(Egresados!$K$8:$K$705,Maestros!$A$31:$B$130,2,0))","v":""},{"$f":"IF(LEN(tablaEgresados[[#This Row],[Nota promedio]])>0,ROUND(tablaEgresados[[#This Row],[Nota promedio]],2),\"\")","v":15.35}]
[325,null,"DNI","76217122","ALVAREZ","TAPIA","LEYLA KELLY","FEMENINO",null,"NO",null,null,null,"2020-1","SEDE CENTRAL","EDUCACION INICIAL-RETARDO MENTAL",15.86,null,null,"2015-1","2015-1","20150005@une.edu.pe","kelly96113@gmail.com",3133700,"936081037",{"$f":"IF(ISERROR(VLOOKUP(Egresados!$N$8:$N$705,Maestros!$D$31:$E$530,2,0)),\"\",VLOOKUP(Egresados!$N$8:$N$705,Maestros!$D$31:$E$530,2,0))","v":"223"},{"$f":"IF(ISERROR(VLOOKUP(Egresados!$O333,Maestros!$G$31:$J$1030,2,0)),\"\",VLOOKUP(Egresados!$O333,Maestros!$G$31:$J$1030,2,0))","v":"8"},{"$f":"CONCATENATE(Egresados!$Z$8:$Z$705,\"a\",Egresados!$AA$8:$AA$705)","v":"223a8"},{"$f":"IF(ISERROR(VLOOKUP(Egresados!$P333,Maestros!$L$31:$Q$1030,2,0)),\"\",VLOOKUP(Egresados!$P333,Maestros!$L$31:$Q$1030,2,0))","v":"216"},{"$f":"CONCATENATE(Egresados!$Z$8:$Z$705,\"a\",Egresados!$AA$8:$AA$705,\"a\",Egresados!$AC$8:$AC$705)","v":"223a8a216"},{"$f":"IF(ISERROR(VLOOKUP(Egresados!$C$8:$C$705,Maestros!$A$4:$B$21,2,0)),\"\",VLOOKUP(Egresados!$C$8:$C$705,Maestros!$A$4:$B$21,2,0))","v":"1001"},{"$f":"IF(ISERROR(VLOOKUP(Egresados!$H$8:$H$705,Maestros!$D$4:$E$21,2,0)),\"\",VLOOKUP(Egresados!$H$8:$H$705,Maestros!$D$4:$E$21,2,0))","v":"1122"},{"$f":"IF(OR(UPPER(Egresados!$J$8:$J$705)=\"SI\",UPPER(Egresados!$J$8:$J$705)=\"SÍ\"),1,IF(UPPER(Egresados!$J$8:$J$705)=\"NO\",0,\"\"))","v":0},{"$f":"IF(OR(UPPER(Egresados!$R$8:$R$705)=\"SI\",UPPER(Egresados!$R$8:$R$705)=\"SÍ\"),1,IF(UPPER(Egresados!$R$8:$R$705)=\"NO\",0,\"\"))","v":""},{"$f":"IF(OR(UPPER(Egresados!$S$8:$S$705)=\"SI\",UPPER(Egresados!$S$8:$S$705)=\"SÍ\"),1,IF(UPPER(Egresados!$S$8:$S$705)=\"NO\",0,\"\"))","v":""},{"$f":"IF(ISERROR(VLOOKUP(Egresados!$T$8:$T$705,Maestros!$S$31:$T$530,2,0)),\"\",VLOOKUP(Egresados!$T$8:$T$705,Maestros!$S$31:$T$530,2,0))","v":"62"},{"$f":"IF(ISERROR(VLOOKUP(U333,Maestros!$S$31:$T$530,2,0)),\"\",VLOOKUP(U333,Maestros!$S$31:$T$530,2,0))","v":"62"},{"$f":"IF(ISERROR(VLOOKUP(Egresados!$K$8:$K$705,Maestros!$A$31:$B$130,2,0)),\"\",VLOOKUP(Egresados!$K$8:$K$705,Maestros!$A$31:$B$130,2,0))","v":""},{"$f":"IF(LEN(tablaEgresados[[#This Row],[Nota promedio]])>0,ROUND(tablaEgresados[[#This Row],[Nota promedio]],2),\"\")","v":15.86}]
[326,null,"DNI","74214916","MEDINA","VILA","SHIRLEN TATIANA","FEMENINO",null,"NO",null,null,null,"2020-1","SEDE CENTRAL","EDUCACION INICIAL-RETARDO MENTAL",15.56,null,null,"2015-1","2015-1","20150070@une.edu.pe","tati_mv18@hotmail.com",3133700,"952866695",{"$f":"IF(ISERROR(VLOOKUP(Egresados!$N$8:$N$705,Maestros!$D$31:$E$530,2,0)),\"\",VLOOKUP(Egresados!$N$8:$N$705,Maestros!$D$31:$E$530,2,0))","v":"223"},{"$f":"IF(ISERROR(VLOOKUP(Egresados!$O334,Maestros!$G$31:$J$1030,2,0)),\"\",VLOOKUP(Egresados!$O334,Maestros!$G$31:$J$1030,2,0))","v":"8"},{"$f":"CONCATENATE(Egresados!$Z$8:$Z$705,\"a\",Egresados!$AA$8:$AA$705)","v":"223a8"},{"$f":"IF(ISERROR(VLOOKUP(Egresados!$P334,Maestros!$L$31:$Q$1030,2,0)),\"\",VLOOKUP(Egresados!$P334,Maestros!$L$31:$Q$1030,2,0))","v":"216"},{"$f":"CONCATENATE(Egresados!$Z$8:$Z$705,\"a\",Egresados!$AA$8:$AA$705,\"a\",Egresados!$AC$8:$AC$705)","v":"223a8a216"},{"$f":"IF(ISERROR(VLOOKUP(Egresados!$C$8:$C$705,Maestros!$A$4:$B$21,2,0)),\"\",VLOOKUP(Egresados!$C$8:$C$705,Maestros!$A$4:$B$21,2,0))","v":"1001"},{"$f":"IF(ISERROR(VLOOKUP(Egresados!$H$8:$H$705,Maestros!$D$4:$E$21,2,0)),\"\",VLOOKUP(Egresados!$H$8:$H$705,Maestros!$D$4:$E$21,2,0))","v":"1122"},{"$f":"IF(OR(UPPER(Egresados!$J$8:$J$705)=\"SI\",UPPER(Egresados!$J$8:$J$705)=\"SÍ\"),1,IF(UPPER(Egresados!$J$8:$J$705)=\"NO\",0,\"\"))","v":0},{"$f":"IF(OR(UPPER(Egresados!$R$8:$R$705)=\"SI\",UPPER(Egresados!$R$8:$R$705)=\"SÍ\"),1,IF(UPPER(Egresados!$R$8:$R$705)=\"NO\",0,\"\"))","v":""},{"$f":"IF(OR(UPPER(Egresados!$S$8:$S$705)=\"SI\",UPPER(Egresados!$S$8:$S$705)=\"SÍ\"),1,IF(UPPER(Egresados!$S$8:$S$705)=\"NO\",0,\"\"))","v":""},{"$f":"IF(ISERROR(VLOOKUP(Egresados!$T$8:$T$705,Maestros!$S$31:$T$530,2,0)),\"\",VLOOKUP(Egresados!$T$8:$T$705,Maestros!$S$31:$T$530,2,0))","v":"62"},{"$f":"IF(ISERROR(VLOOKUP(U334,Maestros!$S$31:$T$530,2,0)),\"\",VLOOKUP(U334,Maestros!$S$31:$T$530,2,0))","v":"62"},{"$f":"IF(ISERROR(VLOOKUP(Egresados!$K$8:$K$705,Maestros!$A$31:$B$130,2,0)),\"\",VLOOKUP(Egresados!$K$8:$K$705,Maestros!$A$31:$B$130,2,0))","v":""},{"$f":"IF(LEN(tablaEgresados[[#This Row],[Nota promedio]])>0,ROUND(tablaEgresados[[#This Row],[Nota promedio]],2),\"\")","v":15.56}]
[327,null,"DNI","75444462","PALACIOS","IBARRA","GRICEL","FEMENINO",null,"NO",null,null,null,"2020-1","SEDE CENTRAL","EDUCACION INICIAL-RETARDO MENTAL",15.3,null,null,"2015-1","2015-1","20150082@une.edu.pe","gricel_ciclali@hotmail.com",3133700,"927763893",{"$f":"IF(ISERROR(VLOOKUP(Egresados!$N$8:$N$705,Maestros!$D$31:$E$530,2,0)),\"\",VLOOKUP(Egresados!$N$8:$N$705,Maestros!$D$31:$E$530,2,0))","v":"223"},{"$f":"IF(ISERROR(VLOOKUP(Egresados!$O335,Maestros!$G$31:$J$1030,2,0)),\"\",VLOOKUP(Egresados!$O335,Maestros!$G$31:$J$1030,2,0))","v":"8"},{"$f":"CONCATENATE(Egresados!$Z$8:$Z$705,\"a\",Egresados!$AA$8:$AA$705)","v":"223a8"},{"$f":"IF(ISERROR(VLOOKUP(Egresados!$P335,Maestros!$L$31:$Q$1030,2,0)),\"\",VLOOKUP(Egresados!$P335,Maestros!$L$31:$Q$1030,2,0))","v":"216"},{"$f":"CONCATENATE(Egresados!$Z$8:$Z$705,\"a\",Egresados!$AA$8:$AA$705,\"a\",Egresados!$AC$8:$AC$705)","v":"223a8a216"},{"$f":"IF(ISERROR(VLOOKUP(Egresados!$C$8:$C$705,Maestros!$A$4:$B$21,2,0)),\"\",VLOOKUP(Egresados!$C$8:$C$705,Maestros!$A$4:$B$21,2,0))","v":"1001"},{"$f":"IF(ISERROR(VLOOKUP(Egresados!$H$8:$H$705,Maestros!$D$4:$E$21,2,0)),\"\",VLOOKUP(Egresados!$H$8:$H$705,Maestros!$D$4:$E$21,2,0))","v":"1122"},{"$f":"IF(OR(UPPER(Egresados!$J$8:$J$705)=\"SI\",UPPER(Egresados!$J$8:$J$705)=\"SÍ\"),1,IF(UPPER(Egresados!$J$8:$J$705)=\"NO\",0,\"\"))","v":0},{"$f":"IF(OR(UPPER(Egresados!$R$8:$R$705)=\"SI\",UPPER(Egresados!$R$8:$R$705)=\"SÍ\"),1,IF(UPPER(Egresados!$R$8:$R$705)=\"NO\",0,\"\"))","v":""},{"$f":"IF(OR(UPPER(Egresados!$S$8:$S$705)=\"SI\",UPPER(Egresados!$S$8:$S$705)=\"SÍ\"),1,IF(UPPER(Egresados!$S$8:$S$705)=\"NO\",0,\"\"))","v":""},{"$f":"IF(ISERROR(VLOOKUP(Egresados!$T$8:$T$705,Maestros!$S$31:$T$530,2,0)),\"\",VLOOKUP(Egresados!$T$8:$T$705,Maestros!$S$31:$T$530,2,0))","v":"62"},{"$f":"IF(ISERROR(VLOOKUP(U335,Maestros!$S$31:$T$530,2,0)),\"\",VLOOKUP(U335,Maestros!$S$31:$T$530,2,0))","v":"62"},{"$f":"IF(ISERROR(VLOOKUP(Egresados!$K$8:$K$705,Maestros!$A$31:$B$130,2,0)),\"\",VLOOKUP(Egresados!$K$8:$K$705,Maestros!$A$31:$B$130,2,0))","v":""},{"$f":"IF(LEN(tablaEgresados[[#This Row],[Nota promedio]])>0,ROUND(tablaEgresados[[#This Row],[Nota promedio]],2),\"\")","v":15.3}]
[328,null,"DNI","70091916","VILA","RIVAS","NATALI","FEMENINO",null,"NO",null,null,null,"2020-1","SEDE CENTRAL","EDUCACION INICIAL-RETARDO MENTAL",16.66,null,null,"2015-1","2015-1","20150108@une.edu.pe","girlacuary@hotmail.com",3133700,"997846789",{"$f":"IF(ISERROR(VLOOKUP(Egresados!$N$8:$N$705,Maestros!$D$31:$E$530,2,0)),\"\",VLOOKUP(Egresados!$N$8:$N$705,Maestros!$D$31:$E$530,2,0))","v":"223"},{"$f":"IF(ISERROR(VLOOKUP(Egresados!$O336,Maestros!$G$31:$J$1030,2,0)),\"\",VLOOKUP(Egresados!$O336,Maestros!$G$31:$J$1030,2,0))","v":"8"},{"$f":"CONCATENATE(Egresados!$Z$8:$Z$705,\"a\",Egresados!$AA$8:$AA$705)","v":"223a8"},{"$f":"IF(ISERROR(VLOOKUP(Egresados!$P336,Maestros!$L$31:$Q$1030,2,0)),\"\",VLOOKUP(Egresados!$P336,Maestros!$L$31:$Q$1030,2,0))","v":"216"},{"$f":"CONCATENATE(Egresados!$Z$8:$Z$705,\"a\",Egresados!$AA$8:$AA$705,\"a\",Egresados!$AC$8:$AC$705)","v":"223a8a216"},{"$f":"IF(ISERROR(VLOOKUP(Egresados!$C$8:$C$705,Maestros!$A$4:$B$21,2,0)),\"\",VLOOKUP(Egresados!$C$8:$C$705,Maestros!$A$4:$B$21,2,0))","v":"1001"},{"$f":"IF(ISERROR(VLOOKUP(Egresados!$H$8:$H$705,Maestros!$D$4:$E$21,2,0)),\"\",VLOOKUP(Egresados!$H$8:$H$705,Maestros!$D$4:$E$21,2,0))","v":"1122"},{"$f":"IF(OR(UPPER(Egresados!$J$8:$J$705)=\"SI\",UPPER(Egresados!$J$8:$J$705)=\"SÍ\"),1,IF(UPPER(Egresados!$J$8:$J$705)=\"NO\",0,\"\"))","v":0},{"$f":"IF(OR(UPPER(Egresados!$R$8:$R$705)=\"SI\",UPPER(Egresados!$R$8:$R$705)=\"SÍ\"),1,IF(UPPER(Egresados!$R$8:$R$705)=\"NO\",0,\"\"))","v":""},{"$f":"IF(OR(UPPER(Egresados!$S$8:$S$705)=\"SI\",UPPER(Egresados!$S$8:$S$705)=\"SÍ\"),1,IF(UPPER(Egresados!$S$8:$S$705)=\"NO\",0,\"\"))","v":""},{"$f":"IF(ISERROR(VLOOKUP(Egresados!$T$8:$T$705,Maestros!$S$31:$T$530,2,0)),\"\",VLOOKUP(Egresados!$T$8:$T$705,Maestros!$S$31:$T$530,2,0))","v":"62"},{"$f":"IF(ISERROR(VLOOKUP(U336,Maestros!$S$31:$T$530,2,0)),\"\",VLOOKUP(U336,Maestros!$S$31:$T$530,2,0))","v":"62"},{"$f":"IF(ISERROR(VLOOKUP(Egresados!$K$8:$K$705,Maestros!$A$31:$B$130,2,0)),\"\",VLOOKUP(Egresados!$K$8:$K$705,Maestros!$A$31:$B$130,2,0))","v":""},{"$f":"IF(LEN(tablaEgresados[[#This Row],[Nota promedio]])>0,ROUND(tablaEgresados[[#This Row],[Nota promedio]],2),\"\")","v":16.66}]
[329,null,"DNI","73592536","CALDERON","ESPINOZA","ENA ARACELI","FEMENINO",null,"NO",null,null,null,"2020-1","SEDE CENTRAL","EDUCACION INICIAL-RETARDO MENTAL",15.53,null,null,"2015-1","2015-1","20150020@une.edu.pe","celi_22_@hotmail.com",3133700,"946555855",{"$f":"IF(ISERROR(VLOOKUP(Egresados!$N$8:$N$705,Maestros!$D$31:$E$530,2,0)),\"\",VLOOKUP(Egresados!$N$8:$N$705,Maestros!$D$31:$E$530,2,0))","v":"223"},{"$f":"IF(ISERROR(VLOOKUP(Egresados!$O337,Maestros!$G$31:$J$1030,2,0)),\"\",VLOOKUP(Egresados!$O337,Maestros!$G$31:$J$1030,2,0))","v":"8"},{"$f":"CONCATENATE(Egresados!$Z$8:$Z$705,\"a\",Egresados!$AA$8:$AA$705)","v":"223a8"},{"$f":"IF(ISERROR(VLOOKUP(Egresados!$P337,Maestros!$L$31:$Q$1030,2,0)),\"\",VLOOKUP(Egresados!$P337,Maestros!$L$31:$Q$1030,2,0))","v":"216"},{"$f":"CONCATENATE(Egresados!$Z$8:$Z$705,\"a\",Egresados!$AA$8:$AA$705,\"a\",Egresados!$AC$8:$AC$705)","v":"223a8a216"},{"$f":"IF(ISERROR(VLOOKUP(Egresados!$C$8:$C$705,Maestros!$A$4:$B$21,2,0)),\"\",VLOOKUP(Egresados!$C$8:$C$705,Maestros!$A$4:$B$21,2,0))","v":"1001"},{"$f":"IF(ISERROR(VLOOKUP(Egresados!$H$8:$H$705,Maestros!$D$4:$E$21,2,0)),\"\",VLOOKUP(Egresados!$H$8:$H$705,Maestros!$D$4:$E$21,2,0))","v":"1122"},{"$f":"IF(OR(UPPER(Egresados!$J$8:$J$705)=\"SI\",UPPER(Egresados!$J$8:$J$705)=\"SÍ\"),1,IF(UPPER(Egresados!$J$8:$J$705)=\"NO\",0,\"\"))","v":0},{"$f":"IF(OR(UPPER(Egresados!$R$8:$R$705)=\"SI\",UPPER(Egresados!$R$8:$R$705)=\"SÍ\"),1,IF(UPPER(Egresados!$R$8:$R$705)=\"NO\",0,\"\"))","v":""},{"$f":"IF(OR(UPPER(Egresados!$S$8:$S$705)=\"SI\",UPPER(Egresados!$S$8:$S$705)=\"SÍ\"),1,IF(UPPER(Egresados!$S$8:$S$705)=\"NO\",0,\"\"))","v":""},{"$f":"IF(ISERROR(VLOOKUP(Egresados!$T$8:$T$705,Maestros!$S$31:$T$530,2,0)),\"\",VLOOKUP(Egresados!$T$8:$T$705,Maestros!$S$31:$T$530,2,0))","v":"62"},{"$f":"IF(ISERROR(VLOOKUP(U337,Maestros!$S$31:$T$530,2,0)),\"\",VLOOKUP(U337,Maestros!$S$31:$T$530,2,0))","v":"62"},{"$f":"IF(ISERROR(VLOOKUP(Egresados!$K$8:$K$705,Maestros!$A$31:$B$130,2,0)),\"\",VLOOKUP(Egresados!$K$8:$K$705,Maestros!$A$31:$B$130,2,0))","v":""},{"$f":"IF(LEN(tablaEgresados[[#This Row],[Nota promedio]])>0,ROUND(tablaEgresados[[#This Row],[Nota promedio]],2),\"\")","v":15.53}]
[330,null,"DNI","71876327","GAMONAL","GONZALES","LIDIA","FEMENINO",null,"NO",null,null,null,"2020-1","SEDE CENTRAL","EDUCACION INTERCULTURAL BILINGUE-LENGUA ESPAÑOLA",16.2,null,null,"2015-1","2015-1","20150685@une.edu.pe","gamonalgonzalidia@gmail.com",3133700,"936731125",{"$f":"IF(ISERROR(VLOOKUP(Egresados!$N$8:$N$705,Maestros!$D$31:$E$530,2,0)),\"\",VLOOKUP(Egresados!$N$8:$N$705,Maestros!$D$31:$E$530,2,0))","v":"223"},{"$f":"IF(ISERROR(VLOOKUP(Egresados!$O338,Maestros!$G$31:$J$1030,2,0)),\"\",VLOOKUP(Egresados!$O338,Maestros!$G$31:$J$1030,2,0))","v":"8"},{"$f":"CONCATENATE(Egresados!$Z$8:$Z$705,\"a\",Egresados!$AA$8:$AA$705)","v":"223a8"},{"$f":"IF(ISERROR(VLOOKUP(Egresados!$P338,Maestros!$L$31:$Q$1030,2,0)),\"\",VLOOKUP(Egresados!$P338,Maestros!$L$31:$Q$1030,2,0))","v":"337"},{"$f":"CONCATENATE(Egresados!$Z$8:$Z$705,\"a\",Egresados!$AA$8:$AA$705,\"a\",Egresados!$AC$8:$AC$705)","v":"223a8a337"},{"$f":"IF(ISERROR(VLOOKUP(Egresados!$C$8:$C$705,Maestros!$A$4:$B$21,2,0)),\"\",VLOOKUP(Egresados!$C$8:$C$705,Maestros!$A$4:$B$21,2,0))","v":"1001"},{"$f":"IF(ISERROR(VLOOKUP(Egresados!$H$8:$H$705,Maestros!$D$4:$E$21,2,0)),\"\",VLOOKUP(Egresados!$H$8:$H$705,Maestros!$D$4:$E$21,2,0))","v":"1122"},{"$f":"IF(OR(UPPER(Egresados!$J$8:$J$705)=\"SI\",UPPER(Egresados!$J$8:$J$705)=\"SÍ\"),1,IF(UPPER(Egresados!$J$8:$J$705)=\"NO\",0,\"\"))","v":0},{"$f":"IF(OR(UPPER(Egresados!$R$8:$R$705)=\"SI\",UPPER(Egresados!$R$8:$R$705)=\"SÍ\"),1,IF(UPPER(Egresados!$R$8:$R$705)=\"NO\",0,\"\"))","v":""},{"$f":"IF(OR(UPPER(Egresados!$S$8:$S$705)=\"SI\",UPPER(Egresados!$S$8:$S$705)=\"SÍ\"),1,IF(UPPER(Egresados!$S$8:$S$705)=\"NO\",0,\"\"))","v":""},{"$f":"IF(ISERROR(VLOOKUP(Egresados!$T$8:$T$705,Maestros!$S$31:$T$530,2,0)),\"\",VLOOKUP(Egresados!$T$8:$T$705,Maestros!$S$31:$T$530,2,0))","v":"62"},{"$f":"IF(ISERROR(VLOOKUP(U338,Maestros!$S$31:$T$530,2,0)),\"\",VLOOKUP(U338,Maestros!$S$31:$T$530,2,0))","v":"62"},{"$f":"IF(ISERROR(VLOOKUP(Egresados!$K$8:$K$705,Maestros!$A$31:$B$130,2,0)),\"\",VLOOKUP(Egresados!$K$8:$K$705,Maestros!$A$31:$B$130,2,0))","v":""},{"$f":"IF(LEN(tablaEgresados[[#This Row],[Nota promedio]])>0,ROUND(tablaEgresados[[#This Row],[Nota promedio]],2),\"\")","v":16.2}]
[331,null,"DNI","74379581","RAMIREZ","MARIN","NELY","FEMENINO",null,"NO",null,null,null,"2020-1","SEDE CENTRAL","EDUCACION INTERCULTURAL BILINGUE-LENGUA ESPAÑOLA",14.6,null,null,"2015-1","2015-1","20150699@une.edu.pe","mery_tkm30@hotmail.com",3133700,"973885642",{"$f":"IF(ISERROR(VLOOKUP(Egresados!$N$8:$N$705,Maestros!$D$31:$E$530,2,0)),\"\",VLOOKUP(Egresados!$N$8:$N$705,Maestros!$D$31:$E$530,2,0))","v":"223"},{"$f":"IF(ISERROR(VLOOKUP(Egresados!$O339,Maestros!$G$31:$J$1030,2,0)),\"\",VLOOKUP(Egresados!$O339,Maestros!$G$31:$J$1030,2,0))","v":"8"},{"$f":"CONCATENATE(Egresados!$Z$8:$Z$705,\"a\",Egresados!$AA$8:$AA$705)","v":"223a8"},{"$f":"IF(ISERROR(VLOOKUP(Egresados!$P339,Maestros!$L$31:$Q$1030,2,0)),\"\",VLOOKUP(Egresados!$P339,Maestros!$L$31:$Q$1030,2,0))","v":"337"},{"$f":"CONCATENATE(Egresados!$Z$8:$Z$705,\"a\",Egresados!$AA$8:$AA$705,\"a\",Egresados!$AC$8:$AC$705)","v":"223a8a337"},{"$f":"IF(ISERROR(VLOOKUP(Egresados!$C$8:$C$705,Maestros!$A$4:$B$21,2,0)),\"\",VLOOKUP(Egresados!$C$8:$C$705,Maestros!$A$4:$B$21,2,0))","v":"1001"},{"$f":"IF(ISERROR(VLOOKUP(Egresados!$H$8:$H$705,Maestros!$D$4:$E$21,2,0)),\"\",VLOOKUP(Egresados!$H$8:$H$705,Maestros!$D$4:$E$21,2,0))","v":"1122"},{"$f":"IF(OR(UPPER(Egresados!$J$8:$J$705)=\"SI\",UPPER(Egresados!$J$8:$J$705)=\"SÍ\"),1,IF(UPPER(Egresados!$J$8:$J$705)=\"NO\",0,\"\"))","v":0},{"$f":"IF(OR(UPPER(Egresados!$R$8:$R$705)=\"SI\",UPPER(Egresados!$R$8:$R$705)=\"SÍ\"),1,IF(UPPER(Egresados!$R$8:$R$705)=\"NO\",0,\"\"))","v":""},{"$f":"IF(OR(UPPER(Egresados!$S$8:$S$705)=\"SI\",UPPER(Egresados!$S$8:$S$705)=\"SÍ\"),1,IF(UPPER(Egresados!$S$8:$S$705)=\"NO\",0,\"\"))","v":""},{"$f":"IF(ISERROR(VLOOKUP(Egresados!$T$8:$T$705,Maestros!$S$31:$T$530,2,0)),\"\",VLOOKUP(Egresados!$T$8:$T$705,Maestros!$S$31:$T$530,2,0))","v":"62"},{"$f":"IF(ISERROR(VLOOKUP(U339,Maestros!$S$31:$T$530,2,0)),\"\",VLOOKUP(U339,Maestros!$S$31:$T$530,2,0))","v":"62"},{"$f":"IF(ISERROR(VLOOKUP(Egresados!$K$8:$K$705,Maestros!$A$31:$B$130,2,0)),\"\",VLOOKUP(Egresados!$K$8:$K$705,Maestros!$A$31:$B$130,2,0))","v":""},{"$f":"IF(LEN(tablaEgresados[[#This Row],[Nota promedio]])>0,ROUND(tablaEgresados[[#This Row],[Nota promedio]],2),\"\")","v":14.6}]
[332,null,"DNI","70195634","CACERES","AIQUIPA","MARICRUZ","FEMENINO",null,"NO",null,null,null,"2020-1","SEDE CENTRAL","EDUCACION INTERCULTURAL BILINGUE-LENGUA ESPAÑOLA",14.96,null,null,"2015-1","2015-1","20150678@une.edu.pe","macaai.dgmar@gmail.com",3133700,"991840283",{"$f":"IF(ISERROR(VLOOKUP(Egresados!$N$8:$N$705,Maestros!$D$31:$E$530,2,0)),\"\",VLOOKUP(Egresados!$N$8:$N$705,Maestros!$D$31:$E$530,2,0))","v":"223"},{"$f":"IF(ISERROR(VLOOKUP(Egresados!$O340,Maestros!$G$31:$J$1030,2,0)),\"\",VLOOKUP(Egresados!$O340,Maestros!$G$31:$J$1030,2,0))","v":"8"},{"$f":"CONCATENATE(Egresados!$Z$8:$Z$705,\"a\",Egresados!$AA$8:$AA$705)","v":"223a8"},{"$f":"IF(ISERROR(VLOOKUP(Egresados!$P340,Maestros!$L$31:$Q$1030,2,0)),\"\",VLOOKUP(Egresados!$P340,Maestros!$L$31:$Q$1030,2,0))","v":"337"},{"$f":"CONCATENATE(Egresados!$Z$8:$Z$705,\"a\",Egresados!$AA$8:$AA$705,\"a\",Egresados!$AC$8:$AC$705)","v":"223a8a337"},{"$f":"IF(ISERROR(VLOOKUP(Egresados!$C$8:$C$705,Maestros!$A$4:$B$21,2,0)),\"\",VLOOKUP(Egresados!$C$8:$C$705,Maestros!$A$4:$B$21,2,0))","v":"1001"},{"$f":"IF(ISERROR(VLOOKUP(Egresados!$H$8:$H$705,Maestros!$D$4:$E$21,2,0)),\"\",VLOOKUP(Egresados!$H$8:$H$705,Maestros!$D$4:$E$21,2,0))","v":"1122"},{"$f":"IF(OR(UPPER(Egresados!$J$8:$J$705)=\"SI\",UPPER(Egresados!$J$8:$J$705)=\"SÍ\"),1,IF(UPPER(Egresados!$J$8:$J$705)=\"NO\",0,\"\"))","v":0},{"$f":"IF(OR(UPPER(Egresados!$R$8:$R$705)=\"SI\",UPPER(Egresados!$R$8:$R$705)=\"SÍ\"),1,IF(UPPER(Egresados!$R$8:$R$705)=\"NO\",0,\"\"))","v":""},{"$f":"IF(OR(UPPER(Egresados!$S$8:$S$705)=\"SI\",UPPER(Egresados!$S$8:$S$705)=\"SÍ\"),1,IF(UPPER(Egresados!$S$8:$S$705)=\"NO\",0,\"\"))","v":""},{"$f":"IF(ISERROR(VLOOKUP(Egresados!$T$8:$T$705,Maestros!$S$31:$T$530,2,0)),\"\",VLOOKUP(Egresados!$T$8:$T$705,Maestros!$S$31:$T$530,2,0))","v":"62"},{"$f":"IF(ISERROR(VLOOKUP(U340,Maestros!$S$31:$T$530,2,0)),\"\",VLOOKUP(U340,Maestros!$S$31:$T$530,2,0))","v":"62"},{"$f":"IF(ISERROR(VLOOKUP(Egresados!$K$8:$K$705,Maestros!$A$31:$B$130,2,0)),\"\",VLOOKUP(Egresados!$K$8:$K$705,Maestros!$A$31:$B$130,2,0))","v":""},{"$f":"IF(LEN(tablaEgresados[[#This Row],[Nota promedio]])>0,ROUND(tablaEgresados[[#This Row],[Nota promedio]],2),\"\")","v":14.96}]
[333,null,"DNI","42910651","TALAVERANO","CHIQUILLAN","CYNTHIA","FEMENINO",null,"NO",null,null,null,"2020-1","SEDE CENTRAL","EDUCACION INTERCULTURAL BILINGUE-LENGUA ESPAÑOLA",13.79,null,null,"2004-1","2004-1","20044055@une.edu.pe","20044055@une.edu.pe",3133700,976486001,{"$f":"IF(ISERROR(VLOOKUP(Egresados!$N$8:$N$705,Maestros!$D$31:$E$530,2,0)),\"\",VLOOKUP(Egresados!$N$8:$N$705,Maestros!$D$31:$E$530,2,0))","v":"223"},{"$f":"IF(ISERROR(VLOOKUP(Egresados!$O341,Maestros!$G$31:$J$1030,2,0)),\"\",VLOOKUP(Egresados!$O341,Maestros!$G$31:$J$1030,2,0))","v":"8"},{"$f":"CONCATENATE(Egresados!$Z$8:$Z$705,\"a\",Egresados!$AA$8:$AA$705)","v":"223a8"},{"$f":"IF(ISERROR(VLOOKUP(Egresados!$P341,Maestros!$L$31:$Q$1030,2,0)),\"\",VLOOKUP(Egresados!$P341,Maestros!$L$31:$Q$1030,2,0))","v":"337"},{"$f":"CONCATENATE(Egresados!$Z$8:$Z$705,\"a\",Egresados!$AA$8:$AA$705,\"a\",Egresados!$AC$8:$AC$705)","v":"223a8a337"},{"$f":"IF(ISERROR(VLOOKUP(Egresados!$C$8:$C$705,Maestros!$A$4:$B$21,2,0)),\"\",VLOOKUP(Egresados!$C$8:$C$705,Maestros!$A$4:$B$21,2,0))","v":"1001"},{"$f":"IF(ISERROR(VLOOKUP(Egresados!$H$8:$H$705,Maestros!$D$4:$E$21,2,0)),\"\",VLOOKUP(Egresados!$H$8:$H$705,Maestros!$D$4:$E$21,2,0))","v":"1122"},{"$f":"IF(OR(UPPER(Egresados!$J$8:$J$705)=\"SI\",UPPER(Egresados!$J$8:$J$705)=\"SÍ\"),1,IF(UPPER(Egresados!$J$8:$J$705)=\"NO\",0,\"\"))","v":0},{"$f":"IF(OR(UPPER(Egresados!$R$8:$R$705)=\"SI\",UPPER(Egresados!$R$8:$R$705)=\"SÍ\"),1,IF(UPPER(Egresados!$R$8:$R$705)=\"NO\",0,\"\"))","v":""},{"$f":"IF(OR(UPPER(Egresados!$S$8:$S$705)=\"SI\",UPPER(Egresados!$S$8:$S$705)=\"SÍ\"),1,IF(UPPER(Egresados!$S$8:$S$705)=\"NO\",0,\"\"))","v":""},{"$f":"IF(ISERROR(VLOOKUP(Egresados!$T$8:$T$705,Maestros!$S$31:$T$530,2,0)),\"\",VLOOKUP(Egresados!$T$8:$T$705,Maestros!$S$31:$T$530,2,0))","v":"18"},{"$f":"IF(ISERROR(VLOOKUP(U341,Maestros!$S$31:$T$530,2,0)),\"\",VLOOKUP(U341,Maestros!$S$31:$T$530,2,0))","v":"18"},{"$f":"IF(ISERROR(VLOOKUP(Egresados!$K$8:$K$705,Maestros!$A$31:$B$130,2,0)),\"\",VLOOKUP(Egresados!$K$8:$K$705,Maestros!$A$31:$B$130,2,0))","v":""},{"$f":"IF(LEN(tablaEgresados[[#This Row],[Nota promedio]])>0,ROUND(tablaEgresados[[#This Row],[Nota promedio]],2),\"\")","v":13.79}]
[334,null,"DNI","43772099","YANAPA","CAHUAPAZA","AMAN","MASCULINO",null,"NO",null,null,null,"2020-1","SEDE CENTRAL","EDUCACION INTERCULTURAL BILINGUE-LITERATURA",14.5,null,null,"2010-1","2010-1","20100522@une.edu.pe","amanyanapa@gmail.com",3133700,976486001,{"$f":"IF(ISERROR(VLOOKUP(Egresados!$N$8:$N$705,Maestros!$D$31:$E$530,2,0)),\"\",VLOOKUP(Egresados!$N$8:$N$705,Maestros!$D$31:$E$530,2,0))","v":"223"},{"$f":"IF(ISERROR(VLOOKUP(Egresados!$O342,Maestros!$G$31:$J$1030,2,0)),\"\",VLOOKUP(Egresados!$O342,Maestros!$G$31:$J$1030,2,0))","v":"8"},{"$f":"CONCATENATE(Egresados!$Z$8:$Z$705,\"a\",Egresados!$AA$8:$AA$705)","v":"223a8"},{"$f":"IF(ISERROR(VLOOKUP(Egresados!$P342,Maestros!$L$31:$Q$1030,2,0)),\"\",VLOOKUP(Egresados!$P342,Maestros!$L$31:$Q$1030,2,0))","v":"338"},{"$f":"CONCATENATE(Egresados!$Z$8:$Z$705,\"a\",Egresados!$AA$8:$AA$705,\"a\",Egresados!$AC$8:$AC$705)","v":"223a8a338"},{"$f":"IF(ISERROR(VLOOKUP(Egresados!$C$8:$C$705,Maestros!$A$4:$B$21,2,0)),\"\",VLOOKUP(Egresados!$C$8:$C$705,Maestros!$A$4:$B$21,2,0))","v":"1001"},{"$f":"IF(ISERROR(VLOOKUP(Egresados!$H$8:$H$705,Maestros!$D$4:$E$21,2,0)),\"\",VLOOKUP(Egresados!$H$8:$H$705,Maestros!$D$4:$E$21,2,0))","v":"1121"},{"$f":"IF(OR(UPPER(Egresados!$J$8:$J$705)=\"SI\",UPPER(Egresados!$J$8:$J$705)=\"SÍ\"),1,IF(UPPER(Egresados!$J$8:$J$705)=\"NO\",0,\"\"))","v":0},{"$f":"IF(OR(UPPER(Egresados!$R$8:$R$705)=\"SI\",UPPER(Egresados!$R$8:$R$705)=\"SÍ\"),1,IF(UPPER(Egresados!$R$8:$R$705)=\"NO\",0,\"\"))","v":""},{"$f":"IF(OR(UPPER(Egresados!$S$8:$S$705)=\"SI\",UPPER(Egresados!$S$8:$S$705)=\"SÍ\"),1,IF(UPPER(Egresados!$S$8:$S$705)=\"NO\",0,\"\"))","v":""},{"$f":"IF(ISERROR(VLOOKUP(Egresados!$T$8:$T$705,Maestros!$S$31:$T$530,2,0)),\"\",VLOOKUP(Egresados!$T$8:$T$705,Maestros!$S$31:$T$530,2,0))","v":"42"},{"$f":"IF(ISERROR(VLOOKUP(U342,Maestros!$S$31:$T$530,2,0)),\"\",VLOOKUP(U342,Maestros!$S$31:$T$530,2,0))","v":"42"},{"$f":"IF(ISERROR(VLOOKUP(Egresados!$K$8:$K$705,Maestros!$A$31:$B$130,2,0)),\"\",VLOOKUP(Egresados!$K$8:$K$705,Maestros!$A$31:$B$130,2,0))","v":""},{"$f":"IF(LEN(tablaEgresados[[#This Row],[Nota promedio]])>0,ROUND(tablaEgresados[[#This Row],[Nota promedio]],2),\"\")","v":14.5}]
[335,null,"DNI","70197557","HUAMAN","TAIPE","YESSICA","FEMENINO",null,"NO",null,null,null,"2020-1","SEDE CENTRAL","EDUCACION INTERCULTURAL BILINGUE-LITERATURA",15.19,null,null,"2015-1","2015-1","20150689@une.edu.pe","yessihsuamut@gmail.com",3133700,"986078222",{"$f":"IF(ISERROR(VLOOKUP(Egresados!$N$8:$N$705,Maestros!$D$31:$E$530,2,0)),\"\",VLOOKUP(Egresados!$N$8:$N$705,Maestros!$D$31:$E$530,2,0))","v":"223"},{"$f":"IF(ISERROR(VLOOKUP(Egresados!$O343,Maestros!$G$31:$J$1030,2,0)),\"\",VLOOKUP(Egresados!$O343,Maestros!$G$31:$J$1030,2,0))","v":"8"},{"$f":"CONCATENATE(Egresados!$Z$8:$Z$705,\"a\",Egresados!$AA$8:$AA$705)","v":"223a8"},{"$f":"IF(ISERROR(VLOOKUP(Egresados!$P343,Maestros!$L$31:$Q$1030,2,0)),\"\",VLOOKUP(Egresados!$P343,Maestros!$L$31:$Q$1030,2,0))","v":"338"},{"$f":"CONCATENATE(Egresados!$Z$8:$Z$705,\"a\",Egresados!$AA$8:$AA$705,\"a\",Egresados!$AC$8:$AC$705)","v":"223a8a338"},{"$f":"IF(ISERROR(VLOOKUP(Egresados!$C$8:$C$705,Maestros!$A$4:$B$21,2,0)),\"\",VLOOKUP(Egresados!$C$8:$C$705,Maestros!$A$4:$B$21,2,0))","v":"1001"},{"$f":"IF(ISERROR(VLOOKUP(Egresados!$H$8:$H$705,Maestros!$D$4:$E$21,2,0)),\"\",VLOOKUP(Egresados!$H$8:$H$705,Maestros!$D$4:$E$21,2,0))","v":"1122"},{"$f":"IF(OR(UPPER(Egresados!$J$8:$J$705)=\"SI\",UPPER(Egresados!$J$8:$J$705)=\"SÍ\"),1,IF(UPPER(Egresados!$J$8:$J$705)=\"NO\",0,\"\"))","v":0},{"$f":"IF(OR(UPPER(Egresados!$R$8:$R$705)=\"SI\",UPPER(Egresados!$R$8:$R$705)=\"SÍ\"),1,IF(UPPER(Egresados!$R$8:$R$705)=\"NO\",0,\"\"))","v":""},{"$f":"IF(OR(UPPER(Egresados!$S$8:$S$705)=\"SI\",UPPER(Egresados!$S$8:$S$705)=\"SÍ\"),1,IF(UPPER(Egresados!$S$8:$S$705)=\"NO\",0,\"\"))","v":""},{"$f":"IF(ISERROR(VLOOKUP(Egresados!$T$8:$T$705,Maestros!$S$31:$T$530,2,0)),\"\",VLOOKUP(Egresados!$T$8:$T$705,Maestros!$S$31:$T$530,2,0))","v":"62"},{"$f":"IF(ISERROR(VLOOKUP(U343,Maestros!$S$31:$T$530,2,0)),\"\",VLOOKUP(U343,Maestros!$S$31:$T$530,2,0))","v":"62"},{"$f":"IF(ISERROR(VLOOKUP(Egresados!$K$8:$K$705,Maestros!$A$31:$B$130,2,0)),\"\",VLOOKUP(Egresados!$K$8:$K$705,Maestros!$A$31:$B$130,2,0))","v":""},{"$f":"IF(LEN(tablaEgresados[[#This Row],[Nota promedio]])>0,ROUND(tablaEgresados[[#This Row],[Nota promedio]],2),\"\")","v":15.19}]
[336,null,"DNI","41340450","MONJA","NIMA","LIVIA FORTUNATA","FEMENINO",null,"NO",null,null,null,"2020-1","SEDE CENTRAL","EDUCACION PRIMARIA",14.37,null,null,"2018-1","2018-1","20182494@une.edu.pe","liviamonjanima@gmail.com",3133700,"965076174",{"$f":"IF(ISERROR(VLOOKUP(Egresados!$N$8:$N$705,Maestros!$D$31:$E$530,2,0)),\"\",VLOOKUP(Egresados!$N$8:$N$705,Maestros!$D$31:$E$530,2,0))","v":"223"},{"$f":"IF(ISERROR(VLOOKUP(Egresados!$O344,Maestros!$G$31:$J$1030,2,0)),\"\",VLOOKUP(Egresados!$O344,Maestros!$G$31:$J$1030,2,0))","v":"8"},{"$f":"CONCATENATE(Egresados!$Z$8:$Z$705,\"a\",Egresados!$AA$8:$AA$705)","v":"223a8"},{"$f":"IF(ISERROR(VLOOKUP(Egresados!$P344,Maestros!$L$31:$Q$1030,2,0)),\"\",VLOOKUP(Egresados!$P344,Maestros!$L$31:$Q$1030,2,0))","v":"388"},{"$f":"CONCATENATE(Egresados!$Z$8:$Z$705,\"a\",Egresados!$AA$8:$AA$705,\"a\",Egresados!$AC$8:$AC$705)","v":"223a8a388"},{"$f":"IF(ISERROR(VLOOKUP(Egresados!$C$8:$C$705,Maestros!$A$4:$B$21,2,0)),\"\",VLOOKUP(Egresados!$C$8:$C$705,Maestros!$A$4:$B$21,2,0))","v":"1001"},{"$f":"IF(ISERROR(VLOOKUP(Egresados!$H$8:$H$705,Maestros!$D$4:$E$21,2,0)),\"\",VLOOKUP(Egresados!$H$8:$H$705,Maestros!$D$4:$E$21,2,0))","v":"1122"},{"$f":"IF(OR(UPPER(Egresados!$J$8:$J$705)=\"SI\",UPPER(Egresados!$J$8:$J$705)=\"SÍ\"),1,IF(UPPER(Egresados!$J$8:$J$705)=\"NO\",0,\"\"))","v":0},{"$f":"IF(OR(UPPER(Egresados!$R$8:$R$705)=\"SI\",UPPER(Egresados!$R$8:$R$705)=\"SÍ\"),1,IF(UPPER(Egresados!$R$8:$R$705)=\"NO\",0,\"\"))","v":""},{"$f":"IF(OR(UPPER(Egresados!$S$8:$S$705)=\"SI\",UPPER(Egresados!$S$8:$S$705)=\"SÍ\"),1,IF(UPPER(Egresados!$S$8:$S$705)=\"NO\",0,\"\"))","v":""},{"$f":"IF(ISERROR(VLOOKUP(Egresados!$T$8:$T$705,Maestros!$S$31:$T$530,2,0)),\"\",VLOOKUP(Egresados!$T$8:$T$705,Maestros!$S$31:$T$530,2,0))","v":"74"},{"$f":"IF(ISERROR(VLOOKUP(U344,Maestros!$S$31:$T$530,2,0)),\"\",VLOOKUP(U344,Maestros!$S$31:$T$530,2,0))","v":"74"},{"$f":"IF(ISERROR(VLOOKUP(Egresados!$K$8:$K$705,Maestros!$A$31:$B$130,2,0)),\"\",VLOOKUP(Egresados!$K$8:$K$705,Maestros!$A$31:$B$130,2,0))","v":""},{"$f":"IF(LEN(tablaEgresados[[#This Row],[Nota promedio]])>0,ROUND(tablaEgresados[[#This Row],[Nota promedio]],2),\"\")","v":14.37}]
[337,null,"DNI","41708497","ARIAS","JIMENEZ","MIRIAM","FEMENINO",null,"NO",null,null,null,"2020-1","SEDE CENTRAL","EDUCACION PRIMARIA",14.69,null,null,"2017-1","2017-1","20172465@une.edu.pe","siseneg.a.32@gmail.com",3133700,"993045524",{"$f":"IF(ISERROR(VLOOKUP(Egresados!$N$8:$N$705,Maestros!$D$31:$E$530,2,0)),\"\",VLOOKUP(Egresados!$N$8:$N$705,Maestros!$D$31:$E$530,2,0))","v":"223"},{"$f":"IF(ISERROR(VLOOKUP(Egresados!$O345,Maestros!$G$31:$J$1030,2,0)),\"\",VLOOKUP(Egresados!$O345,Maestros!$G$31:$J$1030,2,0))","v":"8"},{"$f":"CONCATENATE(Egresados!$Z$8:$Z$705,\"a\",Egresados!$AA$8:$AA$705)","v":"223a8"},{"$f":"IF(ISERROR(VLOOKUP(Egresados!$P345,Maestros!$L$31:$Q$1030,2,0)),\"\",VLOOKUP(Egresados!$P345,Maestros!$L$31:$Q$1030,2,0))","v":"388"},{"$f":"CONCATENATE(Egresados!$Z$8:$Z$705,\"a\",Egresados!$AA$8:$AA$705,\"a\",Egresados!$AC$8:$AC$705)","v":"223a8a388"},{"$f":"IF(ISERROR(VLOOKUP(Egresados!$C$8:$C$705,Maestros!$A$4:$B$21,2,0)),\"\",VLOOKUP(Egresados!$C$8:$C$705,Maestros!$A$4:$B$21,2,0))","v":"1001"},{"$f":"IF(ISERROR(VLOOKUP(Egresados!$H$8:$H$705,Maestros!$D$4:$E$21,2,0)),\"\",VLOOKUP(Egresados!$H$8:$H$705,Maestros!$D$4:$E$21,2,0))","v":"1122"},{"$f":"IF(OR(UPPER(Egresados!$J$8:$J$705)=\"SI\",UPPER(Egresados!$J$8:$J$705)=\"SÍ\"),1,IF(UPPER(Egresados!$J$8:$J$705)=\"NO\",0,\"\"))","v":0},{"$f":"IF(OR(UPPER(Egresados!$R$8:$R$705)=\"SI\",UPPER(Egresados!$R$8:$R$705)=\"SÍ\"),1,IF(UPPER(Egresados!$R$8:$R$705)=\"NO\",0,\"\"))","v":""},{"$f":"IF(OR(UPPER(Egresados!$S$8:$S$705)=\"SI\",UPPER(Egresados!$S$8:$S$705)=\"SÍ\"),1,IF(UPPER(Egresados!$S$8:$S$705)=\"NO\",0,\"\"))","v":""},{"$f":"IF(ISERROR(VLOOKUP(Egresados!$T$8:$T$705,Maestros!$S$31:$T$530,2,0)),\"\",VLOOKUP(Egresados!$T$8:$T$705,Maestros!$S$31:$T$530,2,0))","v":"70"},{"$f":"IF(ISERROR(VLOOKUP(U345,Maestros!$S$31:$T$530,2,0)),\"\",VLOOKUP(U345,Maestros!$S$31:$T$530,2,0))","v":"70"},{"$f":"IF(ISERROR(VLOOKUP(Egresados!$K$8:$K$705,Maestros!$A$31:$B$130,2,0)),\"\",VLOOKUP(Egresados!$K$8:$K$705,Maestros!$A$31:$B$130,2,0))","v":""},{"$f":"IF(LEN(tablaEgresados[[#This Row],[Nota promedio]])>0,ROUND(tablaEgresados[[#This Row],[Nota promedio]],2),\"\")","v":14.69}]
[338,null,"DNI","45169617","MORAN","ESPINO","CINDY ELIZABETH","FEMENINO",null,"NO",null,null,null,"2020-1","SEDE CENTRAL","EDUCACION PRIMARIA",16.170000000000002,null,null,"2017-1","2017-1","20173572@une.edu.pe","salesiana20@hotmail.com",3133700,"977708932",{"$f":"IF(ISERROR(VLOOKUP(Egresados!$N$8:$N$705,Maestros!$D$31:$E$530,2,0)),\"\",VLOOKUP(Egresados!$N$8:$N$705,Maestros!$D$31:$E$530,2,0))","v":"223"},{"$f":"IF(ISERROR(VLOOKUP(Egresados!$O346,Maestros!$G$31:$J$1030,2,0)),\"\",VLOOKUP(Egresados!$O346,Maestros!$G$31:$J$1030,2,0))","v":"8"},{"$f":"CONCATENATE(Egresados!$Z$8:$Z$705,\"a\",Egresados!$AA$8:$AA$705)","v":"223a8"},{"$f":"IF(ISERROR(VLOOKUP(Egresados!$P346,Maestros!$L$31:$Q$1030,2,0)),\"\",VLOOKUP(Egresados!$P346,Maestros!$L$31:$Q$1030,2,0))","v":"388"},{"$f":"CONCATENATE(Egresados!$Z$8:$Z$705,\"a\",Egresados!$AA$8:$AA$705,\"a\",Egresados!$AC$8:$AC$705)","v":"223a8a388"},{"$f":"IF(ISERROR(VLOOKUP(Egresados!$C$8:$C$705,Maestros!$A$4:$B$21,2,0)),\"\",VLOOKUP(Egresados!$C$8:$C$705,Maestros!$A$4:$B$21,2,0))","v":"1001"},{"$f":"IF(ISERROR(VLOOKUP(Egresados!$H$8:$H$705,Maestros!$D$4:$E$21,2,0)),\"\",VLOOKUP(Egresados!$H$8:$H$705,Maestros!$D$4:$E$21,2,0))","v":"1122"},{"$f":"IF(OR(UPPER(Egresados!$J$8:$J$705)=\"SI\",UPPER(Egresados!$J$8:$J$705)=\"SÍ\"),1,IF(UPPER(Egresados!$J$8:$J$705)=\"NO\",0,\"\"))","v":0},{"$f":"IF(OR(UPPER(Egresados!$R$8:$R$705)=\"SI\",UPPER(Egresados!$R$8:$R$705)=\"SÍ\"),1,IF(UPPER(Egresados!$R$8:$R$705)=\"NO\",0,\"\"))","v":""},{"$f":"IF(OR(UPPER(Egresados!$S$8:$S$705)=\"SI\",UPPER(Egresados!$S$8:$S$705)=\"SÍ\"),1,IF(UPPER(Egresados!$S$8:$S$705)=\"NO\",0,\"\"))","v":""},{"$f":"IF(ISERROR(VLOOKUP(Egresados!$T$8:$T$705,Maestros!$S$31:$T$530,2,0)),\"\",VLOOKUP(Egresados!$T$8:$T$705,Maestros!$S$31:$T$530,2,0))","v":"70"},{"$f":"IF(ISERROR(VLOOKUP(U346,Maestros!$S$31:$T$530,2,0)),\"\",VLOOKUP(U346,Maestros!$S$31:$T$530,2,0))","v":"70"},{"$f":"IF(ISERROR(VLOOKUP(Egresados!$K$8:$K$705,Maestros!$A$31:$B$130,2,0)),\"\",VLOOKUP(Egresados!$K$8:$K$705,Maestros!$A$31:$B$130,2,0))","v":""},{"$f":"IF(LEN(tablaEgresados[[#This Row],[Nota promedio]])>0,ROUND(tablaEgresados[[#This Row],[Nota promedio]],2),\"\")","v":16.170000000000002}]
[339,null,"DNI","22749126","LEANDRO","CHAVEZ","JAVIER DAVID","MASCULINO",null,"NO",null,null,null,"2020-1","SEDE CENTRAL","EDUCACION PRIMARIA",14.28,null,null,"2012-1","2012-1","20123559@une.edu.pe","jadalecha@hotmail.com",3133700,976486001,{"$f":"IF(ISERROR(VLOOKUP(Egresados!$N$8:$N$705,Maestros!$D$31:$E$530,2,0)),\"\",VLOOKUP(Egresados!$N$8:$N$705,Maestros!$D$31:$E$530,2,0))","v":"223"},{"$f":"IF(ISERROR(VLOOKUP(Egresados!$O347,Maestros!$G$31:$J$1030,2,0)),\"\",VLOOKUP(Egresados!$O347,Maestros!$G$31:$J$1030,2,0))","v":"8"},{"$f":"CONCATENATE(Egresados!$Z$8:$Z$705,\"a\",Egresados!$AA$8:$AA$705)","v":"223a8"},{"$f":"IF(ISERROR(VLOOKUP(Egresados!$P347,Maestros!$L$31:$Q$1030,2,0)),\"\",VLOOKUP(Egresados!$P347,Maestros!$L$31:$Q$1030,2,0))","v":"388"},{"$f":"CONCATENATE(Egresados!$Z$8:$Z$705,\"a\",Egresados!$AA$8:$AA$705,\"a\",Egresados!$AC$8:$AC$705)","v":"223a8a388"},{"$f":"IF(ISERROR(VLOOKUP(Egresados!$C$8:$C$705,Maestros!$A$4:$B$21,2,0)),\"\",VLOOKUP(Egresados!$C$8:$C$705,Maestros!$A$4:$B$21,2,0))","v":"1001"},{"$f":"IF(ISERROR(VLOOKUP(Egresados!$H$8:$H$705,Maestros!$D$4:$E$21,2,0)),\"\",VLOOKUP(Egresados!$H$8:$H$705,Maestros!$D$4:$E$21,2,0))","v":"1121"},{"$f":"IF(OR(UPPER(Egresados!$J$8:$J$705)=\"SI\",UPPER(Egresados!$J$8:$J$705)=\"SÍ\"),1,IF(UPPER(Egresados!$J$8:$J$705)=\"NO\",0,\"\"))","v":0},{"$f":"IF(OR(UPPER(Egresados!$R$8:$R$705)=\"SI\",UPPER(Egresados!$R$8:$R$705)=\"SÍ\"),1,IF(UPPER(Egresados!$R$8:$R$705)=\"NO\",0,\"\"))","v":""},{"$f":"IF(OR(UPPER(Egresados!$S$8:$S$705)=\"SI\",UPPER(Egresados!$S$8:$S$705)=\"SÍ\"),1,IF(UPPER(Egresados!$S$8:$S$705)=\"NO\",0,\"\"))","v":""},{"$f":"IF(ISERROR(VLOOKUP(Egresados!$T$8:$T$705,Maestros!$S$31:$T$530,2,0)),\"\",VLOOKUP(Egresados!$T$8:$T$705,Maestros!$S$31:$T$530,2,0))","v":"50"},{"$f":"IF(ISERROR(VLOOKUP(U347,Maestros!$S$31:$T$530,2,0)),\"\",VLOOKUP(U347,Maestros!$S$31:$T$530,2,0))","v":"50"},{"$f":"IF(ISERROR(VLOOKUP(Egresados!$K$8:$K$705,Maestros!$A$31:$B$130,2,0)),\"\",VLOOKUP(Egresados!$K$8:$K$705,Maestros!$A$31:$B$130,2,0))","v":""},{"$f":"IF(LEN(tablaEgresados[[#This Row],[Nota promedio]])>0,ROUND(tablaEgresados[[#This Row],[Nota promedio]],2),\"\")","v":14.28}]
[340,null,"DNI","42603209","QUISPE","PACHECO","MILTON","MASCULINO",null,"NO",null,null,null,"2020-1","SEDE CENTRAL","EDUCACION PRIMARIA",14.91,null,null,"2012-1","2012-1","20124402@une.edu.pe","amoaco@hotmail.es",3133700,"912362614",{"$f":"IF(ISERROR(VLOOKUP(Egresados!$N$8:$N$705,Maestros!$D$31:$E$530,2,0)),\"\",VLOOKUP(Egresados!$N$8:$N$705,Maestros!$D$31:$E$530,2,0))","v":"223"},{"$f":"IF(ISERROR(VLOOKUP(Egresados!$O348,Maestros!$G$31:$J$1030,2,0)),\"\",VLOOKUP(Egresados!$O348,Maestros!$G$31:$J$1030,2,0))","v":"8"},{"$f":"CONCATENATE(Egresados!$Z$8:$Z$705,\"a\",Egresados!$AA$8:$AA$705)","v":"223a8"},{"$f":"IF(ISERROR(VLOOKUP(Egresados!$P348,Maestros!$L$31:$Q$1030,2,0)),\"\",VLOOKUP(Egresados!$P348,Maestros!$L$31:$Q$1030,2,0))","v":"388"},{"$f":"CONCATENATE(Egresados!$Z$8:$Z$705,\"a\",Egresados!$AA$8:$AA$705,\"a\",Egresados!$AC$8:$AC$705)","v":"223a8a388"},{"$f":"IF(ISERROR(VLOOKUP(Egresados!$C$8:$C$705,Maestros!$A$4:$B$21,2,0)),\"\",VLOOKUP(Egresados!$C$8:$C$705,Maestros!$A$4:$B$21,2,0))","v":"1001"},{"$f":"IF(ISERROR(VLOOKUP(Egresados!$H$8:$H$705,Maestros!$D$4:$E$21,2,0)),\"\",VLOOKUP(Egresados!$H$8:$H$705,Maestros!$D$4:$E$21,2,0))","v":"1121"},{"$f":"IF(OR(UPPER(Egresados!$J$8:$J$705)=\"SI\",UPPER(Egresados!$J$8:$J$705)=\"SÍ\"),1,IF(UPPER(Egresados!$J$8:$J$705)=\"NO\",0,\"\"))","v":0},{"$f":"IF(OR(UPPER(Egresados!$R$8:$R$705)=\"SI\",UPPER(Egresados!$R$8:$R$705)=\"SÍ\"),1,IF(UPPER(Egresados!$R$8:$R$705)=\"NO\",0,\"\"))","v":""},{"$f":"IF(OR(UPPER(Egresados!$S$8:$S$705)=\"SI\",UPPER(Egresados!$S$8:$S$705)=\"SÍ\"),1,IF(UPPER(Egresados!$S$8:$S$705)=\"NO\",0,\"\"))","v":""},{"$f":"IF(ISERROR(VLOOKUP(Egresados!$T$8:$T$705,Maestros!$S$31:$T$530,2,0)),\"\",VLOOKUP(Egresados!$T$8:$T$705,Maestros!$S$31:$T$530,2,0))","v":"50"},{"$f":"IF(ISERROR(VLOOKUP(U348,Maestros!$S$31:$T$530,2,0)),\"\",VLOOKUP(U348,Maestros!$S$31:$T$530,2,0))","v":"50"},{"$f":"IF(ISERROR(VLOOKUP(Egresados!$K$8:$K$705,Maestros!$A$31:$B$130,2,0)),\"\",VLOOKUP(Egresados!$K$8:$K$705,Maestros!$A$31:$B$130,2,0))","v":""},{"$f":"IF(LEN(tablaEgresados[[#This Row],[Nota promedio]])>0,ROUND(tablaEgresados[[#This Row],[Nota promedio]],2),\"\")","v":14.91}]
[341,null,"DNI","47214171","LABAN","FACUNDO","ADELINA","FEMENINO",null,"NO",null,null,null,"2020-1","SEDE CENTRAL","EDUCACION PRIMARIA",15.01,null,null,"2017-1","2017-1","20173762@une.edu.pe","leode2093@gmail.com",3133700,"985901289",{"$f":"IF(ISERROR(VLOOKUP(Egresados!$N$8:$N$705,Maestros!$D$31:$E$530,2,0)),\"\",VLOOKUP(Egresados!$N$8:$N$705,Maestros!$D$31:$E$530,2,0))","v":"223"},{"$f":"IF(ISERROR(VLOOKUP(Egresados!$O349,Maestros!$G$31:$J$1030,2,0)),\"\",VLOOKUP(Egresados!$O349,Maestros!$G$31:$J$1030,2,0))","v":"8"},{"$f":"CONCATENATE(Egresados!$Z$8:$Z$705,\"a\",Egresados!$AA$8:$AA$705)","v":"223a8"},{"$f":"IF(ISERROR(VLOOKUP(Egresados!$P349,Maestros!$L$31:$Q$1030,2,0)),\"\",VLOOKUP(Egresados!$P349,Maestros!$L$31:$Q$1030,2,0))","v":"388"},{"$f":"CONCATENATE(Egresados!$Z$8:$Z$705,\"a\",Egresados!$AA$8:$AA$705,\"a\",Egresados!$AC$8:$AC$705)","v":"223a8a388"},{"$f":"IF(ISERROR(VLOOKUP(Egresados!$C$8:$C$705,Maestros!$A$4:$B$21,2,0)),\"\",VLOOKUP(Egresados!$C$8:$C$705,Maestros!$A$4:$B$21,2,0))","v":"1001"},{"$f":"IF(ISERROR(VLOOKUP(Egresados!$H$8:$H$705,Maestros!$D$4:$E$21,2,0)),\"\",VLOOKUP(Egresados!$H$8:$H$705,Maestros!$D$4:$E$21,2,0))","v":"1122"},{"$f":"IF(OR(UPPER(Egresados!$J$8:$J$705)=\"SI\",UPPER(Egresados!$J$8:$J$705)=\"SÍ\"),1,IF(UPPER(Egresados!$J$8:$J$705)=\"NO\",0,\"\"))","v":0},{"$f":"IF(OR(UPPER(Egresados!$R$8:$R$705)=\"SI\",UPPER(Egresados!$R$8:$R$705)=\"SÍ\"),1,IF(UPPER(Egresados!$R$8:$R$705)=\"NO\",0,\"\"))","v":""},{"$f":"IF(OR(UPPER(Egresados!$S$8:$S$705)=\"SI\",UPPER(Egresados!$S$8:$S$705)=\"SÍ\"),1,IF(UPPER(Egresados!$S$8:$S$705)=\"NO\",0,\"\"))","v":""},{"$f":"IF(ISERROR(VLOOKUP(Egresados!$T$8:$T$705,Maestros!$S$31:$T$530,2,0)),\"\",VLOOKUP(Egresados!$T$8:$T$705,Maestros!$S$31:$T$530,2,0))","v":"70"},{"$f":"IF(ISERROR(VLOOKUP(U349,Maestros!$S$31:$T$530,2,0)),\"\",VLOOKUP(U349,Maestros!$S$31:$T$530,2,0))","v":"70"},{"$f":"IF(ISERROR(VLOOKUP(Egresados!$K$8:$K$705,Maestros!$A$31:$B$130,2,0)),\"\",VLOOKUP(Egresados!$K$8:$K$705,Maestros!$A$31:$B$130,2,0))","v":""},{"$f":"IF(LEN(tablaEgresados[[#This Row],[Nota promedio]])>0,ROUND(tablaEgresados[[#This Row],[Nota promedio]],2),\"\")","v":15.01}]
[342,null,"DNI","43414154","MALLQUI","RIVERA","YOVANNA EMELY","FEMENINO",null,"NO",null,null,null,"2020-1","SEDE CENTRAL","EDUCACION PRIMARIA",16.82,null,null,"2017-1","2017-1","20172469@une.edu.pe","shanntal_01@hotmail.com",3133700,"942400015",{"$f":"IF(ISERROR(VLOOKUP(Egresados!$N$8:$N$705,Maestros!$D$31:$E$530,2,0)),\"\",VLOOKUP(Egresados!$N$8:$N$705,Maestros!$D$31:$E$530,2,0))","v":"223"},{"$f":"IF(ISERROR(VLOOKUP(Egresados!$O350,Maestros!$G$31:$J$1030,2,0)),\"\",VLOOKUP(Egresados!$O350,Maestros!$G$31:$J$1030,2,0))","v":"8"},{"$f":"CONCATENATE(Egresados!$Z$8:$Z$705,\"a\",Egresados!$AA$8:$AA$705)","v":"223a8"},{"$f":"IF(ISERROR(VLOOKUP(Egresados!$P350,Maestros!$L$31:$Q$1030,2,0)),\"\",VLOOKUP(Egresados!$P350,Maestros!$L$31:$Q$1030,2,0))","v":"388"},{"$f":"CONCATENATE(Egresados!$Z$8:$Z$705,\"a\",Egresados!$AA$8:$AA$705,\"a\",Egresados!$AC$8:$AC$705)","v":"223a8a388"},{"$f":"IF(ISERROR(VLOOKUP(Egresados!$C$8:$C$705,Maestros!$A$4:$B$21,2,0)),\"\",VLOOKUP(Egresados!$C$8:$C$705,Maestros!$A$4:$B$21,2,0))","v":"1001"},{"$f":"IF(ISERROR(VLOOKUP(Egresados!$H$8:$H$705,Maestros!$D$4:$E$21,2,0)),\"\",VLOOKUP(Egresados!$H$8:$H$705,Maestros!$D$4:$E$21,2,0))","v":"1122"},{"$f":"IF(OR(UPPER(Egresados!$J$8:$J$705)=\"SI\",UPPER(Egresados!$J$8:$J$705)=\"SÍ\"),1,IF(UPPER(Egresados!$J$8:$J$705)=\"NO\",0,\"\"))","v":0},{"$f":"IF(OR(UPPER(Egresados!$R$8:$R$705)=\"SI\",UPPER(Egresados!$R$8:$R$705)=\"SÍ\"),1,IF(UPPER(Egresados!$R$8:$R$705)=\"NO\",0,\"\"))","v":""},{"$f":"IF(OR(UPPER(Egresados!$S$8:$S$705)=\"SI\",UPPER(Egresados!$S$8:$S$705)=\"SÍ\"),1,IF(UPPER(Egresados!$S$8:$S$705)=\"NO\",0,\"\"))","v":""},{"$f":"IF(ISERROR(VLOOKUP(Egresados!$T$8:$T$705,Maestros!$S$31:$T$530,2,0)),\"\",VLOOKUP(Egresados!$T$8:$T$705,Maestros!$S$31:$T$530,2,0))","v":"70"},{"$f":"IF(ISERROR(VLOOKUP(U350,Maestros!$S$31:$T$530,2,0)),\"\",VLOOKUP(U350,Maestros!$S$31:$T$530,2,0))","v":"70"},{"$f":"IF(ISERROR(VLOOKUP(Egresados!$K$8:$K$705,Maestros!$A$31:$B$130,2,0)),\"\",VLOOKUP(Egresados!$K$8:$K$705,Maestros!$A$31:$B$130,2,0))","v":""},{"$f":"IF(LEN(tablaEgresados[[#This Row],[Nota promedio]])>0,ROUND(tablaEgresados[[#This Row],[Nota promedio]],2),\"\")","v":16.82}]
[343,null,"DNI","40997840","TABOADA","CHERO","CONSUELO NOEMI","FEMENINO",null,"NO",null,null,null,"2020-1","SEDE CENTRAL","EDUCACION PRIMARIA",14.03,null,null,"2015-1","2015-1","20153263@une.edu.pe","20153263@une.edu.pe",3133700,976486001,{"$f":"IF(ISERROR(VLOOKUP(Egresados!$N$8:$N$705,Maestros!$D$31:$E$530,2,0)),\"\",VLOOKUP(Egresados!$N$8:$N$705,Maestros!$D$31:$E$530,2,0))","v":"223"},{"$f":"IF(ISERROR(VLOOKUP(Egresados!$O351,Maestros!$G$31:$J$1030,2,0)),\"\",VLOOKUP(Egresados!$O351,Maestros!$G$31:$J$1030,2,0))","v":"8"},{"$f":"CONCATENATE(Egresados!$Z$8:$Z$705,\"a\",Egresados!$AA$8:$AA$705)","v":"223a8"},{"$f":"IF(ISERROR(VLOOKUP(Egresados!$P351,Maestros!$L$31:$Q$1030,2,0)),\"\",VLOOKUP(Egresados!$P351,Maestros!$L$31:$Q$1030,2,0))","v":"388"},{"$f":"CONCATENATE(Egresados!$Z$8:$Z$705,\"a\",Egresados!$AA$8:$AA$705,\"a\",Egresados!$AC$8:$AC$705)","v":"223a8a388"},{"$f":"IF(ISERROR(VLOOKUP(Egresados!$C$8:$C$705,Maestros!$A$4:$B$21,2,0)),\"\",VLOOKUP(Egresados!$C$8:$C$705,Maestros!$A$4:$B$21,2,0))","v":"1001"},{"$f":"IF(ISERROR(VLOOKUP(Egresados!$H$8:$H$705,Maestros!$D$4:$E$21,2,0)),\"\",VLOOKUP(Egresados!$H$8:$H$705,Maestros!$D$4:$E$21,2,0))","v":"1122"},{"$f":"IF(OR(UPPER(Egresados!$J$8:$J$705)=\"SI\",UPPER(Egresados!$J$8:$J$705)=\"SÍ\"),1,IF(UPPER(Egresados!$J$8:$J$705)=\"NO\",0,\"\"))","v":0},{"$f":"IF(OR(UPPER(Egresados!$R$8:$R$705)=\"SI\",UPPER(Egresados!$R$8:$R$705)=\"SÍ\"),1,IF(UPPER(Egresados!$R$8:$R$705)=\"NO\",0,\"\"))","v":""},{"$f":"IF(OR(UPPER(Egresados!$S$8:$S$705)=\"SI\",UPPER(Egresados!$S$8:$S$705)=\"SÍ\"),1,IF(UPPER(Egresados!$S$8:$S$705)=\"NO\",0,\"\"))","v":""},{"$f":"IF(ISERROR(VLOOKUP(Egresados!$T$8:$T$705,Maestros!$S$31:$T$530,2,0)),\"\",VLOOKUP(Egresados!$T$8:$T$705,Maestros!$S$31:$T$530,2,0))","v":"62"},{"$f":"IF(ISERROR(VLOOKUP(U351,Maestros!$S$31:$T$530,2,0)),\"\",VLOOKUP(U351,Maestros!$S$31:$T$530,2,0))","v":"62"},{"$f":"IF(ISERROR(VLOOKUP(Egresados!$K$8:$K$705,Maestros!$A$31:$B$130,2,0)),\"\",VLOOKUP(Egresados!$K$8:$K$705,Maestros!$A$31:$B$130,2,0))","v":""},{"$f":"IF(LEN(tablaEgresados[[#This Row],[Nota promedio]])>0,ROUND(tablaEgresados[[#This Row],[Nota promedio]],2),\"\")","v":14.03}]
[344,null,"DNI",40200789,"ORMEDO","SOTO","MILAGROS","FEMENINO",null,"NO",null,null,null,"2020-1","SEDE CENTRAL","EDUCACION PRIMARIA",16.100000000000001,null,null,"2008-1","2008-1","20083035@une.edu.pe","20083035@une.edu.pe",3133700,976486001,{"$f":"IF(ISERROR(VLOOKUP(Egresados!$N$8:$N$705,Maestros!$D$31:$E$530,2,0)),\"\",VLOOKUP(Egresados!$N$8:$N$705,Maestros!$D$31:$E$530,2,0))","v":"223"},{"$f":"IF(ISERROR(VLOOKUP(Egresados!$O352,Maestros!$G$31:$J$1030,2,0)),\"\",VLOOKUP(Egresados!$O352,Maestros!$G$31:$J$1030,2,0))","v":"8"},{"$f":"CONCATENATE(Egresados!$Z$8:$Z$705,\"a\",Egresados!$AA$8:$AA$705)","v":"223a8"},{"$f":"IF(ISERROR(VLOOKUP(Egresados!$P352,Maestros!$L$31:$Q$1030,2,0)),\"\",VLOOKUP(Egresados!$P352,Maestros!$L$31:$Q$1030,2,0))","v":"388"},{"$f":"CONCATENATE(Egresados!$Z$8:$Z$705,\"a\",Egresados!$AA$8:$AA$705,\"a\",Egresados!$AC$8:$AC$705)","v":"223a8a388"},{"$f":"IF(ISERROR(VLOOKUP(Egresados!$C$8:$C$705,Maestros!$A$4:$B$21,2,0)),\"\",VLOOKUP(Egresados!$C$8:$C$705,Maestros!$A$4:$B$21,2,0))","v":"1001"},{"$f":"IF(ISERROR(VLOOKUP(Egresados!$H$8:$H$705,Maestros!$D$4:$E$21,2,0)),\"\",VLOOKUP(Egresados!$H$8:$H$705,Maestros!$D$4:$E$21,2,0))","v":"1122"},{"$f":"IF(OR(UPPER(Egresados!$J$8:$J$705)=\"SI\",UPPER(Egresados!$J$8:$J$705)=\"SÍ\"),1,IF(UPPER(Egresados!$J$8:$J$705)=\"NO\",0,\"\"))","v":0},{"$f":"IF(OR(UPPER(Egresados!$R$8:$R$705)=\"SI\",UPPER(Egresados!$R$8:$R$705)=\"SÍ\"),1,IF(UPPER(Egresados!$R$8:$R$705)=\"NO\",0,\"\"))","v":""},{"$f":"IF(OR(UPPER(Egresados!$S$8:$S$705)=\"SI\",UPPER(Egresados!$S$8:$S$705)=\"SÍ\"),1,IF(UPPER(Egresados!$S$8:$S$705)=\"NO\",0,\"\"))","v":""},{"$f":"IF(ISERROR(VLOOKUP(Egresados!$T$8:$T$705,Maestros!$S$31:$T$530,2,0)),\"\",VLOOKUP(Egresados!$T$8:$T$705,Maestros!$S$31:$T$530,2,0))","v":"34"},{"$f":"IF(ISERROR(VLOOKUP(U352,Maestros!$S$31:$T$530,2,0)),\"\",VLOOKUP(U352,Maestros!$S$31:$T$530,2,0))","v":"34"},{"$f":"IF(ISERROR(VLOOKUP(Egresados!$K$8:$K$705,Maestros!$A$31:$B$130,2,0)),\"\",VLOOKUP(Egresados!$K$8:$K$705,Maestros!$A$31:$B$130,2,0))","v":""},{"$f":"IF(LEN(tablaEgresados[[#This Row],[Nota promedio]])>0,ROUND(tablaEgresados[[#This Row],[Nota promedio]],2),\"\")","v":16.100000000000001}]
[345,null,"DNI","42912464","GUERRA","ATUNCAR","JUANA ROSA","FEMENINO",null,"NO",null,null,null,"2020-1","SEDE CENTRAL","EDUCACION PRIMARIA",15.18,null,null,"2015-1","2015-1","20153249@une.edu.pe","20153249@une.edu.pe",3133700,976486001,{"$f":"IF(ISERROR(VLOOKUP(Egresados!$N$8:$N$705,Maestros!$D$31:$E$530,2,0)),\"\",VLOOKUP(Egresados!$N$8:$N$705,Maestros!$D$31:$E$530,2,0))","v":"223"},{"$f":"IF(ISERROR(VLOOKUP(Egresados!$O353,Maestros!$G$31:$J$1030,2,0)),\"\",VLOOKUP(Egresados!$O353,Maestros!$G$31:$J$1030,2,0))","v":"8"},{"$f":"CONCATENATE(Egresados!$Z$8:$Z$705,\"a\",Egresados!$AA$8:$AA$705)","v":"223a8"},{"$f":"IF(ISERROR(VLOOKUP(Egresados!$P353,Maestros!$L$31:$Q$1030,2,0)),\"\",VLOOKUP(Egresados!$P353,Maestros!$L$31:$Q$1030,2,0))","v":"388"},{"$f":"CONCATENATE(Egresados!$Z$8:$Z$705,\"a\",Egresados!$AA$8:$AA$705,\"a\",Egresados!$AC$8:$AC$705)","v":"223a8a388"},{"$f":"IF(ISERROR(VLOOKUP(Egresados!$C$8:$C$705,Maestros!$A$4:$B$21,2,0)),\"\",VLOOKUP(Egresados!$C$8:$C$705,Maestros!$A$4:$B$21,2,0))","v":"1001"},{"$f":"IF(ISERROR(VLOOKUP(Egresados!$H$8:$H$705,Maestros!$D$4:$E$21,2,0)),\"\",VLOOKUP(Egresados!$H$8:$H$705,Maestros!$D$4:$E$21,2,0))","v":"1122"},{"$f":"IF(OR(UPPER(Egresados!$J$8:$J$705)=\"SI\",UPPER(Egresados!$J$8:$J$705)=\"SÍ\"),1,IF(UPPER(Egresados!$J$8:$J$705)=\"NO\",0,\"\"))","v":0},{"$f":"IF(OR(UPPER(Egresados!$R$8:$R$705)=\"SI\",UPPER(Egresados!$R$8:$R$705)=\"SÍ\"),1,IF(UPPER(Egresados!$R$8:$R$705)=\"NO\",0,\"\"))","v":""},{"$f":"IF(OR(UPPER(Egresados!$S$8:$S$705)=\"SI\",UPPER(Egresados!$S$8:$S$705)=\"SÍ\"),1,IF(UPPER(Egresados!$S$8:$S$705)=\"NO\",0,\"\"))","v":""},{"$f":"IF(ISERROR(VLOOKUP(Egresados!$T$8:$T$705,Maestros!$S$31:$T$530,2,0)),\"\",VLOOKUP(Egresados!$T$8:$T$705,Maestros!$S$31:$T$530,2,0))","v":"62"},{"$f":"IF(ISERROR(VLOOKUP(U353,Maestros!$S$31:$T$530,2,0)),\"\",VLOOKUP(U353,Maestros!$S$31:$T$530,2,0))","v":"62"},{"$f":"IF(ISERROR(VLOOKUP(Egresados!$K$8:$K$705,Maestros!$A$31:$B$130,2,0)),\"\",VLOOKUP(Egresados!$K$8:$K$705,Maestros!$A$31:$B$130,2,0))","v":""},{"$f":"IF(LEN(tablaEgresados[[#This Row],[Nota promedio]])>0,ROUND(tablaEgresados[[#This Row],[Nota promedio]],2),\"\")","v":15.18}]
[346,null,"DNI",21516673,"HERNANDEZ","ESPINO","MARIEL VICTORIA","FEMENINO",null,"NO",null,null,null,"2020-1","SEDE CENTRAL","EDUCACION PRIMARIA",16.350000000000001,null,null,"2014-1","2014-1","20142722@une.edu.pe","20142722@une.edu.pe",3133700,976486001,{"$f":"IF(ISERROR(VLOOKUP(Egresados!$N$8:$N$705,Maestros!$D$31:$E$530,2,0)),\"\",VLOOKUP(Egresados!$N$8:$N$705,Maestros!$D$31:$E$530,2,0))","v":"223"},{"$f":"IF(ISERROR(VLOOKUP(Egresados!$O354,Maestros!$G$31:$J$1030,2,0)),\"\",VLOOKUP(Egresados!$O354,Maestros!$G$31:$J$1030,2,0))","v":"8"},{"$f":"CONCATENATE(Egresados!$Z$8:$Z$705,\"a\",Egresados!$AA$8:$AA$705)","v":"223a8"},{"$f":"IF(ISERROR(VLOOKUP(Egresados!$P354,Maestros!$L$31:$Q$1030,2,0)),\"\",VLOOKUP(Egresados!$P354,Maestros!$L$31:$Q$1030,2,0))","v":"388"},{"$f":"CONCATENATE(Egresados!$Z$8:$Z$705,\"a\",Egresados!$AA$8:$AA$705,\"a\",Egresados!$AC$8:$AC$705)","v":"223a8a388"},{"$f":"IF(ISERROR(VLOOKUP(Egresados!$C$8:$C$705,Maestros!$A$4:$B$21,2,0)),\"\",VLOOKUP(Egresados!$C$8:$C$705,Maestros!$A$4:$B$21,2,0))","v":"1001"},{"$f":"IF(ISERROR(VLOOKUP(Egresados!$H$8:$H$705,Maestros!$D$4:$E$21,2,0)),\"\",VLOOKUP(Egresados!$H$8:$H$705,Maestros!$D$4:$E$21,2,0))","v":"1122"},{"$f":"IF(OR(UPPER(Egresados!$J$8:$J$705)=\"SI\",UPPER(Egresados!$J$8:$J$705)=\"SÍ\"),1,IF(UPPER(Egresados!$J$8:$J$705)=\"NO\",0,\"\"))","v":0},{"$f":"IF(OR(UPPER(Egresados!$R$8:$R$705)=\"SI\",UPPER(Egresados!$R$8:$R$705)=\"SÍ\"),1,IF(UPPER(Egresados!$R$8:$R$705)=\"NO\",0,\"\"))","v":""},{"$f":"IF(OR(UPPER(Egresados!$S$8:$S$705)=\"SI\",UPPER(Egresados!$S$8:$S$705)=\"SÍ\"),1,IF(UPPER(Egresados!$S$8:$S$705)=\"NO\",0,\"\"))","v":""},{"$f":"IF(ISERROR(VLOOKUP(Egresados!$T$8:$T$705,Maestros!$S$31:$T$530,2,0)),\"\",VLOOKUP(Egresados!$T$8:$T$705,Maestros!$S$31:$T$530,2,0))","v":"58"},{"$f":"IF(ISERROR(VLOOKUP(U354,Maestros!$S$31:$T$530,2,0)),\"\",VLOOKUP(U354,Maestros!$S$31:$T$530,2,0))","v":"58"},{"$f":"IF(ISERROR(VLOOKUP(Egresados!$K$8:$K$705,Maestros!$A$31:$B$130,2,0)),\"\",VLOOKUP(Egresados!$K$8:$K$705,Maestros!$A$31:$B$130,2,0))","v":""},{"$f":"IF(LEN(tablaEgresados[[#This Row],[Nota promedio]])>0,ROUND(tablaEgresados[[#This Row],[Nota promedio]],2),\"\")","v":16.350000000000001}]
[347,null,"DNI",27296472,"MENOR","DIAZ","HEILER WILSON","MASCULINO",null,"NO",null,null,null,"2020-1","SEDE CENTRAL","EDUCACION PRIMARIA",14.57,null,null,"2013-1","2013-1","20139075@une.edu.pe","20139075@une.edu.pe",3133700,976486001,{"$f":"IF(ISERROR(VLOOKUP(Egresados!$N$8:$N$705,Maestros!$D$31:$E$530,2,0)),\"\",VLOOKUP(Egresados!$N$8:$N$705,Maestros!$D$31:$E$530,2,0))","v":"223"},{"$f":"IF(ISERROR(VLOOKUP(Egresados!$O355,Maestros!$G$31:$J$1030,2,0)),\"\",VLOOKUP(Egresados!$O355,Maestros!$G$31:$J$1030,2,0))","v":"8"},{"$f":"CONCATENATE(Egresados!$Z$8:$Z$705,\"a\",Egresados!$AA$8:$AA$705)","v":"223a8"},{"$f":"IF(ISERROR(VLOOKUP(Egresados!$P355,Maestros!$L$31:$Q$1030,2,0)),\"\",VLOOKUP(Egresados!$P355,Maestros!$L$31:$Q$1030,2,0))","v":"388"},{"$f":"CONCATENATE(Egresados!$Z$8:$Z$705,\"a\",Egresados!$AA$8:$AA$705,\"a\",Egresados!$AC$8:$AC$705)","v":"223a8a388"},{"$f":"IF(ISERROR(VLOOKUP(Egresados!$C$8:$C$705,Maestros!$A$4:$B$21,2,0)),\"\",VLOOKUP(Egresados!$C$8:$C$705,Maestros!$A$4:$B$21,2,0))","v":"1001"},{"$f":"IF(ISERROR(VLOOKUP(Egresados!$H$8:$H$705,Maestros!$D$4:$E$21,2,0)),\"\",VLOOKUP(Egresados!$H$8:$H$705,Maestros!$D$4:$E$21,2,0))","v":"1121"},{"$f":"IF(OR(UPPER(Egresados!$J$8:$J$705)=\"SI\",UPPER(Egresados!$J$8:$J$705)=\"SÍ\"),1,IF(UPPER(Egresados!$J$8:$J$705)=\"NO\",0,\"\"))","v":0},{"$f":"IF(OR(UPPER(Egresados!$R$8:$R$705)=\"SI\",UPPER(Egresados!$R$8:$R$705)=\"SÍ\"),1,IF(UPPER(Egresados!$R$8:$R$705)=\"NO\",0,\"\"))","v":""},{"$f":"IF(OR(UPPER(Egresados!$S$8:$S$705)=\"SI\",UPPER(Egresados!$S$8:$S$705)=\"SÍ\"),1,IF(UPPER(Egresados!$S$8:$S$705)=\"NO\",0,\"\"))","v":""},{"$f":"IF(ISERROR(VLOOKUP(Egresados!$T$8:$T$705,Maestros!$S$31:$T$530,2,0)),\"\",VLOOKUP(Egresados!$T$8:$T$705,Maestros!$S$31:$T$530,2,0))","v":"54"},{"$f":"IF(ISERROR(VLOOKUP(U355,Maestros!$S$31:$T$530,2,0)),\"\",VLOOKUP(U355,Maestros!$S$31:$T$530,2,0))","v":"54"},{"$f":"IF(ISERROR(VLOOKUP(Egresados!$K$8:$K$705,Maestros!$A$31:$B$130,2,0)),\"\",VLOOKUP(Egresados!$K$8:$K$705,Maestros!$A$31:$B$130,2,0))","v":""},{"$f":"IF(LEN(tablaEgresados[[#This Row],[Nota promedio]])>0,ROUND(tablaEgresados[[#This Row],[Nota promedio]],2),\"\")","v":14.57}]
[348,null,"DNI",21540207,"PILLACA","JERI","CARMEN ROSA","FEMENINO",null,"NO",null,null,null,"2020-1","SEDE CENTRAL","EDUCACION PRIMARIA",14.18,null,null,"2012-1","2012-1","20124670@une.edu.pe","20124670@une.edu.pe",3133700,976486001,{"$f":"IF(ISERROR(VLOOKUP(Egresados!$N$8:$N$705,Maestros!$D$31:$E$530,2,0)),\"\",VLOOKUP(Egresados!$N$8:$N$705,Maestros!$D$31:$E$530,2,0))","v":"223"},{"$f":"IF(ISERROR(VLOOKUP(Egresados!$O356,Maestros!$G$31:$J$1030,2,0)),\"\",VLOOKUP(Egresados!$O356,Maestros!$G$31:$J$1030,2,0))","v":"8"},{"$f":"CONCATENATE(Egresados!$Z$8:$Z$705,\"a\",Egresados!$AA$8:$AA$705)","v":"223a8"},{"$f":"IF(ISERROR(VLOOKUP(Egresados!$P356,Maestros!$L$31:$Q$1030,2,0)),\"\",VLOOKUP(Egresados!$P356,Maestros!$L$31:$Q$1030,2,0))","v":"388"},{"$f":"CONCATENATE(Egresados!$Z$8:$Z$705,\"a\",Egresados!$AA$8:$AA$705,\"a\",Egresados!$AC$8:$AC$705)","v":"223a8a388"},{"$f":"IF(ISERROR(VLOOKUP(Egresados!$C$8:$C$705,Maestros!$A$4:$B$21,2,0)),\"\",VLOOKUP(Egresados!$C$8:$C$705,Maestros!$A$4:$B$21,2,0))","v":"1001"},{"$f":"IF(ISERROR(VLOOKUP(Egresados!$H$8:$H$705,Maestros!$D$4:$E$21,2,0)),\"\",VLOOKUP(Egresados!$H$8:$H$705,Maestros!$D$4:$E$21,2,0))","v":"1122"},{"$f":"IF(OR(UPPER(Egresados!$J$8:$J$705)=\"SI\",UPPER(Egresados!$J$8:$J$705)=\"SÍ\"),1,IF(UPPER(Egresados!$J$8:$J$705)=\"NO\",0,\"\"))","v":0},{"$f":"IF(OR(UPPER(Egresados!$R$8:$R$705)=\"SI\",UPPER(Egresados!$R$8:$R$705)=\"SÍ\"),1,IF(UPPER(Egresados!$R$8:$R$705)=\"NO\",0,\"\"))","v":""},{"$f":"IF(OR(UPPER(Egresados!$S$8:$S$705)=\"SI\",UPPER(Egresados!$S$8:$S$705)=\"SÍ\"),1,IF(UPPER(Egresados!$S$8:$S$705)=\"NO\",0,\"\"))","v":""},{"$f":"IF(ISERROR(VLOOKUP(Egresados!$T$8:$T$705,Maestros!$S$31:$T$530,2,0)),\"\",VLOOKUP(Egresados!$T$8:$T$705,Maestros!$S$31:$T$530,2,0))","v":"50"},{"$f":"IF(ISERROR(VLOOKUP(U356,Maestros!$S$31:$T$530,2,0)),\"\",VLOOKUP(U356,Maestros!$S$31:$T$530,2,0))","v":"50"},{"$f":"IF(ISERROR(VLOOKUP(Egresados!$K$8:$K$705,Maestros!$A$31:$B$130,2,0)),\"\",VLOOKUP(Egresados!$K$8:$K$705,Maestros!$A$31:$B$130,2,0))","v":""},{"$f":"IF(LEN(tablaEgresados[[#This Row],[Nota promedio]])>0,ROUND(tablaEgresados[[#This Row],[Nota promedio]],2),\"\")","v":14.18}]
[349,null,"DNI","21874200","TALLA","TORRES","MIRIAM","FEMENINO",null,"NO",null,null,null,"2020-1","SEDE CENTRAL","EDUCACION PRIMARIA",15.42,null,null,"2006-1","2006-1","20066962@une.edu.pe","20066962@une.edu.pe",3133700,976486001,{"$f":"IF(ISERROR(VLOOKUP(Egresados!$N$8:$N$705,Maestros!$D$31:$E$530,2,0)),\"\",VLOOKUP(Egresados!$N$8:$N$705,Maestros!$D$31:$E$530,2,0))","v":"223"},{"$f":"IF(ISERROR(VLOOKUP(Egresados!$O357,Maestros!$G$31:$J$1030,2,0)),\"\",VLOOKUP(Egresados!$O357,Maestros!$G$31:$J$1030,2,0))","v":"8"},{"$f":"CONCATENATE(Egresados!$Z$8:$Z$705,\"a\",Egresados!$AA$8:$AA$705)","v":"223a8"},{"$f":"IF(ISERROR(VLOOKUP(Egresados!$P357,Maestros!$L$31:$Q$1030,2,0)),\"\",VLOOKUP(Egresados!$P357,Maestros!$L$31:$Q$1030,2,0))","v":"388"},{"$f":"CONCATENATE(Egresados!$Z$8:$Z$705,\"a\",Egresados!$AA$8:$AA$705,\"a\",Egresados!$AC$8:$AC$705)","v":"223a8a388"},{"$f":"IF(ISERROR(VLOOKUP(Egresados!$C$8:$C$705,Maestros!$A$4:$B$21,2,0)),\"\",VLOOKUP(Egresados!$C$8:$C$705,Maestros!$A$4:$B$21,2,0))","v":"1001"},{"$f":"IF(ISERROR(VLOOKUP(Egresados!$H$8:$H$705,Maestros!$D$4:$E$21,2,0)),\"\",VLOOKUP(Egresados!$H$8:$H$705,Maestros!$D$4:$E$21,2,0))","v":"1122"},{"$f":"IF(OR(UPPER(Egresados!$J$8:$J$705)=\"SI\",UPPER(Egresados!$J$8:$J$705)=\"SÍ\"),1,IF(UPPER(Egresados!$J$8:$J$705)=\"NO\",0,\"\"))","v":0},{"$f":"IF(OR(UPPER(Egresados!$R$8:$R$705)=\"SI\",UPPER(Egresados!$R$8:$R$705)=\"SÍ\"),1,IF(UPPER(Egresados!$R$8:$R$705)=\"NO\",0,\"\"))","v":""},{"$f":"IF(OR(UPPER(Egresados!$S$8:$S$705)=\"SI\",UPPER(Egresados!$S$8:$S$705)=\"SÍ\"),1,IF(UPPER(Egresados!$S$8:$S$705)=\"NO\",0,\"\"))","v":""},{"$f":"IF(ISERROR(VLOOKUP(Egresados!$T$8:$T$705,Maestros!$S$31:$T$530,2,0)),\"\",VLOOKUP(Egresados!$T$8:$T$705,Maestros!$S$31:$T$530,2,0))","v":"26"},{"$f":"IF(ISERROR(VLOOKUP(U357,Maestros!$S$31:$T$530,2,0)),\"\",VLOOKUP(U357,Maestros!$S$31:$T$530,2,0))","v":"26"},{"$f":"IF(ISERROR(VLOOKUP(Egresados!$K$8:$K$705,Maestros!$A$31:$B$130,2,0)),\"\",VLOOKUP(Egresados!$K$8:$K$705,Maestros!$A$31:$B$130,2,0))","v":""},{"$f":"IF(LEN(tablaEgresados[[#This Row],[Nota promedio]])>0,ROUND(tablaEgresados[[#This Row],[Nota promedio]],2),\"\")","v":15.42}]
[350,null,"DNI","09529695","MUÑOZ","CORDERO","GADDY","FEMENINO",null,"NO",null,null,null,"2020-1","SEDE CENTRAL","EDUCACION PRIMARIA",14.65,null,null,"2012-1","2012-1","20123999@une.edu.pe","20123999@une.edu.pe",3133700,976486001,{"$f":"IF(ISERROR(VLOOKUP(Egresados!$N$8:$N$705,Maestros!$D$31:$E$530,2,0)),\"\",VLOOKUP(Egresados!$N$8:$N$705,Maestros!$D$31:$E$530,2,0))","v":"223"},{"$f":"IF(ISERROR(VLOOKUP(Egresados!$O358,Maestros!$G$31:$J$1030,2,0)),\"\",VLOOKUP(Egresados!$O358,Maestros!$G$31:$J$1030,2,0))","v":"8"},{"$f":"CONCATENATE(Egresados!$Z$8:$Z$705,\"a\",Egresados!$AA$8:$AA$705)","v":"223a8"},{"$f":"IF(ISERROR(VLOOKUP(Egresados!$P358,Maestros!$L$31:$Q$1030,2,0)),\"\",VLOOKUP(Egresados!$P358,Maestros!$L$31:$Q$1030,2,0))","v":"388"},{"$f":"CONCATENATE(Egresados!$Z$8:$Z$705,\"a\",Egresados!$AA$8:$AA$705,\"a\",Egresados!$AC$8:$AC$705)","v":"223a8a388"},{"$f":"IF(ISERROR(VLOOKUP(Egresados!$C$8:$C$705,Maestros!$A$4:$B$21,2,0)),\"\",VLOOKUP(Egresados!$C$8:$C$705,Maestros!$A$4:$B$21,2,0))","v":"1001"},{"$f":"IF(ISERROR(VLOOKUP(Egresados!$H$8:$H$705,Maestros!$D$4:$E$21,2,0)),\"\",VLOOKUP(Egresados!$H$8:$H$705,Maestros!$D$4:$E$21,2,0))","v":"1122"},{"$f":"IF(OR(UPPER(Egresados!$J$8:$J$705)=\"SI\",UPPER(Egresados!$J$8:$J$705)=\"SÍ\"),1,IF(UPPER(Egresados!$J$8:$J$705)=\"NO\",0,\"\"))","v":0},{"$f":"IF(OR(UPPER(Egresados!$R$8:$R$705)=\"SI\",UPPER(Egresados!$R$8:$R$705)=\"SÍ\"),1,IF(UPPER(Egresados!$R$8:$R$705)=\"NO\",0,\"\"))","v":""},{"$f":"IF(OR(UPPER(Egresados!$S$8:$S$705)=\"SI\",UPPER(Egresados!$S$8:$S$705)=\"SÍ\"),1,IF(UPPER(Egresados!$S$8:$S$705)=\"NO\",0,\"\"))","v":""},{"$f":"IF(ISERROR(VLOOKUP(Egresados!$T$8:$T$705,Maestros!$S$31:$T$530,2,0)),\"\",VLOOKUP(Egresados!$T$8:$T$705,Maestros!$S$31:$T$530,2,0))","v":"50"},{"$f":"IF(ISERROR(VLOOKUP(U358,Maestros!$S$31:$T$530,2,0)),\"\",VLOOKUP(U358,Maestros!$S$31:$T$530,2,0))","v":"50"},{"$f":"IF(ISERROR(VLOOKUP(Egresados!$K$8:$K$705,Maestros!$A$31:$B$130,2,0)),\"\",VLOOKUP(Egresados!$K$8:$K$705,Maestros!$A$31:$B$130,2,0))","v":""},{"$f":"IF(LEN(tablaEgresados[[#This Row],[Nota promedio]])>0,ROUND(tablaEgresados[[#This Row],[Nota promedio]],2),\"\")","v":14.65}]
[351,null,"DNI","05373937","RIOS","RUIZ","KARINA","FEMENINO",null,"NO",null,null,null,"2020-1","SEDE CENTRAL","EDUCACION PRIMARIA",14.87,null,null,"2004-1","2004-1","20040903@une.edu.pe","20040903@une.edu.pe",3133700,976486001,{"$f":"IF(ISERROR(VLOOKUP(Egresados!$N$8:$N$705,Maestros!$D$31:$E$530,2,0)),\"\",VLOOKUP(Egresados!$N$8:$N$705,Maestros!$D$31:$E$530,2,0))","v":"223"},{"$f":"IF(ISERROR(VLOOKUP(Egresados!$O359,Maestros!$G$31:$J$1030,2,0)),\"\",VLOOKUP(Egresados!$O359,Maestros!$G$31:$J$1030,2,0))","v":"8"},{"$f":"CONCATENATE(Egresados!$Z$8:$Z$705,\"a\",Egresados!$AA$8:$AA$705)","v":"223a8"},{"$f":"IF(ISERROR(VLOOKUP(Egresados!$P359,Maestros!$L$31:$Q$1030,2,0)),\"\",VLOOKUP(Egresados!$P359,Maestros!$L$31:$Q$1030,2,0))","v":"388"},{"$f":"CONCATENATE(Egresados!$Z$8:$Z$705,\"a\",Egresados!$AA$8:$AA$705,\"a\",Egresados!$AC$8:$AC$705)","v":"223a8a388"},{"$f":"IF(ISERROR(VLOOKUP(Egresados!$C$8:$C$705,Maestros!$A$4:$B$21,2,0)),\"\",VLOOKUP(Egresados!$C$8:$C$705,Maestros!$A$4:$B$21,2,0))","v":"1001"},{"$f":"IF(ISERROR(VLOOKUP(Egresados!$H$8:$H$705,Maestros!$D$4:$E$21,2,0)),\"\",VLOOKUP(Egresados!$H$8:$H$705,Maestros!$D$4:$E$21,2,0))","v":"1122"},{"$f":"IF(OR(UPPER(Egresados!$J$8:$J$705)=\"SI\",UPPER(Egresados!$J$8:$J$705)=\"SÍ\"),1,IF(UPPER(Egresados!$J$8:$J$705)=\"NO\",0,\"\"))","v":0},{"$f":"IF(OR(UPPER(Egresados!$R$8:$R$705)=\"SI\",UPPER(Egresados!$R$8:$R$705)=\"SÍ\"),1,IF(UPPER(Egresados!$R$8:$R$705)=\"NO\",0,\"\"))","v":""},{"$f":"IF(OR(UPPER(Egresados!$S$8:$S$705)=\"SI\",UPPER(Egresados!$S$8:$S$705)=\"SÍ\"),1,IF(UPPER(Egresados!$S$8:$S$705)=\"NO\",0,\"\"))","v":""},{"$f":"IF(ISERROR(VLOOKUP(Egresados!$T$8:$T$705,Maestros!$S$31:$T$530,2,0)),\"\",VLOOKUP(Egresados!$T$8:$T$705,Maestros!$S$31:$T$530,2,0))","v":"18"},{"$f":"IF(ISERROR(VLOOKUP(U359,Maestros!$S$31:$T$530,2,0)),\"\",VLOOKUP(U359,Maestros!$S$31:$T$530,2,0))","v":"18"},{"$f":"IF(ISERROR(VLOOKUP(Egresados!$K$8:$K$705,Maestros!$A$31:$B$130,2,0)),\"\",VLOOKUP(Egresados!$K$8:$K$705,Maestros!$A$31:$B$130,2,0))","v":""},{"$f":"IF(LEN(tablaEgresados[[#This Row],[Nota promedio]])>0,ROUND(tablaEgresados[[#This Row],[Nota promedio]],2),\"\")","v":14.87}]
[352,null,"DNI",41699218,"PALOMINO","PEDRAZA","LUCY","FEMENINO",null,"NO",null,null,null,"2020-1","SEDE CENTRAL","EDUCACION PRIMARIA",14.41,null,null,"2006-1","2006-1","20064994@une.edu.pe","20064994@une.edu.pe",3133700,976486001,{"$f":"IF(ISERROR(VLOOKUP(Egresados!$N$8:$N$705,Maestros!$D$31:$E$530,2,0)),\"\",VLOOKUP(Egresados!$N$8:$N$705,Maestros!$D$31:$E$530,2,0))","v":"223"},{"$f":"IF(ISERROR(VLOOKUP(Egresados!$O360,Maestros!$G$31:$J$1030,2,0)),\"\",VLOOKUP(Egresados!$O360,Maestros!$G$31:$J$1030,2,0))","v":"8"},{"$f":"CONCATENATE(Egresados!$Z$8:$Z$705,\"a\",Egresados!$AA$8:$AA$705)","v":"223a8"},{"$f":"IF(ISERROR(VLOOKUP(Egresados!$P360,Maestros!$L$31:$Q$1030,2,0)),\"\",VLOOKUP(Egresados!$P360,Maestros!$L$31:$Q$1030,2,0))","v":"388"},{"$f":"CONCATENATE(Egresados!$Z$8:$Z$705,\"a\",Egresados!$AA$8:$AA$705,\"a\",Egresados!$AC$8:$AC$705)","v":"223a8a388"},{"$f":"IF(ISERROR(VLOOKUP(Egresados!$C$8:$C$705,Maestros!$A$4:$B$21,2,0)),\"\",VLOOKUP(Egresados!$C$8:$C$705,Maestros!$A$4:$B$21,2,0))","v":"1001"},{"$f":"IF(ISERROR(VLOOKUP(Egresados!$H$8:$H$705,Maestros!$D$4:$E$21,2,0)),\"\",VLOOKUP(Egresados!$H$8:$H$705,Maestros!$D$4:$E$21,2,0))","v":"1122"},{"$f":"IF(OR(UPPER(Egresados!$J$8:$J$705)=\"SI\",UPPER(Egresados!$J$8:$J$705)=\"SÍ\"),1,IF(UPPER(Egresados!$J$8:$J$705)=\"NO\",0,\"\"))","v":0},{"$f":"IF(OR(UPPER(Egresados!$R$8:$R$705)=\"SI\",UPPER(Egresados!$R$8:$R$705)=\"SÍ\"),1,IF(UPPER(Egresados!$R$8:$R$705)=\"NO\",0,\"\"))","v":""},{"$f":"IF(OR(UPPER(Egresados!$S$8:$S$705)=\"SI\",UPPER(Egresados!$S$8:$S$705)=\"SÍ\"),1,IF(UPPER(Egresados!$S$8:$S$705)=\"NO\",0,\"\"))","v":""},{"$f":"IF(ISERROR(VLOOKUP(Egresados!$T$8:$T$705,Maestros!$S$31:$T$530,2,0)),\"\",VLOOKUP(Egresados!$T$8:$T$705,Maestros!$S$31:$T$530,2,0))","v":"26"},{"$f":"IF(ISERROR(VLOOKUP(U360,Maestros!$S$31:$T$530,2,0)),\"\",VLOOKUP(U360,Maestros!$S$31:$T$530,2,0))","v":"26"},{"$f":"IF(ISERROR(VLOOKUP(Egresados!$K$8:$K$705,Maestros!$A$31:$B$130,2,0)),\"\",VLOOKUP(Egresados!$K$8:$K$705,Maestros!$A$31:$B$130,2,0))","v":""},{"$f":"IF(LEN(tablaEgresados[[#This Row],[Nota promedio]])>0,ROUND(tablaEgresados[[#This Row],[Nota promedio]],2),\"\")","v":14.41}]
[353,null,"DNI",41101825,"LUNA","GOMEZ","CELIA GINE","FEMENINO",null,"NO",null,null,null,"2020-1","SEDE CENTRAL","EDUCACION PRIMARIA",13.6,null,null,"2011-1","2011-1","20116556@une.edu.pe","20116556@une.edu.pe",3133700,976486001,{"$f":"IF(ISERROR(VLOOKUP(Egresados!$N$8:$N$705,Maestros!$D$31:$E$530,2,0)),\"\",VLOOKUP(Egresados!$N$8:$N$705,Maestros!$D$31:$E$530,2,0))","v":"223"},{"$f":"IF(ISERROR(VLOOKUP(Egresados!$O361,Maestros!$G$31:$J$1030,2,0)),\"\",VLOOKUP(Egresados!$O361,Maestros!$G$31:$J$1030,2,0))","v":"8"},{"$f":"CONCATENATE(Egresados!$Z$8:$Z$705,\"a\",Egresados!$AA$8:$AA$705)","v":"223a8"},{"$f":"IF(ISERROR(VLOOKUP(Egresados!$P361,Maestros!$L$31:$Q$1030,2,0)),\"\",VLOOKUP(Egresados!$P361,Maestros!$L$31:$Q$1030,2,0))","v":"388"},{"$f":"CONCATENATE(Egresados!$Z$8:$Z$705,\"a\",Egresados!$AA$8:$AA$705,\"a\",Egresados!$AC$8:$AC$705)","v":"223a8a388"},{"$f":"IF(ISERROR(VLOOKUP(Egresados!$C$8:$C$705,Maestros!$A$4:$B$21,2,0)),\"\",VLOOKUP(Egresados!$C$8:$C$705,Maestros!$A$4:$B$21,2,0))","v":"1001"},{"$f":"IF(ISERROR(VLOOKUP(Egresados!$H$8:$H$705,Maestros!$D$4:$E$21,2,0)),\"\",VLOOKUP(Egresados!$H$8:$H$705,Maestros!$D$4:$E$21,2,0))","v":"1122"},{"$f":"IF(OR(UPPER(Egresados!$J$8:$J$705)=\"SI\",UPPER(Egresados!$J$8:$J$705)=\"SÍ\"),1,IF(UPPER(Egresados!$J$8:$J$705)=\"NO\",0,\"\"))","v":0},{"$f":"IF(OR(UPPER(Egresados!$R$8:$R$705)=\"SI\",UPPER(Egresados!$R$8:$R$705)=\"SÍ\"),1,IF(UPPER(Egresados!$R$8:$R$705)=\"NO\",0,\"\"))","v":""},{"$f":"IF(OR(UPPER(Egresados!$S$8:$S$705)=\"SI\",UPPER(Egresados!$S$8:$S$705)=\"SÍ\"),1,IF(UPPER(Egresados!$S$8:$S$705)=\"NO\",0,\"\"))","v":""},{"$f":"IF(ISERROR(VLOOKUP(Egresados!$T$8:$T$705,Maestros!$S$31:$T$530,2,0)),\"\",VLOOKUP(Egresados!$T$8:$T$705,Maestros!$S$31:$T$530,2,0))","v":"46"},{"$f":"IF(ISERROR(VLOOKUP(U361,Maestros!$S$31:$T$530,2,0)),\"\",VLOOKUP(U361,Maestros!$S$31:$T$530,2,0))","v":"46"},{"$f":"IF(ISERROR(VLOOKUP(Egresados!$K$8:$K$705,Maestros!$A$31:$B$130,2,0)),\"\",VLOOKUP(Egresados!$K$8:$K$705,Maestros!$A$31:$B$130,2,0))","v":""},{"$f":"IF(LEN(tablaEgresados[[#This Row],[Nota promedio]])>0,ROUND(tablaEgresados[[#This Row],[Nota promedio]],2),\"\")","v":13.6}]
[354,null,"DNI",22666208,"MEZA","FIGUEROA","MARIA","FEMENINO",null,"NO",null,null,null,"2020-1","SEDE CENTRAL","EDUCACION PRIMARIA",14.16,null,null,"2010-1","2010-1","20102758@une.edu.pe","20102758@une.edu.pe",3133700,976486001,{"$f":"IF(ISERROR(VLOOKUP(Egresados!$N$8:$N$705,Maestros!$D$31:$E$530,2,0)),\"\",VLOOKUP(Egresados!$N$8:$N$705,Maestros!$D$31:$E$530,2,0))","v":"223"},{"$f":"IF(ISERROR(VLOOKUP(Egresados!$O362,Maestros!$G$31:$J$1030,2,0)),\"\",VLOOKUP(Egresados!$O362,Maestros!$G$31:$J$1030,2,0))","v":"8"},{"$f":"CONCATENATE(Egresados!$Z$8:$Z$705,\"a\",Egresados!$AA$8:$AA$705)","v":"223a8"},{"$f":"IF(ISERROR(VLOOKUP(Egresados!$P362,Maestros!$L$31:$Q$1030,2,0)),\"\",VLOOKUP(Egresados!$P362,Maestros!$L$31:$Q$1030,2,0))","v":"388"},{"$f":"CONCATENATE(Egresados!$Z$8:$Z$705,\"a\",Egresados!$AA$8:$AA$705,\"a\",Egresados!$AC$8:$AC$705)","v":"223a8a388"},{"$f":"IF(ISERROR(VLOOKUP(Egresados!$C$8:$C$705,Maestros!$A$4:$B$21,2,0)),\"\",VLOOKUP(Egresados!$C$8:$C$705,Maestros!$A$4:$B$21,2,0))","v":"1001"},{"$f":"IF(ISERROR(VLOOKUP(Egresados!$H$8:$H$705,Maestros!$D$4:$E$21,2,0)),\"\",VLOOKUP(Egresados!$H$8:$H$705,Maestros!$D$4:$E$21,2,0))","v":"1122"},{"$f":"IF(OR(UPPER(Egresados!$J$8:$J$705)=\"SI\",UPPER(Egresados!$J$8:$J$705)=\"SÍ\"),1,IF(UPPER(Egresados!$J$8:$J$705)=\"NO\",0,\"\"))","v":0},{"$f":"IF(OR(UPPER(Egresados!$R$8:$R$705)=\"SI\",UPPER(Egresados!$R$8:$R$705)=\"SÍ\"),1,IF(UPPER(Egresados!$R$8:$R$705)=\"NO\",0,\"\"))","v":""},{"$f":"IF(OR(UPPER(Egresados!$S$8:$S$705)=\"SI\",UPPER(Egresados!$S$8:$S$705)=\"SÍ\"),1,IF(UPPER(Egresados!$S$8:$S$705)=\"NO\",0,\"\"))","v":""},{"$f":"IF(ISERROR(VLOOKUP(Egresados!$T$8:$T$705,Maestros!$S$31:$T$530,2,0)),\"\",VLOOKUP(Egresados!$T$8:$T$705,Maestros!$S$31:$T$530,2,0))","v":"42"},{"$f":"IF(ISERROR(VLOOKUP(U362,Maestros!$S$31:$T$530,2,0)),\"\",VLOOKUP(U362,Maestros!$S$31:$T$530,2,0))","v":"42"},{"$f":"IF(ISERROR(VLOOKUP(Egresados!$K$8:$K$705,Maestros!$A$31:$B$130,2,0)),\"\",VLOOKUP(Egresados!$K$8:$K$705,Maestros!$A$31:$B$130,2,0))","v":""},{"$f":"IF(LEN(tablaEgresados[[#This Row],[Nota promedio]])>0,ROUND(tablaEgresados[[#This Row],[Nota promedio]],2),\"\")","v":14.16}]
[355,null,"DNI","05619122","NAPO","HUAYUNGA","WILDER","MASCULINO",null,"NO",null,null,null,"2020-1","SEDE CENTRAL","EDUCACION PRIMARIA",14.28,null,null,"2012-1","2012-1","20127264@une.edu.pe","20127264@une.edu.pe",3133700,976486001,{"$f":"IF(ISERROR(VLOOKUP(Egresados!$N$8:$N$705,Maestros!$D$31:$E$530,2,0)),\"\",VLOOKUP(Egresados!$N$8:$N$705,Maestros!$D$31:$E$530,2,0))","v":"223"},{"$f":"IF(ISERROR(VLOOKUP(Egresados!$O363,Maestros!$G$31:$J$1030,2,0)),\"\",VLOOKUP(Egresados!$O363,Maestros!$G$31:$J$1030,2,0))","v":"8"},{"$f":"CONCATENATE(Egresados!$Z$8:$Z$705,\"a\",Egresados!$AA$8:$AA$705)","v":"223a8"},{"$f":"IF(ISERROR(VLOOKUP(Egresados!$P363,Maestros!$L$31:$Q$1030,2,0)),\"\",VLOOKUP(Egresados!$P363,Maestros!$L$31:$Q$1030,2,0))","v":"388"},{"$f":"CONCATENATE(Egresados!$Z$8:$Z$705,\"a\",Egresados!$AA$8:$AA$705,\"a\",Egresados!$AC$8:$AC$705)","v":"223a8a388"},{"$f":"IF(ISERROR(VLOOKUP(Egresados!$C$8:$C$705,Maestros!$A$4:$B$21,2,0)),\"\",VLOOKUP(Egresados!$C$8:$C$705,Maestros!$A$4:$B$21,2,0))","v":"1001"},{"$f":"IF(ISERROR(VLOOKUP(Egresados!$H$8:$H$705,Maestros!$D$4:$E$21,2,0)),\"\",VLOOKUP(Egresados!$H$8:$H$705,Maestros!$D$4:$E$21,2,0))","v":"1121"},{"$f":"IF(OR(UPPER(Egresados!$J$8:$J$705)=\"SI\",UPPER(Egresados!$J$8:$J$705)=\"SÍ\"),1,IF(UPPER(Egresados!$J$8:$J$705)=\"NO\",0,\"\"))","v":0},{"$f":"IF(OR(UPPER(Egresados!$R$8:$R$705)=\"SI\",UPPER(Egresados!$R$8:$R$705)=\"SÍ\"),1,IF(UPPER(Egresados!$R$8:$R$705)=\"NO\",0,\"\"))","v":""},{"$f":"IF(OR(UPPER(Egresados!$S$8:$S$705)=\"SI\",UPPER(Egresados!$S$8:$S$705)=\"SÍ\"),1,IF(UPPER(Egresados!$S$8:$S$705)=\"NO\",0,\"\"))","v":""},{"$f":"IF(ISERROR(VLOOKUP(Egresados!$T$8:$T$705,Maestros!$S$31:$T$530,2,0)),\"\",VLOOKUP(Egresados!$T$8:$T$705,Maestros!$S$31:$T$530,2,0))","v":"50"},{"$f":"IF(ISERROR(VLOOKUP(U363,Maestros!$S$31:$T$530,2,0)),\"\",VLOOKUP(U363,Maestros!$S$31:$T$530,2,0))","v":"50"},{"$f":"IF(ISERROR(VLOOKUP(Egresados!$K$8:$K$705,Maestros!$A$31:$B$130,2,0)),\"\",VLOOKUP(Egresados!$K$8:$K$705,Maestros!$A$31:$B$130,2,0))","v":""},{"$f":"IF(LEN(tablaEgresados[[#This Row],[Nota promedio]])>0,ROUND(tablaEgresados[[#This Row],[Nota promedio]],2),\"\")","v":14.28}]
[356,null,"DNI",21809902,"ESPINOZA","DELGADO","RINA LILIAN","FEMENINO",null,"NO",null,null,null,"2020-1","SEDE CENTRAL","EDUCACION PRIMARIA",15.45,null,null,"2009-1","2009-1","20094386@une.edu.pe","20094386@une.edu.pe",3133700,976486001,{"$f":"IF(ISERROR(VLOOKUP(Egresados!$N$8:$N$705,Maestros!$D$31:$E$530,2,0)),\"\",VLOOKUP(Egresados!$N$8:$N$705,Maestros!$D$31:$E$530,2,0))","v":"223"},{"$f":"IF(ISERROR(VLOOKUP(Egresados!$O364,Maestros!$G$31:$J$1030,2,0)),\"\",VLOOKUP(Egresados!$O364,Maestros!$G$31:$J$1030,2,0))","v":"8"},{"$f":"CONCATENATE(Egresados!$Z$8:$Z$705,\"a\",Egresados!$AA$8:$AA$705)","v":"223a8"},{"$f":"IF(ISERROR(VLOOKUP(Egresados!$P364,Maestros!$L$31:$Q$1030,2,0)),\"\",VLOOKUP(Egresados!$P364,Maestros!$L$31:$Q$1030,2,0))","v":"388"},{"$f":"CONCATENATE(Egresados!$Z$8:$Z$705,\"a\",Egresados!$AA$8:$AA$705,\"a\",Egresados!$AC$8:$AC$705)","v":"223a8a388"},{"$f":"IF(ISERROR(VLOOKUP(Egresados!$C$8:$C$705,Maestros!$A$4:$B$21,2,0)),\"\",VLOOKUP(Egresados!$C$8:$C$705,Maestros!$A$4:$B$21,2,0))","v":"1001"},{"$f":"IF(ISERROR(VLOOKUP(Egresados!$H$8:$H$705,Maestros!$D$4:$E$21,2,0)),\"\",VLOOKUP(Egresados!$H$8:$H$705,Maestros!$D$4:$E$21,2,0))","v":"1122"},{"$f":"IF(OR(UPPER(Egresados!$J$8:$J$705)=\"SI\",UPPER(Egresados!$J$8:$J$705)=\"SÍ\"),1,IF(UPPER(Egresados!$J$8:$J$705)=\"NO\",0,\"\"))","v":0},{"$f":"IF(OR(UPPER(Egresados!$R$8:$R$705)=\"SI\",UPPER(Egresados!$R$8:$R$705)=\"SÍ\"),1,IF(UPPER(Egresados!$R$8:$R$705)=\"NO\",0,\"\"))","v":""},{"$f":"IF(OR(UPPER(Egresados!$S$8:$S$705)=\"SI\",UPPER(Egresados!$S$8:$S$705)=\"SÍ\"),1,IF(UPPER(Egresados!$S$8:$S$705)=\"NO\",0,\"\"))","v":""},{"$f":"IF(ISERROR(VLOOKUP(Egresados!$T$8:$T$705,Maestros!$S$31:$T$530,2,0)),\"\",VLOOKUP(Egresados!$T$8:$T$705,Maestros!$S$31:$T$530,2,0))","v":"38"},{"$f":"IF(ISERROR(VLOOKUP(U364,Maestros!$S$31:$T$530,2,0)),\"\",VLOOKUP(U364,Maestros!$S$31:$T$530,2,0))","v":"38"},{"$f":"IF(ISERROR(VLOOKUP(Egresados!$K$8:$K$705,Maestros!$A$31:$B$130,2,0)),\"\",VLOOKUP(Egresados!$K$8:$K$705,Maestros!$A$31:$B$130,2,0))","v":""},{"$f":"IF(LEN(tablaEgresados[[#This Row],[Nota promedio]])>0,ROUND(tablaEgresados[[#This Row],[Nota promedio]],2),\"\")","v":15.45}]
[357,null,"DNI",10626594,"RAMIREZ","GARNICA","YSOLINA LIDIA","FEMENINO",null,"NO",null,null,null,"2020-1","SEDE CENTRAL","EDUCACION PRIMARIA",16.25,null,null,"2010-1","2010-1","20102664@une.edu.pe","20102664@une.edu.pe",3133700,976486001,{"$f":"IF(ISERROR(VLOOKUP(Egresados!$N$8:$N$705,Maestros!$D$31:$E$530,2,0)),\"\",VLOOKUP(Egresados!$N$8:$N$705,Maestros!$D$31:$E$530,2,0))","v":"223"},{"$f":"IF(ISERROR(VLOOKUP(Egresados!$O365,Maestros!$G$31:$J$1030,2,0)),\"\",VLOOKUP(Egresados!$O365,Maestros!$G$31:$J$1030,2,0))","v":"8"},{"$f":"CONCATENATE(Egresados!$Z$8:$Z$705,\"a\",Egresados!$AA$8:$AA$705)","v":"223a8"},{"$f":"IF(ISERROR(VLOOKUP(Egresados!$P365,Maestros!$L$31:$Q$1030,2,0)),\"\",VLOOKUP(Egresados!$P365,Maestros!$L$31:$Q$1030,2,0))","v":"388"},{"$f":"CONCATENATE(Egresados!$Z$8:$Z$705,\"a\",Egresados!$AA$8:$AA$705,\"a\",Egresados!$AC$8:$AC$705)","v":"223a8a388"},{"$f":"IF(ISERROR(VLOOKUP(Egresados!$C$8:$C$705,Maestros!$A$4:$B$21,2,0)),\"\",VLOOKUP(Egresados!$C$8:$C$705,Maestros!$A$4:$B$21,2,0))","v":"1001"},{"$f":"IF(ISERROR(VLOOKUP(Egresados!$H$8:$H$705,Maestros!$D$4:$E$21,2,0)),\"\",VLOOKUP(Egresados!$H$8:$H$705,Maestros!$D$4:$E$21,2,0))","v":"1122"},{"$f":"IF(OR(UPPER(Egresados!$J$8:$J$705)=\"SI\",UPPER(Egresados!$J$8:$J$705)=\"SÍ\"),1,IF(UPPER(Egresados!$J$8:$J$705)=\"NO\",0,\"\"))","v":0},{"$f":"IF(OR(UPPER(Egresados!$R$8:$R$705)=\"SI\",UPPER(Egresados!$R$8:$R$705)=\"SÍ\"),1,IF(UPPER(Egresados!$R$8:$R$705)=\"NO\",0,\"\"))","v":""},{"$f":"IF(OR(UPPER(Egresados!$S$8:$S$705)=\"SI\",UPPER(Egresados!$S$8:$S$705)=\"SÍ\"),1,IF(UPPER(Egresados!$S$8:$S$705)=\"NO\",0,\"\"))","v":""},{"$f":"IF(ISERROR(VLOOKUP(Egresados!$T$8:$T$705,Maestros!$S$31:$T$530,2,0)),\"\",VLOOKUP(Egresados!$T$8:$T$705,Maestros!$S$31:$T$530,2,0))","v":"42"},{"$f":"IF(ISERROR(VLOOKUP(U365,Maestros!$S$31:$T$530,2,0)),\"\",VLOOKUP(U365,Maestros!$S$31:$T$530,2,0))","v":"42"},{"$f":"IF(ISERROR(VLOOKUP(Egresados!$K$8:$K$705,Maestros!$A$31:$B$130,2,0)),\"\",VLOOKUP(Egresados!$K$8:$K$705,Maestros!$A$31:$B$130,2,0))","v":""},{"$f":"IF(LEN(tablaEgresados[[#This Row],[Nota promedio]])>0,ROUND(tablaEgresados[[#This Row],[Nota promedio]],2),\"\")","v":16.25}]
[358,null,"DNI","22256234","MEDINA","ANCHANTE","MERCEDES ELVA","FEMENINO",null,"NO",null,null,null,"2020-1","SEDE CENTRAL","EDUCACION PRIMARIA",15.79,null,null,"2012-1","2012-1","20125278@une.edu.pe","20125278@une.edu.pe",3133700,976486001,{"$f":"IF(ISERROR(VLOOKUP(Egresados!$N$8:$N$705,Maestros!$D$31:$E$530,2,0)),\"\",VLOOKUP(Egresados!$N$8:$N$705,Maestros!$D$31:$E$530,2,0))","v":"223"},{"$f":"IF(ISERROR(VLOOKUP(Egresados!$O366,Maestros!$G$31:$J$1030,2,0)),\"\",VLOOKUP(Egresados!$O366,Maestros!$G$31:$J$1030,2,0))","v":"8"},{"$f":"CONCATENATE(Egresados!$Z$8:$Z$705,\"a\",Egresados!$AA$8:$AA$705)","v":"223a8"},{"$f":"IF(ISERROR(VLOOKUP(Egresados!$P366,Maestros!$L$31:$Q$1030,2,0)),\"\",VLOOKUP(Egresados!$P366,Maestros!$L$31:$Q$1030,2,0))","v":"388"},{"$f":"CONCATENATE(Egresados!$Z$8:$Z$705,\"a\",Egresados!$AA$8:$AA$705,\"a\",Egresados!$AC$8:$AC$705)","v":"223a8a388"},{"$f":"IF(ISERROR(VLOOKUP(Egresados!$C$8:$C$705,Maestros!$A$4:$B$21,2,0)),\"\",VLOOKUP(Egresados!$C$8:$C$705,Maestros!$A$4:$B$21,2,0))","v":"1001"},{"$f":"IF(ISERROR(VLOOKUP(Egresados!$H$8:$H$705,Maestros!$D$4:$E$21,2,0)),\"\",VLOOKUP(Egresados!$H$8:$H$705,Maestros!$D$4:$E$21,2,0))","v":"1122"},{"$f":"IF(OR(UPPER(Egresados!$J$8:$J$705)=\"SI\",UPPER(Egresados!$J$8:$J$705)=\"SÍ\"),1,IF(UPPER(Egresados!$J$8:$J$705)=\"NO\",0,\"\"))","v":0},{"$f":"IF(OR(UPPER(Egresados!$R$8:$R$705)=\"SI\",UPPER(Egresados!$R$8:$R$705)=\"SÍ\"),1,IF(UPPER(Egresados!$R$8:$R$705)=\"NO\",0,\"\"))","v":""},{"$f":"IF(OR(UPPER(Egresados!$S$8:$S$705)=\"SI\",UPPER(Egresados!$S$8:$S$705)=\"SÍ\"),1,IF(UPPER(Egresados!$S$8:$S$705)=\"NO\",0,\"\"))","v":""},{"$f":"IF(ISERROR(VLOOKUP(Egresados!$T$8:$T$705,Maestros!$S$31:$T$530,2,0)),\"\",VLOOKUP(Egresados!$T$8:$T$705,Maestros!$S$31:$T$530,2,0))","v":"50"},{"$f":"IF(ISERROR(VLOOKUP(U366,Maestros!$S$31:$T$530,2,0)),\"\",VLOOKUP(U366,Maestros!$S$31:$T$530,2,0))","v":"50"},{"$f":"IF(ISERROR(VLOOKUP(Egresados!$K$8:$K$705,Maestros!$A$31:$B$130,2,0)),\"\",VLOOKUP(Egresados!$K$8:$K$705,Maestros!$A$31:$B$130,2,0))","v":""},{"$f":"IF(LEN(tablaEgresados[[#This Row],[Nota promedio]])>0,ROUND(tablaEgresados[[#This Row],[Nota promedio]],2),\"\")","v":15.79}]
[359,null,"DNI",42795605,"JUSTO","GONZALES","LOURDES","FEMENINO",null,"NO",null,null,null,"2020-1","SEDE CENTRAL","EDUCACION PRIMARIA",16.079999999999998,null,null,"2013-1","2013-1","20133954@une.edu.pe","20133954@une.edu.pe",3133700,976486001,{"$f":"IF(ISERROR(VLOOKUP(Egresados!$N$8:$N$705,Maestros!$D$31:$E$530,2,0)),\"\",VLOOKUP(Egresados!$N$8:$N$705,Maestros!$D$31:$E$530,2,0))","v":"223"},{"$f":"IF(ISERROR(VLOOKUP(Egresados!$O367,Maestros!$G$31:$J$1030,2,0)),\"\",VLOOKUP(Egresados!$O367,Maestros!$G$31:$J$1030,2,0))","v":"8"},{"$f":"CONCATENATE(Egresados!$Z$8:$Z$705,\"a\",Egresados!$AA$8:$AA$705)","v":"223a8"},{"$f":"IF(ISERROR(VLOOKUP(Egresados!$P367,Maestros!$L$31:$Q$1030,2,0)),\"\",VLOOKUP(Egresados!$P367,Maestros!$L$31:$Q$1030,2,0))","v":"388"},{"$f":"CONCATENATE(Egresados!$Z$8:$Z$705,\"a\",Egresados!$AA$8:$AA$705,\"a\",Egresados!$AC$8:$AC$705)","v":"223a8a388"},{"$f":"IF(ISERROR(VLOOKUP(Egresados!$C$8:$C$705,Maestros!$A$4:$B$21,2,0)),\"\",VLOOKUP(Egresados!$C$8:$C$705,Maestros!$A$4:$B$21,2,0))","v":"1001"},{"$f":"IF(ISERROR(VLOOKUP(Egresados!$H$8:$H$705,Maestros!$D$4:$E$21,2,0)),\"\",VLOOKUP(Egresados!$H$8:$H$705,Maestros!$D$4:$E$21,2,0))","v":"1122"},{"$f":"IF(OR(UPPER(Egresados!$J$8:$J$705)=\"SI\",UPPER(Egresados!$J$8:$J$705)=\"SÍ\"),1,IF(UPPER(Egresados!$J$8:$J$705)=\"NO\",0,\"\"))","v":0},{"$f":"IF(OR(UPPER(Egresados!$R$8:$R$705)=\"SI\",UPPER(Egresados!$R$8:$R$705)=\"SÍ\"),1,IF(UPPER(Egresados!$R$8:$R$705)=\"NO\",0,\"\"))","v":""},{"$f":"IF(OR(UPPER(Egresados!$S$8:$S$705)=\"SI\",UPPER(Egresados!$S$8:$S$705)=\"SÍ\"),1,IF(UPPER(Egresados!$S$8:$S$705)=\"NO\",0,\"\"))","v":""},{"$f":"IF(ISERROR(VLOOKUP(Egresados!$T$8:$T$705,Maestros!$S$31:$T$530,2,0)),\"\",VLOOKUP(Egresados!$T$8:$T$705,Maestros!$S$31:$T$530,2,0))","v":"54"},{"$f":"IF(ISERROR(VLOOKUP(U367,Maestros!$S$31:$T$530,2,0)),\"\",VLOOKUP(U367,Maestros!$S$31:$T$530,2,0))","v":"54"},{"$f":"IF(ISERROR(VLOOKUP(Egresados!$K$8:$K$705,Maestros!$A$31:$B$130,2,0)),\"\",VLOOKUP(Egresados!$K$8:$K$705,Maestros!$A$31:$B$130,2,0))","v":""},{"$f":"IF(LEN(tablaEgresados[[#This Row],[Nota promedio]])>0,ROUND(tablaEgresados[[#This Row],[Nota promedio]],2),\"\")","v":16.079999999999998}]
[360,null,"DNI",44366520,"CORDERO","PEREZ","MARIA TERESA","MASCULINO",null,"NO",null,null,null,"2020-1","SEDE CENTRAL","EDUCACION PRIMARIA",16.93,null,null,"2010-1","2010-1","20105688@une.edu.pe","20105688@une.edu.pe",3133700,976486001,{"$f":"IF(ISERROR(VLOOKUP(Egresados!$N$8:$N$705,Maestros!$D$31:$E$530,2,0)),\"\",VLOOKUP(Egresados!$N$8:$N$705,Maestros!$D$31:$E$530,2,0))","v":"223"},{"$f":"IF(ISERROR(VLOOKUP(Egresados!$O368,Maestros!$G$31:$J$1030,2,0)),\"\",VLOOKUP(Egresados!$O368,Maestros!$G$31:$J$1030,2,0))","v":"8"},{"$f":"CONCATENATE(Egresados!$Z$8:$Z$705,\"a\",Egresados!$AA$8:$AA$705)","v":"223a8"},{"$f":"IF(ISERROR(VLOOKUP(Egresados!$P368,Maestros!$L$31:$Q$1030,2,0)),\"\",VLOOKUP(Egresados!$P368,Maestros!$L$31:$Q$1030,2,0))","v":"388"},{"$f":"CONCATENATE(Egresados!$Z$8:$Z$705,\"a\",Egresados!$AA$8:$AA$705,\"a\",Egresados!$AC$8:$AC$705)","v":"223a8a388"},{"$f":"IF(ISERROR(VLOOKUP(Egresados!$C$8:$C$705,Maestros!$A$4:$B$21,2,0)),\"\",VLOOKUP(Egresados!$C$8:$C$705,Maestros!$A$4:$B$21,2,0))","v":"1001"},{"$f":"IF(ISERROR(VLOOKUP(Egresados!$H$8:$H$705,Maestros!$D$4:$E$21,2,0)),\"\",VLOOKUP(Egresados!$H$8:$H$705,Maestros!$D$4:$E$21,2,0))","v":"1121"},{"$f":"IF(OR(UPPER(Egresados!$J$8:$J$705)=\"SI\",UPPER(Egresados!$J$8:$J$705)=\"SÍ\"),1,IF(UPPER(Egresados!$J$8:$J$705)=\"NO\",0,\"\"))","v":0},{"$f":"IF(OR(UPPER(Egresados!$R$8:$R$705)=\"SI\",UPPER(Egresados!$R$8:$R$705)=\"SÍ\"),1,IF(UPPER(Egresados!$R$8:$R$705)=\"NO\",0,\"\"))","v":""},{"$f":"IF(OR(UPPER(Egresados!$S$8:$S$705)=\"SI\",UPPER(Egresados!$S$8:$S$705)=\"SÍ\"),1,IF(UPPER(Egresados!$S$8:$S$705)=\"NO\",0,\"\"))","v":""},{"$f":"IF(ISERROR(VLOOKUP(Egresados!$T$8:$T$705,Maestros!$S$31:$T$530,2,0)),\"\",VLOOKUP(Egresados!$T$8:$T$705,Maestros!$S$31:$T$530,2,0))","v":"42"},{"$f":"IF(ISERROR(VLOOKUP(U368,Maestros!$S$31:$T$530,2,0)),\"\",VLOOKUP(U368,Maestros!$S$31:$T$530,2,0))","v":"42"},{"$f":"IF(ISERROR(VLOOKUP(Egresados!$K$8:$K$705,Maestros!$A$31:$B$130,2,0)),\"\",VLOOKUP(Egresados!$K$8:$K$705,Maestros!$A$31:$B$130,2,0))","v":""},{"$f":"IF(LEN(tablaEgresados[[#This Row],[Nota promedio]])>0,ROUND(tablaEgresados[[#This Row],[Nota promedio]],2),\"\")","v":16.93}]
[361,null,"DNI",40417439,"COTILLO","DEL CASTILLO","ROCIO DEL PILAR","MASCULINO",null,"NO",null,null,null,"2020-1","SEDE CENTRAL","EDUCACION PRIMARIA",14.68,null,null,"2009-1","2009-1","20093076@une.edu.pe","20093076@une.edu.pe",3133700,976486001,{"$f":"IF(ISERROR(VLOOKUP(Egresados!$N$8:$N$705,Maestros!$D$31:$E$530,2,0)),\"\",VLOOKUP(Egresados!$N$8:$N$705,Maestros!$D$31:$E$530,2,0))","v":"223"},{"$f":"IF(ISERROR(VLOOKUP(Egresados!$O369,Maestros!$G$31:$J$1030,2,0)),\"\",VLOOKUP(Egresados!$O369,Maestros!$G$31:$J$1030,2,0))","v":"8"},{"$f":"CONCATENATE(Egresados!$Z$8:$Z$705,\"a\",Egresados!$AA$8:$AA$705)","v":"223a8"},{"$f":"IF(ISERROR(VLOOKUP(Egresados!$P369,Maestros!$L$31:$Q$1030,2,0)),\"\",VLOOKUP(Egresados!$P369,Maestros!$L$31:$Q$1030,2,0))","v":"388"},{"$f":"CONCATENATE(Egresados!$Z$8:$Z$705,\"a\",Egresados!$AA$8:$AA$705,\"a\",Egresados!$AC$8:$AC$705)","v":"223a8a388"},{"$f":"IF(ISERROR(VLOOKUP(Egresados!$C$8:$C$705,Maestros!$A$4:$B$21,2,0)),\"\",VLOOKUP(Egresados!$C$8:$C$705,Maestros!$A$4:$B$21,2,0))","v":"1001"},{"$f":"IF(ISERROR(VLOOKUP(Egresados!$H$8:$H$705,Maestros!$D$4:$E$21,2,0)),\"\",VLOOKUP(Egresados!$H$8:$H$705,Maestros!$D$4:$E$21,2,0))","v":"1121"},{"$f":"IF(OR(UPPER(Egresados!$J$8:$J$705)=\"SI\",UPPER(Egresados!$J$8:$J$705)=\"SÍ\"),1,IF(UPPER(Egresados!$J$8:$J$705)=\"NO\",0,\"\"))","v":0},{"$f":"IF(OR(UPPER(Egresados!$R$8:$R$705)=\"SI\",UPPER(Egresados!$R$8:$R$705)=\"SÍ\"),1,IF(UPPER(Egresados!$R$8:$R$705)=\"NO\",0,\"\"))","v":""},{"$f":"IF(OR(UPPER(Egresados!$S$8:$S$705)=\"SI\",UPPER(Egresados!$S$8:$S$705)=\"SÍ\"),1,IF(UPPER(Egresados!$S$8:$S$705)=\"NO\",0,\"\"))","v":""},{"$f":"IF(ISERROR(VLOOKUP(Egresados!$T$8:$T$705,Maestros!$S$31:$T$530,2,0)),\"\",VLOOKUP(Egresados!$T$8:$T$705,Maestros!$S$31:$T$530,2,0))","v":"38"},{"$f":"IF(ISERROR(VLOOKUP(U369,Maestros!$S$31:$T$530,2,0)),\"\",VLOOKUP(U369,Maestros!$S$31:$T$530,2,0))","v":"38"},{"$f":"IF(ISERROR(VLOOKUP(Egresados!$K$8:$K$705,Maestros!$A$31:$B$130,2,0)),\"\",VLOOKUP(Egresados!$K$8:$K$705,Maestros!$A$31:$B$130,2,0))","v":""},{"$f":"IF(LEN(tablaEgresados[[#This Row],[Nota promedio]])>0,ROUND(tablaEgresados[[#This Row],[Nota promedio]],2),\"\")","v":14.68}]
[362,null,"DNI",40730890,"PALOMINO","CARDENAS","VILMA LUCIA","FEMENINO",null,"NO",null,null,null,"2020-1","SEDE CENTRAL","EDUCACION PRIMARIA",14.01,null,null,"2010-1","2010-1","20105217@une.edu.pe","20105217@une.edu.pe",3133700,976486001,{"$f":"IF(ISERROR(VLOOKUP(Egresados!$N$8:$N$705,Maestros!$D$31:$E$530,2,0)),\"\",VLOOKUP(Egresados!$N$8:$N$705,Maestros!$D$31:$E$530,2,0))","v":"223"},{"$f":"IF(ISERROR(VLOOKUP(Egresados!$O370,Maestros!$G$31:$J$1030,2,0)),\"\",VLOOKUP(Egresados!$O370,Maestros!$G$31:$J$1030,2,0))","v":"8"},{"$f":"CONCATENATE(Egresados!$Z$8:$Z$705,\"a\",Egresados!$AA$8:$AA$705)","v":"223a8"},{"$f":"IF(ISERROR(VLOOKUP(Egresados!$P370,Maestros!$L$31:$Q$1030,2,0)),\"\",VLOOKUP(Egresados!$P370,Maestros!$L$31:$Q$1030,2,0))","v":"388"},{"$f":"CONCATENATE(Egresados!$Z$8:$Z$705,\"a\",Egresados!$AA$8:$AA$705,\"a\",Egresados!$AC$8:$AC$705)","v":"223a8a388"},{"$f":"IF(ISERROR(VLOOKUP(Egresados!$C$8:$C$705,Maestros!$A$4:$B$21,2,0)),\"\",VLOOKUP(Egresados!$C$8:$C$705,Maestros!$A$4:$B$21,2,0))","v":"1001"},{"$f":"IF(ISERROR(VLOOKUP(Egresados!$H$8:$H$705,Maestros!$D$4:$E$21,2,0)),\"\",VLOOKUP(Egresados!$H$8:$H$705,Maestros!$D$4:$E$21,2,0))","v":"1122"},{"$f":"IF(OR(UPPER(Egresados!$J$8:$J$705)=\"SI\",UPPER(Egresados!$J$8:$J$705)=\"SÍ\"),1,IF(UPPER(Egresados!$J$8:$J$705)=\"NO\",0,\"\"))","v":0},{"$f":"IF(OR(UPPER(Egresados!$R$8:$R$705)=\"SI\",UPPER(Egresados!$R$8:$R$705)=\"SÍ\"),1,IF(UPPER(Egresados!$R$8:$R$705)=\"NO\",0,\"\"))","v":""},{"$f":"IF(OR(UPPER(Egresados!$S$8:$S$705)=\"SI\",UPPER(Egresados!$S$8:$S$705)=\"SÍ\"),1,IF(UPPER(Egresados!$S$8:$S$705)=\"NO\",0,\"\"))","v":""},{"$f":"IF(ISERROR(VLOOKUP(Egresados!$T$8:$T$705,Maestros!$S$31:$T$530,2,0)),\"\",VLOOKUP(Egresados!$T$8:$T$705,Maestros!$S$31:$T$530,2,0))","v":"42"},{"$f":"IF(ISERROR(VLOOKUP(U370,Maestros!$S$31:$T$530,2,0)),\"\",VLOOKUP(U370,Maestros!$S$31:$T$530,2,0))","v":"42"},{"$f":"IF(ISERROR(VLOOKUP(Egresados!$K$8:$K$705,Maestros!$A$31:$B$130,2,0)),\"\",VLOOKUP(Egresados!$K$8:$K$705,Maestros!$A$31:$B$130,2,0))","v":""},{"$f":"IF(LEN(tablaEgresados[[#This Row],[Nota promedio]])>0,ROUND(tablaEgresados[[#This Row],[Nota promedio]],2),\"\")","v":14.01}]
[363,null,"DNI",15437385,"ACEVEDO","JORGE","LUZ MARIA","FEMENINO",null,"NO",null,null,null,"2020-1","SEDE CENTRAL","EDUCACION PRIMARIA",15.83,null,null,"2005-1","2005-1","20058426@une.edu.pe","20058426@une.edu.pe",3133700,976486001,{"$f":"IF(ISERROR(VLOOKUP(Egresados!$N$8:$N$705,Maestros!$D$31:$E$530,2,0)),\"\",VLOOKUP(Egresados!$N$8:$N$705,Maestros!$D$31:$E$530,2,0))","v":"223"},{"$f":"IF(ISERROR(VLOOKUP(Egresados!$O371,Maestros!$G$31:$J$1030,2,0)),\"\",VLOOKUP(Egresados!$O371,Maestros!$G$31:$J$1030,2,0))","v":"8"},{"$f":"CONCATENATE(Egresados!$Z$8:$Z$705,\"a\",Egresados!$AA$8:$AA$705)","v":"223a8"},{"$f":"IF(ISERROR(VLOOKUP(Egresados!$P371,Maestros!$L$31:$Q$1030,2,0)),\"\",VLOOKUP(Egresados!$P371,Maestros!$L$31:$Q$1030,2,0))","v":"388"},{"$f":"CONCATENATE(Egresados!$Z$8:$Z$705,\"a\",Egresados!$AA$8:$AA$705,\"a\",Egresados!$AC$8:$AC$705)","v":"223a8a388"},{"$f":"IF(ISERROR(VLOOKUP(Egresados!$C$8:$C$705,Maestros!$A$4:$B$21,2,0)),\"\",VLOOKUP(Egresados!$C$8:$C$705,Maestros!$A$4:$B$21,2,0))","v":"1001"},{"$f":"IF(ISERROR(VLOOKUP(Egresados!$H$8:$H$705,Maestros!$D$4:$E$21,2,0)),\"\",VLOOKUP(Egresados!$H$8:$H$705,Maestros!$D$4:$E$21,2,0))","v":"1122"},{"$f":"IF(OR(UPPER(Egresados!$J$8:$J$705)=\"SI\",UPPER(Egresados!$J$8:$J$705)=\"SÍ\"),1,IF(UPPER(Egresados!$J$8:$J$705)=\"NO\",0,\"\"))","v":0},{"$f":"IF(OR(UPPER(Egresados!$R$8:$R$705)=\"SI\",UPPER(Egresados!$R$8:$R$705)=\"SÍ\"),1,IF(UPPER(Egresados!$R$8:$R$705)=\"NO\",0,\"\"))","v":""},{"$f":"IF(OR(UPPER(Egresados!$S$8:$S$705)=\"SI\",UPPER(Egresados!$S$8:$S$705)=\"SÍ\"),1,IF(UPPER(Egresados!$S$8:$S$705)=\"NO\",0,\"\"))","v":""},{"$f":"IF(ISERROR(VLOOKUP(Egresados!$T$8:$T$705,Maestros!$S$31:$T$530,2,0)),\"\",VLOOKUP(Egresados!$T$8:$T$705,Maestros!$S$31:$T$530,2,0))","v":"22"},{"$f":"IF(ISERROR(VLOOKUP(U371,Maestros!$S$31:$T$530,2,0)),\"\",VLOOKUP(U371,Maestros!$S$31:$T$530,2,0))","v":"22"},{"$f":"IF(ISERROR(VLOOKUP(Egresados!$K$8:$K$705,Maestros!$A$31:$B$130,2,0)),\"\",VLOOKUP(Egresados!$K$8:$K$705,Maestros!$A$31:$B$130,2,0))","v":""},{"$f":"IF(LEN(tablaEgresados[[#This Row],[Nota promedio]])>0,ROUND(tablaEgresados[[#This Row],[Nota promedio]],2),\"\")","v":15.83}]
[364,null,"DNI",41952189,"HERMENEGILDO","MACAVILCA","GUILLERMINA EVELYN","FEMENINO",null,"NO",null,null,null,"2020-1","SEDE CENTRAL","EDUCACION PRIMARIA",0,null,null,"2009-1","2009-1","20093156@une.edu.pe","20093156@une.edu.pe",3133700,976486001,{"$f":"IF(ISERROR(VLOOKUP(Egresados!$N$8:$N$705,Maestros!$D$31:$E$530,2,0)),\"\",VLOOKUP(Egresados!$N$8:$N$705,Maestros!$D$31:$E$530,2,0))","v":"223"},{"$f":"IF(ISERROR(VLOOKUP(Egresados!$O372,Maestros!$G$31:$J$1030,2,0)),\"\",VLOOKUP(Egresados!$O372,Maestros!$G$31:$J$1030,2,0))","v":"8"},{"$f":"CONCATENATE(Egresados!$Z$8:$Z$705,\"a\",Egresados!$AA$8:$AA$705)","v":"223a8"},{"$f":"IF(ISERROR(VLOOKUP(Egresados!$P372,Maestros!$L$31:$Q$1030,2,0)),\"\",VLOOKUP(Egresados!$P372,Maestros!$L$31:$Q$1030,2,0))","v":"388"},{"$f":"CONCATENATE(Egresados!$Z$8:$Z$705,\"a\",Egresados!$AA$8:$AA$705,\"a\",Egresados!$AC$8:$AC$705)","v":"223a8a388"},{"$f":"IF(ISERROR(VLOOKUP(Egresados!$C$8:$C$705,Maestros!$A$4:$B$21,2,0)),\"\",VLOOKUP(Egresados!$C$8:$C$705,Maestros!$A$4:$B$21,2,0))","v":"1001"},{"$f":"IF(ISERROR(VLOOKUP(Egresados!$H$8:$H$705,Maestros!$D$4:$E$21,2,0)),\"\",VLOOKUP(Egresados!$H$8:$H$705,Maestros!$D$4:$E$21,2,0))","v":"1122"},{"$f":"IF(OR(UPPER(Egresados!$J$8:$J$705)=\"SI\",UPPER(Egresados!$J$8:$J$705)=\"SÍ\"),1,IF(UPPER(Egresados!$J$8:$J$705)=\"NO\",0,\"\"))","v":0},{"$f":"IF(OR(UPPER(Egresados!$R$8:$R$705)=\"SI\",UPPER(Egresados!$R$8:$R$705)=\"SÍ\"),1,IF(UPPER(Egresados!$R$8:$R$705)=\"NO\",0,\"\"))","v":""},{"$f":"IF(OR(UPPER(Egresados!$S$8:$S$705)=\"SI\",UPPER(Egresados!$S$8:$S$705)=\"SÍ\"),1,IF(UPPER(Egresados!$S$8:$S$705)=\"NO\",0,\"\"))","v":""},{"$f":"IF(ISERROR(VLOOKUP(Egresados!$T$8:$T$705,Maestros!$S$31:$T$530,2,0)),\"\",VLOOKUP(Egresados!$T$8:$T$705,Maestros!$S$31:$T$530,2,0))","v":"38"},{"$f":"IF(ISERROR(VLOOKUP(U372,Maestros!$S$31:$T$530,2,0)),\"\",VLOOKUP(U372,Maestros!$S$31:$T$530,2,0))","v":"38"},{"$f":"IF(ISERROR(VLOOKUP(Egresados!$K$8:$K$705,Maestros!$A$31:$B$130,2,0)),\"\",VLOOKUP(Egresados!$K$8:$K$705,Maestros!$A$31:$B$130,2,0))","v":""},{"$f":"IF(LEN(tablaEgresados[[#This Row],[Nota promedio]])>0,ROUND(tablaEgresados[[#This Row],[Nota promedio]],2),\"\")","v":0}]
[365,null,"DNI","21799773","CASAS","MENDOZA","VICTOR HUGO","MASCULINO",null,"NO",null,null,null,"2020-1","SEDE CENTRAL","EDUCACION PRIMARIA",15.77,null,null,"2008-1","2008-1","20083759@une.edu.pe","20083759@une.edu.pe",3133700,976486001,{"$f":"IF(ISERROR(VLOOKUP(Egresados!$N$8:$N$705,Maestros!$D$31:$E$530,2,0)),\"\",VLOOKUP(Egresados!$N$8:$N$705,Maestros!$D$31:$E$530,2,0))","v":"223"},{"$f":"IF(ISERROR(VLOOKUP(Egresados!$O373,Maestros!$G$31:$J$1030,2,0)),\"\",VLOOKUP(Egresados!$O373,Maestros!$G$31:$J$1030,2,0))","v":"8"},{"$f":"CONCATENATE(Egresados!$Z$8:$Z$705,\"a\",Egresados!$AA$8:$AA$705)","v":"223a8"},{"$f":"IF(ISERROR(VLOOKUP(Egresados!$P373,Maestros!$L$31:$Q$1030,2,0)),\"\",VLOOKUP(Egresados!$P373,Maestros!$L$31:$Q$1030,2,0))","v":"388"},{"$f":"CONCATENATE(Egresados!$Z$8:$Z$705,\"a\",Egresados!$AA$8:$AA$705,\"a\",Egresados!$AC$8:$AC$705)","v":"223a8a388"},{"$f":"IF(ISERROR(VLOOKUP(Egresados!$C$8:$C$705,Maestros!$A$4:$B$21,2,0)),\"\",VLOOKUP(Egresados!$C$8:$C$705,Maestros!$A$4:$B$21,2,0))","v":"1001"},{"$f":"IF(ISERROR(VLOOKUP(Egresados!$H$8:$H$705,Maestros!$D$4:$E$21,2,0)),\"\",VLOOKUP(Egresados!$H$8:$H$705,Maestros!$D$4:$E$21,2,0))","v":"1121"},{"$f":"IF(OR(UPPER(Egresados!$J$8:$J$705)=\"SI\",UPPER(Egresados!$J$8:$J$705)=\"SÍ\"),1,IF(UPPER(Egresados!$J$8:$J$705)=\"NO\",0,\"\"))","v":0},{"$f":"IF(OR(UPPER(Egresados!$R$8:$R$705)=\"SI\",UPPER(Egresados!$R$8:$R$705)=\"SÍ\"),1,IF(UPPER(Egresados!$R$8:$R$705)=\"NO\",0,\"\"))","v":""},{"$f":"IF(OR(UPPER(Egresados!$S$8:$S$705)=\"SI\",UPPER(Egresados!$S$8:$S$705)=\"SÍ\"),1,IF(UPPER(Egresados!$S$8:$S$705)=\"NO\",0,\"\"))","v":""},{"$f":"IF(ISERROR(VLOOKUP(Egresados!$T$8:$T$705,Maestros!$S$31:$T$530,2,0)),\"\",VLOOKUP(Egresados!$T$8:$T$705,Maestros!$S$31:$T$530,2,0))","v":"34"},{"$f":"IF(ISERROR(VLOOKUP(U373,Maestros!$S$31:$T$530,2,0)),\"\",VLOOKUP(U373,Maestros!$S$31:$T$530,2,0))","v":"34"},{"$f":"IF(ISERROR(VLOOKUP(Egresados!$K$8:$K$705,Maestros!$A$31:$B$130,2,0)),\"\",VLOOKUP(Egresados!$K$8:$K$705,Maestros!$A$31:$B$130,2,0))","v":""},{"$f":"IF(LEN(tablaEgresados[[#This Row],[Nota promedio]])>0,ROUND(tablaEgresados[[#This Row],[Nota promedio]],2),\"\")","v":15.77}]
[366,null,"DNI",41376750,"FERNANDEZ","RAMOS","LEONIDA","FEMENINO",null,"NO",null,null,null,"2020-1","SEDE CENTRAL","EDUCACION PRIMARIA",16.18,null,null,"2013-1","2013-1","20133948@une.edu.pe","20133948@une.edu.pe",3133700,976486001,{"$f":"IF(ISERROR(VLOOKUP(Egresados!$N$8:$N$705,Maestros!$D$31:$E$530,2,0)),\"\",VLOOKUP(Egresados!$N$8:$N$705,Maestros!$D$31:$E$530,2,0))","v":"223"},{"$f":"IF(ISERROR(VLOOKUP(Egresados!$O374,Maestros!$G$31:$J$1030,2,0)),\"\",VLOOKUP(Egresados!$O374,Maestros!$G$31:$J$1030,2,0))","v":"8"},{"$f":"CONCATENATE(Egresados!$Z$8:$Z$705,\"a\",Egresados!$AA$8:$AA$705)","v":"223a8"},{"$f":"IF(ISERROR(VLOOKUP(Egresados!$P374,Maestros!$L$31:$Q$1030,2,0)),\"\",VLOOKUP(Egresados!$P374,Maestros!$L$31:$Q$1030,2,0))","v":"388"},{"$f":"CONCATENATE(Egresados!$Z$8:$Z$705,\"a\",Egresados!$AA$8:$AA$705,\"a\",Egresados!$AC$8:$AC$705)","v":"223a8a388"},{"$f":"IF(ISERROR(VLOOKUP(Egresados!$C$8:$C$705,Maestros!$A$4:$B$21,2,0)),\"\",VLOOKUP(Egresados!$C$8:$C$705,Maestros!$A$4:$B$21,2,0))","v":"1001"},{"$f":"IF(ISERROR(VLOOKUP(Egresados!$H$8:$H$705,Maestros!$D$4:$E$21,2,0)),\"\",VLOOKUP(Egresados!$H$8:$H$705,Maestros!$D$4:$E$21,2,0))","v":"1122"},{"$f":"IF(OR(UPPER(Egresados!$J$8:$J$705)=\"SI\",UPPER(Egresados!$J$8:$J$705)=\"SÍ\"),1,IF(UPPER(Egresados!$J$8:$J$705)=\"NO\",0,\"\"))","v":0},{"$f":"IF(OR(UPPER(Egresados!$R$8:$R$705)=\"SI\",UPPER(Egresados!$R$8:$R$705)=\"SÍ\"),1,IF(UPPER(Egresados!$R$8:$R$705)=\"NO\",0,\"\"))","v":""},{"$f":"IF(OR(UPPER(Egresados!$S$8:$S$705)=\"SI\",UPPER(Egresados!$S$8:$S$705)=\"SÍ\"),1,IF(UPPER(Egresados!$S$8:$S$705)=\"NO\",0,\"\"))","v":""},{"$f":"IF(ISERROR(VLOOKUP(Egresados!$T$8:$T$705,Maestros!$S$31:$T$530,2,0)),\"\",VLOOKUP(Egresados!$T$8:$T$705,Maestros!$S$31:$T$530,2,0))","v":"54"},{"$f":"IF(ISERROR(VLOOKUP(U374,Maestros!$S$31:$T$530,2,0)),\"\",VLOOKUP(U374,Maestros!$S$31:$T$530,2,0))","v":"54"},{"$f":"IF(ISERROR(VLOOKUP(Egresados!$K$8:$K$705,Maestros!$A$31:$B$130,2,0)),\"\",VLOOKUP(Egresados!$K$8:$K$705,Maestros!$A$31:$B$130,2,0))","v":""},{"$f":"IF(LEN(tablaEgresados[[#This Row],[Nota promedio]])>0,ROUND(tablaEgresados[[#This Row],[Nota promedio]],2),\"\")","v":16.18}]
[367,null,"DNI","22278754","QUIJAITE","VIVANCO","CARMEN LILIA","FEMENINO",null,"NO",null,null,null,"2020-1","SEDE CENTRAL","EDUCACION PRIMARIA",14.86,null,null,"2012-1","2012-1","20125284@une.edu.pe","20125284@une.edu.pe",3133700,976486001,{"$f":"IF(ISERROR(VLOOKUP(Egresados!$N$8:$N$705,Maestros!$D$31:$E$530,2,0)),\"\",VLOOKUP(Egresados!$N$8:$N$705,Maestros!$D$31:$E$530,2,0))","v":"223"},{"$f":"IF(ISERROR(VLOOKUP(Egresados!$O375,Maestros!$G$31:$J$1030,2,0)),\"\",VLOOKUP(Egresados!$O375,Maestros!$G$31:$J$1030,2,0))","v":"8"},{"$f":"CONCATENATE(Egresados!$Z$8:$Z$705,\"a\",Egresados!$AA$8:$AA$705)","v":"223a8"},{"$f":"IF(ISERROR(VLOOKUP(Egresados!$P375,Maestros!$L$31:$Q$1030,2,0)),\"\",VLOOKUP(Egresados!$P375,Maestros!$L$31:$Q$1030,2,0))","v":"388"},{"$f":"CONCATENATE(Egresados!$Z$8:$Z$705,\"a\",Egresados!$AA$8:$AA$705,\"a\",Egresados!$AC$8:$AC$705)","v":"223a8a388"},{"$f":"IF(ISERROR(VLOOKUP(Egresados!$C$8:$C$705,Maestros!$A$4:$B$21,2,0)),\"\",VLOOKUP(Egresados!$C$8:$C$705,Maestros!$A$4:$B$21,2,0))","v":"1001"},{"$f":"IF(ISERROR(VLOOKUP(Egresados!$H$8:$H$705,Maestros!$D$4:$E$21,2,0)),\"\",VLOOKUP(Egresados!$H$8:$H$705,Maestros!$D$4:$E$21,2,0))","v":"1122"},{"$f":"IF(OR(UPPER(Egresados!$J$8:$J$705)=\"SI\",UPPER(Egresados!$J$8:$J$705)=\"SÍ\"),1,IF(UPPER(Egresados!$J$8:$J$705)=\"NO\",0,\"\"))","v":0},{"$f":"IF(OR(UPPER(Egresados!$R$8:$R$705)=\"SI\",UPPER(Egresados!$R$8:$R$705)=\"SÍ\"),1,IF(UPPER(Egresados!$R$8:$R$705)=\"NO\",0,\"\"))","v":""},{"$f":"IF(OR(UPPER(Egresados!$S$8:$S$705)=\"SI\",UPPER(Egresados!$S$8:$S$705)=\"SÍ\"),1,IF(UPPER(Egresados!$S$8:$S$705)=\"NO\",0,\"\"))","v":""},{"$f":"IF(ISERROR(VLOOKUP(Egresados!$T$8:$T$705,Maestros!$S$31:$T$530,2,0)),\"\",VLOOKUP(Egresados!$T$8:$T$705,Maestros!$S$31:$T$530,2,0))","v":"50"},{"$f":"IF(ISERROR(VLOOKUP(U375,Maestros!$S$31:$T$530,2,0)),\"\",VLOOKUP(U375,Maestros!$S$31:$T$530,2,0))","v":"50"},{"$f":"IF(ISERROR(VLOOKUP(Egresados!$K$8:$K$705,Maestros!$A$31:$B$130,2,0)),\"\",VLOOKUP(Egresados!$K$8:$K$705,Maestros!$A$31:$B$130,2,0))","v":""},{"$f":"IF(LEN(tablaEgresados[[#This Row],[Nota promedio]])>0,ROUND(tablaEgresados[[#This Row],[Nota promedio]],2),\"\")","v":14.86}]
[368,null,"DNI","41614615","CRUZADO","LEIVA","EMILIA EUNISES","FEMENINO",null,"NO",null,null,null,"2020-1","SEDE CENTRAL","EDUCACION PRIMARIA",14.8,null,null,"2015-1","2015-1","20152267@une.edu.pe","20152267@une.edu.pe",3133700,976486001,{"$f":"IF(ISERROR(VLOOKUP(Egresados!$N$8:$N$705,Maestros!$D$31:$E$530,2,0)),\"\",VLOOKUP(Egresados!$N$8:$N$705,Maestros!$D$31:$E$530,2,0))","v":"223"},{"$f":"IF(ISERROR(VLOOKUP(Egresados!$O376,Maestros!$G$31:$J$1030,2,0)),\"\",VLOOKUP(Egresados!$O376,Maestros!$G$31:$J$1030,2,0))","v":"8"},{"$f":"CONCATENATE(Egresados!$Z$8:$Z$705,\"a\",Egresados!$AA$8:$AA$705)","v":"223a8"},{"$f":"IF(ISERROR(VLOOKUP(Egresados!$P376,Maestros!$L$31:$Q$1030,2,0)),\"\",VLOOKUP(Egresados!$P376,Maestros!$L$31:$Q$1030,2,0))","v":"388"},{"$f":"CONCATENATE(Egresados!$Z$8:$Z$705,\"a\",Egresados!$AA$8:$AA$705,\"a\",Egresados!$AC$8:$AC$705)","v":"223a8a388"},{"$f":"IF(ISERROR(VLOOKUP(Egresados!$C$8:$C$705,Maestros!$A$4:$B$21,2,0)),\"\",VLOOKUP(Egresados!$C$8:$C$705,Maestros!$A$4:$B$21,2,0))","v":"1001"},{"$f":"IF(ISERROR(VLOOKUP(Egresados!$H$8:$H$705,Maestros!$D$4:$E$21,2,0)),\"\",VLOOKUP(Egresados!$H$8:$H$705,Maestros!$D$4:$E$21,2,0))","v":"1122"},{"$f":"IF(OR(UPPER(Egresados!$J$8:$J$705)=\"SI\",UPPER(Egresados!$J$8:$J$705)=\"SÍ\"),1,IF(UPPER(Egresados!$J$8:$J$705)=\"NO\",0,\"\"))","v":0},{"$f":"IF(OR(UPPER(Egresados!$R$8:$R$705)=\"SI\",UPPER(Egresados!$R$8:$R$705)=\"SÍ\"),1,IF(UPPER(Egresados!$R$8:$R$705)=\"NO\",0,\"\"))","v":""},{"$f":"IF(OR(UPPER(Egresados!$S$8:$S$705)=\"SI\",UPPER(Egresados!$S$8:$S$705)=\"SÍ\"),1,IF(UPPER(Egresados!$S$8:$S$705)=\"NO\",0,\"\"))","v":""},{"$f":"IF(ISERROR(VLOOKUP(Egresados!$T$8:$T$705,Maestros!$S$31:$T$530,2,0)),\"\",VLOOKUP(Egresados!$T$8:$T$705,Maestros!$S$31:$T$530,2,0))","v":"62"},{"$f":"IF(ISERROR(VLOOKUP(U376,Maestros!$S$31:$T$530,2,0)),\"\",VLOOKUP(U376,Maestros!$S$31:$T$530,2,0))","v":"62"},{"$f":"IF(ISERROR(VLOOKUP(Egresados!$K$8:$K$705,Maestros!$A$31:$B$130,2,0)),\"\",VLOOKUP(Egresados!$K$8:$K$705,Maestros!$A$31:$B$130,2,0))","v":""},{"$f":"IF(LEN(tablaEgresados[[#This Row],[Nota promedio]])>0,ROUND(tablaEgresados[[#This Row],[Nota promedio]],2),\"\")","v":14.8}]
[369,null,"DNI","42932693","GUILLEN","MILLA","YOCOTA SILVIA","FEMENINO",null,"NO",null,null,null,"2020-1","SEDE CENTRAL","EDUCACION PRIMARIA",15.64,null,null,"2014-1","2014-1","20143013@une.edu.pe","20143013@une.edu.pe",3133700,976486001,{"$f":"IF(ISERROR(VLOOKUP(Egresados!$N$8:$N$705,Maestros!$D$31:$E$530,2,0)),\"\",VLOOKUP(Egresados!$N$8:$N$705,Maestros!$D$31:$E$530,2,0))","v":"223"},{"$f":"IF(ISERROR(VLOOKUP(Egresados!$O377,Maestros!$G$31:$J$1030,2,0)),\"\",VLOOKUP(Egresados!$O377,Maestros!$G$31:$J$1030,2,0))","v":"8"},{"$f":"CONCATENATE(Egresados!$Z$8:$Z$705,\"a\",Egresados!$AA$8:$AA$705)","v":"223a8"},{"$f":"IF(ISERROR(VLOOKUP(Egresados!$P377,Maestros!$L$31:$Q$1030,2,0)),\"\",VLOOKUP(Egresados!$P377,Maestros!$L$31:$Q$1030,2,0))","v":"388"},{"$f":"CONCATENATE(Egresados!$Z$8:$Z$705,\"a\",Egresados!$AA$8:$AA$705,\"a\",Egresados!$AC$8:$AC$705)","v":"223a8a388"},{"$f":"IF(ISERROR(VLOOKUP(Egresados!$C$8:$C$705,Maestros!$A$4:$B$21,2,0)),\"\",VLOOKUP(Egresados!$C$8:$C$705,Maestros!$A$4:$B$21,2,0))","v":"1001"},{"$f":"IF(ISERROR(VLOOKUP(Egresados!$H$8:$H$705,Maestros!$D$4:$E$21,2,0)),\"\",VLOOKUP(Egresados!$H$8:$H$705,Maestros!$D$4:$E$21,2,0))","v":"1122"},{"$f":"IF(OR(UPPER(Egresados!$J$8:$J$705)=\"SI\",UPPER(Egresados!$J$8:$J$705)=\"SÍ\"),1,IF(UPPER(Egresados!$J$8:$J$705)=\"NO\",0,\"\"))","v":0},{"$f":"IF(OR(UPPER(Egresados!$R$8:$R$705)=\"SI\",UPPER(Egresados!$R$8:$R$705)=\"SÍ\"),1,IF(UPPER(Egresados!$R$8:$R$705)=\"NO\",0,\"\"))","v":""},{"$f":"IF(OR(UPPER(Egresados!$S$8:$S$705)=\"SI\",UPPER(Egresados!$S$8:$S$705)=\"SÍ\"),1,IF(UPPER(Egresados!$S$8:$S$705)=\"NO\",0,\"\"))","v":""},{"$f":"IF(ISERROR(VLOOKUP(Egresados!$T$8:$T$705,Maestros!$S$31:$T$530,2,0)),\"\",VLOOKUP(Egresados!$T$8:$T$705,Maestros!$S$31:$T$530,2,0))","v":"58"},{"$f":"IF(ISERROR(VLOOKUP(U377,Maestros!$S$31:$T$530,2,0)),\"\",VLOOKUP(U377,Maestros!$S$31:$T$530,2,0))","v":"58"},{"$f":"IF(ISERROR(VLOOKUP(Egresados!$K$8:$K$705,Maestros!$A$31:$B$130,2,0)),\"\",VLOOKUP(Egresados!$K$8:$K$705,Maestros!$A$31:$B$130,2,0))","v":""},{"$f":"IF(LEN(tablaEgresados[[#This Row],[Nota promedio]])>0,ROUND(tablaEgresados[[#This Row],[Nota promedio]],2),\"\")","v":15.64}]
[370,null,"DNI","22277501","HUAMAN","ALARCO","JEAN PAUL","MASCULINO",null,"NO",null,null,null,"2020-1","SEDE CENTRAL","EDUCACION PRIMARIA",15.12,null,null,"2012-1","2012-1","20125300@une.edu.pe","20125300@une.edu.pe",3133700,976486001,{"$f":"IF(ISERROR(VLOOKUP(Egresados!$N$8:$N$705,Maestros!$D$31:$E$530,2,0)),\"\",VLOOKUP(Egresados!$N$8:$N$705,Maestros!$D$31:$E$530,2,0))","v":"223"},{"$f":"IF(ISERROR(VLOOKUP(Egresados!$O378,Maestros!$G$31:$J$1030,2,0)),\"\",VLOOKUP(Egresados!$O378,Maestros!$G$31:$J$1030,2,0))","v":"8"},{"$f":"CONCATENATE(Egresados!$Z$8:$Z$705,\"a\",Egresados!$AA$8:$AA$705)","v":"223a8"},{"$f":"IF(ISERROR(VLOOKUP(Egresados!$P378,Maestros!$L$31:$Q$1030,2,0)),\"\",VLOOKUP(Egresados!$P378,Maestros!$L$31:$Q$1030,2,0))","v":"388"},{"$f":"CONCATENATE(Egresados!$Z$8:$Z$705,\"a\",Egresados!$AA$8:$AA$705,\"a\",Egresados!$AC$8:$AC$705)","v":"223a8a388"},{"$f":"IF(ISERROR(VLOOKUP(Egresados!$C$8:$C$705,Maestros!$A$4:$B$21,2,0)),\"\",VLOOKUP(Egresados!$C$8:$C$705,Maestros!$A$4:$B$21,2,0))","v":"1001"},{"$f":"IF(ISERROR(VLOOKUP(Egresados!$H$8:$H$705,Maestros!$D$4:$E$21,2,0)),\"\",VLOOKUP(Egresados!$H$8:$H$705,Maestros!$D$4:$E$21,2,0))","v":"1121"},{"$f":"IF(OR(UPPER(Egresados!$J$8:$J$705)=\"SI\",UPPER(Egresados!$J$8:$J$705)=\"SÍ\"),1,IF(UPPER(Egresados!$J$8:$J$705)=\"NO\",0,\"\"))","v":0},{"$f":"IF(OR(UPPER(Egresados!$R$8:$R$705)=\"SI\",UPPER(Egresados!$R$8:$R$705)=\"SÍ\"),1,IF(UPPER(Egresados!$R$8:$R$705)=\"NO\",0,\"\"))","v":""},{"$f":"IF(OR(UPPER(Egresados!$S$8:$S$705)=\"SI\",UPPER(Egresados!$S$8:$S$705)=\"SÍ\"),1,IF(UPPER(Egresados!$S$8:$S$705)=\"NO\",0,\"\"))","v":""},{"$f":"IF(ISERROR(VLOOKUP(Egresados!$T$8:$T$705,Maestros!$S$31:$T$530,2,0)),\"\",VLOOKUP(Egresados!$T$8:$T$705,Maestros!$S$31:$T$530,2,0))","v":"50"},{"$f":"IF(ISERROR(VLOOKUP(U378,Maestros!$S$31:$T$530,2,0)),\"\",VLOOKUP(U378,Maestros!$S$31:$T$530,2,0))","v":"50"},{"$f":"IF(ISERROR(VLOOKUP(Egresados!$K$8:$K$705,Maestros!$A$31:$B$130,2,0)),\"\",VLOOKUP(Egresados!$K$8:$K$705,Maestros!$A$31:$B$130,2,0))","v":""},{"$f":"IF(LEN(tablaEgresados[[#This Row],[Nota promedio]])>0,ROUND(tablaEgresados[[#This Row],[Nota promedio]],2),\"\")","v":15.12}]
[371,null,"DNI","22262465","AGUILAR","PALACIOS","JENNY JULIA","FEMENINO",null,"NO",null,null,null,"2020-1","SEDE CENTRAL","EDUCACION PRIMARIA",14.77,null,null,"2012-1","2012-1","20125265@une.edu.pe","20125265@une.edu.pe",3133700,976486001,{"$f":"IF(ISERROR(VLOOKUP(Egresados!$N$8:$N$705,Maestros!$D$31:$E$530,2,0)),\"\",VLOOKUP(Egresados!$N$8:$N$705,Maestros!$D$31:$E$530,2,0))","v":"223"},{"$f":"IF(ISERROR(VLOOKUP(Egresados!$O379,Maestros!$G$31:$J$1030,2,0)),\"\",VLOOKUP(Egresados!$O379,Maestros!$G$31:$J$1030,2,0))","v":"8"},{"$f":"CONCATENATE(Egresados!$Z$8:$Z$705,\"a\",Egresados!$AA$8:$AA$705)","v":"223a8"},{"$f":"IF(ISERROR(VLOOKUP(Egresados!$P379,Maestros!$L$31:$Q$1030,2,0)),\"\",VLOOKUP(Egresados!$P379,Maestros!$L$31:$Q$1030,2,0))","v":"388"},{"$f":"CONCATENATE(Egresados!$Z$8:$Z$705,\"a\",Egresados!$AA$8:$AA$705,\"a\",Egresados!$AC$8:$AC$705)","v":"223a8a388"},{"$f":"IF(ISERROR(VLOOKUP(Egresados!$C$8:$C$705,Maestros!$A$4:$B$21,2,0)),\"\",VLOOKUP(Egresados!$C$8:$C$705,Maestros!$A$4:$B$21,2,0))","v":"1001"},{"$f":"IF(ISERROR(VLOOKUP(Egresados!$H$8:$H$705,Maestros!$D$4:$E$21,2,0)),\"\",VLOOKUP(Egresados!$H$8:$H$705,Maestros!$D$4:$E$21,2,0))","v":"1122"},{"$f":"IF(OR(UPPER(Egresados!$J$8:$J$705)=\"SI\",UPPER(Egresados!$J$8:$J$705)=\"SÍ\"),1,IF(UPPER(Egresados!$J$8:$J$705)=\"NO\",0,\"\"))","v":0},{"$f":"IF(OR(UPPER(Egresados!$R$8:$R$705)=\"SI\",UPPER(Egresados!$R$8:$R$705)=\"SÍ\"),1,IF(UPPER(Egresados!$R$8:$R$705)=\"NO\",0,\"\"))","v":""},{"$f":"IF(OR(UPPER(Egresados!$S$8:$S$705)=\"SI\",UPPER(Egresados!$S$8:$S$705)=\"SÍ\"),1,IF(UPPER(Egresados!$S$8:$S$705)=\"NO\",0,\"\"))","v":""},{"$f":"IF(ISERROR(VLOOKUP(Egresados!$T$8:$T$705,Maestros!$S$31:$T$530,2,0)),\"\",VLOOKUP(Egresados!$T$8:$T$705,Maestros!$S$31:$T$530,2,0))","v":"50"},{"$f":"IF(ISERROR(VLOOKUP(U379,Maestros!$S$31:$T$530,2,0)),\"\",VLOOKUP(U379,Maestros!$S$31:$T$530,2,0))","v":"50"},{"$f":"IF(ISERROR(VLOOKUP(Egresados!$K$8:$K$705,Maestros!$A$31:$B$130,2,0)),\"\",VLOOKUP(Egresados!$K$8:$K$705,Maestros!$A$31:$B$130,2,0))","v":""},{"$f":"IF(LEN(tablaEgresados[[#This Row],[Nota promedio]])>0,ROUND(tablaEgresados[[#This Row],[Nota promedio]],2),\"\")","v":14.77}]
[372,null,"DNI",10741333,"ALEJOS","GUTIERREZ","EDITH MARY","FEMENINO",null,"NO",null,null,null,"2020-1","SEDE CENTRAL","EDUCACION PRIMARIA",16.46,null,null,"2011-1","2011-1","20114307@une.edu.pe","20114307@une.edu.pe",3133700,976486001,{"$f":"IF(ISERROR(VLOOKUP(Egresados!$N$8:$N$705,Maestros!$D$31:$E$530,2,0)),\"\",VLOOKUP(Egresados!$N$8:$N$705,Maestros!$D$31:$E$530,2,0))","v":"223"},{"$f":"IF(ISERROR(VLOOKUP(Egresados!$O380,Maestros!$G$31:$J$1030,2,0)),\"\",VLOOKUP(Egresados!$O380,Maestros!$G$31:$J$1030,2,0))","v":"8"},{"$f":"CONCATENATE(Egresados!$Z$8:$Z$705,\"a\",Egresados!$AA$8:$AA$705)","v":"223a8"},{"$f":"IF(ISERROR(VLOOKUP(Egresados!$P380,Maestros!$L$31:$Q$1030,2,0)),\"\",VLOOKUP(Egresados!$P380,Maestros!$L$31:$Q$1030,2,0))","v":"388"},{"$f":"CONCATENATE(Egresados!$Z$8:$Z$705,\"a\",Egresados!$AA$8:$AA$705,\"a\",Egresados!$AC$8:$AC$705)","v":"223a8a388"},{"$f":"IF(ISERROR(VLOOKUP(Egresados!$C$8:$C$705,Maestros!$A$4:$B$21,2,0)),\"\",VLOOKUP(Egresados!$C$8:$C$705,Maestros!$A$4:$B$21,2,0))","v":"1001"},{"$f":"IF(ISERROR(VLOOKUP(Egresados!$H$8:$H$705,Maestros!$D$4:$E$21,2,0)),\"\",VLOOKUP(Egresados!$H$8:$H$705,Maestros!$D$4:$E$21,2,0))","v":"1122"},{"$f":"IF(OR(UPPER(Egresados!$J$8:$J$705)=\"SI\",UPPER(Egresados!$J$8:$J$705)=\"SÍ\"),1,IF(UPPER(Egresados!$J$8:$J$705)=\"NO\",0,\"\"))","v":0},{"$f":"IF(OR(UPPER(Egresados!$R$8:$R$705)=\"SI\",UPPER(Egresados!$R$8:$R$705)=\"SÍ\"),1,IF(UPPER(Egresados!$R$8:$R$705)=\"NO\",0,\"\"))","v":""},{"$f":"IF(OR(UPPER(Egresados!$S$8:$S$705)=\"SI\",UPPER(Egresados!$S$8:$S$705)=\"SÍ\"),1,IF(UPPER(Egresados!$S$8:$S$705)=\"NO\",0,\"\"))","v":""},{"$f":"IF(ISERROR(VLOOKUP(Egresados!$T$8:$T$705,Maestros!$S$31:$T$530,2,0)),\"\",VLOOKUP(Egresados!$T$8:$T$705,Maestros!$S$31:$T$530,2,0))","v":"46"},{"$f":"IF(ISERROR(VLOOKUP(U380,Maestros!$S$31:$T$530,2,0)),\"\",VLOOKUP(U380,Maestros!$S$31:$T$530,2,0))","v":"46"},{"$f":"IF(ISERROR(VLOOKUP(Egresados!$K$8:$K$705,Maestros!$A$31:$B$130,2,0)),\"\",VLOOKUP(Egresados!$K$8:$K$705,Maestros!$A$31:$B$130,2,0))","v":""},{"$f":"IF(LEN(tablaEgresados[[#This Row],[Nota promedio]])>0,ROUND(tablaEgresados[[#This Row],[Nota promedio]],2),\"\")","v":16.46}]
[373,null,"DNI",42601356,"ENRIQUEZ","QUISPE","OSWALDO BRIAN","MASCULINO",null,"NO",null,null,null,"2020-1","SEDE CENTRAL","EDUCACION PRIMARIA",14,null,null,"2006-1","2006-1","20064927@une.edu.pe","20064927@une.edu.pe",3133700,976486001,{"$f":"IF(ISERROR(VLOOKUP(Egresados!$N$8:$N$705,Maestros!$D$31:$E$530,2,0)),\"\",VLOOKUP(Egresados!$N$8:$N$705,Maestros!$D$31:$E$530,2,0))","v":"223"},{"$f":"IF(ISERROR(VLOOKUP(Egresados!$O381,Maestros!$G$31:$J$1030,2,0)),\"\",VLOOKUP(Egresados!$O381,Maestros!$G$31:$J$1030,2,0))","v":"8"},{"$f":"CONCATENATE(Egresados!$Z$8:$Z$705,\"a\",Egresados!$AA$8:$AA$705)","v":"223a8"},{"$f":"IF(ISERROR(VLOOKUP(Egresados!$P381,Maestros!$L$31:$Q$1030,2,0)),\"\",VLOOKUP(Egresados!$P381,Maestros!$L$31:$Q$1030,2,0))","v":"388"},{"$f":"CONCATENATE(Egresados!$Z$8:$Z$705,\"a\",Egresados!$AA$8:$AA$705,\"a\",Egresados!$AC$8:$AC$705)","v":"223a8a388"},{"$f":"IF(ISERROR(VLOOKUP(Egresados!$C$8:$C$705,Maestros!$A$4:$B$21,2,0)),\"\",VLOOKUP(Egresados!$C$8:$C$705,Maestros!$A$4:$B$21,2,0))","v":"1001"},{"$f":"IF(ISERROR(VLOOKUP(Egresados!$H$8:$H$705,Maestros!$D$4:$E$21,2,0)),\"\",VLOOKUP(Egresados!$H$8:$H$705,Maestros!$D$4:$E$21,2,0))","v":"1121"},{"$f":"IF(OR(UPPER(Egresados!$J$8:$J$705)=\"SI\",UPPER(Egresados!$J$8:$J$705)=\"SÍ\"),1,IF(UPPER(Egresados!$J$8:$J$705)=\"NO\",0,\"\"))","v":0},{"$f":"IF(OR(UPPER(Egresados!$R$8:$R$705)=\"SI\",UPPER(Egresados!$R$8:$R$705)=\"SÍ\"),1,IF(UPPER(Egresados!$R$8:$R$705)=\"NO\",0,\"\"))","v":""},{"$f":"IF(OR(UPPER(Egresados!$S$8:$S$705)=\"SI\",UPPER(Egresados!$S$8:$S$705)=\"SÍ\"),1,IF(UPPER(Egresados!$S$8:$S$705)=\"NO\",0,\"\"))","v":""},{"$f":"IF(ISERROR(VLOOKUP(Egresados!$T$8:$T$705,Maestros!$S$31:$T$530,2,0)),\"\",VLOOKUP(Egresados!$T$8:$T$705,Maestros!$S$31:$T$530,2,0))","v":"26"},{"$f":"IF(ISERROR(VLOOKUP(U381,Maestros!$S$31:$T$530,2,0)),\"\",VLOOKUP(U381,Maestros!$S$31:$T$530,2,0))","v":"26"},{"$f":"IF(ISERROR(VLOOKUP(Egresados!$K$8:$K$705,Maestros!$A$31:$B$130,2,0)),\"\",VLOOKUP(Egresados!$K$8:$K$705,Maestros!$A$31:$B$130,2,0))","v":""},{"$f":"IF(LEN(tablaEgresados[[#This Row],[Nota promedio]])>0,ROUND(tablaEgresados[[#This Row],[Nota promedio]],2),\"\")","v":14}]
[374,null,"DNI",41145777,"CUZCANO","SANCHEZ","EVELYN ELENA","FEMENINO",null,"NO",null,null,null,"2020-1","SEDE CENTRAL","EDUCACION PRIMARIA",14.93,null,null,"2005-1","2005-1","20058504@une.edu.pe","20058504@une.edu.pe",3133700,976486001,{"$f":"IF(ISERROR(VLOOKUP(Egresados!$N$8:$N$705,Maestros!$D$31:$E$530,2,0)),\"\",VLOOKUP(Egresados!$N$8:$N$705,Maestros!$D$31:$E$530,2,0))","v":"223"},{"$f":"IF(ISERROR(VLOOKUP(Egresados!$O382,Maestros!$G$31:$J$1030,2,0)),\"\",VLOOKUP(Egresados!$O382,Maestros!$G$31:$J$1030,2,0))","v":"8"},{"$f":"CONCATENATE(Egresados!$Z$8:$Z$705,\"a\",Egresados!$AA$8:$AA$705)","v":"223a8"},{"$f":"IF(ISERROR(VLOOKUP(Egresados!$P382,Maestros!$L$31:$Q$1030,2,0)),\"\",VLOOKUP(Egresados!$P382,Maestros!$L$31:$Q$1030,2,0))","v":"388"},{"$f":"CONCATENATE(Egresados!$Z$8:$Z$705,\"a\",Egresados!$AA$8:$AA$705,\"a\",Egresados!$AC$8:$AC$705)","v":"223a8a388"},{"$f":"IF(ISERROR(VLOOKUP(Egresados!$C$8:$C$705,Maestros!$A$4:$B$21,2,0)),\"\",VLOOKUP(Egresados!$C$8:$C$705,Maestros!$A$4:$B$21,2,0))","v":"1001"},{"$f":"IF(ISERROR(VLOOKUP(Egresados!$H$8:$H$705,Maestros!$D$4:$E$21,2,0)),\"\",VLOOKUP(Egresados!$H$8:$H$705,Maestros!$D$4:$E$21,2,0))","v":"1122"},{"$f":"IF(OR(UPPER(Egresados!$J$8:$J$705)=\"SI\",UPPER(Egresados!$J$8:$J$705)=\"SÍ\"),1,IF(UPPER(Egresados!$J$8:$J$705)=\"NO\",0,\"\"))","v":0},{"$f":"IF(OR(UPPER(Egresados!$R$8:$R$705)=\"SI\",UPPER(Egresados!$R$8:$R$705)=\"SÍ\"),1,IF(UPPER(Egresados!$R$8:$R$705)=\"NO\",0,\"\"))","v":""},{"$f":"IF(OR(UPPER(Egresados!$S$8:$S$705)=\"SI\",UPPER(Egresados!$S$8:$S$705)=\"SÍ\"),1,IF(UPPER(Egresados!$S$8:$S$705)=\"NO\",0,\"\"))","v":""},{"$f":"IF(ISERROR(VLOOKUP(Egresados!$T$8:$T$705,Maestros!$S$31:$T$530,2,0)),\"\",VLOOKUP(Egresados!$T$8:$T$705,Maestros!$S$31:$T$530,2,0))","v":"22"},{"$f":"IF(ISERROR(VLOOKUP(U382,Maestros!$S$31:$T$530,2,0)),\"\",VLOOKUP(U382,Maestros!$S$31:$T$530,2,0))","v":"22"},{"$f":"IF(ISERROR(VLOOKUP(Egresados!$K$8:$K$705,Maestros!$A$31:$B$130,2,0)),\"\",VLOOKUP(Egresados!$K$8:$K$705,Maestros!$A$31:$B$130,2,0))","v":""},{"$f":"IF(LEN(tablaEgresados[[#This Row],[Nota promedio]])>0,ROUND(tablaEgresados[[#This Row],[Nota promedio]],2),\"\")","v":14.93}]
[375,null,"DNI","22270151","PECHO","TIPIANI","MARITZA YSABEL","FEMENINO",null,"NO",null,null,null,"2020-1","SEDE CENTRAL","EDUCACION PRIMARIA",15.51,null,null,"2012-1","2012-1","20125281@une.edu.pe","20125281@une.edu.pe",3133700,976486001,{"$f":"IF(ISERROR(VLOOKUP(Egresados!$N$8:$N$705,Maestros!$D$31:$E$530,2,0)),\"\",VLOOKUP(Egresados!$N$8:$N$705,Maestros!$D$31:$E$530,2,0))","v":"223"},{"$f":"IF(ISERROR(VLOOKUP(Egresados!$O383,Maestros!$G$31:$J$1030,2,0)),\"\",VLOOKUP(Egresados!$O383,Maestros!$G$31:$J$1030,2,0))","v":"8"},{"$f":"CONCATENATE(Egresados!$Z$8:$Z$705,\"a\",Egresados!$AA$8:$AA$705)","v":"223a8"},{"$f":"IF(ISERROR(VLOOKUP(Egresados!$P383,Maestros!$L$31:$Q$1030,2,0)),\"\",VLOOKUP(Egresados!$P383,Maestros!$L$31:$Q$1030,2,0))","v":"388"},{"$f":"CONCATENATE(Egresados!$Z$8:$Z$705,\"a\",Egresados!$AA$8:$AA$705,\"a\",Egresados!$AC$8:$AC$705)","v":"223a8a388"},{"$f":"IF(ISERROR(VLOOKUP(Egresados!$C$8:$C$705,Maestros!$A$4:$B$21,2,0)),\"\",VLOOKUP(Egresados!$C$8:$C$705,Maestros!$A$4:$B$21,2,0))","v":"1001"},{"$f":"IF(ISERROR(VLOOKUP(Egresados!$H$8:$H$705,Maestros!$D$4:$E$21,2,0)),\"\",VLOOKUP(Egresados!$H$8:$H$705,Maestros!$D$4:$E$21,2,0))","v":"1122"},{"$f":"IF(OR(UPPER(Egresados!$J$8:$J$705)=\"SI\",UPPER(Egresados!$J$8:$J$705)=\"SÍ\"),1,IF(UPPER(Egresados!$J$8:$J$705)=\"NO\",0,\"\"))","v":0},{"$f":"IF(OR(UPPER(Egresados!$R$8:$R$705)=\"SI\",UPPER(Egresados!$R$8:$R$705)=\"SÍ\"),1,IF(UPPER(Egresados!$R$8:$R$705)=\"NO\",0,\"\"))","v":""},{"$f":"IF(OR(UPPER(Egresados!$S$8:$S$705)=\"SI\",UPPER(Egresados!$S$8:$S$705)=\"SÍ\"),1,IF(UPPER(Egresados!$S$8:$S$705)=\"NO\",0,\"\"))","v":""},{"$f":"IF(ISERROR(VLOOKUP(Egresados!$T$8:$T$705,Maestros!$S$31:$T$530,2,0)),\"\",VLOOKUP(Egresados!$T$8:$T$705,Maestros!$S$31:$T$530,2,0))","v":"50"},{"$f":"IF(ISERROR(VLOOKUP(U383,Maestros!$S$31:$T$530,2,0)),\"\",VLOOKUP(U383,Maestros!$S$31:$T$530,2,0))","v":"50"},{"$f":"IF(ISERROR(VLOOKUP(Egresados!$K$8:$K$705,Maestros!$A$31:$B$130,2,0)),\"\",VLOOKUP(Egresados!$K$8:$K$705,Maestros!$A$31:$B$130,2,0))","v":""},{"$f":"IF(LEN(tablaEgresados[[#This Row],[Nota promedio]])>0,ROUND(tablaEgresados[[#This Row],[Nota promedio]],2),\"\")","v":15.51}]
[376,null,"DNI","42761379","VELIZ","MONTERO","NENA MARISA","FEMENINO",null,"NO",null,null,null,"2020-1","SEDE CENTRAL","EDUCACION PRIMARIA",14.13,null,null,"2012-1","2012-1","20124406@une.edu.pe","20124406@une.edu.pe",3133700,976486001,{"$f":"IF(ISERROR(VLOOKUP(Egresados!$N$8:$N$705,Maestros!$D$31:$E$530,2,0)),\"\",VLOOKUP(Egresados!$N$8:$N$705,Maestros!$D$31:$E$530,2,0))","v":"223"},{"$f":"IF(ISERROR(VLOOKUP(Egresados!$O384,Maestros!$G$31:$J$1030,2,0)),\"\",VLOOKUP(Egresados!$O384,Maestros!$G$31:$J$1030,2,0))","v":"8"},{"$f":"CONCATENATE(Egresados!$Z$8:$Z$705,\"a\",Egresados!$AA$8:$AA$705)","v":"223a8"},{"$f":"IF(ISERROR(VLOOKUP(Egresados!$P384,Maestros!$L$31:$Q$1030,2,0)),\"\",VLOOKUP(Egresados!$P384,Maestros!$L$31:$Q$1030,2,0))","v":"388"},{"$f":"CONCATENATE(Egresados!$Z$8:$Z$705,\"a\",Egresados!$AA$8:$AA$705,\"a\",Egresados!$AC$8:$AC$705)","v":"223a8a388"},{"$f":"IF(ISERROR(VLOOKUP(Egresados!$C$8:$C$705,Maestros!$A$4:$B$21,2,0)),\"\",VLOOKUP(Egresados!$C$8:$C$705,Maestros!$A$4:$B$21,2,0))","v":"1001"},{"$f":"IF(ISERROR(VLOOKUP(Egresados!$H$8:$H$705,Maestros!$D$4:$E$21,2,0)),\"\",VLOOKUP(Egresados!$H$8:$H$705,Maestros!$D$4:$E$21,2,0))","v":"1122"},{"$f":"IF(OR(UPPER(Egresados!$J$8:$J$705)=\"SI\",UPPER(Egresados!$J$8:$J$705)=\"SÍ\"),1,IF(UPPER(Egresados!$J$8:$J$705)=\"NO\",0,\"\"))","v":0},{"$f":"IF(OR(UPPER(Egresados!$R$8:$R$705)=\"SI\",UPPER(Egresados!$R$8:$R$705)=\"SÍ\"),1,IF(UPPER(Egresados!$R$8:$R$705)=\"NO\",0,\"\"))","v":""},{"$f":"IF(OR(UPPER(Egresados!$S$8:$S$705)=\"SI\",UPPER(Egresados!$S$8:$S$705)=\"SÍ\"),1,IF(UPPER(Egresados!$S$8:$S$705)=\"NO\",0,\"\"))","v":""},{"$f":"IF(ISERROR(VLOOKUP(Egresados!$T$8:$T$705,Maestros!$S$31:$T$530,2,0)),\"\",VLOOKUP(Egresados!$T$8:$T$705,Maestros!$S$31:$T$530,2,0))","v":"50"},{"$f":"IF(ISERROR(VLOOKUP(U384,Maestros!$S$31:$T$530,2,0)),\"\",VLOOKUP(U384,Maestros!$S$31:$T$530,2,0))","v":"50"},{"$f":"IF(ISERROR(VLOOKUP(Egresados!$K$8:$K$705,Maestros!$A$31:$B$130,2,0)),\"\",VLOOKUP(Egresados!$K$8:$K$705,Maestros!$A$31:$B$130,2,0))","v":""},{"$f":"IF(LEN(tablaEgresados[[#This Row],[Nota promedio]])>0,ROUND(tablaEgresados[[#This Row],[Nota promedio]],2),\"\")","v":14.13}]
[377,null,"DNI","22277546","ORE","HUAMAN","AMELIA JANET","FEMENINO",null,"NO",null,null,null,"2020-1","SEDE CENTRAL","EDUCACION PRIMARIA",13.92,null,null,"2012-1","2012-1","20125280@une.edu.pe","20125280@une.edu.pe",3133700,976486001,{"$f":"IF(ISERROR(VLOOKUP(Egresados!$N$8:$N$705,Maestros!$D$31:$E$530,2,0)),\"\",VLOOKUP(Egresados!$N$8:$N$705,Maestros!$D$31:$E$530,2,0))","v":"223"},{"$f":"IF(ISERROR(VLOOKUP(Egresados!$O385,Maestros!$G$31:$J$1030,2,0)),\"\",VLOOKUP(Egresados!$O385,Maestros!$G$31:$J$1030,2,0))","v":"8"},{"$f":"CONCATENATE(Egresados!$Z$8:$Z$705,\"a\",Egresados!$AA$8:$AA$705)","v":"223a8"},{"$f":"IF(ISERROR(VLOOKUP(Egresados!$P385,Maestros!$L$31:$Q$1030,2,0)),\"\",VLOOKUP(Egresados!$P385,Maestros!$L$31:$Q$1030,2,0))","v":"388"},{"$f":"CONCATENATE(Egresados!$Z$8:$Z$705,\"a\",Egresados!$AA$8:$AA$705,\"a\",Egresados!$AC$8:$AC$705)","v":"223a8a388"},{"$f":"IF(ISERROR(VLOOKUP(Egresados!$C$8:$C$705,Maestros!$A$4:$B$21,2,0)),\"\",VLOOKUP(Egresados!$C$8:$C$705,Maestros!$A$4:$B$21,2,0))","v":"1001"},{"$f":"IF(ISERROR(VLOOKUP(Egresados!$H$8:$H$705,Maestros!$D$4:$E$21,2,0)),\"\",VLOOKUP(Egresados!$H$8:$H$705,Maestros!$D$4:$E$21,2,0))","v":"1122"},{"$f":"IF(OR(UPPER(Egresados!$J$8:$J$705)=\"SI\",UPPER(Egresados!$J$8:$J$705)=\"SÍ\"),1,IF(UPPER(Egresados!$J$8:$J$705)=\"NO\",0,\"\"))","v":0},{"$f":"IF(OR(UPPER(Egresados!$R$8:$R$705)=\"SI\",UPPER(Egresados!$R$8:$R$705)=\"SÍ\"),1,IF(UPPER(Egresados!$R$8:$R$705)=\"NO\",0,\"\"))","v":""},{"$f":"IF(OR(UPPER(Egresados!$S$8:$S$705)=\"SI\",UPPER(Egresados!$S$8:$S$705)=\"SÍ\"),1,IF(UPPER(Egresados!$S$8:$S$705)=\"NO\",0,\"\"))","v":""},{"$f":"IF(ISERROR(VLOOKUP(Egresados!$T$8:$T$705,Maestros!$S$31:$T$530,2,0)),\"\",VLOOKUP(Egresados!$T$8:$T$705,Maestros!$S$31:$T$530,2,0))","v":"50"},{"$f":"IF(ISERROR(VLOOKUP(U385,Maestros!$S$31:$T$530,2,0)),\"\",VLOOKUP(U385,Maestros!$S$31:$T$530,2,0))","v":"50"},{"$f":"IF(ISERROR(VLOOKUP(Egresados!$K$8:$K$705,Maestros!$A$31:$B$130,2,0)),\"\",VLOOKUP(Egresados!$K$8:$K$705,Maestros!$A$31:$B$130,2,0))","v":""},{"$f":"IF(LEN(tablaEgresados[[#This Row],[Nota promedio]])>0,ROUND(tablaEgresados[[#This Row],[Nota promedio]],2),\"\")","v":13.92}]
[378,null,"DNI","46940171","CHAMPI","AZORSA","FLOR CELINDA","FEMENINO",null,"NO",null,null,null,"2020-1","SEDE CENTRAL","EDUCACION PRIMARIA-EDUCACION BASICA ALTERNATIVA",15.47,null,null,"2015-1","2015-1","20150238@une.edu.pe","florcelinda1989@hotmail.com",3133700,"947749222",{"$f":"IF(ISERROR(VLOOKUP(Egresados!$N$8:$N$705,Maestros!$D$31:$E$530,2,0)),\"\",VLOOKUP(Egresados!$N$8:$N$705,Maestros!$D$31:$E$530,2,0))","v":"223"},{"$f":"IF(ISERROR(VLOOKUP(Egresados!$O386,Maestros!$G$31:$J$1030,2,0)),\"\",VLOOKUP(Egresados!$O386,Maestros!$G$31:$J$1030,2,0))","v":"8"},{"$f":"CONCATENATE(Egresados!$Z$8:$Z$705,\"a\",Egresados!$AA$8:$AA$705)","v":"223a8"},{"$f":"IF(ISERROR(VLOOKUP(Egresados!$P386,Maestros!$L$31:$Q$1030,2,0)),\"\",VLOOKUP(Egresados!$P386,Maestros!$L$31:$Q$1030,2,0))","v":"66"},{"$f":"CONCATENATE(Egresados!$Z$8:$Z$705,\"a\",Egresados!$AA$8:$AA$705,\"a\",Egresados!$AC$8:$AC$705)","v":"223a8a66"},{"$f":"IF(ISERROR(VLOOKUP(Egresados!$C$8:$C$705,Maestros!$A$4:$B$21,2,0)),\"\",VLOOKUP(Egresados!$C$8:$C$705,Maestros!$A$4:$B$21,2,0))","v":"1001"},{"$f":"IF(ISERROR(VLOOKUP(Egresados!$H$8:$H$705,Maestros!$D$4:$E$21,2,0)),\"\",VLOOKUP(Egresados!$H$8:$H$705,Maestros!$D$4:$E$21,2,0))","v":"1122"},{"$f":"IF(OR(UPPER(Egresados!$J$8:$J$705)=\"SI\",UPPER(Egresados!$J$8:$J$705)=\"SÍ\"),1,IF(UPPER(Egresados!$J$8:$J$705)=\"NO\",0,\"\"))","v":0},{"$f":"IF(OR(UPPER(Egresados!$R$8:$R$705)=\"SI\",UPPER(Egresados!$R$8:$R$705)=\"SÍ\"),1,IF(UPPER(Egresados!$R$8:$R$705)=\"NO\",0,\"\"))","v":""},{"$f":"IF(OR(UPPER(Egresados!$S$8:$S$705)=\"SI\",UPPER(Egresados!$S$8:$S$705)=\"SÍ\"),1,IF(UPPER(Egresados!$S$8:$S$705)=\"NO\",0,\"\"))","v":""},{"$f":"IF(ISERROR(VLOOKUP(Egresados!$T$8:$T$705,Maestros!$S$31:$T$530,2,0)),\"\",VLOOKUP(Egresados!$T$8:$T$705,Maestros!$S$31:$T$530,2,0))","v":"62"},{"$f":"IF(ISERROR(VLOOKUP(U386,Maestros!$S$31:$T$530,2,0)),\"\",VLOOKUP(U386,Maestros!$S$31:$T$530,2,0))","v":"62"},{"$f":"IF(ISERROR(VLOOKUP(Egresados!$K$8:$K$705,Maestros!$A$31:$B$130,2,0)),\"\",VLOOKUP(Egresados!$K$8:$K$705,Maestros!$A$31:$B$130,2,0))","v":""},{"$f":"IF(LEN(tablaEgresados[[#This Row],[Nota promedio]])>0,ROUND(tablaEgresados[[#This Row],[Nota promedio]],2),\"\")","v":15.47}]
[379,null,"DNI","25834970","CALDERON","RUEDA","IVONNE KATHERINE","FEMENINO",null,"NO",null,null,null,"2020-1","SEDE CENTRAL","EDUCACION PRIMARIA-EDUCACION BASICA ALTERNATIVA",14.98,null,null,"2013-1","2013-1","20131867@une.edu.pe","nicole_28_11_1990@hotmail.com",3133700,976486001,{"$f":"IF(ISERROR(VLOOKUP(Egresados!$N$8:$N$705,Maestros!$D$31:$E$530,2,0)),\"\",VLOOKUP(Egresados!$N$8:$N$705,Maestros!$D$31:$E$530,2,0))","v":"223"},{"$f":"IF(ISERROR(VLOOKUP(Egresados!$O387,Maestros!$G$31:$J$1030,2,0)),\"\",VLOOKUP(Egresados!$O387,Maestros!$G$31:$J$1030,2,0))","v":"8"},{"$f":"CONCATENATE(Egresados!$Z$8:$Z$705,\"a\",Egresados!$AA$8:$AA$705)","v":"223a8"},{"$f":"IF(ISERROR(VLOOKUP(Egresados!$P387,Maestros!$L$31:$Q$1030,2,0)),\"\",VLOOKUP(Egresados!$P387,Maestros!$L$31:$Q$1030,2,0))","v":"66"},{"$f":"CONCATENATE(Egresados!$Z$8:$Z$705,\"a\",Egresados!$AA$8:$AA$705,\"a\",Egresados!$AC$8:$AC$705)","v":"223a8a66"},{"$f":"IF(ISERROR(VLOOKUP(Egresados!$C$8:$C$705,Maestros!$A$4:$B$21,2,0)),\"\",VLOOKUP(Egresados!$C$8:$C$705,Maestros!$A$4:$B$21,2,0))","v":"1001"},{"$f":"IF(ISERROR(VLOOKUP(Egresados!$H$8:$H$705,Maestros!$D$4:$E$21,2,0)),\"\",VLOOKUP(Egresados!$H$8:$H$705,Maestros!$D$4:$E$21,2,0))","v":"1122"},{"$f":"IF(OR(UPPER(Egresados!$J$8:$J$705)=\"SI\",UPPER(Egresados!$J$8:$J$705)=\"SÍ\"),1,IF(UPPER(Egresados!$J$8:$J$705)=\"NO\",0,\"\"))","v":0},{"$f":"IF(OR(UPPER(Egresados!$R$8:$R$705)=\"SI\",UPPER(Egresados!$R$8:$R$705)=\"SÍ\"),1,IF(UPPER(Egresados!$R$8:$R$705)=\"NO\",0,\"\"))","v":""},{"$f":"IF(OR(UPPER(Egresados!$S$8:$S$705)=\"SI\",UPPER(Egresados!$S$8:$S$705)=\"SÍ\"),1,IF(UPPER(Egresados!$S$8:$S$705)=\"NO\",0,\"\"))","v":""},{"$f":"IF(ISERROR(VLOOKUP(Egresados!$T$8:$T$705,Maestros!$S$31:$T$530,2,0)),\"\",VLOOKUP(Egresados!$T$8:$T$705,Maestros!$S$31:$T$530,2,0))","v":"54"},{"$f":"IF(ISERROR(VLOOKUP(U387,Maestros!$S$31:$T$530,2,0)),\"\",VLOOKUP(U387,Maestros!$S$31:$T$530,2,0))","v":"54"},{"$f":"IF(ISERROR(VLOOKUP(Egresados!$K$8:$K$705,Maestros!$A$31:$B$130,2,0)),\"\",VLOOKUP(Egresados!$K$8:$K$705,Maestros!$A$31:$B$130,2,0))","v":""},{"$f":"IF(LEN(tablaEgresados[[#This Row],[Nota promedio]])>0,ROUND(tablaEgresados[[#This Row],[Nota promedio]],2),\"\")","v":14.98}]
[380,null,"DNI","45777336","FLORES","PEÑA","NIKKY MARCELA","FEMENINO",null,"NO",null,null,null,"2020-1","SEDE CENTRAL","EDUCACION PRIMARIA-EDUCACION BASICA ALTERNATIVA",15.56,null,null,"2015-1","2015-1","20150246@une.edu.pe","nikmarcela_2903@hotmail.com",3133700,"947150285",{"$f":"IF(ISERROR(VLOOKUP(Egresados!$N$8:$N$705,Maestros!$D$31:$E$530,2,0)),\"\",VLOOKUP(Egresados!$N$8:$N$705,Maestros!$D$31:$E$530,2,0))","v":"223"},{"$f":"IF(ISERROR(VLOOKUP(Egresados!$O388,Maestros!$G$31:$J$1030,2,0)),\"\",VLOOKUP(Egresados!$O388,Maestros!$G$31:$J$1030,2,0))","v":"8"},{"$f":"CONCATENATE(Egresados!$Z$8:$Z$705,\"a\",Egresados!$AA$8:$AA$705)","v":"223a8"},{"$f":"IF(ISERROR(VLOOKUP(Egresados!$P388,Maestros!$L$31:$Q$1030,2,0)),\"\",VLOOKUP(Egresados!$P388,Maestros!$L$31:$Q$1030,2,0))","v":"66"},{"$f":"CONCATENATE(Egresados!$Z$8:$Z$705,\"a\",Egresados!$AA$8:$AA$705,\"a\",Egresados!$AC$8:$AC$705)","v":"223a8a66"},{"$f":"IF(ISERROR(VLOOKUP(Egresados!$C$8:$C$705,Maestros!$A$4:$B$21,2,0)),\"\",VLOOKUP(Egresados!$C$8:$C$705,Maestros!$A$4:$B$21,2,0))","v":"1001"},{"$f":"IF(ISERROR(VLOOKUP(Egresados!$H$8:$H$705,Maestros!$D$4:$E$21,2,0)),\"\",VLOOKUP(Egresados!$H$8:$H$705,Maestros!$D$4:$E$21,2,0))","v":"1122"},{"$f":"IF(OR(UPPER(Egresados!$J$8:$J$705)=\"SI\",UPPER(Egresados!$J$8:$J$705)=\"SÍ\"),1,IF(UPPER(Egresados!$J$8:$J$705)=\"NO\",0,\"\"))","v":0},{"$f":"IF(OR(UPPER(Egresados!$R$8:$R$705)=\"SI\",UPPER(Egresados!$R$8:$R$705)=\"SÍ\"),1,IF(UPPER(Egresados!$R$8:$R$705)=\"NO\",0,\"\"))","v":""},{"$f":"IF(OR(UPPER(Egresados!$S$8:$S$705)=\"SI\",UPPER(Egresados!$S$8:$S$705)=\"SÍ\"),1,IF(UPPER(Egresados!$S$8:$S$705)=\"NO\",0,\"\"))","v":""},{"$f":"IF(ISERROR(VLOOKUP(Egresados!$T$8:$T$705,Maestros!$S$31:$T$530,2,0)),\"\",VLOOKUP(Egresados!$T$8:$T$705,Maestros!$S$31:$T$530,2,0))","v":"62"},{"$f":"IF(ISERROR(VLOOKUP(U388,Maestros!$S$31:$T$530,2,0)),\"\",VLOOKUP(U388,Maestros!$S$31:$T$530,2,0))","v":"62"},{"$f":"IF(ISERROR(VLOOKUP(Egresados!$K$8:$K$705,Maestros!$A$31:$B$130,2,0)),\"\",VLOOKUP(Egresados!$K$8:$K$705,Maestros!$A$31:$B$130,2,0))","v":""},{"$f":"IF(LEN(tablaEgresados[[#This Row],[Nota promedio]])>0,ROUND(tablaEgresados[[#This Row],[Nota promedio]],2),\"\")","v":15.56}]
[381,null,"DNI","74702298","NAVARRO","PRINCIPE","VANESSA YOSELYN","FEMENINO",null,"NO",null,null,null,"2020-1","SEDE CENTRAL","EDUCACION PRIMARIA-EDUCACION BASICA ALTERNATIVA",15.89,null,null,"2014-1","2014-1","20140825@une.edu.pe","vaneparadise1212@gmail.com",3133700,"993916468",{"$f":"IF(ISERROR(VLOOKUP(Egresados!$N$8:$N$705,Maestros!$D$31:$E$530,2,0)),\"\",VLOOKUP(Egresados!$N$8:$N$705,Maestros!$D$31:$E$530,2,0))","v":"223"},{"$f":"IF(ISERROR(VLOOKUP(Egresados!$O389,Maestros!$G$31:$J$1030,2,0)),\"\",VLOOKUP(Egresados!$O389,Maestros!$G$31:$J$1030,2,0))","v":"8"},{"$f":"CONCATENATE(Egresados!$Z$8:$Z$705,\"a\",Egresados!$AA$8:$AA$705)","v":"223a8"},{"$f":"IF(ISERROR(VLOOKUP(Egresados!$P389,Maestros!$L$31:$Q$1030,2,0)),\"\",VLOOKUP(Egresados!$P389,Maestros!$L$31:$Q$1030,2,0))","v":"66"},{"$f":"CONCATENATE(Egresados!$Z$8:$Z$705,\"a\",Egresados!$AA$8:$AA$705,\"a\",Egresados!$AC$8:$AC$705)","v":"223a8a66"},{"$f":"IF(ISERROR(VLOOKUP(Egresados!$C$8:$C$705,Maestros!$A$4:$B$21,2,0)),\"\",VLOOKUP(Egresados!$C$8:$C$705,Maestros!$A$4:$B$21,2,0))","v":"1001"},{"$f":"IF(ISERROR(VLOOKUP(Egresados!$H$8:$H$705,Maestros!$D$4:$E$21,2,0)),\"\",VLOOKUP(Egresados!$H$8:$H$705,Maestros!$D$4:$E$21,2,0))","v":"1122"},{"$f":"IF(OR(UPPER(Egresados!$J$8:$J$705)=\"SI\",UPPER(Egresados!$J$8:$J$705)=\"SÍ\"),1,IF(UPPER(Egresados!$J$8:$J$705)=\"NO\",0,\"\"))","v":0},{"$f":"IF(OR(UPPER(Egresados!$R$8:$R$705)=\"SI\",UPPER(Egresados!$R$8:$R$705)=\"SÍ\"),1,IF(UPPER(Egresados!$R$8:$R$705)=\"NO\",0,\"\"))","v":""},{"$f":"IF(OR(UPPER(Egresados!$S$8:$S$705)=\"SI\",UPPER(Egresados!$S$8:$S$705)=\"SÍ\"),1,IF(UPPER(Egresados!$S$8:$S$705)=\"NO\",0,\"\"))","v":""},{"$f":"IF(ISERROR(VLOOKUP(Egresados!$T$8:$T$705,Maestros!$S$31:$T$530,2,0)),\"\",VLOOKUP(Egresados!$T$8:$T$705,Maestros!$S$31:$T$530,2,0))","v":"58"},{"$f":"IF(ISERROR(VLOOKUP(U389,Maestros!$S$31:$T$530,2,0)),\"\",VLOOKUP(U389,Maestros!$S$31:$T$530,2,0))","v":"58"},{"$f":"IF(ISERROR(VLOOKUP(Egresados!$K$8:$K$705,Maestros!$A$31:$B$130,2,0)),\"\",VLOOKUP(Egresados!$K$8:$K$705,Maestros!$A$31:$B$130,2,0))","v":""},{"$f":"IF(LEN(tablaEgresados[[#This Row],[Nota promedio]])>0,ROUND(tablaEgresados[[#This Row],[Nota promedio]],2),\"\")","v":15.89}]
[382,null,"DNI","41495940","JAPA","SUAZO","IRENE VIRGINIA","FEMENINO",null,"NO",null,null,null,"2020-1","SEDE CENTRAL","EDUCACION PRIMARIA-EDUCACION BASICA ALTERNATIVA",16.010000000000002,null,null,"2014-1","2014-1","20140803@une.edu.pe","elegida_21@hotmail.com",3133700,"990106200",{"$f":"IF(ISERROR(VLOOKUP(Egresados!$N$8:$N$705,Maestros!$D$31:$E$530,2,0)),\"\",VLOOKUP(Egresados!$N$8:$N$705,Maestros!$D$31:$E$530,2,0))","v":"223"},{"$f":"IF(ISERROR(VLOOKUP(Egresados!$O390,Maestros!$G$31:$J$1030,2,0)),\"\",VLOOKUP(Egresados!$O390,Maestros!$G$31:$J$1030,2,0))","v":"8"},{"$f":"CONCATENATE(Egresados!$Z$8:$Z$705,\"a\",Egresados!$AA$8:$AA$705)","v":"223a8"},{"$f":"IF(ISERROR(VLOOKUP(Egresados!$P390,Maestros!$L$31:$Q$1030,2,0)),\"\",VLOOKUP(Egresados!$P390,Maestros!$L$31:$Q$1030,2,0))","v":"66"},{"$f":"CONCATENATE(Egresados!$Z$8:$Z$705,\"a\",Egresados!$AA$8:$AA$705,\"a\",Egresados!$AC$8:$AC$705)","v":"223a8a66"},{"$f":"IF(ISERROR(VLOOKUP(Egresados!$C$8:$C$705,Maestros!$A$4:$B$21,2,0)),\"\",VLOOKUP(Egresados!$C$8:$C$705,Maestros!$A$4:$B$21,2,0))","v":"1001"},{"$f":"IF(ISERROR(VLOOKUP(Egresados!$H$8:$H$705,Maestros!$D$4:$E$21,2,0)),\"\",VLOOKUP(Egresados!$H$8:$H$705,Maestros!$D$4:$E$21,2,0))","v":"1122"},{"$f":"IF(OR(UPPER(Egresados!$J$8:$J$705)=\"SI\",UPPER(Egresados!$J$8:$J$705)=\"SÍ\"),1,IF(UPPER(Egresados!$J$8:$J$705)=\"NO\",0,\"\"))","v":0},{"$f":"IF(OR(UPPER(Egresados!$R$8:$R$705)=\"SI\",UPPER(Egresados!$R$8:$R$705)=\"SÍ\"),1,IF(UPPER(Egresados!$R$8:$R$705)=\"NO\",0,\"\"))","v":""},{"$f":"IF(OR(UPPER(Egresados!$S$8:$S$705)=\"SI\",UPPER(Egresados!$S$8:$S$705)=\"SÍ\"),1,IF(UPPER(Egresados!$S$8:$S$705)=\"NO\",0,\"\"))","v":""},{"$f":"IF(ISERROR(VLOOKUP(Egresados!$T$8:$T$705,Maestros!$S$31:$T$530,2,0)),\"\",VLOOKUP(Egresados!$T$8:$T$705,Maestros!$S$31:$T$530,2,0))","v":"58"},{"$f":"IF(ISERROR(VLOOKUP(U390,Maestros!$S$31:$T$530,2,0)),\"\",VLOOKUP(U390,Maestros!$S$31:$T$530,2,0))","v":"58"},{"$f":"IF(ISERROR(VLOOKUP(Egresados!$K$8:$K$705,Maestros!$A$31:$B$130,2,0)),\"\",VLOOKUP(Egresados!$K$8:$K$705,Maestros!$A$31:$B$130,2,0))","v":""},{"$f":"IF(LEN(tablaEgresados[[#This Row],[Nota promedio]])>0,ROUND(tablaEgresados[[#This Row],[Nota promedio]],2),\"\")","v":16.010000000000002}]
[{"$f":"ROW()-8","v":383},null,"DNI","45368577","ORTIZ","UTANI","GLORIA","FEMENINO",null,"NO",null,null,null,"2020-1","SEDE CENTRAL","EDUCACION PRIMARIA-EDUCACION BASICA ALTERNATIVA",16.21,null,null,"2015-1","2015-1","20150271@une.edu.pe","gloriaortiz.utani@hotmail.com",3133700,"928410187",{"$f":"IF(ISERROR(VLOOKUP(Egresados!$N$8:$N$705,Maestros!$D$31:$E$530,2,0)),\"\",VLOOKUP(Egresados!$N$8:$N$705,Maestros!$D$31:$E$530,2,0))","v":"223"},{"$f":"IF(ISERROR(VLOOKUP(Egresados!$O391,Maestros!$G$31:$J$1030,2,0)),\"\",VLOOKUP(Egresados!$O391,Maestros!$G$31:$J$1030,2,0))","v":"8"},{"$f":"CONCATENATE(Egresados!$Z$8:$Z$705,\"a\",Egresados!$AA$8:$AA$705)","v":"223a8"},{"$f":"IF(ISERROR(VLOOKUP(Egresados!$P391,Maestros!$L$31:$Q$1030,2,0)),\"\",VLOOKUP(Egresados!$P391,Maestros!$L$31:$Q$1030,2,0))","v":"66"},{"$f":"CONCATENATE(Egresados!$Z$8:$Z$705,\"a\",Egresados!$AA$8:$AA$705,\"a\",Egresados!$AC$8:$AC$705)","v":"223a8a66"},{"$f":"IF(ISERROR(VLOOKUP(Egresados!$C$8:$C$705,Maestros!$A$4:$B$21,2,0)),\"\",VLOOKUP(Egresados!$C$8:$C$705,Maestros!$A$4:$B$21,2,0))","v":"1001"},{"$f":"IF(ISERROR(VLOOKUP(Egresados!$H$8:$H$705,Maestros!$D$4:$E$21,2,0)),\"\",VLOOKUP(Egresados!$H$8:$H$705,Maestros!$D$4:$E$21,2,0))","v":"1122"},{"$f":"IF(OR(UPPER(Egresados!$J$8:$J$705)=\"SI\",UPPER(Egresados!$J$8:$J$705)=\"SÍ\"),1,IF(UPPER(Egresados!$J$8:$J$705)=\"NO\",0,\"\"))","v":0},{"$f":"IF(OR(UPPER(Egresados!$R$8:$R$705)=\"SI\",UPPER(Egresados!$R$8:$R$705)=\"SÍ\"),1,IF(UPPER(Egresados!$R$8:$R$705)=\"NO\",0,\"\"))","v":""},{"$f":"IF(OR(UPPER(Egresados!$S$8:$S$705)=\"SI\",UPPER(Egresados!$S$8:$S$705)=\"SÍ\"),1,IF(UPPER(Egresados!$S$8:$S$705)=\"NO\",0,\"\"))","v":""},{"$f":"IF(ISERROR(VLOOKUP(Egresados!$T$8:$T$705,Maestros!$S$31:$T$530,2,0)),\"\",VLOOKUP(Egresados!$T$8:$T$705,Maestros!$S$31:$T$530,2,0))","v":"62"},{"$f":"IF(ISERROR(VLOOKUP(U391,Maestros!$S$31:$T$530,2,0)),\"\",VLOOKUP(U391,Maestros!$S$31:$T$530,2,0))","v":"62"},{"$f":"IF(ISERROR(VLOOKUP(Egresados!$K$8:$K$705,Maestros!$A$31:$B$130,2,0)),\"\",VLOOKUP(Egresados!$K$8:$K$705,Maestros!$A$31:$B$130,2,0))","v":""},{"$f":"IF(LEN(tablaEgresados[[#This Row],[Nota promedio]])>0,ROUND(tablaEgresados[[#This Row],[Nota promedio]],2),\"\")","v":16.21}]
[384,null,"DNI","71843643","PAUCAR","GARCIA","CARMEN ROSA","FEMENINO",null,"NO",null,null,null,"2020-1","SEDE CENTRAL","EDUCACION PRIMARIA-EDUCACION BASICA ALTERNATIVA",15.29,null,null,"2015-1","2015-1","20150272@une.edu.pe","paucargarcia24@gmail.com",3133700,"994391816",{"$f":"IF(ISERROR(VLOOKUP(Egresados!$N$8:$N$705,Maestros!$D$31:$E$530,2,0)),\"\",VLOOKUP(Egresados!$N$8:$N$705,Maestros!$D$31:$E$530,2,0))","v":"223"},{"$f":"IF(ISERROR(VLOOKUP(Egresados!$O392,Maestros!$G$31:$J$1030,2,0)),\"\",VLOOKUP(Egresados!$O392,Maestros!$G$31:$J$1030,2,0))","v":"8"},{"$f":"CONCATENATE(Egresados!$Z$8:$Z$705,\"a\",Egresados!$AA$8:$AA$705)","v":"223a8"},{"$f":"IF(ISERROR(VLOOKUP(Egresados!$P392,Maestros!$L$31:$Q$1030,2,0)),\"\",VLOOKUP(Egresados!$P392,Maestros!$L$31:$Q$1030,2,0))","v":"66"},{"$f":"CONCATENATE(Egresados!$Z$8:$Z$705,\"a\",Egresados!$AA$8:$AA$705,\"a\",Egresados!$AC$8:$AC$705)","v":"223a8a66"},{"$f":"IF(ISERROR(VLOOKUP(Egresados!$C$8:$C$705,Maestros!$A$4:$B$21,2,0)),\"\",VLOOKUP(Egresados!$C$8:$C$705,Maestros!$A$4:$B$21,2,0))","v":"1001"},{"$f":"IF(ISERROR(VLOOKUP(Egresados!$H$8:$H$705,Maestros!$D$4:$E$21,2,0)),\"\",VLOOKUP(Egresados!$H$8:$H$705,Maestros!$D$4:$E$21,2,0))","v":"1122"},{"$f":"IF(OR(UPPER(Egresados!$J$8:$J$705)=\"SI\",UPPER(Egresados!$J$8:$J$705)=\"SÍ\"),1,IF(UPPER(Egresados!$J$8:$J$705)=\"NO\",0,\"\"))","v":0},{"$f":"IF(OR(UPPER(Egresados!$R$8:$R$705)=\"SI\",UPPER(Egresados!$R$8:$R$705)=\"SÍ\"),1,IF(UPPER(Egresados!$R$8:$R$705)=\"NO\",0,\"\"))","v":""},{"$f":"IF(OR(UPPER(Egresados!$S$8:$S$705)=\"SI\",UPPER(Egresados!$S$8:$S$705)=\"SÍ\"),1,IF(UPPER(Egresados!$S$8:$S$705)=\"NO\",0,\"\"))","v":""},{"$f":"IF(ISERROR(VLOOKUP(Egresados!$T$8:$T$705,Maestros!$S$31:$T$530,2,0)),\"\",VLOOKUP(Egresados!$T$8:$T$705,Maestros!$S$31:$T$530,2,0))","v":"62"},{"$f":"IF(ISERROR(VLOOKUP(U392,Maestros!$S$31:$T$530,2,0)),\"\",VLOOKUP(U392,Maestros!$S$31:$T$530,2,0))","v":"62"},{"$f":"IF(ISERROR(VLOOKUP(Egresados!$K$8:$K$705,Maestros!$A$31:$B$130,2,0)),\"\",VLOOKUP(Egresados!$K$8:$K$705,Maestros!$A$31:$B$130,2,0))","v":""},{"$f":"IF(LEN(tablaEgresados[[#This Row],[Nota promedio]])>0,ROUND(tablaEgresados[[#This Row],[Nota promedio]],2),\"\")","v":15.29}]
[385,null,"DNI","71009482","JIMENEZ","MEDINA","KASANDRA GUADALUPE","FEMENINO",null,"NO",null,null,null,"2020-1","SEDE CENTRAL","EDUCACION PRIMARIA-EDUCACION BASICA ALTERNATIVA",15.88,null,null,"2015-1","2015-1","20150257@une.edu.pe","JIMENEZ_13_1994@HOTMAIL.COM",3133700,"957805718",{"$f":"IF(ISERROR(VLOOKUP(Egresados!$N$8:$N$705,Maestros!$D$31:$E$530,2,0)),\"\",VLOOKUP(Egresados!$N$8:$N$705,Maestros!$D$31:$E$530,2,0))","v":"223"},{"$f":"IF(ISERROR(VLOOKUP(Egresados!$O393,Maestros!$G$31:$J$1030,2,0)),\"\",VLOOKUP(Egresados!$O393,Maestros!$G$31:$J$1030,2,0))","v":"8"},{"$f":"CONCATENATE(Egresados!$Z$8:$Z$705,\"a\",Egresados!$AA$8:$AA$705)","v":"223a8"},{"$f":"IF(ISERROR(VLOOKUP(Egresados!$P393,Maestros!$L$31:$Q$1030,2,0)),\"\",VLOOKUP(Egresados!$P393,Maestros!$L$31:$Q$1030,2,0))","v":"66"},{"$f":"CONCATENATE(Egresados!$Z$8:$Z$705,\"a\",Egresados!$AA$8:$AA$705,\"a\",Egresados!$AC$8:$AC$705)","v":"223a8a66"},{"$f":"IF(ISERROR(VLOOKUP(Egresados!$C$8:$C$705,Maestros!$A$4:$B$21,2,0)),\"\",VLOOKUP(Egresados!$C$8:$C$705,Maestros!$A$4:$B$21,2,0))","v":"1001"},{"$f":"IF(ISERROR(VLOOKUP(Egresados!$H$8:$H$705,Maestros!$D$4:$E$21,2,0)),\"\",VLOOKUP(Egresados!$H$8:$H$705,Maestros!$D$4:$E$21,2,0))","v":"1122"},{"$f":"IF(OR(UPPER(Egresados!$J$8:$J$705)=\"SI\",UPPER(Egresados!$J$8:$J$705)=\"SÍ\"),1,IF(UPPER(Egresados!$J$8:$J$705)=\"NO\",0,\"\"))","v":0},{"$f":"IF(OR(UPPER(Egresados!$R$8:$R$705)=\"SI\",UPPER(Egresados!$R$8:$R$705)=\"SÍ\"),1,IF(UPPER(Egresados!$R$8:$R$705)=\"NO\",0,\"\"))","v":""},{"$f":"IF(OR(UPPER(Egresados!$S$8:$S$705)=\"SI\",UPPER(Egresados!$S$8:$S$705)=\"SÍ\"),1,IF(UPPER(Egresados!$S$8:$S$705)=\"NO\",0,\"\"))","v":""},{"$f":"IF(ISERROR(VLOOKUP(Egresados!$T$8:$T$705,Maestros!$S$31:$T$530,2,0)),\"\",VLOOKUP(Egresados!$T$8:$T$705,Maestros!$S$31:$T$530,2,0))","v":"62"},{"$f":"IF(ISERROR(VLOOKUP(U393,Maestros!$S$31:$T$530,2,0)),\"\",VLOOKUP(U393,Maestros!$S$31:$T$530,2,0))","v":"62"},{"$f":"IF(ISERROR(VLOOKUP(Egresados!$K$8:$K$705,Maestros!$A$31:$B$130,2,0)),\"\",VLOOKUP(Egresados!$K$8:$K$705,Maestros!$A$31:$B$130,2,0))","v":""},{"$f":"IF(LEN(tablaEgresados[[#This Row],[Nota promedio]])>0,ROUND(tablaEgresados[[#This Row],[Nota promedio]],2),\"\")","v":15.88}]
[386,null,"DNI","77566814","VICHARRA","VICHARRA","MAYOLI NATALIA","FEMENINO",null,"NO",null,null,null,"2020-1","SEDE CENTRAL","EDUCACION PRIMARIA-EDUCACION BASICA ALTERNATIVA",16.28,null,null,"2015-1","2015-1","20150293@une.edu.pe","mayoli_vicharra_12@hotmail.com",3133700,"930130927",{"$f":"IF(ISERROR(VLOOKUP(Egresados!$N$8:$N$705,Maestros!$D$31:$E$530,2,0)),\"\",VLOOKUP(Egresados!$N$8:$N$705,Maestros!$D$31:$E$530,2,0))","v":"223"},{"$f":"IF(ISERROR(VLOOKUP(Egresados!$O394,Maestros!$G$31:$J$1030,2,0)),\"\",VLOOKUP(Egresados!$O394,Maestros!$G$31:$J$1030,2,0))","v":"8"},{"$f":"CONCATENATE(Egresados!$Z$8:$Z$705,\"a\",Egresados!$AA$8:$AA$705)","v":"223a8"},{"$f":"IF(ISERROR(VLOOKUP(Egresados!$P394,Maestros!$L$31:$Q$1030,2,0)),\"\",VLOOKUP(Egresados!$P394,Maestros!$L$31:$Q$1030,2,0))","v":"66"},{"$f":"CONCATENATE(Egresados!$Z$8:$Z$705,\"a\",Egresados!$AA$8:$AA$705,\"a\",Egresados!$AC$8:$AC$705)","v":"223a8a66"},{"$f":"IF(ISERROR(VLOOKUP(Egresados!$C$8:$C$705,Maestros!$A$4:$B$21,2,0)),\"\",VLOOKUP(Egresados!$C$8:$C$705,Maestros!$A$4:$B$21,2,0))","v":"1001"},{"$f":"IF(ISERROR(VLOOKUP(Egresados!$H$8:$H$705,Maestros!$D$4:$E$21,2,0)),\"\",VLOOKUP(Egresados!$H$8:$H$705,Maestros!$D$4:$E$21,2,0))","v":"1122"},{"$f":"IF(OR(UPPER(Egresados!$J$8:$J$705)=\"SI\",UPPER(Egresados!$J$8:$J$705)=\"SÍ\"),1,IF(UPPER(Egresados!$J$8:$J$705)=\"NO\",0,\"\"))","v":0},{"$f":"IF(OR(UPPER(Egresados!$R$8:$R$705)=\"SI\",UPPER(Egresados!$R$8:$R$705)=\"SÍ\"),1,IF(UPPER(Egresados!$R$8:$R$705)=\"NO\",0,\"\"))","v":""},{"$f":"IF(OR(UPPER(Egresados!$S$8:$S$705)=\"SI\",UPPER(Egresados!$S$8:$S$705)=\"SÍ\"),1,IF(UPPER(Egresados!$S$8:$S$705)=\"NO\",0,\"\"))","v":""},{"$f":"IF(ISERROR(VLOOKUP(Egresados!$T$8:$T$705,Maestros!$S$31:$T$530,2,0)),\"\",VLOOKUP(Egresados!$T$8:$T$705,Maestros!$S$31:$T$530,2,0))","v":"62"},{"$f":"IF(ISERROR(VLOOKUP(U394,Maestros!$S$31:$T$530,2,0)),\"\",VLOOKUP(U394,Maestros!$S$31:$T$530,2,0))","v":"62"},{"$f":"IF(ISERROR(VLOOKUP(Egresados!$K$8:$K$705,Maestros!$A$31:$B$130,2,0)),\"\",VLOOKUP(Egresados!$K$8:$K$705,Maestros!$A$31:$B$130,2,0))","v":""},{"$f":"IF(LEN(tablaEgresados[[#This Row],[Nota promedio]])>0,ROUND(tablaEgresados[[#This Row],[Nota promedio]],2),\"\")","v":16.28}]
[387,null,"DNI","70863808","RETAMOZO","PIUCA","ADRIANA","FEMENINO",null,"NO",null,null,null,"2020-1","SEDE CENTRAL","EDUCACION PRIMARIA-EDUCACION BASICA ALTERNATIVA",17.14,null,null,"2015-1","2015-1","20150278@une.edu.pe","adriana_saset@hotmail.com",3133700,"950184488",{"$f":"IF(ISERROR(VLOOKUP(Egresados!$N$8:$N$705,Maestros!$D$31:$E$530,2,0)),\"\",VLOOKUP(Egresados!$N$8:$N$705,Maestros!$D$31:$E$530,2,0))","v":"223"},{"$f":"IF(ISERROR(VLOOKUP(Egresados!$O395,Maestros!$G$31:$J$1030,2,0)),\"\",VLOOKUP(Egresados!$O395,Maestros!$G$31:$J$1030,2,0))","v":"8"},{"$f":"CONCATENATE(Egresados!$Z$8:$Z$705,\"a\",Egresados!$AA$8:$AA$705)","v":"223a8"},{"$f":"IF(ISERROR(VLOOKUP(Egresados!$P395,Maestros!$L$31:$Q$1030,2,0)),\"\",VLOOKUP(Egresados!$P395,Maestros!$L$31:$Q$1030,2,0))","v":"66"},{"$f":"CONCATENATE(Egresados!$Z$8:$Z$705,\"a\",Egresados!$AA$8:$AA$705,\"a\",Egresados!$AC$8:$AC$705)","v":"223a8a66"},{"$f":"IF(ISERROR(VLOOKUP(Egresados!$C$8:$C$705,Maestros!$A$4:$B$21,2,0)),\"\",VLOOKUP(Egresados!$C$8:$C$705,Maestros!$A$4:$B$21,2,0))","v":"1001"},{"$f":"IF(ISERROR(VLOOKUP(Egresados!$H$8:$H$705,Maestros!$D$4:$E$21,2,0)),\"\",VLOOKUP(Egresados!$H$8:$H$705,Maestros!$D$4:$E$21,2,0))","v":"1122"},{"$f":"IF(OR(UPPER(Egresados!$J$8:$J$705)=\"SI\",UPPER(Egresados!$J$8:$J$705)=\"SÍ\"),1,IF(UPPER(Egresados!$J$8:$J$705)=\"NO\",0,\"\"))","v":0},{"$f":"IF(OR(UPPER(Egresados!$R$8:$R$705)=\"SI\",UPPER(Egresados!$R$8:$R$705)=\"SÍ\"),1,IF(UPPER(Egresados!$R$8:$R$705)=\"NO\",0,\"\"))","v":""},{"$f":"IF(OR(UPPER(Egresados!$S$8:$S$705)=\"SI\",UPPER(Egresados!$S$8:$S$705)=\"SÍ\"),1,IF(UPPER(Egresados!$S$8:$S$705)=\"NO\",0,\"\"))","v":""},{"$f":"IF(ISERROR(VLOOKUP(Egresados!$T$8:$T$705,Maestros!$S$31:$T$530,2,0)),\"\",VLOOKUP(Egresados!$T$8:$T$705,Maestros!$S$31:$T$530,2,0))","v":"62"},{"$f":"IF(ISERROR(VLOOKUP(U395,Maestros!$S$31:$T$530,2,0)),\"\",VLOOKUP(U395,Maestros!$S$31:$T$530,2,0))","v":"62"},{"$f":"IF(ISERROR(VLOOKUP(Egresados!$K$8:$K$705,Maestros!$A$31:$B$130,2,0)),\"\",VLOOKUP(Egresados!$K$8:$K$705,Maestros!$A$31:$B$130,2,0))","v":""},{"$f":"IF(LEN(tablaEgresados[[#This Row],[Nota promedio]])>0,ROUND(tablaEgresados[[#This Row],[Nota promedio]],2),\"\")","v":17.14}]
[388,null,"DNI","45669173","LIMACHE","ACUÑA","ETEHEL KIMBERLY","FEMENINO",null,"NO",null,null,null,"2020-1","SEDE CENTRAL","EDUCACION PRIMARIA-EDUCACION BASICA ALTERNATIVA",16.09,null,null,"2014-1","2014-1","20140810@une.edu.pe","kimberlyliacliac@gmail.com",3133700,"964376326",{"$f":"IF(ISERROR(VLOOKUP(Egresados!$N$8:$N$705,Maestros!$D$31:$E$530,2,0)),\"\",VLOOKUP(Egresados!$N$8:$N$705,Maestros!$D$31:$E$530,2,0))","v":"223"},{"$f":"IF(ISERROR(VLOOKUP(Egresados!$O396,Maestros!$G$31:$J$1030,2,0)),\"\",VLOOKUP(Egresados!$O396,Maestros!$G$31:$J$1030,2,0))","v":"8"},{"$f":"CONCATENATE(Egresados!$Z$8:$Z$705,\"a\",Egresados!$AA$8:$AA$705)","v":"223a8"},{"$f":"IF(ISERROR(VLOOKUP(Egresados!$P396,Maestros!$L$31:$Q$1030,2,0)),\"\",VLOOKUP(Egresados!$P396,Maestros!$L$31:$Q$1030,2,0))","v":"66"},{"$f":"CONCATENATE(Egresados!$Z$8:$Z$705,\"a\",Egresados!$AA$8:$AA$705,\"a\",Egresados!$AC$8:$AC$705)","v":"223a8a66"},{"$f":"IF(ISERROR(VLOOKUP(Egresados!$C$8:$C$705,Maestros!$A$4:$B$21,2,0)),\"\",VLOOKUP(Egresados!$C$8:$C$705,Maestros!$A$4:$B$21,2,0))","v":"1001"},{"$f":"IF(ISERROR(VLOOKUP(Egresados!$H$8:$H$705,Maestros!$D$4:$E$21,2,0)),\"\",VLOOKUP(Egresados!$H$8:$H$705,Maestros!$D$4:$E$21,2,0))","v":"1122"},{"$f":"IF(OR(UPPER(Egresados!$J$8:$J$705)=\"SI\",UPPER(Egresados!$J$8:$J$705)=\"SÍ\"),1,IF(UPPER(Egresados!$J$8:$J$705)=\"NO\",0,\"\"))","v":0},{"$f":"IF(OR(UPPER(Egresados!$R$8:$R$705)=\"SI\",UPPER(Egresados!$R$8:$R$705)=\"SÍ\"),1,IF(UPPER(Egresados!$R$8:$R$705)=\"NO\",0,\"\"))","v":""},{"$f":"IF(OR(UPPER(Egresados!$S$8:$S$705)=\"SI\",UPPER(Egresados!$S$8:$S$705)=\"SÍ\"),1,IF(UPPER(Egresados!$S$8:$S$705)=\"NO\",0,\"\"))","v":""},{"$f":"IF(ISERROR(VLOOKUP(Egresados!$T$8:$T$705,Maestros!$S$31:$T$530,2,0)),\"\",VLOOKUP(Egresados!$T$8:$T$705,Maestros!$S$31:$T$530,2,0))","v":"58"},{"$f":"IF(ISERROR(VLOOKUP(U396,Maestros!$S$31:$T$530,2,0)),\"\",VLOOKUP(U396,Maestros!$S$31:$T$530,2,0))","v":"58"},{"$f":"IF(ISERROR(VLOOKUP(Egresados!$K$8:$K$705,Maestros!$A$31:$B$130,2,0)),\"\",VLOOKUP(Egresados!$K$8:$K$705,Maestros!$A$31:$B$130,2,0))","v":""},{"$f":"IF(LEN(tablaEgresados[[#This Row],[Nota promedio]])>0,ROUND(tablaEgresados[[#This Row],[Nota promedio]],2),\"\")","v":16.09}]
[389,null,"DNI","76233057","SUCA","PUCLLA","MARIBEL","FEMENINO",null,"NO",null,null,null,"2020-1","SEDE CENTRAL","EDUCACION PRIMARIA-EDUCACION BASICA ALTERNATIVA",15.6,null,null,"2015-1","2015-1","20150283@une.edu.pe","suca_maribel_26@hotmail.com",3133700,"979606370",{"$f":"IF(ISERROR(VLOOKUP(Egresados!$N$8:$N$705,Maestros!$D$31:$E$530,2,0)),\"\",VLOOKUP(Egresados!$N$8:$N$705,Maestros!$D$31:$E$530,2,0))","v":"223"},{"$f":"IF(ISERROR(VLOOKUP(Egresados!$O397,Maestros!$G$31:$J$1030,2,0)),\"\",VLOOKUP(Egresados!$O397,Maestros!$G$31:$J$1030,2,0))","v":"8"},{"$f":"CONCATENATE(Egresados!$Z$8:$Z$705,\"a\",Egresados!$AA$8:$AA$705)","v":"223a8"},{"$f":"IF(ISERROR(VLOOKUP(Egresados!$P397,Maestros!$L$31:$Q$1030,2,0)),\"\",VLOOKUP(Egresados!$P397,Maestros!$L$31:$Q$1030,2,0))","v":"66"},{"$f":"CONCATENATE(Egresados!$Z$8:$Z$705,\"a\",Egresados!$AA$8:$AA$705,\"a\",Egresados!$AC$8:$AC$705)","v":"223a8a66"},{"$f":"IF(ISERROR(VLOOKUP(Egresados!$C$8:$C$705,Maestros!$A$4:$B$21,2,0)),\"\",VLOOKUP(Egresados!$C$8:$C$705,Maestros!$A$4:$B$21,2,0))","v":"1001"},{"$f":"IF(ISERROR(VLOOKUP(Egresados!$H$8:$H$705,Maestros!$D$4:$E$21,2,0)),\"\",VLOOKUP(Egresados!$H$8:$H$705,Maestros!$D$4:$E$21,2,0))","v":"1122"},{"$f":"IF(OR(UPPER(Egresados!$J$8:$J$705)=\"SI\",UPPER(Egresados!$J$8:$J$705)=\"SÍ\"),1,IF(UPPER(Egresados!$J$8:$J$705)=\"NO\",0,\"\"))","v":0},{"$f":"IF(OR(UPPER(Egresados!$R$8:$R$705)=\"SI\",UPPER(Egresados!$R$8:$R$705)=\"SÍ\"),1,IF(UPPER(Egresados!$R$8:$R$705)=\"NO\",0,\"\"))","v":""},{"$f":"IF(OR(UPPER(Egresados!$S$8:$S$705)=\"SI\",UPPER(Egresados!$S$8:$S$705)=\"SÍ\"),1,IF(UPPER(Egresados!$S$8:$S$705)=\"NO\",0,\"\"))","v":""},{"$f":"IF(ISERROR(VLOOKUP(Egresados!$T$8:$T$705,Maestros!$S$31:$T$530,2,0)),\"\",VLOOKUP(Egresados!$T$8:$T$705,Maestros!$S$31:$T$530,2,0))","v":"62"},{"$f":"IF(ISERROR(VLOOKUP(U397,Maestros!$S$31:$T$530,2,0)),\"\",VLOOKUP(U397,Maestros!$S$31:$T$530,2,0))","v":"62"},{"$f":"IF(ISERROR(VLOOKUP(Egresados!$K$8:$K$705,Maestros!$A$31:$B$130,2,0)),\"\",VLOOKUP(Egresados!$K$8:$K$705,Maestros!$A$31:$B$130,2,0))","v":""},{"$f":"IF(LEN(tablaEgresados[[#This Row],[Nota promedio]])>0,ROUND(tablaEgresados[[#This Row],[Nota promedio]],2),\"\")","v":15.6}]
[390,null,"DNI","73951639","TAPIA","SOLANO","LUZ PAMELA","FEMENINO",null,"NO",null,null,null,"2020-1","SEDE CENTRAL","EDUCACION PRIMARIA-EDUCACION BASICA ALTERNATIVA",16.03,null,null,"2015-1","2015-1","20150286@une.edu.pe","pamelu0102@hotmail.com",3133700,"983313363",{"$f":"IF(ISERROR(VLOOKUP(Egresados!$N$8:$N$705,Maestros!$D$31:$E$530,2,0)),\"\",VLOOKUP(Egresados!$N$8:$N$705,Maestros!$D$31:$E$530,2,0))","v":"223"},{"$f":"IF(ISERROR(VLOOKUP(Egresados!$O398,Maestros!$G$31:$J$1030,2,0)),\"\",VLOOKUP(Egresados!$O398,Maestros!$G$31:$J$1030,2,0))","v":"8"},{"$f":"CONCATENATE(Egresados!$Z$8:$Z$705,\"a\",Egresados!$AA$8:$AA$705)","v":"223a8"},{"$f":"IF(ISERROR(VLOOKUP(Egresados!$P398,Maestros!$L$31:$Q$1030,2,0)),\"\",VLOOKUP(Egresados!$P398,Maestros!$L$31:$Q$1030,2,0))","v":"66"},{"$f":"CONCATENATE(Egresados!$Z$8:$Z$705,\"a\",Egresados!$AA$8:$AA$705,\"a\",Egresados!$AC$8:$AC$705)","v":"223a8a66"},{"$f":"IF(ISERROR(VLOOKUP(Egresados!$C$8:$C$705,Maestros!$A$4:$B$21,2,0)),\"\",VLOOKUP(Egresados!$C$8:$C$705,Maestros!$A$4:$B$21,2,0))","v":"1001"},{"$f":"IF(ISERROR(VLOOKUP(Egresados!$H$8:$H$705,Maestros!$D$4:$E$21,2,0)),\"\",VLOOKUP(Egresados!$H$8:$H$705,Maestros!$D$4:$E$21,2,0))","v":"1122"},{"$f":"IF(OR(UPPER(Egresados!$J$8:$J$705)=\"SI\",UPPER(Egresados!$J$8:$J$705)=\"SÍ\"),1,IF(UPPER(Egresados!$J$8:$J$705)=\"NO\",0,\"\"))","v":0},{"$f":"IF(OR(UPPER(Egresados!$R$8:$R$705)=\"SI\",UPPER(Egresados!$R$8:$R$705)=\"SÍ\"),1,IF(UPPER(Egresados!$R$8:$R$705)=\"NO\",0,\"\"))","v":""},{"$f":"IF(OR(UPPER(Egresados!$S$8:$S$705)=\"SI\",UPPER(Egresados!$S$8:$S$705)=\"SÍ\"),1,IF(UPPER(Egresados!$S$8:$S$705)=\"NO\",0,\"\"))","v":""},{"$f":"IF(ISERROR(VLOOKUP(Egresados!$T$8:$T$705,Maestros!$S$31:$T$530,2,0)),\"\",VLOOKUP(Egresados!$T$8:$T$705,Maestros!$S$31:$T$530,2,0))","v":"62"},{"$f":"IF(ISERROR(VLOOKUP(U398,Maestros!$S$31:$T$530,2,0)),\"\",VLOOKUP(U398,Maestros!$S$31:$T$530,2,0))","v":"62"},{"$f":"IF(ISERROR(VLOOKUP(Egresados!$K$8:$K$705,Maestros!$A$31:$B$130,2,0)),\"\",VLOOKUP(Egresados!$K$8:$K$705,Maestros!$A$31:$B$130,2,0))","v":""},{"$f":"IF(LEN(tablaEgresados[[#This Row],[Nota promedio]])>0,ROUND(tablaEgresados[[#This Row],[Nota promedio]],2),\"\")","v":16.03}]
[391,null,"DNI","75831770","CAHUANA","VARGAS","YANET LIZET","FEMENINO",null,"NO",null,null,null,"2020-1","SEDE CENTRAL","EDUCACION PRIMARIA-EDUCACION BASICA ALTERNATIVA",16.02,null,null,"2015-1","2015-1","20150227@une.edu.pe","yanetcahuana@outlook.com",3133700,"949677552",{"$f":"IF(ISERROR(VLOOKUP(Egresados!$N$8:$N$705,Maestros!$D$31:$E$530,2,0)),\"\",VLOOKUP(Egresados!$N$8:$N$705,Maestros!$D$31:$E$530,2,0))","v":"223"},{"$f":"IF(ISERROR(VLOOKUP(Egresados!$O399,Maestros!$G$31:$J$1030,2,0)),\"\",VLOOKUP(Egresados!$O399,Maestros!$G$31:$J$1030,2,0))","v":"8"},{"$f":"CONCATENATE(Egresados!$Z$8:$Z$705,\"a\",Egresados!$AA$8:$AA$705)","v":"223a8"},{"$f":"IF(ISERROR(VLOOKUP(Egresados!$P399,Maestros!$L$31:$Q$1030,2,0)),\"\",VLOOKUP(Egresados!$P399,Maestros!$L$31:$Q$1030,2,0))","v":"66"},{"$f":"CONCATENATE(Egresados!$Z$8:$Z$705,\"a\",Egresados!$AA$8:$AA$705,\"a\",Egresados!$AC$8:$AC$705)","v":"223a8a66"},{"$f":"IF(ISERROR(VLOOKUP(Egresados!$C$8:$C$705,Maestros!$A$4:$B$21,2,0)),\"\",VLOOKUP(Egresados!$C$8:$C$705,Maestros!$A$4:$B$21,2,0))","v":"1001"},{"$f":"IF(ISERROR(VLOOKUP(Egresados!$H$8:$H$705,Maestros!$D$4:$E$21,2,0)),\"\",VLOOKUP(Egresados!$H$8:$H$705,Maestros!$D$4:$E$21,2,0))","v":"1122"},{"$f":"IF(OR(UPPER(Egresados!$J$8:$J$705)=\"SI\",UPPER(Egresados!$J$8:$J$705)=\"SÍ\"),1,IF(UPPER(Egresados!$J$8:$J$705)=\"NO\",0,\"\"))","v":0},{"$f":"IF(OR(UPPER(Egresados!$R$8:$R$705)=\"SI\",UPPER(Egresados!$R$8:$R$705)=\"SÍ\"),1,IF(UPPER(Egresados!$R$8:$R$705)=\"NO\",0,\"\"))","v":""},{"$f":"IF(OR(UPPER(Egresados!$S$8:$S$705)=\"SI\",UPPER(Egresados!$S$8:$S$705)=\"SÍ\"),1,IF(UPPER(Egresados!$S$8:$S$705)=\"NO\",0,\"\"))","v":""},{"$f":"IF(ISERROR(VLOOKUP(Egresados!$T$8:$T$705,Maestros!$S$31:$T$530,2,0)),\"\",VLOOKUP(Egresados!$T$8:$T$705,Maestros!$S$31:$T$530,2,0))","v":"62"},{"$f":"IF(ISERROR(VLOOKUP(U399,Maestros!$S$31:$T$530,2,0)),\"\",VLOOKUP(U399,Maestros!$S$31:$T$530,2,0))","v":"62"},{"$f":"IF(ISERROR(VLOOKUP(Egresados!$K$8:$K$705,Maestros!$A$31:$B$130,2,0)),\"\",VLOOKUP(Egresados!$K$8:$K$705,Maestros!$A$31:$B$130,2,0))","v":""},{"$f":"IF(LEN(tablaEgresados[[#This Row],[Nota promedio]])>0,ROUND(tablaEgresados[[#This Row],[Nota promedio]],2),\"\")","v":16.02}]
[392,null,"DNI","73426471","TICSE","TELLO","MARICEL CELINDA","FEMENINO",null,"NO",null,null,null,"2020-1","SEDE CENTRAL","EDUCACION PRIMARIA-EDUCACION BASICA ALTERNATIVA",15.67,null,null,"2014-1","2014-1","20141440@une.edu.pe","maricel.c.t.13@gmail.com",3133700,"967383696",{"$f":"IF(ISERROR(VLOOKUP(Egresados!$N$8:$N$705,Maestros!$D$31:$E$530,2,0)),\"\",VLOOKUP(Egresados!$N$8:$N$705,Maestros!$D$31:$E$530,2,0))","v":"223"},{"$f":"IF(ISERROR(VLOOKUP(Egresados!$O400,Maestros!$G$31:$J$1030,2,0)),\"\",VLOOKUP(Egresados!$O400,Maestros!$G$31:$J$1030,2,0))","v":"8"},{"$f":"CONCATENATE(Egresados!$Z$8:$Z$705,\"a\",Egresados!$AA$8:$AA$705)","v":"223a8"},{"$f":"IF(ISERROR(VLOOKUP(Egresados!$P400,Maestros!$L$31:$Q$1030,2,0)),\"\",VLOOKUP(Egresados!$P400,Maestros!$L$31:$Q$1030,2,0))","v":"66"},{"$f":"CONCATENATE(Egresados!$Z$8:$Z$705,\"a\",Egresados!$AA$8:$AA$705,\"a\",Egresados!$AC$8:$AC$705)","v":"223a8a66"},{"$f":"IF(ISERROR(VLOOKUP(Egresados!$C$8:$C$705,Maestros!$A$4:$B$21,2,0)),\"\",VLOOKUP(Egresados!$C$8:$C$705,Maestros!$A$4:$B$21,2,0))","v":"1001"},{"$f":"IF(ISERROR(VLOOKUP(Egresados!$H$8:$H$705,Maestros!$D$4:$E$21,2,0)),\"\",VLOOKUP(Egresados!$H$8:$H$705,Maestros!$D$4:$E$21,2,0))","v":"1122"},{"$f":"IF(OR(UPPER(Egresados!$J$8:$J$705)=\"SI\",UPPER(Egresados!$J$8:$J$705)=\"SÍ\"),1,IF(UPPER(Egresados!$J$8:$J$705)=\"NO\",0,\"\"))","v":0},{"$f":"IF(OR(UPPER(Egresados!$R$8:$R$705)=\"SI\",UPPER(Egresados!$R$8:$R$705)=\"SÍ\"),1,IF(UPPER(Egresados!$R$8:$R$705)=\"NO\",0,\"\"))","v":""},{"$f":"IF(OR(UPPER(Egresados!$S$8:$S$705)=\"SI\",UPPER(Egresados!$S$8:$S$705)=\"SÍ\"),1,IF(UPPER(Egresados!$S$8:$S$705)=\"NO\",0,\"\"))","v":""},{"$f":"IF(ISERROR(VLOOKUP(Egresados!$T$8:$T$705,Maestros!$S$31:$T$530,2,0)),\"\",VLOOKUP(Egresados!$T$8:$T$705,Maestros!$S$31:$T$530,2,0))","v":"58"},{"$f":"IF(ISERROR(VLOOKUP(U400,Maestros!$S$31:$T$530,2,0)),\"\",VLOOKUP(U400,Maestros!$S$31:$T$530,2,0))","v":"58"},{"$f":"IF(ISERROR(VLOOKUP(Egresados!$K$8:$K$705,Maestros!$A$31:$B$130,2,0)),\"\",VLOOKUP(Egresados!$K$8:$K$705,Maestros!$A$31:$B$130,2,0))","v":""},{"$f":"IF(LEN(tablaEgresados[[#This Row],[Nota promedio]])>0,ROUND(tablaEgresados[[#This Row],[Nota promedio]],2),\"\")","v":15.67}]
[393,null,"DNI","76043441","VELIZ","RIVERA","GABRIELA ANNABELL","FEMENINO",null,"NO",null,null,null,"2020-1","SEDE CENTRAL","EDUCACION PRIMARIA-EDUCACION BASICA ALTERNATIVA",16.12,null,null,"2015-1","2015-1","20150291@une.edu.pe","habyvr123@gmail.com",3133700,"986840564",{"$f":"IF(ISERROR(VLOOKUP(Egresados!$N$8:$N$705,Maestros!$D$31:$E$530,2,0)),\"\",VLOOKUP(Egresados!$N$8:$N$705,Maestros!$D$31:$E$530,2,0))","v":"223"},{"$f":"IF(ISERROR(VLOOKUP(Egresados!$O401,Maestros!$G$31:$J$1030,2,0)),\"\",VLOOKUP(Egresados!$O401,Maestros!$G$31:$J$1030,2,0))","v":"8"},{"$f":"CONCATENATE(Egresados!$Z$8:$Z$705,\"a\",Egresados!$AA$8:$AA$705)","v":"223a8"},{"$f":"IF(ISERROR(VLOOKUP(Egresados!$P401,Maestros!$L$31:$Q$1030,2,0)),\"\",VLOOKUP(Egresados!$P401,Maestros!$L$31:$Q$1030,2,0))","v":"66"},{"$f":"CONCATENATE(Egresados!$Z$8:$Z$705,\"a\",Egresados!$AA$8:$AA$705,\"a\",Egresados!$AC$8:$AC$705)","v":"223a8a66"},{"$f":"IF(ISERROR(VLOOKUP(Egresados!$C$8:$C$705,Maestros!$A$4:$B$21,2,0)),\"\",VLOOKUP(Egresados!$C$8:$C$705,Maestros!$A$4:$B$21,2,0))","v":"1001"},{"$f":"IF(ISERROR(VLOOKUP(Egresados!$H$8:$H$705,Maestros!$D$4:$E$21,2,0)),\"\",VLOOKUP(Egresados!$H$8:$H$705,Maestros!$D$4:$E$21,2,0))","v":"1122"},{"$f":"IF(OR(UPPER(Egresados!$J$8:$J$705)=\"SI\",UPPER(Egresados!$J$8:$J$705)=\"SÍ\"),1,IF(UPPER(Egresados!$J$8:$J$705)=\"NO\",0,\"\"))","v":0},{"$f":"IF(OR(UPPER(Egresados!$R$8:$R$705)=\"SI\",UPPER(Egresados!$R$8:$R$705)=\"SÍ\"),1,IF(UPPER(Egresados!$R$8:$R$705)=\"NO\",0,\"\"))","v":""},{"$f":"IF(OR(UPPER(Egresados!$S$8:$S$705)=\"SI\",UPPER(Egresados!$S$8:$S$705)=\"SÍ\"),1,IF(UPPER(Egresados!$S$8:$S$705)=\"NO\",0,\"\"))","v":""},{"$f":"IF(ISERROR(VLOOKUP(Egresados!$T$8:$T$705,Maestros!$S$31:$T$530,2,0)),\"\",VLOOKUP(Egresados!$T$8:$T$705,Maestros!$S$31:$T$530,2,0))","v":"62"},{"$f":"IF(ISERROR(VLOOKUP(U401,Maestros!$S$31:$T$530,2,0)),\"\",VLOOKUP(U401,Maestros!$S$31:$T$530,2,0))","v":"62"},{"$f":"IF(ISERROR(VLOOKUP(Egresados!$K$8:$K$705,Maestros!$A$31:$B$130,2,0)),\"\",VLOOKUP(Egresados!$K$8:$K$705,Maestros!$A$31:$B$130,2,0))","v":""},{"$f":"IF(LEN(tablaEgresados[[#This Row],[Nota promedio]])>0,ROUND(tablaEgresados[[#This Row],[Nota promedio]],2),\"\")","v":16.12}]
[394,null,"DNI","70248945","SULCARAY","HUAMACCTO","ANA PATRICIA","FEMENINO",null,"NO",null,null,null,"2020-1","SEDE CENTRAL","EDUCACION PRIMARIA-EDUCACION BASICA ALTERNATIVA",15.36,null,null,"2015-1","2015-1","20150284@une.edu.pe","Anasulcaray2015@hotmail.com",3133700,"942793179",{"$f":"IF(ISERROR(VLOOKUP(Egresados!$N$8:$N$705,Maestros!$D$31:$E$530,2,0)),\"\",VLOOKUP(Egresados!$N$8:$N$705,Maestros!$D$31:$E$530,2,0))","v":"223"},{"$f":"IF(ISERROR(VLOOKUP(Egresados!$O402,Maestros!$G$31:$J$1030,2,0)),\"\",VLOOKUP(Egresados!$O402,Maestros!$G$31:$J$1030,2,0))","v":"8"},{"$f":"CONCATENATE(Egresados!$Z$8:$Z$705,\"a\",Egresados!$AA$8:$AA$705)","v":"223a8"},{"$f":"IF(ISERROR(VLOOKUP(Egresados!$P402,Maestros!$L$31:$Q$1030,2,0)),\"\",VLOOKUP(Egresados!$P402,Maestros!$L$31:$Q$1030,2,0))","v":"66"},{"$f":"CONCATENATE(Egresados!$Z$8:$Z$705,\"a\",Egresados!$AA$8:$AA$705,\"a\",Egresados!$AC$8:$AC$705)","v":"223a8a66"},{"$f":"IF(ISERROR(VLOOKUP(Egresados!$C$8:$C$705,Maestros!$A$4:$B$21,2,0)),\"\",VLOOKUP(Egresados!$C$8:$C$705,Maestros!$A$4:$B$21,2,0))","v":"1001"},{"$f":"IF(ISERROR(VLOOKUP(Egresados!$H$8:$H$705,Maestros!$D$4:$E$21,2,0)),\"\",VLOOKUP(Egresados!$H$8:$H$705,Maestros!$D$4:$E$21,2,0))","v":"1122"},{"$f":"IF(OR(UPPER(Egresados!$J$8:$J$705)=\"SI\",UPPER(Egresados!$J$8:$J$705)=\"SÍ\"),1,IF(UPPER(Egresados!$J$8:$J$705)=\"NO\",0,\"\"))","v":0},{"$f":"IF(OR(UPPER(Egresados!$R$8:$R$705)=\"SI\",UPPER(Egresados!$R$8:$R$705)=\"SÍ\"),1,IF(UPPER(Egresados!$R$8:$R$705)=\"NO\",0,\"\"))","v":""},{"$f":"IF(OR(UPPER(Egresados!$S$8:$S$705)=\"SI\",UPPER(Egresados!$S$8:$S$705)=\"SÍ\"),1,IF(UPPER(Egresados!$S$8:$S$705)=\"NO\",0,\"\"))","v":""},{"$f":"IF(ISERROR(VLOOKUP(Egresados!$T$8:$T$705,Maestros!$S$31:$T$530,2,0)),\"\",VLOOKUP(Egresados!$T$8:$T$705,Maestros!$S$31:$T$530,2,0))","v":"62"},{"$f":"IF(ISERROR(VLOOKUP(U402,Maestros!$S$31:$T$530,2,0)),\"\",VLOOKUP(U402,Maestros!$S$31:$T$530,2,0))","v":"62"},{"$f":"IF(ISERROR(VLOOKUP(Egresados!$K$8:$K$705,Maestros!$A$31:$B$130,2,0)),\"\",VLOOKUP(Egresados!$K$8:$K$705,Maestros!$A$31:$B$130,2,0))","v":""},{"$f":"IF(LEN(tablaEgresados[[#This Row],[Nota promedio]])>0,ROUND(tablaEgresados[[#This Row],[Nota promedio]],2),\"\")","v":15.36}]
[395,null,"DNI","48086784","LAURA","QUISPE","HERLINDA","MASCULINO",null,"NO",null,null,null,"2020-1","SEDE CENTRAL","EDUCACION PRIMARIA-EDUCACION BASICA ALTERNATIVA",15.17,null,null,"2012-1","2012-1","20121724@une.edu.pe","herlinda_2006@hotmail.com",3133700,976486001,{"$f":"IF(ISERROR(VLOOKUP(Egresados!$N$8:$N$705,Maestros!$D$31:$E$530,2,0)),\"\",VLOOKUP(Egresados!$N$8:$N$705,Maestros!$D$31:$E$530,2,0))","v":"223"},{"$f":"IF(ISERROR(VLOOKUP(Egresados!$O403,Maestros!$G$31:$J$1030,2,0)),\"\",VLOOKUP(Egresados!$O403,Maestros!$G$31:$J$1030,2,0))","v":"8"},{"$f":"CONCATENATE(Egresados!$Z$8:$Z$705,\"a\",Egresados!$AA$8:$AA$705)","v":"223a8"},{"$f":"IF(ISERROR(VLOOKUP(Egresados!$P403,Maestros!$L$31:$Q$1030,2,0)),\"\",VLOOKUP(Egresados!$P403,Maestros!$L$31:$Q$1030,2,0))","v":"66"},{"$f":"CONCATENATE(Egresados!$Z$8:$Z$705,\"a\",Egresados!$AA$8:$AA$705,\"a\",Egresados!$AC$8:$AC$705)","v":"223a8a66"},{"$f":"IF(ISERROR(VLOOKUP(Egresados!$C$8:$C$705,Maestros!$A$4:$B$21,2,0)),\"\",VLOOKUP(Egresados!$C$8:$C$705,Maestros!$A$4:$B$21,2,0))","v":"1001"},{"$f":"IF(ISERROR(VLOOKUP(Egresados!$H$8:$H$705,Maestros!$D$4:$E$21,2,0)),\"\",VLOOKUP(Egresados!$H$8:$H$705,Maestros!$D$4:$E$21,2,0))","v":"1121"},{"$f":"IF(OR(UPPER(Egresados!$J$8:$J$705)=\"SI\",UPPER(Egresados!$J$8:$J$705)=\"SÍ\"),1,IF(UPPER(Egresados!$J$8:$J$705)=\"NO\",0,\"\"))","v":0},{"$f":"IF(OR(UPPER(Egresados!$R$8:$R$705)=\"SI\",UPPER(Egresados!$R$8:$R$705)=\"SÍ\"),1,IF(UPPER(Egresados!$R$8:$R$705)=\"NO\",0,\"\"))","v":""},{"$f":"IF(OR(UPPER(Egresados!$S$8:$S$705)=\"SI\",UPPER(Egresados!$S$8:$S$705)=\"SÍ\"),1,IF(UPPER(Egresados!$S$8:$S$705)=\"NO\",0,\"\"))","v":""},{"$f":"IF(ISERROR(VLOOKUP(Egresados!$T$8:$T$705,Maestros!$S$31:$T$530,2,0)),\"\",VLOOKUP(Egresados!$T$8:$T$705,Maestros!$S$31:$T$530,2,0))","v":"50"},{"$f":"IF(ISERROR(VLOOKUP(U403,Maestros!$S$31:$T$530,2,0)),\"\",VLOOKUP(U403,Maestros!$S$31:$T$530,2,0))","v":"50"},{"$f":"IF(ISERROR(VLOOKUP(Egresados!$K$8:$K$705,Maestros!$A$31:$B$130,2,0)),\"\",VLOOKUP(Egresados!$K$8:$K$705,Maestros!$A$31:$B$130,2,0))","v":""},{"$f":"IF(LEN(tablaEgresados[[#This Row],[Nota promedio]])>0,ROUND(tablaEgresados[[#This Row],[Nota promedio]],2),\"\")","v":15.17}]
[396,null,"DNI","41466813","DE LOS SANTOS","MONTOYA","SANDRA VIVIANA","FEMENINO",null,"NO",null,null,null,"2020-1","SEDE CENTRAL","EDUCACION PRIMARIA-EDUCACION BASICA ALTERNATIVA",16,null,null,"2014-1","2014-1","20140777@une.edu.pe","dlsandra473@gmail.com",3133700,"963139976",{"$f":"IF(ISERROR(VLOOKUP(Egresados!$N$8:$N$705,Maestros!$D$31:$E$530,2,0)),\"\",VLOOKUP(Egresados!$N$8:$N$705,Maestros!$D$31:$E$530,2,0))","v":"223"},{"$f":"IF(ISERROR(VLOOKUP(Egresados!$O404,Maestros!$G$31:$J$1030,2,0)),\"\",VLOOKUP(Egresados!$O404,Maestros!$G$31:$J$1030,2,0))","v":"8"},{"$f":"CONCATENATE(Egresados!$Z$8:$Z$705,\"a\",Egresados!$AA$8:$AA$705)","v":"223a8"},{"$f":"IF(ISERROR(VLOOKUP(Egresados!$P404,Maestros!$L$31:$Q$1030,2,0)),\"\",VLOOKUP(Egresados!$P404,Maestros!$L$31:$Q$1030,2,0))","v":"66"},{"$f":"CONCATENATE(Egresados!$Z$8:$Z$705,\"a\",Egresados!$AA$8:$AA$705,\"a\",Egresados!$AC$8:$AC$705)","v":"223a8a66"},{"$f":"IF(ISERROR(VLOOKUP(Egresados!$C$8:$C$705,Maestros!$A$4:$B$21,2,0)),\"\",VLOOKUP(Egresados!$C$8:$C$705,Maestros!$A$4:$B$21,2,0))","v":"1001"},{"$f":"IF(ISERROR(VLOOKUP(Egresados!$H$8:$H$705,Maestros!$D$4:$E$21,2,0)),\"\",VLOOKUP(Egresados!$H$8:$H$705,Maestros!$D$4:$E$21,2,0))","v":"1122"},{"$f":"IF(OR(UPPER(Egresados!$J$8:$J$705)=\"SI\",UPPER(Egresados!$J$8:$J$705)=\"SÍ\"),1,IF(UPPER(Egresados!$J$8:$J$705)=\"NO\",0,\"\"))","v":0},{"$f":"IF(OR(UPPER(Egresados!$R$8:$R$705)=\"SI\",UPPER(Egresados!$R$8:$R$705)=\"SÍ\"),1,IF(UPPER(Egresados!$R$8:$R$705)=\"NO\",0,\"\"))","v":""},{"$f":"IF(OR(UPPER(Egresados!$S$8:$S$705)=\"SI\",UPPER(Egresados!$S$8:$S$705)=\"SÍ\"),1,IF(UPPER(Egresados!$S$8:$S$705)=\"NO\",0,\"\"))","v":""},{"$f":"IF(ISERROR(VLOOKUP(Egresados!$T$8:$T$705,Maestros!$S$31:$T$530,2,0)),\"\",VLOOKUP(Egresados!$T$8:$T$705,Maestros!$S$31:$T$530,2,0))","v":"58"},{"$f":"IF(ISERROR(VLOOKUP(U404,Maestros!$S$31:$T$530,2,0)),\"\",VLOOKUP(U404,Maestros!$S$31:$T$530,2,0))","v":"58"},{"$f":"IF(ISERROR(VLOOKUP(Egresados!$K$8:$K$705,Maestros!$A$31:$B$130,2,0)),\"\",VLOOKUP(Egresados!$K$8:$K$705,Maestros!$A$31:$B$130,2,0))","v":""},{"$f":"IF(LEN(tablaEgresados[[#This Row],[Nota promedio]])>0,ROUND(tablaEgresados[[#This Row],[Nota promedio]],2),\"\")","v":16}]
[397,null,"DNI","46879603","VERDE","CUEVA","PAMELA SHAYLA","FEMENINO",null,"NO",null,null,null,"2020-1","SEDE CENTRAL","EDUCACION PRIMARIA-EDUCACION BASICA ALTERNATIVA",16.37,null,null,"2015-1","2015-1","20150292@une.edu.pe","pamela.verd@gmail.com",3133700,"926267955",{"$f":"IF(ISERROR(VLOOKUP(Egresados!$N$8:$N$705,Maestros!$D$31:$E$530,2,0)),\"\",VLOOKUP(Egresados!$N$8:$N$705,Maestros!$D$31:$E$530,2,0))","v":"223"},{"$f":"IF(ISERROR(VLOOKUP(Egresados!$O405,Maestros!$G$31:$J$1030,2,0)),\"\",VLOOKUP(Egresados!$O405,Maestros!$G$31:$J$1030,2,0))","v":"8"},{"$f":"CONCATENATE(Egresados!$Z$8:$Z$705,\"a\",Egresados!$AA$8:$AA$705)","v":"223a8"},{"$f":"IF(ISERROR(VLOOKUP(Egresados!$P405,Maestros!$L$31:$Q$1030,2,0)),\"\",VLOOKUP(Egresados!$P405,Maestros!$L$31:$Q$1030,2,0))","v":"66"},{"$f":"CONCATENATE(Egresados!$Z$8:$Z$705,\"a\",Egresados!$AA$8:$AA$705,\"a\",Egresados!$AC$8:$AC$705)","v":"223a8a66"},{"$f":"IF(ISERROR(VLOOKUP(Egresados!$C$8:$C$705,Maestros!$A$4:$B$21,2,0)),\"\",VLOOKUP(Egresados!$C$8:$C$705,Maestros!$A$4:$B$21,2,0))","v":"1001"},{"$f":"IF(ISERROR(VLOOKUP(Egresados!$H$8:$H$705,Maestros!$D$4:$E$21,2,0)),\"\",VLOOKUP(Egresados!$H$8:$H$705,Maestros!$D$4:$E$21,2,0))","v":"1122"},{"$f":"IF(OR(UPPER(Egresados!$J$8:$J$705)=\"SI\",UPPER(Egresados!$J$8:$J$705)=\"SÍ\"),1,IF(UPPER(Egresados!$J$8:$J$705)=\"NO\",0,\"\"))","v":0},{"$f":"IF(OR(UPPER(Egresados!$R$8:$R$705)=\"SI\",UPPER(Egresados!$R$8:$R$705)=\"SÍ\"),1,IF(UPPER(Egresados!$R$8:$R$705)=\"NO\",0,\"\"))","v":""},{"$f":"IF(OR(UPPER(Egresados!$S$8:$S$705)=\"SI\",UPPER(Egresados!$S$8:$S$705)=\"SÍ\"),1,IF(UPPER(Egresados!$S$8:$S$705)=\"NO\",0,\"\"))","v":""},{"$f":"IF(ISERROR(VLOOKUP(Egresados!$T$8:$T$705,Maestros!$S$31:$T$530,2,0)),\"\",VLOOKUP(Egresados!$T$8:$T$705,Maestros!$S$31:$T$530,2,0))","v":"62"},{"$f":"IF(ISERROR(VLOOKUP(U405,Maestros!$S$31:$T$530,2,0)),\"\",VLOOKUP(U405,Maestros!$S$31:$T$530,2,0))","v":"62"},{"$f":"IF(ISERROR(VLOOKUP(Egresados!$K$8:$K$705,Maestros!$A$31:$B$130,2,0)),\"\",VLOOKUP(Egresados!$K$8:$K$705,Maestros!$A$31:$B$130,2,0))","v":""},{"$f":"IF(LEN(tablaEgresados[[#This Row],[Nota promedio]])>0,ROUND(tablaEgresados[[#This Row],[Nota promedio]],2),\"\")","v":16.37}]
[398,null,"DNI","74964902","ZELARAYAN","SARMIENTO","JOYCE SURIT","FEMENINO",null,"NO",null,null,null,"2020-1","SEDE CENTRAL","EDUCACION PRIMARIA-EDUCACION BASICA ALTERNATIVA",15.51,null,null,"2014-1","2014-1","20141286@une.edu.pe","joyce_szs@hotmail.com",3133700,"999329723",{"$f":"IF(ISERROR(VLOOKUP(Egresados!$N$8:$N$705,Maestros!$D$31:$E$530,2,0)),\"\",VLOOKUP(Egresados!$N$8:$N$705,Maestros!$D$31:$E$530,2,0))","v":"223"},{"$f":"IF(ISERROR(VLOOKUP(Egresados!$O406,Maestros!$G$31:$J$1030,2,0)),\"\",VLOOKUP(Egresados!$O406,Maestros!$G$31:$J$1030,2,0))","v":"8"},{"$f":"CONCATENATE(Egresados!$Z$8:$Z$705,\"a\",Egresados!$AA$8:$AA$705)","v":"223a8"},{"$f":"IF(ISERROR(VLOOKUP(Egresados!$P406,Maestros!$L$31:$Q$1030,2,0)),\"\",VLOOKUP(Egresados!$P406,Maestros!$L$31:$Q$1030,2,0))","v":"66"},{"$f":"CONCATENATE(Egresados!$Z$8:$Z$705,\"a\",Egresados!$AA$8:$AA$705,\"a\",Egresados!$AC$8:$AC$705)","v":"223a8a66"},{"$f":"IF(ISERROR(VLOOKUP(Egresados!$C$8:$C$705,Maestros!$A$4:$B$21,2,0)),\"\",VLOOKUP(Egresados!$C$8:$C$705,Maestros!$A$4:$B$21,2,0))","v":"1001"},{"$f":"IF(ISERROR(VLOOKUP(Egresados!$H$8:$H$705,Maestros!$D$4:$E$21,2,0)),\"\",VLOOKUP(Egresados!$H$8:$H$705,Maestros!$D$4:$E$21,2,0))","v":"1122"},{"$f":"IF(OR(UPPER(Egresados!$J$8:$J$705)=\"SI\",UPPER(Egresados!$J$8:$J$705)=\"SÍ\"),1,IF(UPPER(Egresados!$J$8:$J$705)=\"NO\",0,\"\"))","v":0},{"$f":"IF(OR(UPPER(Egresados!$R$8:$R$705)=\"SI\",UPPER(Egresados!$R$8:$R$705)=\"SÍ\"),1,IF(UPPER(Egresados!$R$8:$R$705)=\"NO\",0,\"\"))","v":""},{"$f":"IF(OR(UPPER(Egresados!$S$8:$S$705)=\"SI\",UPPER(Egresados!$S$8:$S$705)=\"SÍ\"),1,IF(UPPER(Egresados!$S$8:$S$705)=\"NO\",0,\"\"))","v":""},{"$f":"IF(ISERROR(VLOOKUP(Egresados!$T$8:$T$705,Maestros!$S$31:$T$530,2,0)),\"\",VLOOKUP(Egresados!$T$8:$T$705,Maestros!$S$31:$T$530,2,0))","v":"58"},{"$f":"IF(ISERROR(VLOOKUP(U406,Maestros!$S$31:$T$530,2,0)),\"\",VLOOKUP(U406,Maestros!$S$31:$T$530,2,0))","v":"58"},{"$f":"IF(ISERROR(VLOOKUP(Egresados!$K$8:$K$705,Maestros!$A$31:$B$130,2,0)),\"\",VLOOKUP(Egresados!$K$8:$K$705,Maestros!$A$31:$B$130,2,0))","v":""},{"$f":"IF(LEN(tablaEgresados[[#This Row],[Nota promedio]])>0,ROUND(tablaEgresados[[#This Row],[Nota promedio]],2),\"\")","v":15.51}]
[399,null,"DNI","47815513","ACOSTA","PAMPAS","REYNA ESTHER","FEMENINO",null,"NO",null,null,null,"2020-1","SEDE CENTRAL","EDUCACION PRIMARIA-EDUCACION BASICA ALTERNATIVA",16.62,null,null,"2015-1","2015-1","20150217@une.edu.pe","ester.acosta17@gmail.com",3133700,"959341431",{"$f":"IF(ISERROR(VLOOKUP(Egresados!$N$8:$N$705,Maestros!$D$31:$E$530,2,0)),\"\",VLOOKUP(Egresados!$N$8:$N$705,Maestros!$D$31:$E$530,2,0))","v":"223"},{"$f":"IF(ISERROR(VLOOKUP(Egresados!$O407,Maestros!$G$31:$J$1030,2,0)),\"\",VLOOKUP(Egresados!$O407,Maestros!$G$31:$J$1030,2,0))","v":"8"},{"$f":"CONCATENATE(Egresados!$Z$8:$Z$705,\"a\",Egresados!$AA$8:$AA$705)","v":"223a8"},{"$f":"IF(ISERROR(VLOOKUP(Egresados!$P407,Maestros!$L$31:$Q$1030,2,0)),\"\",VLOOKUP(Egresados!$P407,Maestros!$L$31:$Q$1030,2,0))","v":"66"},{"$f":"CONCATENATE(Egresados!$Z$8:$Z$705,\"a\",Egresados!$AA$8:$AA$705,\"a\",Egresados!$AC$8:$AC$705)","v":"223a8a66"},{"$f":"IF(ISERROR(VLOOKUP(Egresados!$C$8:$C$705,Maestros!$A$4:$B$21,2,0)),\"\",VLOOKUP(Egresados!$C$8:$C$705,Maestros!$A$4:$B$21,2,0))","v":"1001"},{"$f":"IF(ISERROR(VLOOKUP(Egresados!$H$8:$H$705,Maestros!$D$4:$E$21,2,0)),\"\",VLOOKUP(Egresados!$H$8:$H$705,Maestros!$D$4:$E$21,2,0))","v":"1122"},{"$f":"IF(OR(UPPER(Egresados!$J$8:$J$705)=\"SI\",UPPER(Egresados!$J$8:$J$705)=\"SÍ\"),1,IF(UPPER(Egresados!$J$8:$J$705)=\"NO\",0,\"\"))","v":0},{"$f":"IF(OR(UPPER(Egresados!$R$8:$R$705)=\"SI\",UPPER(Egresados!$R$8:$R$705)=\"SÍ\"),1,IF(UPPER(Egresados!$R$8:$R$705)=\"NO\",0,\"\"))","v":""},{"$f":"IF(OR(UPPER(Egresados!$S$8:$S$705)=\"SI\",UPPER(Egresados!$S$8:$S$705)=\"SÍ\"),1,IF(UPPER(Egresados!$S$8:$S$705)=\"NO\",0,\"\"))","v":""},{"$f":"IF(ISERROR(VLOOKUP(Egresados!$T$8:$T$705,Maestros!$S$31:$T$530,2,0)),\"\",VLOOKUP(Egresados!$T$8:$T$705,Maestros!$S$31:$T$530,2,0))","v":"62"},{"$f":"IF(ISERROR(VLOOKUP(U407,Maestros!$S$31:$T$530,2,0)),\"\",VLOOKUP(U407,Maestros!$S$31:$T$530,2,0))","v":"62"},{"$f":"IF(ISERROR(VLOOKUP(Egresados!$K$8:$K$705,Maestros!$A$31:$B$130,2,0)),\"\",VLOOKUP(Egresados!$K$8:$K$705,Maestros!$A$31:$B$130,2,0))","v":""},{"$f":"IF(LEN(tablaEgresados[[#This Row],[Nota promedio]])>0,ROUND(tablaEgresados[[#This Row],[Nota promedio]],2),\"\")","v":16.62}]
[400,null,"DNI","48513252","CALZADA","MORENO","EDGAR KEY","MASCULINO",null,"NO",null,null,null,"2020-1","SEDE CENTRAL","EDUCACION PRIMARIA-EDUCACION BASICA ALTERNATIVA",15.5,null,null,"2015-1","2015-1","20150228@une.edu.pe","keyedgar23@utlook.com",3133700,976486001,{"$f":"IF(ISERROR(VLOOKUP(Egresados!$N$8:$N$705,Maestros!$D$31:$E$530,2,0)),\"\",VLOOKUP(Egresados!$N$8:$N$705,Maestros!$D$31:$E$530,2,0))","v":"223"},{"$f":"IF(ISERROR(VLOOKUP(Egresados!$O408,Maestros!$G$31:$J$1030,2,0)),\"\",VLOOKUP(Egresados!$O408,Maestros!$G$31:$J$1030,2,0))","v":"8"},{"$f":"CONCATENATE(Egresados!$Z$8:$Z$705,\"a\",Egresados!$AA$8:$AA$705)","v":"223a8"},{"$f":"IF(ISERROR(VLOOKUP(Egresados!$P408,Maestros!$L$31:$Q$1030,2,0)),\"\",VLOOKUP(Egresados!$P408,Maestros!$L$31:$Q$1030,2,0))","v":"66"},{"$f":"CONCATENATE(Egresados!$Z$8:$Z$705,\"a\",Egresados!$AA$8:$AA$705,\"a\",Egresados!$AC$8:$AC$705)","v":"223a8a66"},{"$f":"IF(ISERROR(VLOOKUP(Egresados!$C$8:$C$705,Maestros!$A$4:$B$21,2,0)),\"\",VLOOKUP(Egresados!$C$8:$C$705,Maestros!$A$4:$B$21,2,0))","v":"1001"},{"$f":"IF(ISERROR(VLOOKUP(Egresados!$H$8:$H$705,Maestros!$D$4:$E$21,2,0)),\"\",VLOOKUP(Egresados!$H$8:$H$705,Maestros!$D$4:$E$21,2,0))","v":"1121"},{"$f":"IF(OR(UPPER(Egresados!$J$8:$J$705)=\"SI\",UPPER(Egresados!$J$8:$J$705)=\"SÍ\"),1,IF(UPPER(Egresados!$J$8:$J$705)=\"NO\",0,\"\"))","v":0},{"$f":"IF(OR(UPPER(Egresados!$R$8:$R$705)=\"SI\",UPPER(Egresados!$R$8:$R$705)=\"SÍ\"),1,IF(UPPER(Egresados!$R$8:$R$705)=\"NO\",0,\"\"))","v":""},{"$f":"IF(OR(UPPER(Egresados!$S$8:$S$705)=\"SI\",UPPER(Egresados!$S$8:$S$705)=\"SÍ\"),1,IF(UPPER(Egresados!$S$8:$S$705)=\"NO\",0,\"\"))","v":""},{"$f":"IF(ISERROR(VLOOKUP(Egresados!$T$8:$T$705,Maestros!$S$31:$T$530,2,0)),\"\",VLOOKUP(Egresados!$T$8:$T$705,Maestros!$S$31:$T$530,2,0))","v":"62"},{"$f":"IF(ISERROR(VLOOKUP(U408,Maestros!$S$31:$T$530,2,0)),\"\",VLOOKUP(U408,Maestros!$S$31:$T$530,2,0))","v":"62"},{"$f":"IF(ISERROR(VLOOKUP(Egresados!$K$8:$K$705,Maestros!$A$31:$B$130,2,0)),\"\",VLOOKUP(Egresados!$K$8:$K$705,Maestros!$A$31:$B$130,2,0))","v":""},{"$f":"IF(LEN(tablaEgresados[[#This Row],[Nota promedio]])>0,ROUND(tablaEgresados[[#This Row],[Nota promedio]],2),\"\")","v":15.5}]
[401,null,"DNI","72019860","FRANCO","FLORES","LUCERO SHIRLY","FEMENINO",null,"NO",null,null,null,"2020-1","SEDE CENTRAL","EDUCACION PRIMARIA-EDUCACION BASICA ALTERNATIVA",16.079999999999998,null,null,"2014-1","2014-1","20140784@une.edu.pe","henecia_ss301@hotmail.com",3133700,"997712817",{"$f":"IF(ISERROR(VLOOKUP(Egresados!$N$8:$N$705,Maestros!$D$31:$E$530,2,0)),\"\",VLOOKUP(Egresados!$N$8:$N$705,Maestros!$D$31:$E$530,2,0))","v":"223"},{"$f":"IF(ISERROR(VLOOKUP(Egresados!$O409,Maestros!$G$31:$J$1030,2,0)),\"\",VLOOKUP(Egresados!$O409,Maestros!$G$31:$J$1030,2,0))","v":"8"},{"$f":"CONCATENATE(Egresados!$Z$8:$Z$705,\"a\",Egresados!$AA$8:$AA$705)","v":"223a8"},{"$f":"IF(ISERROR(VLOOKUP(Egresados!$P409,Maestros!$L$31:$Q$1030,2,0)),\"\",VLOOKUP(Egresados!$P409,Maestros!$L$31:$Q$1030,2,0))","v":"66"},{"$f":"CONCATENATE(Egresados!$Z$8:$Z$705,\"a\",Egresados!$AA$8:$AA$705,\"a\",Egresados!$AC$8:$AC$705)","v":"223a8a66"},{"$f":"IF(ISERROR(VLOOKUP(Egresados!$C$8:$C$705,Maestros!$A$4:$B$21,2,0)),\"\",VLOOKUP(Egresados!$C$8:$C$705,Maestros!$A$4:$B$21,2,0))","v":"1001"},{"$f":"IF(ISERROR(VLOOKUP(Egresados!$H$8:$H$705,Maestros!$D$4:$E$21,2,0)),\"\",VLOOKUP(Egresados!$H$8:$H$705,Maestros!$D$4:$E$21,2,0))","v":"1122"},{"$f":"IF(OR(UPPER(Egresados!$J$8:$J$705)=\"SI\",UPPER(Egresados!$J$8:$J$705)=\"SÍ\"),1,IF(UPPER(Egresados!$J$8:$J$705)=\"NO\",0,\"\"))","v":0},{"$f":"IF(OR(UPPER(Egresados!$R$8:$R$705)=\"SI\",UPPER(Egresados!$R$8:$R$705)=\"SÍ\"),1,IF(UPPER(Egresados!$R$8:$R$705)=\"NO\",0,\"\"))","v":""},{"$f":"IF(OR(UPPER(Egresados!$S$8:$S$705)=\"SI\",UPPER(Egresados!$S$8:$S$705)=\"SÍ\"),1,IF(UPPER(Egresados!$S$8:$S$705)=\"NO\",0,\"\"))","v":""},{"$f":"IF(ISERROR(VLOOKUP(Egresados!$T$8:$T$705,Maestros!$S$31:$T$530,2,0)),\"\",VLOOKUP(Egresados!$T$8:$T$705,Maestros!$S$31:$T$530,2,0))","v":"58"},{"$f":"IF(ISERROR(VLOOKUP(U409,Maestros!$S$31:$T$530,2,0)),\"\",VLOOKUP(U409,Maestros!$S$31:$T$530,2,0))","v":"58"},{"$f":"IF(ISERROR(VLOOKUP(Egresados!$K$8:$K$705,Maestros!$A$31:$B$130,2,0)),\"\",VLOOKUP(Egresados!$K$8:$K$705,Maestros!$A$31:$B$130,2,0))","v":""},{"$f":"IF(LEN(tablaEgresados[[#This Row],[Nota promedio]])>0,ROUND(tablaEgresados[[#This Row],[Nota promedio]],2),\"\")","v":16.079999999999998}]
[402,null,"DNI","80357480","MUÑOZ","ROMERO","SILVIA KARINA","FEMENINO",null,"NO",null,null,null,"2020-1","SEDE CENTRAL","EDUCACION PRIMARIA-EDUCACION BASICA ALTERNATIVA",14.27,null,null,"2010-1","2010-1","20101302@une.edu.pe","mery_love13@hotmail.com",3133700,"972090994",{"$f":"IF(ISERROR(VLOOKUP(Egresados!$N$8:$N$705,Maestros!$D$31:$E$530,2,0)),\"\",VLOOKUP(Egresados!$N$8:$N$705,Maestros!$D$31:$E$530,2,0))","v":"223"},{"$f":"IF(ISERROR(VLOOKUP(Egresados!$O410,Maestros!$G$31:$J$1030,2,0)),\"\",VLOOKUP(Egresados!$O410,Maestros!$G$31:$J$1030,2,0))","v":"8"},{"$f":"CONCATENATE(Egresados!$Z$8:$Z$705,\"a\",Egresados!$AA$8:$AA$705)","v":"223a8"},{"$f":"IF(ISERROR(VLOOKUP(Egresados!$P410,Maestros!$L$31:$Q$1030,2,0)),\"\",VLOOKUP(Egresados!$P410,Maestros!$L$31:$Q$1030,2,0))","v":"66"},{"$f":"CONCATENATE(Egresados!$Z$8:$Z$705,\"a\",Egresados!$AA$8:$AA$705,\"a\",Egresados!$AC$8:$AC$705)","v":"223a8a66"},{"$f":"IF(ISERROR(VLOOKUP(Egresados!$C$8:$C$705,Maestros!$A$4:$B$21,2,0)),\"\",VLOOKUP(Egresados!$C$8:$C$705,Maestros!$A$4:$B$21,2,0))","v":"1001"},{"$f":"IF(ISERROR(VLOOKUP(Egresados!$H$8:$H$705,Maestros!$D$4:$E$21,2,0)),\"\",VLOOKUP(Egresados!$H$8:$H$705,Maestros!$D$4:$E$21,2,0))","v":"1122"},{"$f":"IF(OR(UPPER(Egresados!$J$8:$J$705)=\"SI\",UPPER(Egresados!$J$8:$J$705)=\"SÍ\"),1,IF(UPPER(Egresados!$J$8:$J$705)=\"NO\",0,\"\"))","v":0},{"$f":"IF(OR(UPPER(Egresados!$R$8:$R$705)=\"SI\",UPPER(Egresados!$R$8:$R$705)=\"SÍ\"),1,IF(UPPER(Egresados!$R$8:$R$705)=\"NO\",0,\"\"))","v":""},{"$f":"IF(OR(UPPER(Egresados!$S$8:$S$705)=\"SI\",UPPER(Egresados!$S$8:$S$705)=\"SÍ\"),1,IF(UPPER(Egresados!$S$8:$S$705)=\"NO\",0,\"\"))","v":""},{"$f":"IF(ISERROR(VLOOKUP(Egresados!$T$8:$T$705,Maestros!$S$31:$T$530,2,0)),\"\",VLOOKUP(Egresados!$T$8:$T$705,Maestros!$S$31:$T$530,2,0))","v":"42"},{"$f":"IF(ISERROR(VLOOKUP(U410,Maestros!$S$31:$T$530,2,0)),\"\",VLOOKUP(U410,Maestros!$S$31:$T$530,2,0))","v":"42"},{"$f":"IF(ISERROR(VLOOKUP(Egresados!$K$8:$K$705,Maestros!$A$31:$B$130,2,0)),\"\",VLOOKUP(Egresados!$K$8:$K$705,Maestros!$A$31:$B$130,2,0))","v":""},{"$f":"IF(LEN(tablaEgresados[[#This Row],[Nota promedio]])>0,ROUND(tablaEgresados[[#This Row],[Nota promedio]],2),\"\")","v":14.27}]
[403,null,"DNI","46682967","CANDIA","GAMBOA","KATHERINE ADELAYDA","FEMENINO",null,"NO",null,null,null,"2020-1","SEDE CENTRAL","EDUCACION PRIMARIA-EDUCACION BASICA ALTERNATIVA",14.8,null,null,"2010-1","2010-1","20101730@une.edu.pe","kat.candia@gmail.com",3133700,976486001,{"$f":"IF(ISERROR(VLOOKUP(Egresados!$N$8:$N$705,Maestros!$D$31:$E$530,2,0)),\"\",VLOOKUP(Egresados!$N$8:$N$705,Maestros!$D$31:$E$530,2,0))","v":"223"},{"$f":"IF(ISERROR(VLOOKUP(Egresados!$O411,Maestros!$G$31:$J$1030,2,0)),\"\",VLOOKUP(Egresados!$O411,Maestros!$G$31:$J$1030,2,0))","v":"8"},{"$f":"CONCATENATE(Egresados!$Z$8:$Z$705,\"a\",Egresados!$AA$8:$AA$705)","v":"223a8"},{"$f":"IF(ISERROR(VLOOKUP(Egresados!$P411,Maestros!$L$31:$Q$1030,2,0)),\"\",VLOOKUP(Egresados!$P411,Maestros!$L$31:$Q$1030,2,0))","v":"66"},{"$f":"CONCATENATE(Egresados!$Z$8:$Z$705,\"a\",Egresados!$AA$8:$AA$705,\"a\",Egresados!$AC$8:$AC$705)","v":"223a8a66"},{"$f":"IF(ISERROR(VLOOKUP(Egresados!$C$8:$C$705,Maestros!$A$4:$B$21,2,0)),\"\",VLOOKUP(Egresados!$C$8:$C$705,Maestros!$A$4:$B$21,2,0))","v":"1001"},{"$f":"IF(ISERROR(VLOOKUP(Egresados!$H$8:$H$705,Maestros!$D$4:$E$21,2,0)),\"\",VLOOKUP(Egresados!$H$8:$H$705,Maestros!$D$4:$E$21,2,0))","v":"1122"},{"$f":"IF(OR(UPPER(Egresados!$J$8:$J$705)=\"SI\",UPPER(Egresados!$J$8:$J$705)=\"SÍ\"),1,IF(UPPER(Egresados!$J$8:$J$705)=\"NO\",0,\"\"))","v":0},{"$f":"IF(OR(UPPER(Egresados!$R$8:$R$705)=\"SI\",UPPER(Egresados!$R$8:$R$705)=\"SÍ\"),1,IF(UPPER(Egresados!$R$8:$R$705)=\"NO\",0,\"\"))","v":""},{"$f":"IF(OR(UPPER(Egresados!$S$8:$S$705)=\"SI\",UPPER(Egresados!$S$8:$S$705)=\"SÍ\"),1,IF(UPPER(Egresados!$S$8:$S$705)=\"NO\",0,\"\"))","v":""},{"$f":"IF(ISERROR(VLOOKUP(Egresados!$T$8:$T$705,Maestros!$S$31:$T$530,2,0)),\"\",VLOOKUP(Egresados!$T$8:$T$705,Maestros!$S$31:$T$530,2,0))","v":"42"},{"$f":"IF(ISERROR(VLOOKUP(U411,Maestros!$S$31:$T$530,2,0)),\"\",VLOOKUP(U411,Maestros!$S$31:$T$530,2,0))","v":"42"},{"$f":"IF(ISERROR(VLOOKUP(Egresados!$K$8:$K$705,Maestros!$A$31:$B$130,2,0)),\"\",VLOOKUP(Egresados!$K$8:$K$705,Maestros!$A$31:$B$130,2,0))","v":""},{"$f":"IF(LEN(tablaEgresados[[#This Row],[Nota promedio]])>0,ROUND(tablaEgresados[[#This Row],[Nota promedio]],2),\"\")","v":14.8}]
[404,null,"DNI","77657898","CUEVA","CUBA","MARECIELA","FEMENINO",null,"NO",null,null,null,"2020-1","SEDE CENTRAL","EDUCACION PRIMARIA-EDUCACION BASICA ALTERNATIVA",16.41,null,null,"2015-1","2015-1","20150236@une.edu.pe","maricielo_geminis_618@hotmail.com",3133700,976486001,{"$f":"IF(ISERROR(VLOOKUP(Egresados!$N$8:$N$705,Maestros!$D$31:$E$530,2,0)),\"\",VLOOKUP(Egresados!$N$8:$N$705,Maestros!$D$31:$E$530,2,0))","v":"223"},{"$f":"IF(ISERROR(VLOOKUP(Egresados!$O412,Maestros!$G$31:$J$1030,2,0)),\"\",VLOOKUP(Egresados!$O412,Maestros!$G$31:$J$1030,2,0))","v":"8"},{"$f":"CONCATENATE(Egresados!$Z$8:$Z$705,\"a\",Egresados!$AA$8:$AA$705)","v":"223a8"},{"$f":"IF(ISERROR(VLOOKUP(Egresados!$P412,Maestros!$L$31:$Q$1030,2,0)),\"\",VLOOKUP(Egresados!$P412,Maestros!$L$31:$Q$1030,2,0))","v":"66"},{"$f":"CONCATENATE(Egresados!$Z$8:$Z$705,\"a\",Egresados!$AA$8:$AA$705,\"a\",Egresados!$AC$8:$AC$705)","v":"223a8a66"},{"$f":"IF(ISERROR(VLOOKUP(Egresados!$C$8:$C$705,Maestros!$A$4:$B$21,2,0)),\"\",VLOOKUP(Egresados!$C$8:$C$705,Maestros!$A$4:$B$21,2,0))","v":"1001"},{"$f":"IF(ISERROR(VLOOKUP(Egresados!$H$8:$H$705,Maestros!$D$4:$E$21,2,0)),\"\",VLOOKUP(Egresados!$H$8:$H$705,Maestros!$D$4:$E$21,2,0))","v":"1122"},{"$f":"IF(OR(UPPER(Egresados!$J$8:$J$705)=\"SI\",UPPER(Egresados!$J$8:$J$705)=\"SÍ\"),1,IF(UPPER(Egresados!$J$8:$J$705)=\"NO\",0,\"\"))","v":0},{"$f":"IF(OR(UPPER(Egresados!$R$8:$R$705)=\"SI\",UPPER(Egresados!$R$8:$R$705)=\"SÍ\"),1,IF(UPPER(Egresados!$R$8:$R$705)=\"NO\",0,\"\"))","v":""},{"$f":"IF(OR(UPPER(Egresados!$S$8:$S$705)=\"SI\",UPPER(Egresados!$S$8:$S$705)=\"SÍ\"),1,IF(UPPER(Egresados!$S$8:$S$705)=\"NO\",0,\"\"))","v":""},{"$f":"IF(ISERROR(VLOOKUP(Egresados!$T$8:$T$705,Maestros!$S$31:$T$530,2,0)),\"\",VLOOKUP(Egresados!$T$8:$T$705,Maestros!$S$31:$T$530,2,0))","v":"62"},{"$f":"IF(ISERROR(VLOOKUP(U412,Maestros!$S$31:$T$530,2,0)),\"\",VLOOKUP(U412,Maestros!$S$31:$T$530,2,0))","v":"62"},{"$f":"IF(ISERROR(VLOOKUP(Egresados!$K$8:$K$705,Maestros!$A$31:$B$130,2,0)),\"\",VLOOKUP(Egresados!$K$8:$K$705,Maestros!$A$31:$B$130,2,0))","v":""},{"$f":"IF(LEN(tablaEgresados[[#This Row],[Nota promedio]])>0,ROUND(tablaEgresados[[#This Row],[Nota promedio]],2),\"\")","v":16.41}]
[405,null,"DNI","09916936","BONILLA","GALVAN","YANET LUZ","FEMENINO",null,"NO",null,null,null,"2020-1","SEDE CENTRAL","EDUCACION PRIMARIA-EDUCACION BASICA ALTERNATIVA",15.75,null,null,"2015-1","2015-1","20150226@une.edu.pe","anetbg77@gmail.com",3133700,"991174465",{"$f":"IF(ISERROR(VLOOKUP(Egresados!$N$8:$N$705,Maestros!$D$31:$E$530,2,0)),\"\",VLOOKUP(Egresados!$N$8:$N$705,Maestros!$D$31:$E$530,2,0))","v":"223"},{"$f":"IF(ISERROR(VLOOKUP(Egresados!$O413,Maestros!$G$31:$J$1030,2,0)),\"\",VLOOKUP(Egresados!$O413,Maestros!$G$31:$J$1030,2,0))","v":"8"},{"$f":"CONCATENATE(Egresados!$Z$8:$Z$705,\"a\",Egresados!$AA$8:$AA$705)","v":"223a8"},{"$f":"IF(ISERROR(VLOOKUP(Egresados!$P413,Maestros!$L$31:$Q$1030,2,0)),\"\",VLOOKUP(Egresados!$P413,Maestros!$L$31:$Q$1030,2,0))","v":"66"},{"$f":"CONCATENATE(Egresados!$Z$8:$Z$705,\"a\",Egresados!$AA$8:$AA$705,\"a\",Egresados!$AC$8:$AC$705)","v":"223a8a66"},{"$f":"IF(ISERROR(VLOOKUP(Egresados!$C$8:$C$705,Maestros!$A$4:$B$21,2,0)),\"\",VLOOKUP(Egresados!$C$8:$C$705,Maestros!$A$4:$B$21,2,0))","v":"1001"},{"$f":"IF(ISERROR(VLOOKUP(Egresados!$H$8:$H$705,Maestros!$D$4:$E$21,2,0)),\"\",VLOOKUP(Egresados!$H$8:$H$705,Maestros!$D$4:$E$21,2,0))","v":"1122"},{"$f":"IF(OR(UPPER(Egresados!$J$8:$J$705)=\"SI\",UPPER(Egresados!$J$8:$J$705)=\"SÍ\"),1,IF(UPPER(Egresados!$J$8:$J$705)=\"NO\",0,\"\"))","v":0},{"$f":"IF(OR(UPPER(Egresados!$R$8:$R$705)=\"SI\",UPPER(Egresados!$R$8:$R$705)=\"SÍ\"),1,IF(UPPER(Egresados!$R$8:$R$705)=\"NO\",0,\"\"))","v":""},{"$f":"IF(OR(UPPER(Egresados!$S$8:$S$705)=\"SI\",UPPER(Egresados!$S$8:$S$705)=\"SÍ\"),1,IF(UPPER(Egresados!$S$8:$S$705)=\"NO\",0,\"\"))","v":""},{"$f":"IF(ISERROR(VLOOKUP(Egresados!$T$8:$T$705,Maestros!$S$31:$T$530,2,0)),\"\",VLOOKUP(Egresados!$T$8:$T$705,Maestros!$S$31:$T$530,2,0))","v":"62"},{"$f":"IF(ISERROR(VLOOKUP(U413,Maestros!$S$31:$T$530,2,0)),\"\",VLOOKUP(U413,Maestros!$S$31:$T$530,2,0))","v":"62"},{"$f":"IF(ISERROR(VLOOKUP(Egresados!$K$8:$K$705,Maestros!$A$31:$B$130,2,0)),\"\",VLOOKUP(Egresados!$K$8:$K$705,Maestros!$A$31:$B$130,2,0))","v":""},{"$f":"IF(LEN(tablaEgresados[[#This Row],[Nota promedio]])>0,ROUND(tablaEgresados[[#This Row],[Nota promedio]],2),\"\")","v":15.75}]
[406,null,"DNI","71431654","PACHECO","PALOMINO","PRISCILA KATHERINE","FEMENINO",null,"NO",null,null,null,"2020-1","SEDE CENTRAL","EDUCACION PRIMARIA-EDUCACION BASICA ALTERNATIVA",15.37,null,null,"2014-1","2014-1","20141285@une.edu.pe","kathy.428@hotmail.com",3133700,"936142856",{"$f":"IF(ISERROR(VLOOKUP(Egresados!$N$8:$N$705,Maestros!$D$31:$E$530,2,0)),\"\",VLOOKUP(Egresados!$N$8:$N$705,Maestros!$D$31:$E$530,2,0))","v":"223"},{"$f":"IF(ISERROR(VLOOKUP(Egresados!$O414,Maestros!$G$31:$J$1030,2,0)),\"\",VLOOKUP(Egresados!$O414,Maestros!$G$31:$J$1030,2,0))","v":"8"},{"$f":"CONCATENATE(Egresados!$Z$8:$Z$705,\"a\",Egresados!$AA$8:$AA$705)","v":"223a8"},{"$f":"IF(ISERROR(VLOOKUP(Egresados!$P414,Maestros!$L$31:$Q$1030,2,0)),\"\",VLOOKUP(Egresados!$P414,Maestros!$L$31:$Q$1030,2,0))","v":"66"},{"$f":"CONCATENATE(Egresados!$Z$8:$Z$705,\"a\",Egresados!$AA$8:$AA$705,\"a\",Egresados!$AC$8:$AC$705)","v":"223a8a66"},{"$f":"IF(ISERROR(VLOOKUP(Egresados!$C$8:$C$705,Maestros!$A$4:$B$21,2,0)),\"\",VLOOKUP(Egresados!$C$8:$C$705,Maestros!$A$4:$B$21,2,0))","v":"1001"},{"$f":"IF(ISERROR(VLOOKUP(Egresados!$H$8:$H$705,Maestros!$D$4:$E$21,2,0)),\"\",VLOOKUP(Egresados!$H$8:$H$705,Maestros!$D$4:$E$21,2,0))","v":"1122"},{"$f":"IF(OR(UPPER(Egresados!$J$8:$J$705)=\"SI\",UPPER(Egresados!$J$8:$J$705)=\"SÍ\"),1,IF(UPPER(Egresados!$J$8:$J$705)=\"NO\",0,\"\"))","v":0},{"$f":"IF(OR(UPPER(Egresados!$R$8:$R$705)=\"SI\",UPPER(Egresados!$R$8:$R$705)=\"SÍ\"),1,IF(UPPER(Egresados!$R$8:$R$705)=\"NO\",0,\"\"))","v":""},{"$f":"IF(OR(UPPER(Egresados!$S$8:$S$705)=\"SI\",UPPER(Egresados!$S$8:$S$705)=\"SÍ\"),1,IF(UPPER(Egresados!$S$8:$S$705)=\"NO\",0,\"\"))","v":""},{"$f":"IF(ISERROR(VLOOKUP(Egresados!$T$8:$T$705,Maestros!$S$31:$T$530,2,0)),\"\",VLOOKUP(Egresados!$T$8:$T$705,Maestros!$S$31:$T$530,2,0))","v":"58"},{"$f":"IF(ISERROR(VLOOKUP(U414,Maestros!$S$31:$T$530,2,0)),\"\",VLOOKUP(U414,Maestros!$S$31:$T$530,2,0))","v":"58"},{"$f":"IF(ISERROR(VLOOKUP(Egresados!$K$8:$K$705,Maestros!$A$31:$B$130,2,0)),\"\",VLOOKUP(Egresados!$K$8:$K$705,Maestros!$A$31:$B$130,2,0))","v":""},{"$f":"IF(LEN(tablaEgresados[[#This Row],[Nota promedio]])>0,ROUND(tablaEgresados[[#This Row],[Nota promedio]],2),\"\")","v":15.37}]
[407,null,"DNI","46957956","RAMOS","QUISPE","AMELIA VERONICA","FEMENINO",null,"NO",null,null,null,"2020-1","SEDE CENTRAL","EDUCACION PRIMARIA-EDUCACION BASICA ALTERNATIVA",15.69,null,null,"2014-1","2014-1","20140850@une.edu.pe","kamelia_92@hotmail.com",3133700,"947740027",{"$f":"IF(ISERROR(VLOOKUP(Egresados!$N$8:$N$705,Maestros!$D$31:$E$530,2,0)),\"\",VLOOKUP(Egresados!$N$8:$N$705,Maestros!$D$31:$E$530,2,0))","v":"223"},{"$f":"IF(ISERROR(VLOOKUP(Egresados!$O415,Maestros!$G$31:$J$1030,2,0)),\"\",VLOOKUP(Egresados!$O415,Maestros!$G$31:$J$1030,2,0))","v":"8"},{"$f":"CONCATENATE(Egresados!$Z$8:$Z$705,\"a\",Egresados!$AA$8:$AA$705)","v":"223a8"},{"$f":"IF(ISERROR(VLOOKUP(Egresados!$P415,Maestros!$L$31:$Q$1030,2,0)),\"\",VLOOKUP(Egresados!$P415,Maestros!$L$31:$Q$1030,2,0))","v":"66"},{"$f":"CONCATENATE(Egresados!$Z$8:$Z$705,\"a\",Egresados!$AA$8:$AA$705,\"a\",Egresados!$AC$8:$AC$705)","v":"223a8a66"},{"$f":"IF(ISERROR(VLOOKUP(Egresados!$C$8:$C$705,Maestros!$A$4:$B$21,2,0)),\"\",VLOOKUP(Egresados!$C$8:$C$705,Maestros!$A$4:$B$21,2,0))","v":"1001"},{"$f":"IF(ISERROR(VLOOKUP(Egresados!$H$8:$H$705,Maestros!$D$4:$E$21,2,0)),\"\",VLOOKUP(Egresados!$H$8:$H$705,Maestros!$D$4:$E$21,2,0))","v":"1122"},{"$f":"IF(OR(UPPER(Egresados!$J$8:$J$705)=\"SI\",UPPER(Egresados!$J$8:$J$705)=\"SÍ\"),1,IF(UPPER(Egresados!$J$8:$J$705)=\"NO\",0,\"\"))","v":0},{"$f":"IF(OR(UPPER(Egresados!$R$8:$R$705)=\"SI\",UPPER(Egresados!$R$8:$R$705)=\"SÍ\"),1,IF(UPPER(Egresados!$R$8:$R$705)=\"NO\",0,\"\"))","v":""},{"$f":"IF(OR(UPPER(Egresados!$S$8:$S$705)=\"SI\",UPPER(Egresados!$S$8:$S$705)=\"SÍ\"),1,IF(UPPER(Egresados!$S$8:$S$705)=\"NO\",0,\"\"))","v":""},{"$f":"IF(ISERROR(VLOOKUP(Egresados!$T$8:$T$705,Maestros!$S$31:$T$530,2,0)),\"\",VLOOKUP(Egresados!$T$8:$T$705,Maestros!$S$31:$T$530,2,0))","v":"58"},{"$f":"IF(ISERROR(VLOOKUP(U415,Maestros!$S$31:$T$530,2,0)),\"\",VLOOKUP(U415,Maestros!$S$31:$T$530,2,0))","v":"58"},{"$f":"IF(ISERROR(VLOOKUP(Egresados!$K$8:$K$705,Maestros!$A$31:$B$130,2,0)),\"\",VLOOKUP(Egresados!$K$8:$K$705,Maestros!$A$31:$B$130,2,0))","v":""},{"$f":"IF(LEN(tablaEgresados[[#This Row],[Nota promedio]])>0,ROUND(tablaEgresados[[#This Row],[Nota promedio]],2),\"\")","v":15.69}]
[408,null,"DNI","74584616","QUISPE","HUAMAN","ERIKA","FEMENINO",null,"NO",null,null,null,"2020-1","SEDE CENTRAL","EDUCACION PRIMARIA-EDUCACION BASICA ALTERNATIVA",16.43,null,null,"2015-1","2015-1","20150276@une.edu.pe","erika98_estrella@hotmail.com",3133700,"921875708",{"$f":"IF(ISERROR(VLOOKUP(Egresados!$N$8:$N$705,Maestros!$D$31:$E$530,2,0)),\"\",VLOOKUP(Egresados!$N$8:$N$705,Maestros!$D$31:$E$530,2,0))","v":"223"},{"$f":"IF(ISERROR(VLOOKUP(Egresados!$O416,Maestros!$G$31:$J$1030,2,0)),\"\",VLOOKUP(Egresados!$O416,Maestros!$G$31:$J$1030,2,0))","v":"8"},{"$f":"CONCATENATE(Egresados!$Z$8:$Z$705,\"a\",Egresados!$AA$8:$AA$705)","v":"223a8"},{"$f":"IF(ISERROR(VLOOKUP(Egresados!$P416,Maestros!$L$31:$Q$1030,2,0)),\"\",VLOOKUP(Egresados!$P416,Maestros!$L$31:$Q$1030,2,0))","v":"66"},{"$f":"CONCATENATE(Egresados!$Z$8:$Z$705,\"a\",Egresados!$AA$8:$AA$705,\"a\",Egresados!$AC$8:$AC$705)","v":"223a8a66"},{"$f":"IF(ISERROR(VLOOKUP(Egresados!$C$8:$C$705,Maestros!$A$4:$B$21,2,0)),\"\",VLOOKUP(Egresados!$C$8:$C$705,Maestros!$A$4:$B$21,2,0))","v":"1001"},{"$f":"IF(ISERROR(VLOOKUP(Egresados!$H$8:$H$705,Maestros!$D$4:$E$21,2,0)),\"\",VLOOKUP(Egresados!$H$8:$H$705,Maestros!$D$4:$E$21,2,0))","v":"1122"},{"$f":"IF(OR(UPPER(Egresados!$J$8:$J$705)=\"SI\",UPPER(Egresados!$J$8:$J$705)=\"SÍ\"),1,IF(UPPER(Egresados!$J$8:$J$705)=\"NO\",0,\"\"))","v":0},{"$f":"IF(OR(UPPER(Egresados!$R$8:$R$705)=\"SI\",UPPER(Egresados!$R$8:$R$705)=\"SÍ\"),1,IF(UPPER(Egresados!$R$8:$R$705)=\"NO\",0,\"\"))","v":""},{"$f":"IF(OR(UPPER(Egresados!$S$8:$S$705)=\"SI\",UPPER(Egresados!$S$8:$S$705)=\"SÍ\"),1,IF(UPPER(Egresados!$S$8:$S$705)=\"NO\",0,\"\"))","v":""},{"$f":"IF(ISERROR(VLOOKUP(Egresados!$T$8:$T$705,Maestros!$S$31:$T$530,2,0)),\"\",VLOOKUP(Egresados!$T$8:$T$705,Maestros!$S$31:$T$530,2,0))","v":"62"},{"$f":"IF(ISERROR(VLOOKUP(U416,Maestros!$S$31:$T$530,2,0)),\"\",VLOOKUP(U416,Maestros!$S$31:$T$530,2,0))","v":"62"},{"$f":"IF(ISERROR(VLOOKUP(Egresados!$K$8:$K$705,Maestros!$A$31:$B$130,2,0)),\"\",VLOOKUP(Egresados!$K$8:$K$705,Maestros!$A$31:$B$130,2,0))","v":""},{"$f":"IF(LEN(tablaEgresados[[#This Row],[Nota promedio]])>0,ROUND(tablaEgresados[[#This Row],[Nota promedio]],2),\"\")","v":16.43}]
[409,null,"DNI","71268151","VANEGAS","COLCA","LUZ DE MARIA","FEMENINO",null,"NO",null,null,null,"2020-1","SEDE CENTRAL","EDUCACION PRIMARIA-EDUCACION BASICA ALTERNATIVA",15.85,null,null,"2015-1","2015-1","20150289@une.edu.pe","mika.vanegas15@gmail.com",3133700,976486001,{"$f":"IF(ISERROR(VLOOKUP(Egresados!$N$8:$N$705,Maestros!$D$31:$E$530,2,0)),\"\",VLOOKUP(Egresados!$N$8:$N$705,Maestros!$D$31:$E$530,2,0))","v":"223"},{"$f":"IF(ISERROR(VLOOKUP(Egresados!$O417,Maestros!$G$31:$J$1030,2,0)),\"\",VLOOKUP(Egresados!$O417,Maestros!$G$31:$J$1030,2,0))","v":"8"},{"$f":"CONCATENATE(Egresados!$Z$8:$Z$705,\"a\",Egresados!$AA$8:$AA$705)","v":"223a8"},{"$f":"IF(ISERROR(VLOOKUP(Egresados!$P417,Maestros!$L$31:$Q$1030,2,0)),\"\",VLOOKUP(Egresados!$P417,Maestros!$L$31:$Q$1030,2,0))","v":"66"},{"$f":"CONCATENATE(Egresados!$Z$8:$Z$705,\"a\",Egresados!$AA$8:$AA$705,\"a\",Egresados!$AC$8:$AC$705)","v":"223a8a66"},{"$f":"IF(ISERROR(VLOOKUP(Egresados!$C$8:$C$705,Maestros!$A$4:$B$21,2,0)),\"\",VLOOKUP(Egresados!$C$8:$C$705,Maestros!$A$4:$B$21,2,0))","v":"1001"},{"$f":"IF(ISERROR(VLOOKUP(Egresados!$H$8:$H$705,Maestros!$D$4:$E$21,2,0)),\"\",VLOOKUP(Egresados!$H$8:$H$705,Maestros!$D$4:$E$21,2,0))","v":"1122"},{"$f":"IF(OR(UPPER(Egresados!$J$8:$J$705)=\"SI\",UPPER(Egresados!$J$8:$J$705)=\"SÍ\"),1,IF(UPPER(Egresados!$J$8:$J$705)=\"NO\",0,\"\"))","v":0},{"$f":"IF(OR(UPPER(Egresados!$R$8:$R$705)=\"SI\",UPPER(Egresados!$R$8:$R$705)=\"SÍ\"),1,IF(UPPER(Egresados!$R$8:$R$705)=\"NO\",0,\"\"))","v":""},{"$f":"IF(OR(UPPER(Egresados!$S$8:$S$705)=\"SI\",UPPER(Egresados!$S$8:$S$705)=\"SÍ\"),1,IF(UPPER(Egresados!$S$8:$S$705)=\"NO\",0,\"\"))","v":""},{"$f":"IF(ISERROR(VLOOKUP(Egresados!$T$8:$T$705,Maestros!$S$31:$T$530,2,0)),\"\",VLOOKUP(Egresados!$T$8:$T$705,Maestros!$S$31:$T$530,2,0))","v":"62"},{"$f":"IF(ISERROR(VLOOKUP(U417,Maestros!$S$31:$T$530,2,0)),\"\",VLOOKUP(U417,Maestros!$S$31:$T$530,2,0))","v":"62"},{"$f":"IF(ISERROR(VLOOKUP(Egresados!$K$8:$K$705,Maestros!$A$31:$B$130,2,0)),\"\",VLOOKUP(Egresados!$K$8:$K$705,Maestros!$A$31:$B$130,2,0))","v":""},{"$f":"IF(LEN(tablaEgresados[[#This Row],[Nota promedio]])>0,ROUND(tablaEgresados[[#This Row],[Nota promedio]],2),\"\")","v":15.85}]
[410,null,"DNI","10448279","SERNA","ROMAN","NELLA LIZ","FEMENINO",null,"NO",null,null,null,"2020-1","SEDE CENTRAL","EDUCACION PRIMARIA-EDUCACION BASICA ALTERNATIVA",14.8,null,null,"2014-1","2014-1","20141655@une.edu.pe","nellaliz_1502@hotmail.com",3133700,"995277709",{"$f":"IF(ISERROR(VLOOKUP(Egresados!$N$8:$N$705,Maestros!$D$31:$E$530,2,0)),\"\",VLOOKUP(Egresados!$N$8:$N$705,Maestros!$D$31:$E$530,2,0))","v":"223"},{"$f":"IF(ISERROR(VLOOKUP(Egresados!$O418,Maestros!$G$31:$J$1030,2,0)),\"\",VLOOKUP(Egresados!$O418,Maestros!$G$31:$J$1030,2,0))","v":"8"},{"$f":"CONCATENATE(Egresados!$Z$8:$Z$705,\"a\",Egresados!$AA$8:$AA$705)","v":"223a8"},{"$f":"IF(ISERROR(VLOOKUP(Egresados!$P418,Maestros!$L$31:$Q$1030,2,0)),\"\",VLOOKUP(Egresados!$P418,Maestros!$L$31:$Q$1030,2,0))","v":"66"},{"$f":"CONCATENATE(Egresados!$Z$8:$Z$705,\"a\",Egresados!$AA$8:$AA$705,\"a\",Egresados!$AC$8:$AC$705)","v":"223a8a66"},{"$f":"IF(ISERROR(VLOOKUP(Egresados!$C$8:$C$705,Maestros!$A$4:$B$21,2,0)),\"\",VLOOKUP(Egresados!$C$8:$C$705,Maestros!$A$4:$B$21,2,0))","v":"1001"},{"$f":"IF(ISERROR(VLOOKUP(Egresados!$H$8:$H$705,Maestros!$D$4:$E$21,2,0)),\"\",VLOOKUP(Egresados!$H$8:$H$705,Maestros!$D$4:$E$21,2,0))","v":"1122"},{"$f":"IF(OR(UPPER(Egresados!$J$8:$J$705)=\"SI\",UPPER(Egresados!$J$8:$J$705)=\"SÍ\"),1,IF(UPPER(Egresados!$J$8:$J$705)=\"NO\",0,\"\"))","v":0},{"$f":"IF(OR(UPPER(Egresados!$R$8:$R$705)=\"SI\",UPPER(Egresados!$R$8:$R$705)=\"SÍ\"),1,IF(UPPER(Egresados!$R$8:$R$705)=\"NO\",0,\"\"))","v":""},{"$f":"IF(OR(UPPER(Egresados!$S$8:$S$705)=\"SI\",UPPER(Egresados!$S$8:$S$705)=\"SÍ\"),1,IF(UPPER(Egresados!$S$8:$S$705)=\"NO\",0,\"\"))","v":""},{"$f":"IF(ISERROR(VLOOKUP(Egresados!$T$8:$T$705,Maestros!$S$31:$T$530,2,0)),\"\",VLOOKUP(Egresados!$T$8:$T$705,Maestros!$S$31:$T$530,2,0))","v":"58"},{"$f":"IF(ISERROR(VLOOKUP(U418,Maestros!$S$31:$T$530,2,0)),\"\",VLOOKUP(U418,Maestros!$S$31:$T$530,2,0))","v":"58"},{"$f":"IF(ISERROR(VLOOKUP(Egresados!$K$8:$K$705,Maestros!$A$31:$B$130,2,0)),\"\",VLOOKUP(Egresados!$K$8:$K$705,Maestros!$A$31:$B$130,2,0))","v":""},{"$f":"IF(LEN(tablaEgresados[[#This Row],[Nota promedio]])>0,ROUND(tablaEgresados[[#This Row],[Nota promedio]],2),\"\")","v":14.8}]
[411,null,"DNI","72872446","RUIZ","GOMEZ","CANDY","FEMENINO",null,"NO",null,null,null,"2020-1","SEDE CENTRAL","EDUCACION PRIMARIA-EDUCACION BASICA ALTERNATIVA",16.809999999999999,null,null,"2015-1","2015-1","20150281@une.edu.pe","ruiz_jvg@hotmail.com",3133700,"994911339",{"$f":"IF(ISERROR(VLOOKUP(Egresados!$N$8:$N$705,Maestros!$D$31:$E$530,2,0)),\"\",VLOOKUP(Egresados!$N$8:$N$705,Maestros!$D$31:$E$530,2,0))","v":"223"},{"$f":"IF(ISERROR(VLOOKUP(Egresados!$O419,Maestros!$G$31:$J$1030,2,0)),\"\",VLOOKUP(Egresados!$O419,Maestros!$G$31:$J$1030,2,0))","v":"8"},{"$f":"CONCATENATE(Egresados!$Z$8:$Z$705,\"a\",Egresados!$AA$8:$AA$705)","v":"223a8"},{"$f":"IF(ISERROR(VLOOKUP(Egresados!$P419,Maestros!$L$31:$Q$1030,2,0)),\"\",VLOOKUP(Egresados!$P419,Maestros!$L$31:$Q$1030,2,0))","v":"66"},{"$f":"CONCATENATE(Egresados!$Z$8:$Z$705,\"a\",Egresados!$AA$8:$AA$705,\"a\",Egresados!$AC$8:$AC$705)","v":"223a8a66"},{"$f":"IF(ISERROR(VLOOKUP(Egresados!$C$8:$C$705,Maestros!$A$4:$B$21,2,0)),\"\",VLOOKUP(Egresados!$C$8:$C$705,Maestros!$A$4:$B$21,2,0))","v":"1001"},{"$f":"IF(ISERROR(VLOOKUP(Egresados!$H$8:$H$705,Maestros!$D$4:$E$21,2,0)),\"\",VLOOKUP(Egresados!$H$8:$H$705,Maestros!$D$4:$E$21,2,0))","v":"1122"},{"$f":"IF(OR(UPPER(Egresados!$J$8:$J$705)=\"SI\",UPPER(Egresados!$J$8:$J$705)=\"SÍ\"),1,IF(UPPER(Egresados!$J$8:$J$705)=\"NO\",0,\"\"))","v":0},{"$f":"IF(OR(UPPER(Egresados!$R$8:$R$705)=\"SI\",UPPER(Egresados!$R$8:$R$705)=\"SÍ\"),1,IF(UPPER(Egresados!$R$8:$R$705)=\"NO\",0,\"\"))","v":""},{"$f":"IF(OR(UPPER(Egresados!$S$8:$S$705)=\"SI\",UPPER(Egresados!$S$8:$S$705)=\"SÍ\"),1,IF(UPPER(Egresados!$S$8:$S$705)=\"NO\",0,\"\"))","v":""},{"$f":"IF(ISERROR(VLOOKUP(Egresados!$T$8:$T$705,Maestros!$S$31:$T$530,2,0)),\"\",VLOOKUP(Egresados!$T$8:$T$705,Maestros!$S$31:$T$530,2,0))","v":"62"},{"$f":"IF(ISERROR(VLOOKUP(U419,Maestros!$S$31:$T$530,2,0)),\"\",VLOOKUP(U419,Maestros!$S$31:$T$530,2,0))","v":"62"},{"$f":"IF(ISERROR(VLOOKUP(Egresados!$K$8:$K$705,Maestros!$A$31:$B$130,2,0)),\"\",VLOOKUP(Egresados!$K$8:$K$705,Maestros!$A$31:$B$130,2,0))","v":""},{"$f":"IF(LEN(tablaEgresados[[#This Row],[Nota promedio]])>0,ROUND(tablaEgresados[[#This Row],[Nota promedio]],2),\"\")","v":16.809999999999999}]
[412,null,"DNI","75138951","ARIMANA","AYALA","ROSARIO AZUCENA","FEMENINO",null,"NO",null,null,null,"2020-1","SEDE CENTRAL","EDUCACION PRIMARIA-EDUCACION BASICA ALTERNATIVA",15.83,null,null,"2015-1","2015-1","20150222@une.edu.pe","rosario41257@gmail.com",3133700,"920742283",{"$f":"IF(ISERROR(VLOOKUP(Egresados!$N$8:$N$705,Maestros!$D$31:$E$530,2,0)),\"\",VLOOKUP(Egresados!$N$8:$N$705,Maestros!$D$31:$E$530,2,0))","v":"223"},{"$f":"IF(ISERROR(VLOOKUP(Egresados!$O420,Maestros!$G$31:$J$1030,2,0)),\"\",VLOOKUP(Egresados!$O420,Maestros!$G$31:$J$1030,2,0))","v":"8"},{"$f":"CONCATENATE(Egresados!$Z$8:$Z$705,\"a\",Egresados!$AA$8:$AA$705)","v":"223a8"},{"$f":"IF(ISERROR(VLOOKUP(Egresados!$P420,Maestros!$L$31:$Q$1030,2,0)),\"\",VLOOKUP(Egresados!$P420,Maestros!$L$31:$Q$1030,2,0))","v":"66"},{"$f":"CONCATENATE(Egresados!$Z$8:$Z$705,\"a\",Egresados!$AA$8:$AA$705,\"a\",Egresados!$AC$8:$AC$705)","v":"223a8a66"},{"$f":"IF(ISERROR(VLOOKUP(Egresados!$C$8:$C$705,Maestros!$A$4:$B$21,2,0)),\"\",VLOOKUP(Egresados!$C$8:$C$705,Maestros!$A$4:$B$21,2,0))","v":"1001"},{"$f":"IF(ISERROR(VLOOKUP(Egresados!$H$8:$H$705,Maestros!$D$4:$E$21,2,0)),\"\",VLOOKUP(Egresados!$H$8:$H$705,Maestros!$D$4:$E$21,2,0))","v":"1122"},{"$f":"IF(OR(UPPER(Egresados!$J$8:$J$705)=\"SI\",UPPER(Egresados!$J$8:$J$705)=\"SÍ\"),1,IF(UPPER(Egresados!$J$8:$J$705)=\"NO\",0,\"\"))","v":0},{"$f":"IF(OR(UPPER(Egresados!$R$8:$R$705)=\"SI\",UPPER(Egresados!$R$8:$R$705)=\"SÍ\"),1,IF(UPPER(Egresados!$R$8:$R$705)=\"NO\",0,\"\"))","v":""},{"$f":"IF(OR(UPPER(Egresados!$S$8:$S$705)=\"SI\",UPPER(Egresados!$S$8:$S$705)=\"SÍ\"),1,IF(UPPER(Egresados!$S$8:$S$705)=\"NO\",0,\"\"))","v":""},{"$f":"IF(ISERROR(VLOOKUP(Egresados!$T$8:$T$705,Maestros!$S$31:$T$530,2,0)),\"\",VLOOKUP(Egresados!$T$8:$T$705,Maestros!$S$31:$T$530,2,0))","v":"62"},{"$f":"IF(ISERROR(VLOOKUP(U420,Maestros!$S$31:$T$530,2,0)),\"\",VLOOKUP(U420,Maestros!$S$31:$T$530,2,0))","v":"62"},{"$f":"IF(ISERROR(VLOOKUP(Egresados!$K$8:$K$705,Maestros!$A$31:$B$130,2,0)),\"\",VLOOKUP(Egresados!$K$8:$K$705,Maestros!$A$31:$B$130,2,0))","v":""},{"$f":"IF(LEN(tablaEgresados[[#This Row],[Nota promedio]])>0,ROUND(tablaEgresados[[#This Row],[Nota promedio]],2),\"\")","v":15.83}]
[413,null,"DNI","46813479","COCHACHI","BARZOLA","MAGGALY SUSY","FEMENINO",null,"NO",null,null,null,"2020-1","SEDE CENTRAL","EDUCACION PRIMARIA-EDUCACION BASICA ALTERNATIVA",15.53,null,null,"2015-1","2015-1","20150231@une.edu.pe","Jaymaly@outlook.com",3133700,"983871203",{"$f":"IF(ISERROR(VLOOKUP(Egresados!$N$8:$N$705,Maestros!$D$31:$E$530,2,0)),\"\",VLOOKUP(Egresados!$N$8:$N$705,Maestros!$D$31:$E$530,2,0))","v":"223"},{"$f":"IF(ISERROR(VLOOKUP(Egresados!$O421,Maestros!$G$31:$J$1030,2,0)),\"\",VLOOKUP(Egresados!$O421,Maestros!$G$31:$J$1030,2,0))","v":"8"},{"$f":"CONCATENATE(Egresados!$Z$8:$Z$705,\"a\",Egresados!$AA$8:$AA$705)","v":"223a8"},{"$f":"IF(ISERROR(VLOOKUP(Egresados!$P421,Maestros!$L$31:$Q$1030,2,0)),\"\",VLOOKUP(Egresados!$P421,Maestros!$L$31:$Q$1030,2,0))","v":"66"},{"$f":"CONCATENATE(Egresados!$Z$8:$Z$705,\"a\",Egresados!$AA$8:$AA$705,\"a\",Egresados!$AC$8:$AC$705)","v":"223a8a66"},{"$f":"IF(ISERROR(VLOOKUP(Egresados!$C$8:$C$705,Maestros!$A$4:$B$21,2,0)),\"\",VLOOKUP(Egresados!$C$8:$C$705,Maestros!$A$4:$B$21,2,0))","v":"1001"},{"$f":"IF(ISERROR(VLOOKUP(Egresados!$H$8:$H$705,Maestros!$D$4:$E$21,2,0)),\"\",VLOOKUP(Egresados!$H$8:$H$705,Maestros!$D$4:$E$21,2,0))","v":"1122"},{"$f":"IF(OR(UPPER(Egresados!$J$8:$J$705)=\"SI\",UPPER(Egresados!$J$8:$J$705)=\"SÍ\"),1,IF(UPPER(Egresados!$J$8:$J$705)=\"NO\",0,\"\"))","v":0},{"$f":"IF(OR(UPPER(Egresados!$R$8:$R$705)=\"SI\",UPPER(Egresados!$R$8:$R$705)=\"SÍ\"),1,IF(UPPER(Egresados!$R$8:$R$705)=\"NO\",0,\"\"))","v":""},{"$f":"IF(OR(UPPER(Egresados!$S$8:$S$705)=\"SI\",UPPER(Egresados!$S$8:$S$705)=\"SÍ\"),1,IF(UPPER(Egresados!$S$8:$S$705)=\"NO\",0,\"\"))","v":""},{"$f":"IF(ISERROR(VLOOKUP(Egresados!$T$8:$T$705,Maestros!$S$31:$T$530,2,0)),\"\",VLOOKUP(Egresados!$T$8:$T$705,Maestros!$S$31:$T$530,2,0))","v":"62"},{"$f":"IF(ISERROR(VLOOKUP(U421,Maestros!$S$31:$T$530,2,0)),\"\",VLOOKUP(U421,Maestros!$S$31:$T$530,2,0))","v":"62"},{"$f":"IF(ISERROR(VLOOKUP(Egresados!$K$8:$K$705,Maestros!$A$31:$B$130,2,0)),\"\",VLOOKUP(Egresados!$K$8:$K$705,Maestros!$A$31:$B$130,2,0))","v":""},{"$f":"IF(LEN(tablaEgresados[[#This Row],[Nota promedio]])>0,ROUND(tablaEgresados[[#This Row],[Nota promedio]],2),\"\")","v":15.53}]
[414,null,"DNI","73177123","GONZALES","TAMAYO","KEYLA NICOLE","FEMENINO",null,"NO",null,null,null,"2020-1","SEDE CENTRAL","EDUCACION PRIMARIA-EDUCACION BASICA ALTERNATIVA",17.02,null,null,"2015-1","2015-1","20150249@une.edu.pe","keyni_2009@hotmail.com",3133700,"991082965",{"$f":"IF(ISERROR(VLOOKUP(Egresados!$N$8:$N$705,Maestros!$D$31:$E$530,2,0)),\"\",VLOOKUP(Egresados!$N$8:$N$705,Maestros!$D$31:$E$530,2,0))","v":"223"},{"$f":"IF(ISERROR(VLOOKUP(Egresados!$O422,Maestros!$G$31:$J$1030,2,0)),\"\",VLOOKUP(Egresados!$O422,Maestros!$G$31:$J$1030,2,0))","v":"8"},{"$f":"CONCATENATE(Egresados!$Z$8:$Z$705,\"a\",Egresados!$AA$8:$AA$705)","v":"223a8"},{"$f":"IF(ISERROR(VLOOKUP(Egresados!$P422,Maestros!$L$31:$Q$1030,2,0)),\"\",VLOOKUP(Egresados!$P422,Maestros!$L$31:$Q$1030,2,0))","v":"66"},{"$f":"CONCATENATE(Egresados!$Z$8:$Z$705,\"a\",Egresados!$AA$8:$AA$705,\"a\",Egresados!$AC$8:$AC$705)","v":"223a8a66"},{"$f":"IF(ISERROR(VLOOKUP(Egresados!$C$8:$C$705,Maestros!$A$4:$B$21,2,0)),\"\",VLOOKUP(Egresados!$C$8:$C$705,Maestros!$A$4:$B$21,2,0))","v":"1001"},{"$f":"IF(ISERROR(VLOOKUP(Egresados!$H$8:$H$705,Maestros!$D$4:$E$21,2,0)),\"\",VLOOKUP(Egresados!$H$8:$H$705,Maestros!$D$4:$E$21,2,0))","v":"1122"},{"$f":"IF(OR(UPPER(Egresados!$J$8:$J$705)=\"SI\",UPPER(Egresados!$J$8:$J$705)=\"SÍ\"),1,IF(UPPER(Egresados!$J$8:$J$705)=\"NO\",0,\"\"))","v":0},{"$f":"IF(OR(UPPER(Egresados!$R$8:$R$705)=\"SI\",UPPER(Egresados!$R$8:$R$705)=\"SÍ\"),1,IF(UPPER(Egresados!$R$8:$R$705)=\"NO\",0,\"\"))","v":""},{"$f":"IF(OR(UPPER(Egresados!$S$8:$S$705)=\"SI\",UPPER(Egresados!$S$8:$S$705)=\"SÍ\"),1,IF(UPPER(Egresados!$S$8:$S$705)=\"NO\",0,\"\"))","v":""},{"$f":"IF(ISERROR(VLOOKUP(Egresados!$T$8:$T$705,Maestros!$S$31:$T$530,2,0)),\"\",VLOOKUP(Egresados!$T$8:$T$705,Maestros!$S$31:$T$530,2,0))","v":"62"},{"$f":"IF(ISERROR(VLOOKUP(U422,Maestros!$S$31:$T$530,2,0)),\"\",VLOOKUP(U422,Maestros!$S$31:$T$530,2,0))","v":"62"},{"$f":"IF(ISERROR(VLOOKUP(Egresados!$K$8:$K$705,Maestros!$A$31:$B$130,2,0)),\"\",VLOOKUP(Egresados!$K$8:$K$705,Maestros!$A$31:$B$130,2,0))","v":""},{"$f":"IF(LEN(tablaEgresados[[#This Row],[Nota promedio]])>0,ROUND(tablaEgresados[[#This Row],[Nota promedio]],2),\"\")","v":17.02}]
[415,null,"DNI","70849399","LIMAS","BAYONA","DORA ANGELICA","FEMENINO",null,"NO",null,null,null,"2020-1","SEDE CENTRAL","EDUCACION PRIMARIA-EDUCACION BASICA ALTERNATIVA",15.5,null,null,"2015-1","2015-1","20150258@une.edu.pe","doritta12@hotmail.com",3133700,"990600978",{"$f":"IF(ISERROR(VLOOKUP(Egresados!$N$8:$N$705,Maestros!$D$31:$E$530,2,0)),\"\",VLOOKUP(Egresados!$N$8:$N$705,Maestros!$D$31:$E$530,2,0))","v":"223"},{"$f":"IF(ISERROR(VLOOKUP(Egresados!$O423,Maestros!$G$31:$J$1030,2,0)),\"\",VLOOKUP(Egresados!$O423,Maestros!$G$31:$J$1030,2,0))","v":"8"},{"$f":"CONCATENATE(Egresados!$Z$8:$Z$705,\"a\",Egresados!$AA$8:$AA$705)","v":"223a8"},{"$f":"IF(ISERROR(VLOOKUP(Egresados!$P423,Maestros!$L$31:$Q$1030,2,0)),\"\",VLOOKUP(Egresados!$P423,Maestros!$L$31:$Q$1030,2,0))","v":"66"},{"$f":"CONCATENATE(Egresados!$Z$8:$Z$705,\"a\",Egresados!$AA$8:$AA$705,\"a\",Egresados!$AC$8:$AC$705)","v":"223a8a66"},{"$f":"IF(ISERROR(VLOOKUP(Egresados!$C$8:$C$705,Maestros!$A$4:$B$21,2,0)),\"\",VLOOKUP(Egresados!$C$8:$C$705,Maestros!$A$4:$B$21,2,0))","v":"1001"},{"$f":"IF(ISERROR(VLOOKUP(Egresados!$H$8:$H$705,Maestros!$D$4:$E$21,2,0)),\"\",VLOOKUP(Egresados!$H$8:$H$705,Maestros!$D$4:$E$21,2,0))","v":"1122"},{"$f":"IF(OR(UPPER(Egresados!$J$8:$J$705)=\"SI\",UPPER(Egresados!$J$8:$J$705)=\"SÍ\"),1,IF(UPPER(Egresados!$J$8:$J$705)=\"NO\",0,\"\"))","v":0},{"$f":"IF(OR(UPPER(Egresados!$R$8:$R$705)=\"SI\",UPPER(Egresados!$R$8:$R$705)=\"SÍ\"),1,IF(UPPER(Egresados!$R$8:$R$705)=\"NO\",0,\"\"))","v":""},{"$f":"IF(OR(UPPER(Egresados!$S$8:$S$705)=\"SI\",UPPER(Egresados!$S$8:$S$705)=\"SÍ\"),1,IF(UPPER(Egresados!$S$8:$S$705)=\"NO\",0,\"\"))","v":""},{"$f":"IF(ISERROR(VLOOKUP(Egresados!$T$8:$T$705,Maestros!$S$31:$T$530,2,0)),\"\",VLOOKUP(Egresados!$T$8:$T$705,Maestros!$S$31:$T$530,2,0))","v":"62"},{"$f":"IF(ISERROR(VLOOKUP(U423,Maestros!$S$31:$T$530,2,0)),\"\",VLOOKUP(U423,Maestros!$S$31:$T$530,2,0))","v":"62"},{"$f":"IF(ISERROR(VLOOKUP(Egresados!$K$8:$K$705,Maestros!$A$31:$B$130,2,0)),\"\",VLOOKUP(Egresados!$K$8:$K$705,Maestros!$A$31:$B$130,2,0))","v":""},{"$f":"IF(LEN(tablaEgresados[[#This Row],[Nota promedio]])>0,ROUND(tablaEgresados[[#This Row],[Nota promedio]],2),\"\")","v":15.5}]
[416,null,"DNI","70165162","ROMERO","CERAZO","YULISSA YESENIA","FEMENINO",null,"NO",null,null,null,"2020-1","SEDE CENTRAL","EDUCACION PRIMARIA-EDUCACION BASICA ALTERNATIVA",16.239999999999998,null,null,"2015-1","2015-1","20150280@une.edu.pe","yulissaromero03@gmail.com",3133700,"931988732",{"$f":"IF(ISERROR(VLOOKUP(Egresados!$N$8:$N$705,Maestros!$D$31:$E$530,2,0)),\"\",VLOOKUP(Egresados!$N$8:$N$705,Maestros!$D$31:$E$530,2,0))","v":"223"},{"$f":"IF(ISERROR(VLOOKUP(Egresados!$O424,Maestros!$G$31:$J$1030,2,0)),\"\",VLOOKUP(Egresados!$O424,Maestros!$G$31:$J$1030,2,0))","v":"8"},{"$f":"CONCATENATE(Egresados!$Z$8:$Z$705,\"a\",Egresados!$AA$8:$AA$705)","v":"223a8"},{"$f":"IF(ISERROR(VLOOKUP(Egresados!$P424,Maestros!$L$31:$Q$1030,2,0)),\"\",VLOOKUP(Egresados!$P424,Maestros!$L$31:$Q$1030,2,0))","v":"66"},{"$f":"CONCATENATE(Egresados!$Z$8:$Z$705,\"a\",Egresados!$AA$8:$AA$705,\"a\",Egresados!$AC$8:$AC$705)","v":"223a8a66"},{"$f":"IF(ISERROR(VLOOKUP(Egresados!$C$8:$C$705,Maestros!$A$4:$B$21,2,0)),\"\",VLOOKUP(Egresados!$C$8:$C$705,Maestros!$A$4:$B$21,2,0))","v":"1001"},{"$f":"IF(ISERROR(VLOOKUP(Egresados!$H$8:$H$705,Maestros!$D$4:$E$21,2,0)),\"\",VLOOKUP(Egresados!$H$8:$H$705,Maestros!$D$4:$E$21,2,0))","v":"1122"},{"$f":"IF(OR(UPPER(Egresados!$J$8:$J$705)=\"SI\",UPPER(Egresados!$J$8:$J$705)=\"SÍ\"),1,IF(UPPER(Egresados!$J$8:$J$705)=\"NO\",0,\"\"))","v":0},{"$f":"IF(OR(UPPER(Egresados!$R$8:$R$705)=\"SI\",UPPER(Egresados!$R$8:$R$705)=\"SÍ\"),1,IF(UPPER(Egresados!$R$8:$R$705)=\"NO\",0,\"\"))","v":""},{"$f":"IF(OR(UPPER(Egresados!$S$8:$S$705)=\"SI\",UPPER(Egresados!$S$8:$S$705)=\"SÍ\"),1,IF(UPPER(Egresados!$S$8:$S$705)=\"NO\",0,\"\"))","v":""},{"$f":"IF(ISERROR(VLOOKUP(Egresados!$T$8:$T$705,Maestros!$S$31:$T$530,2,0)),\"\",VLOOKUP(Egresados!$T$8:$T$705,Maestros!$S$31:$T$530,2,0))","v":"62"},{"$f":"IF(ISERROR(VLOOKUP(U424,Maestros!$S$31:$T$530,2,0)),\"\",VLOOKUP(U424,Maestros!$S$31:$T$530,2,0))","v":"62"},{"$f":"IF(ISERROR(VLOOKUP(Egresados!$K$8:$K$705,Maestros!$A$31:$B$130,2,0)),\"\",VLOOKUP(Egresados!$K$8:$K$705,Maestros!$A$31:$B$130,2,0))","v":""},{"$f":"IF(LEN(tablaEgresados[[#This Row],[Nota promedio]])>0,ROUND(tablaEgresados[[#This Row],[Nota promedio]],2),\"\")","v":16.239999999999998}]
[417,null,"DNI","15841938","LLANES","DIONICIO","DIANA ROCIO","FEMENINO",null,"NO",null,null,null,"2020-1","SEDE CENTRAL","EDUCACION PRIMARIA-EDUCACION BASICA ALTERNATIVA",14.96,null,null,"2007-1","2007-1","20071896@une.edu.pe","rosilld72@gmail.com",3133700,"971255211",{"$f":"IF(ISERROR(VLOOKUP(Egresados!$N$8:$N$705,Maestros!$D$31:$E$530,2,0)),\"\",VLOOKUP(Egresados!$N$8:$N$705,Maestros!$D$31:$E$530,2,0))","v":"223"},{"$f":"IF(ISERROR(VLOOKUP(Egresados!$O425,Maestros!$G$31:$J$1030,2,0)),\"\",VLOOKUP(Egresados!$O425,Maestros!$G$31:$J$1030,2,0))","v":"8"},{"$f":"CONCATENATE(Egresados!$Z$8:$Z$705,\"a\",Egresados!$AA$8:$AA$705)","v":"223a8"},{"$f":"IF(ISERROR(VLOOKUP(Egresados!$P425,Maestros!$L$31:$Q$1030,2,0)),\"\",VLOOKUP(Egresados!$P425,Maestros!$L$31:$Q$1030,2,0))","v":"66"},{"$f":"CONCATENATE(Egresados!$Z$8:$Z$705,\"a\",Egresados!$AA$8:$AA$705,\"a\",Egresados!$AC$8:$AC$705)","v":"223a8a66"},{"$f":"IF(ISERROR(VLOOKUP(Egresados!$C$8:$C$705,Maestros!$A$4:$B$21,2,0)),\"\",VLOOKUP(Egresados!$C$8:$C$705,Maestros!$A$4:$B$21,2,0))","v":"1001"},{"$f":"IF(ISERROR(VLOOKUP(Egresados!$H$8:$H$705,Maestros!$D$4:$E$21,2,0)),\"\",VLOOKUP(Egresados!$H$8:$H$705,Maestros!$D$4:$E$21,2,0))","v":"1122"},{"$f":"IF(OR(UPPER(Egresados!$J$8:$J$705)=\"SI\",UPPER(Egresados!$J$8:$J$705)=\"SÍ\"),1,IF(UPPER(Egresados!$J$8:$J$705)=\"NO\",0,\"\"))","v":0},{"$f":"IF(OR(UPPER(Egresados!$R$8:$R$705)=\"SI\",UPPER(Egresados!$R$8:$R$705)=\"SÍ\"),1,IF(UPPER(Egresados!$R$8:$R$705)=\"NO\",0,\"\"))","v":""},{"$f":"IF(OR(UPPER(Egresados!$S$8:$S$705)=\"SI\",UPPER(Egresados!$S$8:$S$705)=\"SÍ\"),1,IF(UPPER(Egresados!$S$8:$S$705)=\"NO\",0,\"\"))","v":""},{"$f":"IF(ISERROR(VLOOKUP(Egresados!$T$8:$T$705,Maestros!$S$31:$T$530,2,0)),\"\",VLOOKUP(Egresados!$T$8:$T$705,Maestros!$S$31:$T$530,2,0))","v":"30"},{"$f":"IF(ISERROR(VLOOKUP(U425,Maestros!$S$31:$T$530,2,0)),\"\",VLOOKUP(U425,Maestros!$S$31:$T$530,2,0))","v":"30"},{"$f":"IF(ISERROR(VLOOKUP(Egresados!$K$8:$K$705,Maestros!$A$31:$B$130,2,0)),\"\",VLOOKUP(Egresados!$K$8:$K$705,Maestros!$A$31:$B$130,2,0))","v":""},{"$f":"IF(LEN(tablaEgresados[[#This Row],[Nota promedio]])>0,ROUND(tablaEgresados[[#This Row],[Nota promedio]],2),\"\")","v":14.96}]
[418,null,"DNI","71013510","LLACCHUA","CRUZ","MIRIAN","FEMENINO",null,"NO",null,null,null,"2020-1","SEDE CENTRAL","EDUCACION PRIMARIA-EDUCACION BASICA ALTERNATIVA",15.17,null,null,"2015-1","2015-1","20150261@une.edu.pe","mia_cruz_05@hotmail.com",3133700,"986890532",{"$f":"IF(ISERROR(VLOOKUP(Egresados!$N$8:$N$705,Maestros!$D$31:$E$530,2,0)),\"\",VLOOKUP(Egresados!$N$8:$N$705,Maestros!$D$31:$E$530,2,0))","v":"223"},{"$f":"IF(ISERROR(VLOOKUP(Egresados!$O426,Maestros!$G$31:$J$1030,2,0)),\"\",VLOOKUP(Egresados!$O426,Maestros!$G$31:$J$1030,2,0))","v":"8"},{"$f":"CONCATENATE(Egresados!$Z$8:$Z$705,\"a\",Egresados!$AA$8:$AA$705)","v":"223a8"},{"$f":"IF(ISERROR(VLOOKUP(Egresados!$P426,Maestros!$L$31:$Q$1030,2,0)),\"\",VLOOKUP(Egresados!$P426,Maestros!$L$31:$Q$1030,2,0))","v":"66"},{"$f":"CONCATENATE(Egresados!$Z$8:$Z$705,\"a\",Egresados!$AA$8:$AA$705,\"a\",Egresados!$AC$8:$AC$705)","v":"223a8a66"},{"$f":"IF(ISERROR(VLOOKUP(Egresados!$C$8:$C$705,Maestros!$A$4:$B$21,2,0)),\"\",VLOOKUP(Egresados!$C$8:$C$705,Maestros!$A$4:$B$21,2,0))","v":"1001"},{"$f":"IF(ISERROR(VLOOKUP(Egresados!$H$8:$H$705,Maestros!$D$4:$E$21,2,0)),\"\",VLOOKUP(Egresados!$H$8:$H$705,Maestros!$D$4:$E$21,2,0))","v":"1122"},{"$f":"IF(OR(UPPER(Egresados!$J$8:$J$705)=\"SI\",UPPER(Egresados!$J$8:$J$705)=\"SÍ\"),1,IF(UPPER(Egresados!$J$8:$J$705)=\"NO\",0,\"\"))","v":0},{"$f":"IF(OR(UPPER(Egresados!$R$8:$R$705)=\"SI\",UPPER(Egresados!$R$8:$R$705)=\"SÍ\"),1,IF(UPPER(Egresados!$R$8:$R$705)=\"NO\",0,\"\"))","v":""},{"$f":"IF(OR(UPPER(Egresados!$S$8:$S$705)=\"SI\",UPPER(Egresados!$S$8:$S$705)=\"SÍ\"),1,IF(UPPER(Egresados!$S$8:$S$705)=\"NO\",0,\"\"))","v":""},{"$f":"IF(ISERROR(VLOOKUP(Egresados!$T$8:$T$705,Maestros!$S$31:$T$530,2,0)),\"\",VLOOKUP(Egresados!$T$8:$T$705,Maestros!$S$31:$T$530,2,0))","v":"62"},{"$f":"IF(ISERROR(VLOOKUP(U426,Maestros!$S$31:$T$530,2,0)),\"\",VLOOKUP(U426,Maestros!$S$31:$T$530,2,0))","v":"62"},{"$f":"IF(ISERROR(VLOOKUP(Egresados!$K$8:$K$705,Maestros!$A$31:$B$130,2,0)),\"\",VLOOKUP(Egresados!$K$8:$K$705,Maestros!$A$31:$B$130,2,0))","v":""},{"$f":"IF(LEN(tablaEgresados[[#This Row],[Nota promedio]])>0,ROUND(tablaEgresados[[#This Row],[Nota promedio]],2),\"\")","v":15.17}]
[419,null,"DNI","72756010","TUMPAY","QUISPE","GABRIELA","FEMENINO",null,"NO",null,null,null,"2020-1","SEDE CENTRAL","EDUCACION PRIMARIA-EDUCACION BASICA ALTERNATIVA",15.7,null,null,"2015-1","2015-1","20150288@une.edu.pe","gabriela.tumpay@gmail.com",3133700,"997340525",{"$f":"IF(ISERROR(VLOOKUP(Egresados!$N$8:$N$705,Maestros!$D$31:$E$530,2,0)),\"\",VLOOKUP(Egresados!$N$8:$N$705,Maestros!$D$31:$E$530,2,0))","v":"223"},{"$f":"IF(ISERROR(VLOOKUP(Egresados!$O427,Maestros!$G$31:$J$1030,2,0)),\"\",VLOOKUP(Egresados!$O427,Maestros!$G$31:$J$1030,2,0))","v":"8"},{"$f":"CONCATENATE(Egresados!$Z$8:$Z$705,\"a\",Egresados!$AA$8:$AA$705)","v":"223a8"},{"$f":"IF(ISERROR(VLOOKUP(Egresados!$P427,Maestros!$L$31:$Q$1030,2,0)),\"\",VLOOKUP(Egresados!$P427,Maestros!$L$31:$Q$1030,2,0))","v":"66"},{"$f":"CONCATENATE(Egresados!$Z$8:$Z$705,\"a\",Egresados!$AA$8:$AA$705,\"a\",Egresados!$AC$8:$AC$705)","v":"223a8a66"},{"$f":"IF(ISERROR(VLOOKUP(Egresados!$C$8:$C$705,Maestros!$A$4:$B$21,2,0)),\"\",VLOOKUP(Egresados!$C$8:$C$705,Maestros!$A$4:$B$21,2,0))","v":"1001"},{"$f":"IF(ISERROR(VLOOKUP(Egresados!$H$8:$H$705,Maestros!$D$4:$E$21,2,0)),\"\",VLOOKUP(Egresados!$H$8:$H$705,Maestros!$D$4:$E$21,2,0))","v":"1122"},{"$f":"IF(OR(UPPER(Egresados!$J$8:$J$705)=\"SI\",UPPER(Egresados!$J$8:$J$705)=\"SÍ\"),1,IF(UPPER(Egresados!$J$8:$J$705)=\"NO\",0,\"\"))","v":0},{"$f":"IF(OR(UPPER(Egresados!$R$8:$R$705)=\"SI\",UPPER(Egresados!$R$8:$R$705)=\"SÍ\"),1,IF(UPPER(Egresados!$R$8:$R$705)=\"NO\",0,\"\"))","v":""},{"$f":"IF(OR(UPPER(Egresados!$S$8:$S$705)=\"SI\",UPPER(Egresados!$S$8:$S$705)=\"SÍ\"),1,IF(UPPER(Egresados!$S$8:$S$705)=\"NO\",0,\"\"))","v":""},{"$f":"IF(ISERROR(VLOOKUP(Egresados!$T$8:$T$705,Maestros!$S$31:$T$530,2,0)),\"\",VLOOKUP(Egresados!$T$8:$T$705,Maestros!$S$31:$T$530,2,0))","v":"62"},{"$f":"IF(ISERROR(VLOOKUP(U427,Maestros!$S$31:$T$530,2,0)),\"\",VLOOKUP(U427,Maestros!$S$31:$T$530,2,0))","v":"62"},{"$f":"IF(ISERROR(VLOOKUP(Egresados!$K$8:$K$705,Maestros!$A$31:$B$130,2,0)),\"\",VLOOKUP(Egresados!$K$8:$K$705,Maestros!$A$31:$B$130,2,0))","v":""},{"$f":"IF(LEN(tablaEgresados[[#This Row],[Nota promedio]])>0,ROUND(tablaEgresados[[#This Row],[Nota promedio]],2),\"\")","v":15.7}]
[420,null,"DNI","10157297","MANRIQUE","LOPEZ","MARIA DEL PILAR","FEMENINO",null,"NO",null,null,null,"2020-1","SEDE CENTRAL","EDUCACION PRIMARIA-EDUCACION BASICA ALTERNATIVA",15.2,null,null,"2000-1","2000-1","20008419@une.edu.pe","20008419@une.edu.pe",3133700,976486001,{"$f":"IF(ISERROR(VLOOKUP(Egresados!$N$8:$N$705,Maestros!$D$31:$E$530,2,0)),\"\",VLOOKUP(Egresados!$N$8:$N$705,Maestros!$D$31:$E$530,2,0))","v":"223"},{"$f":"IF(ISERROR(VLOOKUP(Egresados!$O428,Maestros!$G$31:$J$1030,2,0)),\"\",VLOOKUP(Egresados!$O428,Maestros!$G$31:$J$1030,2,0))","v":"8"},{"$f":"CONCATENATE(Egresados!$Z$8:$Z$705,\"a\",Egresados!$AA$8:$AA$705)","v":"223a8"},{"$f":"IF(ISERROR(VLOOKUP(Egresados!$P428,Maestros!$L$31:$Q$1030,2,0)),\"\",VLOOKUP(Egresados!$P428,Maestros!$L$31:$Q$1030,2,0))","v":"66"},{"$f":"CONCATENATE(Egresados!$Z$8:$Z$705,\"a\",Egresados!$AA$8:$AA$705,\"a\",Egresados!$AC$8:$AC$705)","v":"223a8a66"},{"$f":"IF(ISERROR(VLOOKUP(Egresados!$C$8:$C$705,Maestros!$A$4:$B$21,2,0)),\"\",VLOOKUP(Egresados!$C$8:$C$705,Maestros!$A$4:$B$21,2,0))","v":"1001"},{"$f":"IF(ISERROR(VLOOKUP(Egresados!$H$8:$H$705,Maestros!$D$4:$E$21,2,0)),\"\",VLOOKUP(Egresados!$H$8:$H$705,Maestros!$D$4:$E$21,2,0))","v":"1122"},{"$f":"IF(OR(UPPER(Egresados!$J$8:$J$705)=\"SI\",UPPER(Egresados!$J$8:$J$705)=\"SÍ\"),1,IF(UPPER(Egresados!$J$8:$J$705)=\"NO\",0,\"\"))","v":0},{"$f":"IF(OR(UPPER(Egresados!$R$8:$R$705)=\"SI\",UPPER(Egresados!$R$8:$R$705)=\"SÍ\"),1,IF(UPPER(Egresados!$R$8:$R$705)=\"NO\",0,\"\"))","v":""},{"$f":"IF(OR(UPPER(Egresados!$S$8:$S$705)=\"SI\",UPPER(Egresados!$S$8:$S$705)=\"SÍ\"),1,IF(UPPER(Egresados!$S$8:$S$705)=\"NO\",0,\"\"))","v":""},{"$f":"IF(ISERROR(VLOOKUP(Egresados!$T$8:$T$705,Maestros!$S$31:$T$530,2,0)),\"\",VLOOKUP(Egresados!$T$8:$T$705,Maestros!$S$31:$T$530,2,0))","v":"2"},{"$f":"IF(ISERROR(VLOOKUP(U428,Maestros!$S$31:$T$530,2,0)),\"\",VLOOKUP(U428,Maestros!$S$31:$T$530,2,0))","v":"2"},{"$f":"IF(ISERROR(VLOOKUP(Egresados!$K$8:$K$705,Maestros!$A$31:$B$130,2,0)),\"\",VLOOKUP(Egresados!$K$8:$K$705,Maestros!$A$31:$B$130,2,0))","v":""},{"$f":"IF(LEN(tablaEgresados[[#This Row],[Nota promedio]])>0,ROUND(tablaEgresados[[#This Row],[Nota promedio]],2),\"\")","v":15.2}]
[421,null,"DNI","45252554","UBALDO","MEZA","JUANA LUZ","FEMENINO",null,"NO",null,null,null,"2020-1","SEDE CENTRAL","EDUCACION PRIMARIA-EDUCACION BASICA ALTERNATIVA",15.63,null,null,"2006-1","2006-1","20061504@une.edu.pe","20061504@une.edu.pe",3133700,976486001,{"$f":"IF(ISERROR(VLOOKUP(Egresados!$N$8:$N$705,Maestros!$D$31:$E$530,2,0)),\"\",VLOOKUP(Egresados!$N$8:$N$705,Maestros!$D$31:$E$530,2,0))","v":"223"},{"$f":"IF(ISERROR(VLOOKUP(Egresados!$O429,Maestros!$G$31:$J$1030,2,0)),\"\",VLOOKUP(Egresados!$O429,Maestros!$G$31:$J$1030,2,0))","v":"8"},{"$f":"CONCATENATE(Egresados!$Z$8:$Z$705,\"a\",Egresados!$AA$8:$AA$705)","v":"223a8"},{"$f":"IF(ISERROR(VLOOKUP(Egresados!$P429,Maestros!$L$31:$Q$1030,2,0)),\"\",VLOOKUP(Egresados!$P429,Maestros!$L$31:$Q$1030,2,0))","v":"66"},{"$f":"CONCATENATE(Egresados!$Z$8:$Z$705,\"a\",Egresados!$AA$8:$AA$705,\"a\",Egresados!$AC$8:$AC$705)","v":"223a8a66"},{"$f":"IF(ISERROR(VLOOKUP(Egresados!$C$8:$C$705,Maestros!$A$4:$B$21,2,0)),\"\",VLOOKUP(Egresados!$C$8:$C$705,Maestros!$A$4:$B$21,2,0))","v":"1001"},{"$f":"IF(ISERROR(VLOOKUP(Egresados!$H$8:$H$705,Maestros!$D$4:$E$21,2,0)),\"\",VLOOKUP(Egresados!$H$8:$H$705,Maestros!$D$4:$E$21,2,0))","v":"1122"},{"$f":"IF(OR(UPPER(Egresados!$J$8:$J$705)=\"SI\",UPPER(Egresados!$J$8:$J$705)=\"SÍ\"),1,IF(UPPER(Egresados!$J$8:$J$705)=\"NO\",0,\"\"))","v":0},{"$f":"IF(OR(UPPER(Egresados!$R$8:$R$705)=\"SI\",UPPER(Egresados!$R$8:$R$705)=\"SÍ\"),1,IF(UPPER(Egresados!$R$8:$R$705)=\"NO\",0,\"\"))","v":""},{"$f":"IF(OR(UPPER(Egresados!$S$8:$S$705)=\"SI\",UPPER(Egresados!$S$8:$S$705)=\"SÍ\"),1,IF(UPPER(Egresados!$S$8:$S$705)=\"NO\",0,\"\"))","v":""},{"$f":"IF(ISERROR(VLOOKUP(Egresados!$T$8:$T$705,Maestros!$S$31:$T$530,2,0)),\"\",VLOOKUP(Egresados!$T$8:$T$705,Maestros!$S$31:$T$530,2,0))","v":"26"},{"$f":"IF(ISERROR(VLOOKUP(U429,Maestros!$S$31:$T$530,2,0)),\"\",VLOOKUP(U429,Maestros!$S$31:$T$530,2,0))","v":"26"},{"$f":"IF(ISERROR(VLOOKUP(Egresados!$K$8:$K$705,Maestros!$A$31:$B$130,2,0)),\"\",VLOOKUP(Egresados!$K$8:$K$705,Maestros!$A$31:$B$130,2,0))","v":""},{"$f":"IF(LEN(tablaEgresados[[#This Row],[Nota promedio]])>0,ROUND(tablaEgresados[[#This Row],[Nota promedio]],2),\"\")","v":15.63}]
[422,null,"DNI",40424605,"TRUJILLO","HURTADO","BLANCA ELVIRA","FEMENINO",null,"NO",null,null,null,"2020-1","SEDE CENTRAL","EDUCACION PRIMARIA-EDUCACION BASICA ALTERNATIVA",15.7,null,null,"2007-1","2007-1","20071904@une.edu.pe","20071904@une.edu.pe",3133700,976486001,{"$f":"IF(ISERROR(VLOOKUP(Egresados!$N$8:$N$705,Maestros!$D$31:$E$530,2,0)),\"\",VLOOKUP(Egresados!$N$8:$N$705,Maestros!$D$31:$E$530,2,0))","v":"223"},{"$f":"IF(ISERROR(VLOOKUP(Egresados!$O430,Maestros!$G$31:$J$1030,2,0)),\"\",VLOOKUP(Egresados!$O430,Maestros!$G$31:$J$1030,2,0))","v":"8"},{"$f":"CONCATENATE(Egresados!$Z$8:$Z$705,\"a\",Egresados!$AA$8:$AA$705)","v":"223a8"},{"$f":"IF(ISERROR(VLOOKUP(Egresados!$P430,Maestros!$L$31:$Q$1030,2,0)),\"\",VLOOKUP(Egresados!$P430,Maestros!$L$31:$Q$1030,2,0))","v":"66"},{"$f":"CONCATENATE(Egresados!$Z$8:$Z$705,\"a\",Egresados!$AA$8:$AA$705,\"a\",Egresados!$AC$8:$AC$705)","v":"223a8a66"},{"$f":"IF(ISERROR(VLOOKUP(Egresados!$C$8:$C$705,Maestros!$A$4:$B$21,2,0)),\"\",VLOOKUP(Egresados!$C$8:$C$705,Maestros!$A$4:$B$21,2,0))","v":"1001"},{"$f":"IF(ISERROR(VLOOKUP(Egresados!$H$8:$H$705,Maestros!$D$4:$E$21,2,0)),\"\",VLOOKUP(Egresados!$H$8:$H$705,Maestros!$D$4:$E$21,2,0))","v":"1122"},{"$f":"IF(OR(UPPER(Egresados!$J$8:$J$705)=\"SI\",UPPER(Egresados!$J$8:$J$705)=\"SÍ\"),1,IF(UPPER(Egresados!$J$8:$J$705)=\"NO\",0,\"\"))","v":0},{"$f":"IF(OR(UPPER(Egresados!$R$8:$R$705)=\"SI\",UPPER(Egresados!$R$8:$R$705)=\"SÍ\"),1,IF(UPPER(Egresados!$R$8:$R$705)=\"NO\",0,\"\"))","v":""},{"$f":"IF(OR(UPPER(Egresados!$S$8:$S$705)=\"SI\",UPPER(Egresados!$S$8:$S$705)=\"SÍ\"),1,IF(UPPER(Egresados!$S$8:$S$705)=\"NO\",0,\"\"))","v":""},{"$f":"IF(ISERROR(VLOOKUP(Egresados!$T$8:$T$705,Maestros!$S$31:$T$530,2,0)),\"\",VLOOKUP(Egresados!$T$8:$T$705,Maestros!$S$31:$T$530,2,0))","v":"30"},{"$f":"IF(ISERROR(VLOOKUP(U430,Maestros!$S$31:$T$530,2,0)),\"\",VLOOKUP(U430,Maestros!$S$31:$T$530,2,0))","v":"30"},{"$f":"IF(ISERROR(VLOOKUP(Egresados!$K$8:$K$705,Maestros!$A$31:$B$130,2,0)),\"\",VLOOKUP(Egresados!$K$8:$K$705,Maestros!$A$31:$B$130,2,0))","v":""},{"$f":"IF(LEN(tablaEgresados[[#This Row],[Nota promedio]])>0,ROUND(tablaEgresados[[#This Row],[Nota promedio]],2),\"\")","v":15.7}]
[423,null,"DNI",47895800,"GARCIA","ROSARIO","DERSY KATHERIN","FEMENINO",null,"NO",null,null,null,"2020-1","SEDE CENTRAL","EDUCACION PRIMARIA-EDUCACION BASICA ALTERNATIVA",15.18,null,null,"2011-1","2011-1","20112066@une.edu.pe","20112066@une.edu.pe",3133700,976486001,{"$f":"IF(ISERROR(VLOOKUP(Egresados!$N$8:$N$705,Maestros!$D$31:$E$530,2,0)),\"\",VLOOKUP(Egresados!$N$8:$N$705,Maestros!$D$31:$E$530,2,0))","v":"223"},{"$f":"IF(ISERROR(VLOOKUP(Egresados!$O431,Maestros!$G$31:$J$1030,2,0)),\"\",VLOOKUP(Egresados!$O431,Maestros!$G$31:$J$1030,2,0))","v":"8"},{"$f":"CONCATENATE(Egresados!$Z$8:$Z$705,\"a\",Egresados!$AA$8:$AA$705)","v":"223a8"},{"$f":"IF(ISERROR(VLOOKUP(Egresados!$P431,Maestros!$L$31:$Q$1030,2,0)),\"\",VLOOKUP(Egresados!$P431,Maestros!$L$31:$Q$1030,2,0))","v":"66"},{"$f":"CONCATENATE(Egresados!$Z$8:$Z$705,\"a\",Egresados!$AA$8:$AA$705,\"a\",Egresados!$AC$8:$AC$705)","v":"223a8a66"},{"$f":"IF(ISERROR(VLOOKUP(Egresados!$C$8:$C$705,Maestros!$A$4:$B$21,2,0)),\"\",VLOOKUP(Egresados!$C$8:$C$705,Maestros!$A$4:$B$21,2,0))","v":"1001"},{"$f":"IF(ISERROR(VLOOKUP(Egresados!$H$8:$H$705,Maestros!$D$4:$E$21,2,0)),\"\",VLOOKUP(Egresados!$H$8:$H$705,Maestros!$D$4:$E$21,2,0))","v":"1122"},{"$f":"IF(OR(UPPER(Egresados!$J$8:$J$705)=\"SI\",UPPER(Egresados!$J$8:$J$705)=\"SÍ\"),1,IF(UPPER(Egresados!$J$8:$J$705)=\"NO\",0,\"\"))","v":0},{"$f":"IF(OR(UPPER(Egresados!$R$8:$R$705)=\"SI\",UPPER(Egresados!$R$8:$R$705)=\"SÍ\"),1,IF(UPPER(Egresados!$R$8:$R$705)=\"NO\",0,\"\"))","v":""},{"$f":"IF(OR(UPPER(Egresados!$S$8:$S$705)=\"SI\",UPPER(Egresados!$S$8:$S$705)=\"SÍ\"),1,IF(UPPER(Egresados!$S$8:$S$705)=\"NO\",0,\"\"))","v":""},{"$f":"IF(ISERROR(VLOOKUP(Egresados!$T$8:$T$705,Maestros!$S$31:$T$530,2,0)),\"\",VLOOKUP(Egresados!$T$8:$T$705,Maestros!$S$31:$T$530,2,0))","v":"46"},{"$f":"IF(ISERROR(VLOOKUP(U431,Maestros!$S$31:$T$530,2,0)),\"\",VLOOKUP(U431,Maestros!$S$31:$T$530,2,0))","v":"46"},{"$f":"IF(ISERROR(VLOOKUP(Egresados!$K$8:$K$705,Maestros!$A$31:$B$130,2,0)),\"\",VLOOKUP(Egresados!$K$8:$K$705,Maestros!$A$31:$B$130,2,0))","v":""},{"$f":"IF(LEN(tablaEgresados[[#This Row],[Nota promedio]])>0,ROUND(tablaEgresados[[#This Row],[Nota promedio]],2),\"\")","v":15.18}]
[424,null,"DNI",45586629,"ROJAS","CHUCO","YAKY LISALDE","FEMENINO",null,"NO",null,null,null,"2020-1","SEDE CENTRAL","EDUCACION PRIMARIA-EDUCACION BASICA ALTERNATIVA",15.11,null,null,"2008-1","2008-1","20081491@une.edu.pe","20081491@une.edu.pe",3133700,976486001,{"$f":"IF(ISERROR(VLOOKUP(Egresados!$N$8:$N$705,Maestros!$D$31:$E$530,2,0)),\"\",VLOOKUP(Egresados!$N$8:$N$705,Maestros!$D$31:$E$530,2,0))","v":"223"},{"$f":"IF(ISERROR(VLOOKUP(Egresados!$O432,Maestros!$G$31:$J$1030,2,0)),\"\",VLOOKUP(Egresados!$O432,Maestros!$G$31:$J$1030,2,0))","v":"8"},{"$f":"CONCATENATE(Egresados!$Z$8:$Z$705,\"a\",Egresados!$AA$8:$AA$705)","v":"223a8"},{"$f":"IF(ISERROR(VLOOKUP(Egresados!$P432,Maestros!$L$31:$Q$1030,2,0)),\"\",VLOOKUP(Egresados!$P432,Maestros!$L$31:$Q$1030,2,0))","v":"66"},{"$f":"CONCATENATE(Egresados!$Z$8:$Z$705,\"a\",Egresados!$AA$8:$AA$705,\"a\",Egresados!$AC$8:$AC$705)","v":"223a8a66"},{"$f":"IF(ISERROR(VLOOKUP(Egresados!$C$8:$C$705,Maestros!$A$4:$B$21,2,0)),\"\",VLOOKUP(Egresados!$C$8:$C$705,Maestros!$A$4:$B$21,2,0))","v":"1001"},{"$f":"IF(ISERROR(VLOOKUP(Egresados!$H$8:$H$705,Maestros!$D$4:$E$21,2,0)),\"\",VLOOKUP(Egresados!$H$8:$H$705,Maestros!$D$4:$E$21,2,0))","v":"1122"},{"$f":"IF(OR(UPPER(Egresados!$J$8:$J$705)=\"SI\",UPPER(Egresados!$J$8:$J$705)=\"SÍ\"),1,IF(UPPER(Egresados!$J$8:$J$705)=\"NO\",0,\"\"))","v":0},{"$f":"IF(OR(UPPER(Egresados!$R$8:$R$705)=\"SI\",UPPER(Egresados!$R$8:$R$705)=\"SÍ\"),1,IF(UPPER(Egresados!$R$8:$R$705)=\"NO\",0,\"\"))","v":""},{"$f":"IF(OR(UPPER(Egresados!$S$8:$S$705)=\"SI\",UPPER(Egresados!$S$8:$S$705)=\"SÍ\"),1,IF(UPPER(Egresados!$S$8:$S$705)=\"NO\",0,\"\"))","v":""},{"$f":"IF(ISERROR(VLOOKUP(Egresados!$T$8:$T$705,Maestros!$S$31:$T$530,2,0)),\"\",VLOOKUP(Egresados!$T$8:$T$705,Maestros!$S$31:$T$530,2,0))","v":"34"},{"$f":"IF(ISERROR(VLOOKUP(U432,Maestros!$S$31:$T$530,2,0)),\"\",VLOOKUP(U432,Maestros!$S$31:$T$530,2,0))","v":"34"},{"$f":"IF(ISERROR(VLOOKUP(Egresados!$K$8:$K$705,Maestros!$A$31:$B$130,2,0)),\"\",VLOOKUP(Egresados!$K$8:$K$705,Maestros!$A$31:$B$130,2,0))","v":""},{"$f":"IF(LEN(tablaEgresados[[#This Row],[Nota promedio]])>0,ROUND(tablaEgresados[[#This Row],[Nota promedio]],2),\"\")","v":15.11}]
[425,null,"DNI","77806039","FRANCIA","ESTEBAN","ROSMEL WUALTER","MASCULINO",null,"NO",null,null,null,"2020-1","SEDE CENTRAL","ELECTRICIDAD",14.69,null,null,"2014-1","2014-1","20141290@une.edu.pe","rosmel_16junio@hotmail.com",3133700,"991082904",{"$f":"IF(ISERROR(VLOOKUP(Egresados!$N$8:$N$705,Maestros!$D$31:$E$530,2,0)),\"\",VLOOKUP(Egresados!$N$8:$N$705,Maestros!$D$31:$E$530,2,0))","v":"223"},{"$f":"IF(ISERROR(VLOOKUP(Egresados!$O433,Maestros!$G$31:$J$1030,2,0)),\"\",VLOOKUP(Egresados!$O433,Maestros!$G$31:$J$1030,2,0))","v":"8"},{"$f":"CONCATENATE(Egresados!$Z$8:$Z$705,\"a\",Egresados!$AA$8:$AA$705)","v":"223a8"},{"$f":"IF(ISERROR(VLOOKUP(Egresados!$P433,Maestros!$L$31:$Q$1030,2,0)),\"\",VLOOKUP(Egresados!$P433,Maestros!$L$31:$Q$1030,2,0))","v":"309"},{"$f":"CONCATENATE(Egresados!$Z$8:$Z$705,\"a\",Egresados!$AA$8:$AA$705,\"a\",Egresados!$AC$8:$AC$705)","v":"223a8a309"},{"$f":"IF(ISERROR(VLOOKUP(Egresados!$C$8:$C$705,Maestros!$A$4:$B$21,2,0)),\"\",VLOOKUP(Egresados!$C$8:$C$705,Maestros!$A$4:$B$21,2,0))","v":"1001"},{"$f":"IF(ISERROR(VLOOKUP(Egresados!$H$8:$H$705,Maestros!$D$4:$E$21,2,0)),\"\",VLOOKUP(Egresados!$H$8:$H$705,Maestros!$D$4:$E$21,2,0))","v":"1121"},{"$f":"IF(OR(UPPER(Egresados!$J$8:$J$705)=\"SI\",UPPER(Egresados!$J$8:$J$705)=\"SÍ\"),1,IF(UPPER(Egresados!$J$8:$J$705)=\"NO\",0,\"\"))","v":0},{"$f":"IF(OR(UPPER(Egresados!$R$8:$R$705)=\"SI\",UPPER(Egresados!$R$8:$R$705)=\"SÍ\"),1,IF(UPPER(Egresados!$R$8:$R$705)=\"NO\",0,\"\"))","v":""},{"$f":"IF(OR(UPPER(Egresados!$S$8:$S$705)=\"SI\",UPPER(Egresados!$S$8:$S$705)=\"SÍ\"),1,IF(UPPER(Egresados!$S$8:$S$705)=\"NO\",0,\"\"))","v":""},{"$f":"IF(ISERROR(VLOOKUP(Egresados!$T$8:$T$705,Maestros!$S$31:$T$530,2,0)),\"\",VLOOKUP(Egresados!$T$8:$T$705,Maestros!$S$31:$T$530,2,0))","v":"58"},{"$f":"IF(ISERROR(VLOOKUP(U433,Maestros!$S$31:$T$530,2,0)),\"\",VLOOKUP(U433,Maestros!$S$31:$T$530,2,0))","v":"58"},{"$f":"IF(ISERROR(VLOOKUP(Egresados!$K$8:$K$705,Maestros!$A$31:$B$130,2,0)),\"\",VLOOKUP(Egresados!$K$8:$K$705,Maestros!$A$31:$B$130,2,0))","v":""},{"$f":"IF(LEN(tablaEgresados[[#This Row],[Nota promedio]])>0,ROUND(tablaEgresados[[#This Row],[Nota promedio]],2),\"\")","v":14.69}]
[426,null,"DNI","75008555","MOLINA","GOMEZ","ENZO LEONEL","MASCULINO",null,"NO",null,null,null,"2020-1","SEDE CENTRAL","ELECTRICIDAD",14.61,null,null,"2014-1","2014-1","20141295@une.edu.pe","senacu_1_@hotmail.com",3133700,"980544569",{"$f":"IF(ISERROR(VLOOKUP(Egresados!$N$8:$N$705,Maestros!$D$31:$E$530,2,0)),\"\",VLOOKUP(Egresados!$N$8:$N$705,Maestros!$D$31:$E$530,2,0))","v":"223"},{"$f":"IF(ISERROR(VLOOKUP(Egresados!$O434,Maestros!$G$31:$J$1030,2,0)),\"\",VLOOKUP(Egresados!$O434,Maestros!$G$31:$J$1030,2,0))","v":"8"},{"$f":"CONCATENATE(Egresados!$Z$8:$Z$705,\"a\",Egresados!$AA$8:$AA$705)","v":"223a8"},{"$f":"IF(ISERROR(VLOOKUP(Egresados!$P434,Maestros!$L$31:$Q$1030,2,0)),\"\",VLOOKUP(Egresados!$P434,Maestros!$L$31:$Q$1030,2,0))","v":"309"},{"$f":"CONCATENATE(Egresados!$Z$8:$Z$705,\"a\",Egresados!$AA$8:$AA$705,\"a\",Egresados!$AC$8:$AC$705)","v":"223a8a309"},{"$f":"IF(ISERROR(VLOOKUP(Egresados!$C$8:$C$705,Maestros!$A$4:$B$21,2,0)),\"\",VLOOKUP(Egresados!$C$8:$C$705,Maestros!$A$4:$B$21,2,0))","v":"1001"},{"$f":"IF(ISERROR(VLOOKUP(Egresados!$H$8:$H$705,Maestros!$D$4:$E$21,2,0)),\"\",VLOOKUP(Egresados!$H$8:$H$705,Maestros!$D$4:$E$21,2,0))","v":"1121"},{"$f":"IF(OR(UPPER(Egresados!$J$8:$J$705)=\"SI\",UPPER(Egresados!$J$8:$J$705)=\"SÍ\"),1,IF(UPPER(Egresados!$J$8:$J$705)=\"NO\",0,\"\"))","v":0},{"$f":"IF(OR(UPPER(Egresados!$R$8:$R$705)=\"SI\",UPPER(Egresados!$R$8:$R$705)=\"SÍ\"),1,IF(UPPER(Egresados!$R$8:$R$705)=\"NO\",0,\"\"))","v":""},{"$f":"IF(OR(UPPER(Egresados!$S$8:$S$705)=\"SI\",UPPER(Egresados!$S$8:$S$705)=\"SÍ\"),1,IF(UPPER(Egresados!$S$8:$S$705)=\"NO\",0,\"\"))","v":""},{"$f":"IF(ISERROR(VLOOKUP(Egresados!$T$8:$T$705,Maestros!$S$31:$T$530,2,0)),\"\",VLOOKUP(Egresados!$T$8:$T$705,Maestros!$S$31:$T$530,2,0))","v":"58"},{"$f":"IF(ISERROR(VLOOKUP(U434,Maestros!$S$31:$T$530,2,0)),\"\",VLOOKUP(U434,Maestros!$S$31:$T$530,2,0))","v":"58"},{"$f":"IF(ISERROR(VLOOKUP(Egresados!$K$8:$K$705,Maestros!$A$31:$B$130,2,0)),\"\",VLOOKUP(Egresados!$K$8:$K$705,Maestros!$A$31:$B$130,2,0))","v":""},{"$f":"IF(LEN(tablaEgresados[[#This Row],[Nota promedio]])>0,ROUND(tablaEgresados[[#This Row],[Nota promedio]],2),\"\")","v":14.61}]
[427,null,"DNI","48396136","PETSA","IMPI","SAAN JENNER","MASCULINO",null,"NO",null,null,null,"2020-1","SEDE CENTRAL","ELECTRICIDAD",13.62,null,null,"2010-1","2010-1","20101034@une.edu.pe","francoly8saan@gmail.com",3133700,"958632852",{"$f":"IF(ISERROR(VLOOKUP(Egresados!$N$8:$N$705,Maestros!$D$31:$E$530,2,0)),\"\",VLOOKUP(Egresados!$N$8:$N$705,Maestros!$D$31:$E$530,2,0))","v":"223"},{"$f":"IF(ISERROR(VLOOKUP(Egresados!$O435,Maestros!$G$31:$J$1030,2,0)),\"\",VLOOKUP(Egresados!$O435,Maestros!$G$31:$J$1030,2,0))","v":"8"},{"$f":"CONCATENATE(Egresados!$Z$8:$Z$705,\"a\",Egresados!$AA$8:$AA$705)","v":"223a8"},{"$f":"IF(ISERROR(VLOOKUP(Egresados!$P435,Maestros!$L$31:$Q$1030,2,0)),\"\",VLOOKUP(Egresados!$P435,Maestros!$L$31:$Q$1030,2,0))","v":"309"},{"$f":"CONCATENATE(Egresados!$Z$8:$Z$705,\"a\",Egresados!$AA$8:$AA$705,\"a\",Egresados!$AC$8:$AC$705)","v":"223a8a309"},{"$f":"IF(ISERROR(VLOOKUP(Egresados!$C$8:$C$705,Maestros!$A$4:$B$21,2,0)),\"\",VLOOKUP(Egresados!$C$8:$C$705,Maestros!$A$4:$B$21,2,0))","v":"1001"},{"$f":"IF(ISERROR(VLOOKUP(Egresados!$H$8:$H$705,Maestros!$D$4:$E$21,2,0)),\"\",VLOOKUP(Egresados!$H$8:$H$705,Maestros!$D$4:$E$21,2,0))","v":"1121"},{"$f":"IF(OR(UPPER(Egresados!$J$8:$J$705)=\"SI\",UPPER(Egresados!$J$8:$J$705)=\"SÍ\"),1,IF(UPPER(Egresados!$J$8:$J$705)=\"NO\",0,\"\"))","v":0},{"$f":"IF(OR(UPPER(Egresados!$R$8:$R$705)=\"SI\",UPPER(Egresados!$R$8:$R$705)=\"SÍ\"),1,IF(UPPER(Egresados!$R$8:$R$705)=\"NO\",0,\"\"))","v":""},{"$f":"IF(OR(UPPER(Egresados!$S$8:$S$705)=\"SI\",UPPER(Egresados!$S$8:$S$705)=\"SÍ\"),1,IF(UPPER(Egresados!$S$8:$S$705)=\"NO\",0,\"\"))","v":""},{"$f":"IF(ISERROR(VLOOKUP(Egresados!$T$8:$T$705,Maestros!$S$31:$T$530,2,0)),\"\",VLOOKUP(Egresados!$T$8:$T$705,Maestros!$S$31:$T$530,2,0))","v":"42"},{"$f":"IF(ISERROR(VLOOKUP(U435,Maestros!$S$31:$T$530,2,0)),\"\",VLOOKUP(U435,Maestros!$S$31:$T$530,2,0))","v":"42"},{"$f":"IF(ISERROR(VLOOKUP(Egresados!$K$8:$K$705,Maestros!$A$31:$B$130,2,0)),\"\",VLOOKUP(Egresados!$K$8:$K$705,Maestros!$A$31:$B$130,2,0))","v":""},{"$f":"IF(LEN(tablaEgresados[[#This Row],[Nota promedio]])>0,ROUND(tablaEgresados[[#This Row],[Nota promedio]],2),\"\")","v":13.62}]
[428,null,"DNI",41820703,"SANCHEZ","CANDIOTTI","WILBER","MASCULINO",null,"NO",null,null,null,"2020-1","SEDE CENTRAL","ELECTRONICA",13.55,null,null,"2001-1","2001-1","20015208@une.edu.pe","20015208@une.edu.pe",3133700,976486001,{"$f":"IF(ISERROR(VLOOKUP(Egresados!$N$8:$N$705,Maestros!$D$31:$E$530,2,0)),\"\",VLOOKUP(Egresados!$N$8:$N$705,Maestros!$D$31:$E$530,2,0))","v":"223"},{"$f":"IF(ISERROR(VLOOKUP(Egresados!$O436,Maestros!$G$31:$J$1030,2,0)),\"\",VLOOKUP(Egresados!$O436,Maestros!$G$31:$J$1030,2,0))","v":"8"},{"$f":"CONCATENATE(Egresados!$Z$8:$Z$705,\"a\",Egresados!$AA$8:$AA$705)","v":"223a8"},{"$f":"IF(ISERROR(VLOOKUP(Egresados!$P436,Maestros!$L$31:$Q$1030,2,0)),\"\",VLOOKUP(Egresados!$P436,Maestros!$L$31:$Q$1030,2,0))","v":"4230"},{"$f":"CONCATENATE(Egresados!$Z$8:$Z$705,\"a\",Egresados!$AA$8:$AA$705,\"a\",Egresados!$AC$8:$AC$705)","v":"223a8a4230"},{"$f":"IF(ISERROR(VLOOKUP(Egresados!$C$8:$C$705,Maestros!$A$4:$B$21,2,0)),\"\",VLOOKUP(Egresados!$C$8:$C$705,Maestros!$A$4:$B$21,2,0))","v":"1001"},{"$f":"IF(ISERROR(VLOOKUP(Egresados!$H$8:$H$705,Maestros!$D$4:$E$21,2,0)),\"\",VLOOKUP(Egresados!$H$8:$H$705,Maestros!$D$4:$E$21,2,0))","v":"1121"},{"$f":"IF(OR(UPPER(Egresados!$J$8:$J$705)=\"SI\",UPPER(Egresados!$J$8:$J$705)=\"SÍ\"),1,IF(UPPER(Egresados!$J$8:$J$705)=\"NO\",0,\"\"))","v":0},{"$f":"IF(OR(UPPER(Egresados!$R$8:$R$705)=\"SI\",UPPER(Egresados!$R$8:$R$705)=\"SÍ\"),1,IF(UPPER(Egresados!$R$8:$R$705)=\"NO\",0,\"\"))","v":""},{"$f":"IF(OR(UPPER(Egresados!$S$8:$S$705)=\"SI\",UPPER(Egresados!$S$8:$S$705)=\"SÍ\"),1,IF(UPPER(Egresados!$S$8:$S$705)=\"NO\",0,\"\"))","v":""},{"$f":"IF(ISERROR(VLOOKUP(Egresados!$T$8:$T$705,Maestros!$S$31:$T$530,2,0)),\"\",VLOOKUP(Egresados!$T$8:$T$705,Maestros!$S$31:$T$530,2,0))","v":"6"},{"$f":"IF(ISERROR(VLOOKUP(U436,Maestros!$S$31:$T$530,2,0)),\"\",VLOOKUP(U436,Maestros!$S$31:$T$530,2,0))","v":"6"},{"$f":"IF(ISERROR(VLOOKUP(Egresados!$K$8:$K$705,Maestros!$A$31:$B$130,2,0)),\"\",VLOOKUP(Egresados!$K$8:$K$705,Maestros!$A$31:$B$130,2,0))","v":""},{"$f":"IF(LEN(tablaEgresados[[#This Row],[Nota promedio]])>0,ROUND(tablaEgresados[[#This Row],[Nota promedio]],2),\"\")","v":13.55}]
[429,null,"DNI","09304503","PERALTA","UCHUYA","PEDRO ALEJANDRO","MASCULINO",null,"NO",null,null,null,"2020-1","SEDE CENTRAL","ELECTRONICA",14.95,null,null,"2005-1","2005-1","20059744@une.edu.pe","20059744@une.edu.pe",3133700,976486001,{"$f":"IF(ISERROR(VLOOKUP(Egresados!$N$8:$N$705,Maestros!$D$31:$E$530,2,0)),\"\",VLOOKUP(Egresados!$N$8:$N$705,Maestros!$D$31:$E$530,2,0))","v":"223"},{"$f":"IF(ISERROR(VLOOKUP(Egresados!$O437,Maestros!$G$31:$J$1030,2,0)),\"\",VLOOKUP(Egresados!$O437,Maestros!$G$31:$J$1030,2,0))","v":"8"},{"$f":"CONCATENATE(Egresados!$Z$8:$Z$705,\"a\",Egresados!$AA$8:$AA$705)","v":"223a8"},{"$f":"IF(ISERROR(VLOOKUP(Egresados!$P437,Maestros!$L$31:$Q$1030,2,0)),\"\",VLOOKUP(Egresados!$P437,Maestros!$L$31:$Q$1030,2,0))","v":"4230"},{"$f":"CONCATENATE(Egresados!$Z$8:$Z$705,\"a\",Egresados!$AA$8:$AA$705,\"a\",Egresados!$AC$8:$AC$705)","v":"223a8a4230"},{"$f":"IF(ISERROR(VLOOKUP(Egresados!$C$8:$C$705,Maestros!$A$4:$B$21,2,0)),\"\",VLOOKUP(Egresados!$C$8:$C$705,Maestros!$A$4:$B$21,2,0))","v":"1001"},{"$f":"IF(ISERROR(VLOOKUP(Egresados!$H$8:$H$705,Maestros!$D$4:$E$21,2,0)),\"\",VLOOKUP(Egresados!$H$8:$H$705,Maestros!$D$4:$E$21,2,0))","v":"1121"},{"$f":"IF(OR(UPPER(Egresados!$J$8:$J$705)=\"SI\",UPPER(Egresados!$J$8:$J$705)=\"SÍ\"),1,IF(UPPER(Egresados!$J$8:$J$705)=\"NO\",0,\"\"))","v":0},{"$f":"IF(OR(UPPER(Egresados!$R$8:$R$705)=\"SI\",UPPER(Egresados!$R$8:$R$705)=\"SÍ\"),1,IF(UPPER(Egresados!$R$8:$R$705)=\"NO\",0,\"\"))","v":""},{"$f":"IF(OR(UPPER(Egresados!$S$8:$S$705)=\"SI\",UPPER(Egresados!$S$8:$S$705)=\"SÍ\"),1,IF(UPPER(Egresados!$S$8:$S$705)=\"NO\",0,\"\"))","v":""},{"$f":"IF(ISERROR(VLOOKUP(Egresados!$T$8:$T$705,Maestros!$S$31:$T$530,2,0)),\"\",VLOOKUP(Egresados!$T$8:$T$705,Maestros!$S$31:$T$530,2,0))","v":"22"},{"$f":"IF(ISERROR(VLOOKUP(U437,Maestros!$S$31:$T$530,2,0)),\"\",VLOOKUP(U437,Maestros!$S$31:$T$530,2,0))","v":"22"},{"$f":"IF(ISERROR(VLOOKUP(Egresados!$K$8:$K$705,Maestros!$A$31:$B$130,2,0)),\"\",VLOOKUP(Egresados!$K$8:$K$705,Maestros!$A$31:$B$130,2,0))","v":""},{"$f":"IF(LEN(tablaEgresados[[#This Row],[Nota promedio]])>0,ROUND(tablaEgresados[[#This Row],[Nota promedio]],2),\"\")","v":14.95}]
[430,null,"DNI","00440216","JINEZ","HUARICALLO","WENSESLAO","MASCULINO",null,"NO",null,null,null,"2020-1","SEDE CENTRAL","ELECTRONICA",0,null,null,"2003-1","2003-1","20035176@une.edu.pe","20035176@une.edu.pe",3133700,976486001,{"$f":"IF(ISERROR(VLOOKUP(Egresados!$N$8:$N$705,Maestros!$D$31:$E$530,2,0)),\"\",VLOOKUP(Egresados!$N$8:$N$705,Maestros!$D$31:$E$530,2,0))","v":"223"},{"$f":"IF(ISERROR(VLOOKUP(Egresados!$O438,Maestros!$G$31:$J$1030,2,0)),\"\",VLOOKUP(Egresados!$O438,Maestros!$G$31:$J$1030,2,0))","v":"8"},{"$f":"CONCATENATE(Egresados!$Z$8:$Z$705,\"a\",Egresados!$AA$8:$AA$705)","v":"223a8"},{"$f":"IF(ISERROR(VLOOKUP(Egresados!$P438,Maestros!$L$31:$Q$1030,2,0)),\"\",VLOOKUP(Egresados!$P438,Maestros!$L$31:$Q$1030,2,0))","v":"4230"},{"$f":"CONCATENATE(Egresados!$Z$8:$Z$705,\"a\",Egresados!$AA$8:$AA$705,\"a\",Egresados!$AC$8:$AC$705)","v":"223a8a4230"},{"$f":"IF(ISERROR(VLOOKUP(Egresados!$C$8:$C$705,Maestros!$A$4:$B$21,2,0)),\"\",VLOOKUP(Egresados!$C$8:$C$705,Maestros!$A$4:$B$21,2,0))","v":"1001"},{"$f":"IF(ISERROR(VLOOKUP(Egresados!$H$8:$H$705,Maestros!$D$4:$E$21,2,0)),\"\",VLOOKUP(Egresados!$H$8:$H$705,Maestros!$D$4:$E$21,2,0))","v":"1121"},{"$f":"IF(OR(UPPER(Egresados!$J$8:$J$705)=\"SI\",UPPER(Egresados!$J$8:$J$705)=\"SÍ\"),1,IF(UPPER(Egresados!$J$8:$J$705)=\"NO\",0,\"\"))","v":0},{"$f":"IF(OR(UPPER(Egresados!$R$8:$R$705)=\"SI\",UPPER(Egresados!$R$8:$R$705)=\"SÍ\"),1,IF(UPPER(Egresados!$R$8:$R$705)=\"NO\",0,\"\"))","v":""},{"$f":"IF(OR(UPPER(Egresados!$S$8:$S$705)=\"SI\",UPPER(Egresados!$S$8:$S$705)=\"SÍ\"),1,IF(UPPER(Egresados!$S$8:$S$705)=\"NO\",0,\"\"))","v":""},{"$f":"IF(ISERROR(VLOOKUP(Egresados!$T$8:$T$705,Maestros!$S$31:$T$530,2,0)),\"\",VLOOKUP(Egresados!$T$8:$T$705,Maestros!$S$31:$T$530,2,0))","v":"14"},{"$f":"IF(ISERROR(VLOOKUP(U438,Maestros!$S$31:$T$530,2,0)),\"\",VLOOKUP(U438,Maestros!$S$31:$T$530,2,0))","v":"14"},{"$f":"IF(ISERROR(VLOOKUP(Egresados!$K$8:$K$705,Maestros!$A$31:$B$130,2,0)),\"\",VLOOKUP(Egresados!$K$8:$K$705,Maestros!$A$31:$B$130,2,0))","v":""},{"$f":"IF(LEN(tablaEgresados[[#This Row],[Nota promedio]])>0,ROUND(tablaEgresados[[#This Row],[Nota promedio]],2),\"\")","v":0}]
[431,null,"DNI","70157596","BALCAZAR","DEPAZ","JHONATAN","MASCULINO",null,"NO",null,null,null,"2020-1","SEDE CENTRAL","ELECTRONICA E INFORMATICA",13.99,null,null,"2014-1","2014-1","20141499@une.edu.pe","depaz.2015.1@gmail.com",3133700,"934157346",{"$f":"IF(ISERROR(VLOOKUP(Egresados!$N$8:$N$705,Maestros!$D$31:$E$530,2,0)),\"\",VLOOKUP(Egresados!$N$8:$N$705,Maestros!$D$31:$E$530,2,0))","v":"223"},{"$f":"IF(ISERROR(VLOOKUP(Egresados!$O439,Maestros!$G$31:$J$1030,2,0)),\"\",VLOOKUP(Egresados!$O439,Maestros!$G$31:$J$1030,2,0))","v":"8"},{"$f":"CONCATENATE(Egresados!$Z$8:$Z$705,\"a\",Egresados!$AA$8:$AA$705)","v":"223a8"},{"$f":"IF(ISERROR(VLOOKUP(Egresados!$P439,Maestros!$L$31:$Q$1030,2,0)),\"\",VLOOKUP(Egresados!$P439,Maestros!$L$31:$Q$1030,2,0))","v":"321"},{"$f":"CONCATENATE(Egresados!$Z$8:$Z$705,\"a\",Egresados!$AA$8:$AA$705,\"a\",Egresados!$AC$8:$AC$705)","v":"223a8a321"},{"$f":"IF(ISERROR(VLOOKUP(Egresados!$C$8:$C$705,Maestros!$A$4:$B$21,2,0)),\"\",VLOOKUP(Egresados!$C$8:$C$705,Maestros!$A$4:$B$21,2,0))","v":"1001"},{"$f":"IF(ISERROR(VLOOKUP(Egresados!$H$8:$H$705,Maestros!$D$4:$E$21,2,0)),\"\",VLOOKUP(Egresados!$H$8:$H$705,Maestros!$D$4:$E$21,2,0))","v":"1121"},{"$f":"IF(OR(UPPER(Egresados!$J$8:$J$705)=\"SI\",UPPER(Egresados!$J$8:$J$705)=\"SÍ\"),1,IF(UPPER(Egresados!$J$8:$J$705)=\"NO\",0,\"\"))","v":0},{"$f":"IF(OR(UPPER(Egresados!$R$8:$R$705)=\"SI\",UPPER(Egresados!$R$8:$R$705)=\"SÍ\"),1,IF(UPPER(Egresados!$R$8:$R$705)=\"NO\",0,\"\"))","v":""},{"$f":"IF(OR(UPPER(Egresados!$S$8:$S$705)=\"SI\",UPPER(Egresados!$S$8:$S$705)=\"SÍ\"),1,IF(UPPER(Egresados!$S$8:$S$705)=\"NO\",0,\"\"))","v":""},{"$f":"IF(ISERROR(VLOOKUP(Egresados!$T$8:$T$705,Maestros!$S$31:$T$530,2,0)),\"\",VLOOKUP(Egresados!$T$8:$T$705,Maestros!$S$31:$T$530,2,0))","v":"58"},{"$f":"IF(ISERROR(VLOOKUP(U439,Maestros!$S$31:$T$530,2,0)),\"\",VLOOKUP(U439,Maestros!$S$31:$T$530,2,0))","v":"58"},{"$f":"IF(ISERROR(VLOOKUP(Egresados!$K$8:$K$705,Maestros!$A$31:$B$130,2,0)),\"\",VLOOKUP(Egresados!$K$8:$K$705,Maestros!$A$31:$B$130,2,0))","v":""},{"$f":"IF(LEN(tablaEgresados[[#This Row],[Nota promedio]])>0,ROUND(tablaEgresados[[#This Row],[Nota promedio]],2),\"\")","v":13.99}]
[432,null,"DNI","75577699","ICHPAS","RAMOS","ROMULO","MASCULINO",null,"NO",null,null,null,"2020-1","SEDE CENTRAL","ELECTRONICA E INFORMATICA",14.59,null,null,"2015-1","2015-1","20150971@une.edu.pe","ichpas@hotmail.com",3133700,"932079629",{"$f":"IF(ISERROR(VLOOKUP(Egresados!$N$8:$N$705,Maestros!$D$31:$E$530,2,0)),\"\",VLOOKUP(Egresados!$N$8:$N$705,Maestros!$D$31:$E$530,2,0))","v":"223"},{"$f":"IF(ISERROR(VLOOKUP(Egresados!$O440,Maestros!$G$31:$J$1030,2,0)),\"\",VLOOKUP(Egresados!$O440,Maestros!$G$31:$J$1030,2,0))","v":"8"},{"$f":"CONCATENATE(Egresados!$Z$8:$Z$705,\"a\",Egresados!$AA$8:$AA$705)","v":"223a8"},{"$f":"IF(ISERROR(VLOOKUP(Egresados!$P440,Maestros!$L$31:$Q$1030,2,0)),\"\",VLOOKUP(Egresados!$P440,Maestros!$L$31:$Q$1030,2,0))","v":"321"},{"$f":"CONCATENATE(Egresados!$Z$8:$Z$705,\"a\",Egresados!$AA$8:$AA$705,\"a\",Egresados!$AC$8:$AC$705)","v":"223a8a321"},{"$f":"IF(ISERROR(VLOOKUP(Egresados!$C$8:$C$705,Maestros!$A$4:$B$21,2,0)),\"\",VLOOKUP(Egresados!$C$8:$C$705,Maestros!$A$4:$B$21,2,0))","v":"1001"},{"$f":"IF(ISERROR(VLOOKUP(Egresados!$H$8:$H$705,Maestros!$D$4:$E$21,2,0)),\"\",VLOOKUP(Egresados!$H$8:$H$705,Maestros!$D$4:$E$21,2,0))","v":"1121"},{"$f":"IF(OR(UPPER(Egresados!$J$8:$J$705)=\"SI\",UPPER(Egresados!$J$8:$J$705)=\"SÍ\"),1,IF(UPPER(Egresados!$J$8:$J$705)=\"NO\",0,\"\"))","v":0},{"$f":"IF(OR(UPPER(Egresados!$R$8:$R$705)=\"SI\",UPPER(Egresados!$R$8:$R$705)=\"SÍ\"),1,IF(UPPER(Egresados!$R$8:$R$705)=\"NO\",0,\"\"))","v":""},{"$f":"IF(OR(UPPER(Egresados!$S$8:$S$705)=\"SI\",UPPER(Egresados!$S$8:$S$705)=\"SÍ\"),1,IF(UPPER(Egresados!$S$8:$S$705)=\"NO\",0,\"\"))","v":""},{"$f":"IF(ISERROR(VLOOKUP(Egresados!$T$8:$T$705,Maestros!$S$31:$T$530,2,0)),\"\",VLOOKUP(Egresados!$T$8:$T$705,Maestros!$S$31:$T$530,2,0))","v":"62"},{"$f":"IF(ISERROR(VLOOKUP(U440,Maestros!$S$31:$T$530,2,0)),\"\",VLOOKUP(U440,Maestros!$S$31:$T$530,2,0))","v":"62"},{"$f":"IF(ISERROR(VLOOKUP(Egresados!$K$8:$K$705,Maestros!$A$31:$B$130,2,0)),\"\",VLOOKUP(Egresados!$K$8:$K$705,Maestros!$A$31:$B$130,2,0))","v":""},{"$f":"IF(LEN(tablaEgresados[[#This Row],[Nota promedio]])>0,ROUND(tablaEgresados[[#This Row],[Nota promedio]],2),\"\")","v":14.59}]
[433,null,"DNI","47236693","PINEDA","OVALLE","FRANCIS","MASCULINO",null,"NO",null,null,null,"2020-1","SEDE CENTRAL","ELECTRONICA E INFORMATICA",15.62,null,null,"2015-1","2015-1","20150976@une.edu.pe","romeo_tlv_1001@hotmail.com",3133700,"962523464",{"$f":"IF(ISERROR(VLOOKUP(Egresados!$N$8:$N$705,Maestros!$D$31:$E$530,2,0)),\"\",VLOOKUP(Egresados!$N$8:$N$705,Maestros!$D$31:$E$530,2,0))","v":"223"},{"$f":"IF(ISERROR(VLOOKUP(Egresados!$O441,Maestros!$G$31:$J$1030,2,0)),\"\",VLOOKUP(Egresados!$O441,Maestros!$G$31:$J$1030,2,0))","v":"8"},{"$f":"CONCATENATE(Egresados!$Z$8:$Z$705,\"a\",Egresados!$AA$8:$AA$705)","v":"223a8"},{"$f":"IF(ISERROR(VLOOKUP(Egresados!$P441,Maestros!$L$31:$Q$1030,2,0)),\"\",VLOOKUP(Egresados!$P441,Maestros!$L$31:$Q$1030,2,0))","v":"321"},{"$f":"CONCATENATE(Egresados!$Z$8:$Z$705,\"a\",Egresados!$AA$8:$AA$705,\"a\",Egresados!$AC$8:$AC$705)","v":"223a8a321"},{"$f":"IF(ISERROR(VLOOKUP(Egresados!$C$8:$C$705,Maestros!$A$4:$B$21,2,0)),\"\",VLOOKUP(Egresados!$C$8:$C$705,Maestros!$A$4:$B$21,2,0))","v":"1001"},{"$f":"IF(ISERROR(VLOOKUP(Egresados!$H$8:$H$705,Maestros!$D$4:$E$21,2,0)),\"\",VLOOKUP(Egresados!$H$8:$H$705,Maestros!$D$4:$E$21,2,0))","v":"1121"},{"$f":"IF(OR(UPPER(Egresados!$J$8:$J$705)=\"SI\",UPPER(Egresados!$J$8:$J$705)=\"SÍ\"),1,IF(UPPER(Egresados!$J$8:$J$705)=\"NO\",0,\"\"))","v":0},{"$f":"IF(OR(UPPER(Egresados!$R$8:$R$705)=\"SI\",UPPER(Egresados!$R$8:$R$705)=\"SÍ\"),1,IF(UPPER(Egresados!$R$8:$R$705)=\"NO\",0,\"\"))","v":""},{"$f":"IF(OR(UPPER(Egresados!$S$8:$S$705)=\"SI\",UPPER(Egresados!$S$8:$S$705)=\"SÍ\"),1,IF(UPPER(Egresados!$S$8:$S$705)=\"NO\",0,\"\"))","v":""},{"$f":"IF(ISERROR(VLOOKUP(Egresados!$T$8:$T$705,Maestros!$S$31:$T$530,2,0)),\"\",VLOOKUP(Egresados!$T$8:$T$705,Maestros!$S$31:$T$530,2,0))","v":"62"},{"$f":"IF(ISERROR(VLOOKUP(U441,Maestros!$S$31:$T$530,2,0)),\"\",VLOOKUP(U441,Maestros!$S$31:$T$530,2,0))","v":"62"},{"$f":"IF(ISERROR(VLOOKUP(Egresados!$K$8:$K$705,Maestros!$A$31:$B$130,2,0)),\"\",VLOOKUP(Egresados!$K$8:$K$705,Maestros!$A$31:$B$130,2,0))","v":""},{"$f":"IF(LEN(tablaEgresados[[#This Row],[Nota promedio]])>0,ROUND(tablaEgresados[[#This Row],[Nota promedio]],2),\"\")","v":15.62}]
[434,null,"DNI","71897894","GARAMENDI","LEVA","DANIEL","MASCULINO",null,"NO",null,null,null,"2020-1","SEDE CENTRAL","ELECTRONICA E INFORMATICA",15.17,null,null,"2015-1","2015-1","20150968@une.edu.pe","daniel.tauro.cerodos@hotmail.com",3133700,"987758662",{"$f":"IF(ISERROR(VLOOKUP(Egresados!$N$8:$N$705,Maestros!$D$31:$E$530,2,0)),\"\",VLOOKUP(Egresados!$N$8:$N$705,Maestros!$D$31:$E$530,2,0))","v":"223"},{"$f":"IF(ISERROR(VLOOKUP(Egresados!$O442,Maestros!$G$31:$J$1030,2,0)),\"\",VLOOKUP(Egresados!$O442,Maestros!$G$31:$J$1030,2,0))","v":"8"},{"$f":"CONCATENATE(Egresados!$Z$8:$Z$705,\"a\",Egresados!$AA$8:$AA$705)","v":"223a8"},{"$f":"IF(ISERROR(VLOOKUP(Egresados!$P442,Maestros!$L$31:$Q$1030,2,0)),\"\",VLOOKUP(Egresados!$P442,Maestros!$L$31:$Q$1030,2,0))","v":"321"},{"$f":"CONCATENATE(Egresados!$Z$8:$Z$705,\"a\",Egresados!$AA$8:$AA$705,\"a\",Egresados!$AC$8:$AC$705)","v":"223a8a321"},{"$f":"IF(ISERROR(VLOOKUP(Egresados!$C$8:$C$705,Maestros!$A$4:$B$21,2,0)),\"\",VLOOKUP(Egresados!$C$8:$C$705,Maestros!$A$4:$B$21,2,0))","v":"1001"},{"$f":"IF(ISERROR(VLOOKUP(Egresados!$H$8:$H$705,Maestros!$D$4:$E$21,2,0)),\"\",VLOOKUP(Egresados!$H$8:$H$705,Maestros!$D$4:$E$21,2,0))","v":"1121"},{"$f":"IF(OR(UPPER(Egresados!$J$8:$J$705)=\"SI\",UPPER(Egresados!$J$8:$J$705)=\"SÍ\"),1,IF(UPPER(Egresados!$J$8:$J$705)=\"NO\",0,\"\"))","v":0},{"$f":"IF(OR(UPPER(Egresados!$R$8:$R$705)=\"SI\",UPPER(Egresados!$R$8:$R$705)=\"SÍ\"),1,IF(UPPER(Egresados!$R$8:$R$705)=\"NO\",0,\"\"))","v":""},{"$f":"IF(OR(UPPER(Egresados!$S$8:$S$705)=\"SI\",UPPER(Egresados!$S$8:$S$705)=\"SÍ\"),1,IF(UPPER(Egresados!$S$8:$S$705)=\"NO\",0,\"\"))","v":""},{"$f":"IF(ISERROR(VLOOKUP(Egresados!$T$8:$T$705,Maestros!$S$31:$T$530,2,0)),\"\",VLOOKUP(Egresados!$T$8:$T$705,Maestros!$S$31:$T$530,2,0))","v":"62"},{"$f":"IF(ISERROR(VLOOKUP(U442,Maestros!$S$31:$T$530,2,0)),\"\",VLOOKUP(U442,Maestros!$S$31:$T$530,2,0))","v":"62"},{"$f":"IF(ISERROR(VLOOKUP(Egresados!$K$8:$K$705,Maestros!$A$31:$B$130,2,0)),\"\",VLOOKUP(Egresados!$K$8:$K$705,Maestros!$A$31:$B$130,2,0))","v":""},{"$f":"IF(LEN(tablaEgresados[[#This Row],[Nota promedio]])>0,ROUND(tablaEgresados[[#This Row],[Nota promedio]],2),\"\")","v":15.17}]
[435,null,"DNI","48451671","FLORES","CABANILLAS","MANUEL JESÚS","MASCULINO",null,"NO",null,null,null,"2020-1","SEDE CENTRAL","ELECTRONICA E INFORMATICA",14.16,null,null,"2015-1","2015-1","20150966@une.edu.pe","ma_18_jesus.flo@hotmail.com",3133700,"922867193",{"$f":"IF(ISERROR(VLOOKUP(Egresados!$N$8:$N$705,Maestros!$D$31:$E$530,2,0)),\"\",VLOOKUP(Egresados!$N$8:$N$705,Maestros!$D$31:$E$530,2,0))","v":"223"},{"$f":"IF(ISERROR(VLOOKUP(Egresados!$O443,Maestros!$G$31:$J$1030,2,0)),\"\",VLOOKUP(Egresados!$O443,Maestros!$G$31:$J$1030,2,0))","v":"8"},{"$f":"CONCATENATE(Egresados!$Z$8:$Z$705,\"a\",Egresados!$AA$8:$AA$705)","v":"223a8"},{"$f":"IF(ISERROR(VLOOKUP(Egresados!$P443,Maestros!$L$31:$Q$1030,2,0)),\"\",VLOOKUP(Egresados!$P443,Maestros!$L$31:$Q$1030,2,0))","v":"321"},{"$f":"CONCATENATE(Egresados!$Z$8:$Z$705,\"a\",Egresados!$AA$8:$AA$705,\"a\",Egresados!$AC$8:$AC$705)","v":"223a8a321"},{"$f":"IF(ISERROR(VLOOKUP(Egresados!$C$8:$C$705,Maestros!$A$4:$B$21,2,0)),\"\",VLOOKUP(Egresados!$C$8:$C$705,Maestros!$A$4:$B$21,2,0))","v":"1001"},{"$f":"IF(ISERROR(VLOOKUP(Egresados!$H$8:$H$705,Maestros!$D$4:$E$21,2,0)),\"\",VLOOKUP(Egresados!$H$8:$H$705,Maestros!$D$4:$E$21,2,0))","v":"1121"},{"$f":"IF(OR(UPPER(Egresados!$J$8:$J$705)=\"SI\",UPPER(Egresados!$J$8:$J$705)=\"SÍ\"),1,IF(UPPER(Egresados!$J$8:$J$705)=\"NO\",0,\"\"))","v":0},{"$f":"IF(OR(UPPER(Egresados!$R$8:$R$705)=\"SI\",UPPER(Egresados!$R$8:$R$705)=\"SÍ\"),1,IF(UPPER(Egresados!$R$8:$R$705)=\"NO\",0,\"\"))","v":""},{"$f":"IF(OR(UPPER(Egresados!$S$8:$S$705)=\"SI\",UPPER(Egresados!$S$8:$S$705)=\"SÍ\"),1,IF(UPPER(Egresados!$S$8:$S$705)=\"NO\",0,\"\"))","v":""},{"$f":"IF(ISERROR(VLOOKUP(Egresados!$T$8:$T$705,Maestros!$S$31:$T$530,2,0)),\"\",VLOOKUP(Egresados!$T$8:$T$705,Maestros!$S$31:$T$530,2,0))","v":"62"},{"$f":"IF(ISERROR(VLOOKUP(U443,Maestros!$S$31:$T$530,2,0)),\"\",VLOOKUP(U443,Maestros!$S$31:$T$530,2,0))","v":"62"},{"$f":"IF(ISERROR(VLOOKUP(Egresados!$K$8:$K$705,Maestros!$A$31:$B$130,2,0)),\"\",VLOOKUP(Egresados!$K$8:$K$705,Maestros!$A$31:$B$130,2,0))","v":""},{"$f":"IF(LEN(tablaEgresados[[#This Row],[Nota promedio]])>0,ROUND(tablaEgresados[[#This Row],[Nota promedio]],2),\"\")","v":14.16}]
[436,null,"DNI","47917565","COTRINA","VILLAR","JONATHAN HENRY","MASCULINO",null,"NO",null,null,null,"2020-1","SEDE CENTRAL","ELECTRONICA E INFORMATICA",14.31,null,null,"2011-1","2011-1","20110748@une.edu.pe","jh.gotic.peoolr@gmail.com",3133700,"945132888",{"$f":"IF(ISERROR(VLOOKUP(Egresados!$N$8:$N$705,Maestros!$D$31:$E$530,2,0)),\"\",VLOOKUP(Egresados!$N$8:$N$705,Maestros!$D$31:$E$530,2,0))","v":"223"},{"$f":"IF(ISERROR(VLOOKUP(Egresados!$O444,Maestros!$G$31:$J$1030,2,0)),\"\",VLOOKUP(Egresados!$O444,Maestros!$G$31:$J$1030,2,0))","v":"8"},{"$f":"CONCATENATE(Egresados!$Z$8:$Z$705,\"a\",Egresados!$AA$8:$AA$705)","v":"223a8"},{"$f":"IF(ISERROR(VLOOKUP(Egresados!$P444,Maestros!$L$31:$Q$1030,2,0)),\"\",VLOOKUP(Egresados!$P444,Maestros!$L$31:$Q$1030,2,0))","v":"321"},{"$f":"CONCATENATE(Egresados!$Z$8:$Z$705,\"a\",Egresados!$AA$8:$AA$705,\"a\",Egresados!$AC$8:$AC$705)","v":"223a8a321"},{"$f":"IF(ISERROR(VLOOKUP(Egresados!$C$8:$C$705,Maestros!$A$4:$B$21,2,0)),\"\",VLOOKUP(Egresados!$C$8:$C$705,Maestros!$A$4:$B$21,2,0))","v":"1001"},{"$f":"IF(ISERROR(VLOOKUP(Egresados!$H$8:$H$705,Maestros!$D$4:$E$21,2,0)),\"\",VLOOKUP(Egresados!$H$8:$H$705,Maestros!$D$4:$E$21,2,0))","v":"1121"},{"$f":"IF(OR(UPPER(Egresados!$J$8:$J$705)=\"SI\",UPPER(Egresados!$J$8:$J$705)=\"SÍ\"),1,IF(UPPER(Egresados!$J$8:$J$705)=\"NO\",0,\"\"))","v":0},{"$f":"IF(OR(UPPER(Egresados!$R$8:$R$705)=\"SI\",UPPER(Egresados!$R$8:$R$705)=\"SÍ\"),1,IF(UPPER(Egresados!$R$8:$R$705)=\"NO\",0,\"\"))","v":""},{"$f":"IF(OR(UPPER(Egresados!$S$8:$S$705)=\"SI\",UPPER(Egresados!$S$8:$S$705)=\"SÍ\"),1,IF(UPPER(Egresados!$S$8:$S$705)=\"NO\",0,\"\"))","v":""},{"$f":"IF(ISERROR(VLOOKUP(Egresados!$T$8:$T$705,Maestros!$S$31:$T$530,2,0)),\"\",VLOOKUP(Egresados!$T$8:$T$705,Maestros!$S$31:$T$530,2,0))","v":"46"},{"$f":"IF(ISERROR(VLOOKUP(U444,Maestros!$S$31:$T$530,2,0)),\"\",VLOOKUP(U444,Maestros!$S$31:$T$530,2,0))","v":"46"},{"$f":"IF(ISERROR(VLOOKUP(Egresados!$K$8:$K$705,Maestros!$A$31:$B$130,2,0)),\"\",VLOOKUP(Egresados!$K$8:$K$705,Maestros!$A$31:$B$130,2,0))","v":""},{"$f":"IF(LEN(tablaEgresados[[#This Row],[Nota promedio]])>0,ROUND(tablaEgresados[[#This Row],[Nota promedio]],2),\"\")","v":14.31}]
[437,null,"DNI","70105293","PALOMINO","QUINTANA","STEVEN SANDRO","MASCULINO",null,"NO",null,null,null,"2020-1","SEDE CENTRAL","ELECTRONICA E INFORMATICA",16.190000000000001,null,null,"2015-1","2015-1","20150975@une.edu.pe","sandroescorpio_95_14@hotmail.com",3133700,"956246301",{"$f":"IF(ISERROR(VLOOKUP(Egresados!$N$8:$N$705,Maestros!$D$31:$E$530,2,0)),\"\",VLOOKUP(Egresados!$N$8:$N$705,Maestros!$D$31:$E$530,2,0))","v":"223"},{"$f":"IF(ISERROR(VLOOKUP(Egresados!$O445,Maestros!$G$31:$J$1030,2,0)),\"\",VLOOKUP(Egresados!$O445,Maestros!$G$31:$J$1030,2,0))","v":"8"},{"$f":"CONCATENATE(Egresados!$Z$8:$Z$705,\"a\",Egresados!$AA$8:$AA$705)","v":"223a8"},{"$f":"IF(ISERROR(VLOOKUP(Egresados!$P445,Maestros!$L$31:$Q$1030,2,0)),\"\",VLOOKUP(Egresados!$P445,Maestros!$L$31:$Q$1030,2,0))","v":"321"},{"$f":"CONCATENATE(Egresados!$Z$8:$Z$705,\"a\",Egresados!$AA$8:$AA$705,\"a\",Egresados!$AC$8:$AC$705)","v":"223a8a321"},{"$f":"IF(ISERROR(VLOOKUP(Egresados!$C$8:$C$705,Maestros!$A$4:$B$21,2,0)),\"\",VLOOKUP(Egresados!$C$8:$C$705,Maestros!$A$4:$B$21,2,0))","v":"1001"},{"$f":"IF(ISERROR(VLOOKUP(Egresados!$H$8:$H$705,Maestros!$D$4:$E$21,2,0)),\"\",VLOOKUP(Egresados!$H$8:$H$705,Maestros!$D$4:$E$21,2,0))","v":"1121"},{"$f":"IF(OR(UPPER(Egresados!$J$8:$J$705)=\"SI\",UPPER(Egresados!$J$8:$J$705)=\"SÍ\"),1,IF(UPPER(Egresados!$J$8:$J$705)=\"NO\",0,\"\"))","v":0},{"$f":"IF(OR(UPPER(Egresados!$R$8:$R$705)=\"SI\",UPPER(Egresados!$R$8:$R$705)=\"SÍ\"),1,IF(UPPER(Egresados!$R$8:$R$705)=\"NO\",0,\"\"))","v":""},{"$f":"IF(OR(UPPER(Egresados!$S$8:$S$705)=\"SI\",UPPER(Egresados!$S$8:$S$705)=\"SÍ\"),1,IF(UPPER(Egresados!$S$8:$S$705)=\"NO\",0,\"\"))","v":""},{"$f":"IF(ISERROR(VLOOKUP(Egresados!$T$8:$T$705,Maestros!$S$31:$T$530,2,0)),\"\",VLOOKUP(Egresados!$T$8:$T$705,Maestros!$S$31:$T$530,2,0))","v":"62"},{"$f":"IF(ISERROR(VLOOKUP(U445,Maestros!$S$31:$T$530,2,0)),\"\",VLOOKUP(U445,Maestros!$S$31:$T$530,2,0))","v":"62"},{"$f":"IF(ISERROR(VLOOKUP(Egresados!$K$8:$K$705,Maestros!$A$31:$B$130,2,0)),\"\",VLOOKUP(Egresados!$K$8:$K$705,Maestros!$A$31:$B$130,2,0))","v":""},{"$f":"IF(LEN(tablaEgresados[[#This Row],[Nota promedio]])>0,ROUND(tablaEgresados[[#This Row],[Nota promedio]],2),\"\")","v":16.190000000000001}]
[438,null,"DNI","48288057","VASQUEZ","URETA","JHONSON EFER","MASCULINO",null,"NO",null,null,null,"2020-1","SEDE CENTRAL","ELECTRONICA E INFORMATICA",15.83,null,null,"2013-1","2013-1","20130736@une.edu.pe","jhonsonelectronic@gmail.com",3133700,"963508545",{"$f":"IF(ISERROR(VLOOKUP(Egresados!$N$8:$N$705,Maestros!$D$31:$E$530,2,0)),\"\",VLOOKUP(Egresados!$N$8:$N$705,Maestros!$D$31:$E$530,2,0))","v":"223"},{"$f":"IF(ISERROR(VLOOKUP(Egresados!$O446,Maestros!$G$31:$J$1030,2,0)),\"\",VLOOKUP(Egresados!$O446,Maestros!$G$31:$J$1030,2,0))","v":"8"},{"$f":"CONCATENATE(Egresados!$Z$8:$Z$705,\"a\",Egresados!$AA$8:$AA$705)","v":"223a8"},{"$f":"IF(ISERROR(VLOOKUP(Egresados!$P446,Maestros!$L$31:$Q$1030,2,0)),\"\",VLOOKUP(Egresados!$P446,Maestros!$L$31:$Q$1030,2,0))","v":"321"},{"$f":"CONCATENATE(Egresados!$Z$8:$Z$705,\"a\",Egresados!$AA$8:$AA$705,\"a\",Egresados!$AC$8:$AC$705)","v":"223a8a321"},{"$f":"IF(ISERROR(VLOOKUP(Egresados!$C$8:$C$705,Maestros!$A$4:$B$21,2,0)),\"\",VLOOKUP(Egresados!$C$8:$C$705,Maestros!$A$4:$B$21,2,0))","v":"1001"},{"$f":"IF(ISERROR(VLOOKUP(Egresados!$H$8:$H$705,Maestros!$D$4:$E$21,2,0)),\"\",VLOOKUP(Egresados!$H$8:$H$705,Maestros!$D$4:$E$21,2,0))","v":"1121"},{"$f":"IF(OR(UPPER(Egresados!$J$8:$J$705)=\"SI\",UPPER(Egresados!$J$8:$J$705)=\"SÍ\"),1,IF(UPPER(Egresados!$J$8:$J$705)=\"NO\",0,\"\"))","v":0},{"$f":"IF(OR(UPPER(Egresados!$R$8:$R$705)=\"SI\",UPPER(Egresados!$R$8:$R$705)=\"SÍ\"),1,IF(UPPER(Egresados!$R$8:$R$705)=\"NO\",0,\"\"))","v":""},{"$f":"IF(OR(UPPER(Egresados!$S$8:$S$705)=\"SI\",UPPER(Egresados!$S$8:$S$705)=\"SÍ\"),1,IF(UPPER(Egresados!$S$8:$S$705)=\"NO\",0,\"\"))","v":""},{"$f":"IF(ISERROR(VLOOKUP(Egresados!$T$8:$T$705,Maestros!$S$31:$T$530,2,0)),\"\",VLOOKUP(Egresados!$T$8:$T$705,Maestros!$S$31:$T$530,2,0))","v":"54"},{"$f":"IF(ISERROR(VLOOKUP(U446,Maestros!$S$31:$T$530,2,0)),\"\",VLOOKUP(U446,Maestros!$S$31:$T$530,2,0))","v":"54"},{"$f":"IF(ISERROR(VLOOKUP(Egresados!$K$8:$K$705,Maestros!$A$31:$B$130,2,0)),\"\",VLOOKUP(Egresados!$K$8:$K$705,Maestros!$A$31:$B$130,2,0))","v":""},{"$f":"IF(LEN(tablaEgresados[[#This Row],[Nota promedio]])>0,ROUND(tablaEgresados[[#This Row],[Nota promedio]],2),\"\")","v":15.83}]
[439,null,"DNI",42714139,"PALIAN","GARCIA","JEFFREY ERICK","MASCULINO",null,"NO",null,null,null,"2020-1","SEDE CENTRAL","FISICA - CIENCIAS NATURALES",13.9,null,null,"2001-1","2001-1","20011136@une.edu.pe","20011136@une.edu.pe",3133700,976486001,{"$f":"IF(ISERROR(VLOOKUP(Egresados!$N$8:$N$705,Maestros!$D$31:$E$530,2,0)),\"\",VLOOKUP(Egresados!$N$8:$N$705,Maestros!$D$31:$E$530,2,0))","v":"223"},{"$f":"IF(ISERROR(VLOOKUP(Egresados!$O447,Maestros!$G$31:$J$1030,2,0)),\"\",VLOOKUP(Egresados!$O447,Maestros!$G$31:$J$1030,2,0))","v":"8"},{"$f":"CONCATENATE(Egresados!$Z$8:$Z$705,\"a\",Egresados!$AA$8:$AA$705)","v":"223a8"},{"$f":"IF(ISERROR(VLOOKUP(Egresados!$P447,Maestros!$L$31:$Q$1030,2,0)),\"\",VLOOKUP(Egresados!$P447,Maestros!$L$31:$Q$1030,2,0))","v":"4231"},{"$f":"CONCATENATE(Egresados!$Z$8:$Z$705,\"a\",Egresados!$AA$8:$AA$705,\"a\",Egresados!$AC$8:$AC$705)","v":"223a8a4231"},{"$f":"IF(ISERROR(VLOOKUP(Egresados!$C$8:$C$705,Maestros!$A$4:$B$21,2,0)),\"\",VLOOKUP(Egresados!$C$8:$C$705,Maestros!$A$4:$B$21,2,0))","v":"1001"},{"$f":"IF(ISERROR(VLOOKUP(Egresados!$H$8:$H$705,Maestros!$D$4:$E$21,2,0)),\"\",VLOOKUP(Egresados!$H$8:$H$705,Maestros!$D$4:$E$21,2,0))","v":"1121"},{"$f":"IF(OR(UPPER(Egresados!$J$8:$J$705)=\"SI\",UPPER(Egresados!$J$8:$J$705)=\"SÍ\"),1,IF(UPPER(Egresados!$J$8:$J$705)=\"NO\",0,\"\"))","v":0},{"$f":"IF(OR(UPPER(Egresados!$R$8:$R$705)=\"SI\",UPPER(Egresados!$R$8:$R$705)=\"SÍ\"),1,IF(UPPER(Egresados!$R$8:$R$705)=\"NO\",0,\"\"))","v":""},{"$f":"IF(OR(UPPER(Egresados!$S$8:$S$705)=\"SI\",UPPER(Egresados!$S$8:$S$705)=\"SÍ\"),1,IF(UPPER(Egresados!$S$8:$S$705)=\"NO\",0,\"\"))","v":""},{"$f":"IF(ISERROR(VLOOKUP(Egresados!$T$8:$T$705,Maestros!$S$31:$T$530,2,0)),\"\",VLOOKUP(Egresados!$T$8:$T$705,Maestros!$S$31:$T$530,2,0))","v":"6"},{"$f":"IF(ISERROR(VLOOKUP(U447,Maestros!$S$31:$T$530,2,0)),\"\",VLOOKUP(U447,Maestros!$S$31:$T$530,2,0))","v":"6"},{"$f":"IF(ISERROR(VLOOKUP(Egresados!$K$8:$K$705,Maestros!$A$31:$B$130,2,0)),\"\",VLOOKUP(Egresados!$K$8:$K$705,Maestros!$A$31:$B$130,2,0))","v":""},{"$f":"IF(LEN(tablaEgresados[[#This Row],[Nota promedio]])>0,ROUND(tablaEgresados[[#This Row],[Nota promedio]],2),\"\")","v":13.9}]
[440,null,"DNI","41398848","HAYA","VILCA","JOSE DANIEL","MASCULINO",null,"NO",null,null,null,"2020-1","SEDE CENTRAL","FISICA-MATEMATICA",15.38,null,null,"2009-1","2009-1","20090693@une.edu.pe","dannydaniel210@gmail.com",3133700,976486001,{"$f":"IF(ISERROR(VLOOKUP(Egresados!$N$8:$N$705,Maestros!$D$31:$E$530,2,0)),\"\",VLOOKUP(Egresados!$N$8:$N$705,Maestros!$D$31:$E$530,2,0))","v":"223"},{"$f":"IF(ISERROR(VLOOKUP(Egresados!$O448,Maestros!$G$31:$J$1030,2,0)),\"\",VLOOKUP(Egresados!$O448,Maestros!$G$31:$J$1030,2,0))","v":"8"},{"$f":"CONCATENATE(Egresados!$Z$8:$Z$705,\"a\",Egresados!$AA$8:$AA$705)","v":"223a8"},{"$f":"IF(ISERROR(VLOOKUP(Egresados!$P448,Maestros!$L$31:$Q$1030,2,0)),\"\",VLOOKUP(Egresados!$P448,Maestros!$L$31:$Q$1030,2,0))","v":"301"},{"$f":"CONCATENATE(Egresados!$Z$8:$Z$705,\"a\",Egresados!$AA$8:$AA$705,\"a\",Egresados!$AC$8:$AC$705)","v":"223a8a301"},{"$f":"IF(ISERROR(VLOOKUP(Egresados!$C$8:$C$705,Maestros!$A$4:$B$21,2,0)),\"\",VLOOKUP(Egresados!$C$8:$C$705,Maestros!$A$4:$B$21,2,0))","v":"1001"},{"$f":"IF(ISERROR(VLOOKUP(Egresados!$H$8:$H$705,Maestros!$D$4:$E$21,2,0)),\"\",VLOOKUP(Egresados!$H$8:$H$705,Maestros!$D$4:$E$21,2,0))","v":"1121"},{"$f":"IF(OR(UPPER(Egresados!$J$8:$J$705)=\"SI\",UPPER(Egresados!$J$8:$J$705)=\"SÍ\"),1,IF(UPPER(Egresados!$J$8:$J$705)=\"NO\",0,\"\"))","v":0},{"$f":"IF(OR(UPPER(Egresados!$R$8:$R$705)=\"SI\",UPPER(Egresados!$R$8:$R$705)=\"SÍ\"),1,IF(UPPER(Egresados!$R$8:$R$705)=\"NO\",0,\"\"))","v":""},{"$f":"IF(OR(UPPER(Egresados!$S$8:$S$705)=\"SI\",UPPER(Egresados!$S$8:$S$705)=\"SÍ\"),1,IF(UPPER(Egresados!$S$8:$S$705)=\"NO\",0,\"\"))","v":""},{"$f":"IF(ISERROR(VLOOKUP(Egresados!$T$8:$T$705,Maestros!$S$31:$T$530,2,0)),\"\",VLOOKUP(Egresados!$T$8:$T$705,Maestros!$S$31:$T$530,2,0))","v":"38"},{"$f":"IF(ISERROR(VLOOKUP(U448,Maestros!$S$31:$T$530,2,0)),\"\",VLOOKUP(U448,Maestros!$S$31:$T$530,2,0))","v":"38"},{"$f":"IF(ISERROR(VLOOKUP(Egresados!$K$8:$K$705,Maestros!$A$31:$B$130,2,0)),\"\",VLOOKUP(Egresados!$K$8:$K$705,Maestros!$A$31:$B$130,2,0))","v":""},{"$f":"IF(LEN(tablaEgresados[[#This Row],[Nota promedio]])>0,ROUND(tablaEgresados[[#This Row],[Nota promedio]],2),\"\")","v":15.38}]
[441,null,"DNI","41822180","ZAVALA","CALLE","PATRICIA MARY","FEMENINO",null,"NO",null,null,null,"2020-1","SEDE CENTRAL","FISICA-MATEMATICA",12.91,null,null,"2003-1","2003-1","20035679@une.edu.pe","patricia_1683@hotmail.com",3133700,976486001,{"$f":"IF(ISERROR(VLOOKUP(Egresados!$N$8:$N$705,Maestros!$D$31:$E$530,2,0)),\"\",VLOOKUP(Egresados!$N$8:$N$705,Maestros!$D$31:$E$530,2,0))","v":"223"},{"$f":"IF(ISERROR(VLOOKUP(Egresados!$O449,Maestros!$G$31:$J$1030,2,0)),\"\",VLOOKUP(Egresados!$O449,Maestros!$G$31:$J$1030,2,0))","v":"8"},{"$f":"CONCATENATE(Egresados!$Z$8:$Z$705,\"a\",Egresados!$AA$8:$AA$705)","v":"223a8"},{"$f":"IF(ISERROR(VLOOKUP(Egresados!$P449,Maestros!$L$31:$Q$1030,2,0)),\"\",VLOOKUP(Egresados!$P449,Maestros!$L$31:$Q$1030,2,0))","v":"301"},{"$f":"CONCATENATE(Egresados!$Z$8:$Z$705,\"a\",Egresados!$AA$8:$AA$705,\"a\",Egresados!$AC$8:$AC$705)","v":"223a8a301"},{"$f":"IF(ISERROR(VLOOKUP(Egresados!$C$8:$C$705,Maestros!$A$4:$B$21,2,0)),\"\",VLOOKUP(Egresados!$C$8:$C$705,Maestros!$A$4:$B$21,2,0))","v":"1001"},{"$f":"IF(ISERROR(VLOOKUP(Egresados!$H$8:$H$705,Maestros!$D$4:$E$21,2,0)),\"\",VLOOKUP(Egresados!$H$8:$H$705,Maestros!$D$4:$E$21,2,0))","v":"1122"},{"$f":"IF(OR(UPPER(Egresados!$J$8:$J$705)=\"SI\",UPPER(Egresados!$J$8:$J$705)=\"SÍ\"),1,IF(UPPER(Egresados!$J$8:$J$705)=\"NO\",0,\"\"))","v":0},{"$f":"IF(OR(UPPER(Egresados!$R$8:$R$705)=\"SI\",UPPER(Egresados!$R$8:$R$705)=\"SÍ\"),1,IF(UPPER(Egresados!$R$8:$R$705)=\"NO\",0,\"\"))","v":""},{"$f":"IF(OR(UPPER(Egresados!$S$8:$S$705)=\"SI\",UPPER(Egresados!$S$8:$S$705)=\"SÍ\"),1,IF(UPPER(Egresados!$S$8:$S$705)=\"NO\",0,\"\"))","v":""},{"$f":"IF(ISERROR(VLOOKUP(Egresados!$T$8:$T$705,Maestros!$S$31:$T$530,2,0)),\"\",VLOOKUP(Egresados!$T$8:$T$705,Maestros!$S$31:$T$530,2,0))","v":"14"},{"$f":"IF(ISERROR(VLOOKUP(U449,Maestros!$S$31:$T$530,2,0)),\"\",VLOOKUP(U449,Maestros!$S$31:$T$530,2,0))","v":"14"},{"$f":"IF(ISERROR(VLOOKUP(Egresados!$K$8:$K$705,Maestros!$A$31:$B$130,2,0)),\"\",VLOOKUP(Egresados!$K$8:$K$705,Maestros!$A$31:$B$130,2,0))","v":""},{"$f":"IF(LEN(tablaEgresados[[#This Row],[Nota promedio]])>0,ROUND(tablaEgresados[[#This Row],[Nota promedio]],2),\"\")","v":12.91}]
[442,null,"DNI","48160854","SANGAY","CCAPA","RODRIGO","MASCULINO",null,"NO",null,null,null,"2020-1","SEDE CENTRAL","FISICA-MATEMATICA",15,null,null,"2015-1","2015-1","20151460@une.edu.pe","rsangay234@gmail.com",3133700,"994270036",{"$f":"IF(ISERROR(VLOOKUP(Egresados!$N$8:$N$705,Maestros!$D$31:$E$530,2,0)),\"\",VLOOKUP(Egresados!$N$8:$N$705,Maestros!$D$31:$E$530,2,0))","v":"223"},{"$f":"IF(ISERROR(VLOOKUP(Egresados!$O450,Maestros!$G$31:$J$1030,2,0)),\"\",VLOOKUP(Egresados!$O450,Maestros!$G$31:$J$1030,2,0))","v":"8"},{"$f":"CONCATENATE(Egresados!$Z$8:$Z$705,\"a\",Egresados!$AA$8:$AA$705)","v":"223a8"},{"$f":"IF(ISERROR(VLOOKUP(Egresados!$P450,Maestros!$L$31:$Q$1030,2,0)),\"\",VLOOKUP(Egresados!$P450,Maestros!$L$31:$Q$1030,2,0))","v":"301"},{"$f":"CONCATENATE(Egresados!$Z$8:$Z$705,\"a\",Egresados!$AA$8:$AA$705,\"a\",Egresados!$AC$8:$AC$705)","v":"223a8a301"},{"$f":"IF(ISERROR(VLOOKUP(Egresados!$C$8:$C$705,Maestros!$A$4:$B$21,2,0)),\"\",VLOOKUP(Egresados!$C$8:$C$705,Maestros!$A$4:$B$21,2,0))","v":"1001"},{"$f":"IF(ISERROR(VLOOKUP(Egresados!$H$8:$H$705,Maestros!$D$4:$E$21,2,0)),\"\",VLOOKUP(Egresados!$H$8:$H$705,Maestros!$D$4:$E$21,2,0))","v":"1121"},{"$f":"IF(OR(UPPER(Egresados!$J$8:$J$705)=\"SI\",UPPER(Egresados!$J$8:$J$705)=\"SÍ\"),1,IF(UPPER(Egresados!$J$8:$J$705)=\"NO\",0,\"\"))","v":0},{"$f":"IF(OR(UPPER(Egresados!$R$8:$R$705)=\"SI\",UPPER(Egresados!$R$8:$R$705)=\"SÍ\"),1,IF(UPPER(Egresados!$R$8:$R$705)=\"NO\",0,\"\"))","v":""},{"$f":"IF(OR(UPPER(Egresados!$S$8:$S$705)=\"SI\",UPPER(Egresados!$S$8:$S$705)=\"SÍ\"),1,IF(UPPER(Egresados!$S$8:$S$705)=\"NO\",0,\"\"))","v":""},{"$f":"IF(ISERROR(VLOOKUP(Egresados!$T$8:$T$705,Maestros!$S$31:$T$530,2,0)),\"\",VLOOKUP(Egresados!$T$8:$T$705,Maestros!$S$31:$T$530,2,0))","v":"62"},{"$f":"IF(ISERROR(VLOOKUP(U450,Maestros!$S$31:$T$530,2,0)),\"\",VLOOKUP(U450,Maestros!$S$31:$T$530,2,0))","v":"62"},{"$f":"IF(ISERROR(VLOOKUP(Egresados!$K$8:$K$705,Maestros!$A$31:$B$130,2,0)),\"\",VLOOKUP(Egresados!$K$8:$K$705,Maestros!$A$31:$B$130,2,0))","v":""},{"$f":"IF(LEN(tablaEgresados[[#This Row],[Nota promedio]])>0,ROUND(tablaEgresados[[#This Row],[Nota promedio]],2),\"\")","v":15}]
[443,null,"DNI","73141961","DAZA","URETA","DANILO JESUS","MASCULINO",null,"NO",null,null,null,"2020-1","SEDE CENTRAL","FISICA-MATEMATICA",15.11,null,null,"2015-1","2015-1","20151448@une.edu.pe","daure-ddu@outlook.es",3133700,"982534364",{"$f":"IF(ISERROR(VLOOKUP(Egresados!$N$8:$N$705,Maestros!$D$31:$E$530,2,0)),\"\",VLOOKUP(Egresados!$N$8:$N$705,Maestros!$D$31:$E$530,2,0))","v":"223"},{"$f":"IF(ISERROR(VLOOKUP(Egresados!$O451,Maestros!$G$31:$J$1030,2,0)),\"\",VLOOKUP(Egresados!$O451,Maestros!$G$31:$J$1030,2,0))","v":"8"},{"$f":"CONCATENATE(Egresados!$Z$8:$Z$705,\"a\",Egresados!$AA$8:$AA$705)","v":"223a8"},{"$f":"IF(ISERROR(VLOOKUP(Egresados!$P451,Maestros!$L$31:$Q$1030,2,0)),\"\",VLOOKUP(Egresados!$P451,Maestros!$L$31:$Q$1030,2,0))","v":"301"},{"$f":"CONCATENATE(Egresados!$Z$8:$Z$705,\"a\",Egresados!$AA$8:$AA$705,\"a\",Egresados!$AC$8:$AC$705)","v":"223a8a301"},{"$f":"IF(ISERROR(VLOOKUP(Egresados!$C$8:$C$705,Maestros!$A$4:$B$21,2,0)),\"\",VLOOKUP(Egresados!$C$8:$C$705,Maestros!$A$4:$B$21,2,0))","v":"1001"},{"$f":"IF(ISERROR(VLOOKUP(Egresados!$H$8:$H$705,Maestros!$D$4:$E$21,2,0)),\"\",VLOOKUP(Egresados!$H$8:$H$705,Maestros!$D$4:$E$21,2,0))","v":"1121"},{"$f":"IF(OR(UPPER(Egresados!$J$8:$J$705)=\"SI\",UPPER(Egresados!$J$8:$J$705)=\"SÍ\"),1,IF(UPPER(Egresados!$J$8:$J$705)=\"NO\",0,\"\"))","v":0},{"$f":"IF(OR(UPPER(Egresados!$R$8:$R$705)=\"SI\",UPPER(Egresados!$R$8:$R$705)=\"SÍ\"),1,IF(UPPER(Egresados!$R$8:$R$705)=\"NO\",0,\"\"))","v":""},{"$f":"IF(OR(UPPER(Egresados!$S$8:$S$705)=\"SI\",UPPER(Egresados!$S$8:$S$705)=\"SÍ\"),1,IF(UPPER(Egresados!$S$8:$S$705)=\"NO\",0,\"\"))","v":""},{"$f":"IF(ISERROR(VLOOKUP(Egresados!$T$8:$T$705,Maestros!$S$31:$T$530,2,0)),\"\",VLOOKUP(Egresados!$T$8:$T$705,Maestros!$S$31:$T$530,2,0))","v":"62"},{"$f":"IF(ISERROR(VLOOKUP(U451,Maestros!$S$31:$T$530,2,0)),\"\",VLOOKUP(U451,Maestros!$S$31:$T$530,2,0))","v":"62"},{"$f":"IF(ISERROR(VLOOKUP(Egresados!$K$8:$K$705,Maestros!$A$31:$B$130,2,0)),\"\",VLOOKUP(Egresados!$K$8:$K$705,Maestros!$A$31:$B$130,2,0))","v":""},{"$f":"IF(LEN(tablaEgresados[[#This Row],[Nota promedio]])>0,ROUND(tablaEgresados[[#This Row],[Nota promedio]],2),\"\")","v":15.11}]
[444,null,"DNI","46965499","VIGILIO","TUCTO","GYSELA PATRICIA","FEMENINO",null,"NO",null,null,null,"2020-1","SEDE CENTRAL","FRANCES-INGLES",15.95,null,null,"2015-1","2015-1","20150674@une.edu.pe","gisela_13_02@hotmail.com",3133700,"980816768",{"$f":"IF(ISERROR(VLOOKUP(Egresados!$N$8:$N$705,Maestros!$D$31:$E$530,2,0)),\"\",VLOOKUP(Egresados!$N$8:$N$705,Maestros!$D$31:$E$530,2,0))","v":"223"},{"$f":"IF(ISERROR(VLOOKUP(Egresados!$O452,Maestros!$G$31:$J$1030,2,0)),\"\",VLOOKUP(Egresados!$O452,Maestros!$G$31:$J$1030,2,0))","v":"8"},{"$f":"CONCATENATE(Egresados!$Z$8:$Z$705,\"a\",Egresados!$AA$8:$AA$705)","v":"223a8"},{"$f":"IF(ISERROR(VLOOKUP(Egresados!$P452,Maestros!$L$31:$Q$1030,2,0)),\"\",VLOOKUP(Egresados!$P452,Maestros!$L$31:$Q$1030,2,0))","v":"336"},{"$f":"CONCATENATE(Egresados!$Z$8:$Z$705,\"a\",Egresados!$AA$8:$AA$705,\"a\",Egresados!$AC$8:$AC$705)","v":"223a8a336"},{"$f":"IF(ISERROR(VLOOKUP(Egresados!$C$8:$C$705,Maestros!$A$4:$B$21,2,0)),\"\",VLOOKUP(Egresados!$C$8:$C$705,Maestros!$A$4:$B$21,2,0))","v":"1001"},{"$f":"IF(ISERROR(VLOOKUP(Egresados!$H$8:$H$705,Maestros!$D$4:$E$21,2,0)),\"\",VLOOKUP(Egresados!$H$8:$H$705,Maestros!$D$4:$E$21,2,0))","v":"1122"},{"$f":"IF(OR(UPPER(Egresados!$J$8:$J$705)=\"SI\",UPPER(Egresados!$J$8:$J$705)=\"SÍ\"),1,IF(UPPER(Egresados!$J$8:$J$705)=\"NO\",0,\"\"))","v":0},{"$f":"IF(OR(UPPER(Egresados!$R$8:$R$705)=\"SI\",UPPER(Egresados!$R$8:$R$705)=\"SÍ\"),1,IF(UPPER(Egresados!$R$8:$R$705)=\"NO\",0,\"\"))","v":""},{"$f":"IF(OR(UPPER(Egresados!$S$8:$S$705)=\"SI\",UPPER(Egresados!$S$8:$S$705)=\"SÍ\"),1,IF(UPPER(Egresados!$S$8:$S$705)=\"NO\",0,\"\"))","v":""},{"$f":"IF(ISERROR(VLOOKUP(Egresados!$T$8:$T$705,Maestros!$S$31:$T$530,2,0)),\"\",VLOOKUP(Egresados!$T$8:$T$705,Maestros!$S$31:$T$530,2,0))","v":"62"},{"$f":"IF(ISERROR(VLOOKUP(U452,Maestros!$S$31:$T$530,2,0)),\"\",VLOOKUP(U452,Maestros!$S$31:$T$530,2,0))","v":"62"},{"$f":"IF(ISERROR(VLOOKUP(Egresados!$K$8:$K$705,Maestros!$A$31:$B$130,2,0)),\"\",VLOOKUP(Egresados!$K$8:$K$705,Maestros!$A$31:$B$130,2,0))","v":""},{"$f":"IF(LEN(tablaEgresados[[#This Row],[Nota promedio]])>0,ROUND(tablaEgresados[[#This Row],[Nota promedio]],2),\"\")","v":15.95}]
[445,null,"DNI","47282863","TITO","ALANIA","ADAYMI PATRICIA","FEMENINO",null,"NO",null,null,null,"2020-1","SEDE CENTRAL","FRANCES-INGLES",16.3,null,null,"2012-1","2012-1","20121150@une.edu.pe","patriciatito-al@hotmail.com",3133700,"983153916",{"$f":"IF(ISERROR(VLOOKUP(Egresados!$N$8:$N$705,Maestros!$D$31:$E$530,2,0)),\"\",VLOOKUP(Egresados!$N$8:$N$705,Maestros!$D$31:$E$530,2,0))","v":"223"},{"$f":"IF(ISERROR(VLOOKUP(Egresados!$O453,Maestros!$G$31:$J$1030,2,0)),\"\",VLOOKUP(Egresados!$O453,Maestros!$G$31:$J$1030,2,0))","v":"8"},{"$f":"CONCATENATE(Egresados!$Z$8:$Z$705,\"a\",Egresados!$AA$8:$AA$705)","v":"223a8"},{"$f":"IF(ISERROR(VLOOKUP(Egresados!$P453,Maestros!$L$31:$Q$1030,2,0)),\"\",VLOOKUP(Egresados!$P453,Maestros!$L$31:$Q$1030,2,0))","v":"336"},{"$f":"CONCATENATE(Egresados!$Z$8:$Z$705,\"a\",Egresados!$AA$8:$AA$705,\"a\",Egresados!$AC$8:$AC$705)","v":"223a8a336"},{"$f":"IF(ISERROR(VLOOKUP(Egresados!$C$8:$C$705,Maestros!$A$4:$B$21,2,0)),\"\",VLOOKUP(Egresados!$C$8:$C$705,Maestros!$A$4:$B$21,2,0))","v":"1001"},{"$f":"IF(ISERROR(VLOOKUP(Egresados!$H$8:$H$705,Maestros!$D$4:$E$21,2,0)),\"\",VLOOKUP(Egresados!$H$8:$H$705,Maestros!$D$4:$E$21,2,0))","v":"1122"},{"$f":"IF(OR(UPPER(Egresados!$J$8:$J$705)=\"SI\",UPPER(Egresados!$J$8:$J$705)=\"SÍ\"),1,IF(UPPER(Egresados!$J$8:$J$705)=\"NO\",0,\"\"))","v":0},{"$f":"IF(OR(UPPER(Egresados!$R$8:$R$705)=\"SI\",UPPER(Egresados!$R$8:$R$705)=\"SÍ\"),1,IF(UPPER(Egresados!$R$8:$R$705)=\"NO\",0,\"\"))","v":""},{"$f":"IF(OR(UPPER(Egresados!$S$8:$S$705)=\"SI\",UPPER(Egresados!$S$8:$S$705)=\"SÍ\"),1,IF(UPPER(Egresados!$S$8:$S$705)=\"NO\",0,\"\"))","v":""},{"$f":"IF(ISERROR(VLOOKUP(Egresados!$T$8:$T$705,Maestros!$S$31:$T$530,2,0)),\"\",VLOOKUP(Egresados!$T$8:$T$705,Maestros!$S$31:$T$530,2,0))","v":"50"},{"$f":"IF(ISERROR(VLOOKUP(U453,Maestros!$S$31:$T$530,2,0)),\"\",VLOOKUP(U453,Maestros!$S$31:$T$530,2,0))","v":"50"},{"$f":"IF(ISERROR(VLOOKUP(Egresados!$K$8:$K$705,Maestros!$A$31:$B$130,2,0)),\"\",VLOOKUP(Egresados!$K$8:$K$705,Maestros!$A$31:$B$130,2,0))","v":""},{"$f":"IF(LEN(tablaEgresados[[#This Row],[Nota promedio]])>0,ROUND(tablaEgresados[[#This Row],[Nota promedio]],2),\"\")","v":16.3}]
[446,null,"DNI","72669190","ROCHA","NORIEGA","EDINSON DULFRIDO","MASCULINO",null,"NO",null,null,null,"2020-1","SEDE CENTRAL","FUERZA MOTRIZ",13.08,null,null,"2015-1","2015-1","20150757@une.edu.pe","xedinson_1995@hotmail.com",3133700,"949173912",{"$f":"IF(ISERROR(VLOOKUP(Egresados!$N$8:$N$705,Maestros!$D$31:$E$530,2,0)),\"\",VLOOKUP(Egresados!$N$8:$N$705,Maestros!$D$31:$E$530,2,0))","v":"223"},{"$f":"IF(ISERROR(VLOOKUP(Egresados!$O454,Maestros!$G$31:$J$1030,2,0)),\"\",VLOOKUP(Egresados!$O454,Maestros!$G$31:$J$1030,2,0))","v":"8"},{"$f":"CONCATENATE(Egresados!$Z$8:$Z$705,\"a\",Egresados!$AA$8:$AA$705)","v":"223a8"},{"$f":"IF(ISERROR(VLOOKUP(Egresados!$P454,Maestros!$L$31:$Q$1030,2,0)),\"\",VLOOKUP(Egresados!$P454,Maestros!$L$31:$Q$1030,2,0))","v":"62"},{"$f":"CONCATENATE(Egresados!$Z$8:$Z$705,\"a\",Egresados!$AA$8:$AA$705,\"a\",Egresados!$AC$8:$AC$705)","v":"223a8a62"},{"$f":"IF(ISERROR(VLOOKUP(Egresados!$C$8:$C$705,Maestros!$A$4:$B$21,2,0)),\"\",VLOOKUP(Egresados!$C$8:$C$705,Maestros!$A$4:$B$21,2,0))","v":"1001"},{"$f":"IF(ISERROR(VLOOKUP(Egresados!$H$8:$H$705,Maestros!$D$4:$E$21,2,0)),\"\",VLOOKUP(Egresados!$H$8:$H$705,Maestros!$D$4:$E$21,2,0))","v":"1121"},{"$f":"IF(OR(UPPER(Egresados!$J$8:$J$705)=\"SI\",UPPER(Egresados!$J$8:$J$705)=\"SÍ\"),1,IF(UPPER(Egresados!$J$8:$J$705)=\"NO\",0,\"\"))","v":0},{"$f":"IF(OR(UPPER(Egresados!$R$8:$R$705)=\"SI\",UPPER(Egresados!$R$8:$R$705)=\"SÍ\"),1,IF(UPPER(Egresados!$R$8:$R$705)=\"NO\",0,\"\"))","v":""},{"$f":"IF(OR(UPPER(Egresados!$S$8:$S$705)=\"SI\",UPPER(Egresados!$S$8:$S$705)=\"SÍ\"),1,IF(UPPER(Egresados!$S$8:$S$705)=\"NO\",0,\"\"))","v":""},{"$f":"IF(ISERROR(VLOOKUP(Egresados!$T$8:$T$705,Maestros!$S$31:$T$530,2,0)),\"\",VLOOKUP(Egresados!$T$8:$T$705,Maestros!$S$31:$T$530,2,0))","v":"62"},{"$f":"IF(ISERROR(VLOOKUP(U454,Maestros!$S$31:$T$530,2,0)),\"\",VLOOKUP(U454,Maestros!$S$31:$T$530,2,0))","v":"62"},{"$f":"IF(ISERROR(VLOOKUP(Egresados!$K$8:$K$705,Maestros!$A$31:$B$130,2,0)),\"\",VLOOKUP(Egresados!$K$8:$K$705,Maestros!$A$31:$B$130,2,0))","v":""},{"$f":"IF(LEN(tablaEgresados[[#This Row],[Nota promedio]])>0,ROUND(tablaEgresados[[#This Row],[Nota promedio]],2),\"\")","v":13.08}]
[{"$f":"ROW()-8","v":447},null,"DNI","15726689","ZAMUDIO","NAVA","LUIS MIGUEL","MASCULINO",null,"NO",null,null,null,"2020-1","SEDE CENTRAL","FUERZA MOTRIZ",15,null,null,"2013-1","2013-1","20131996@une.edu.pe","zamlu.271@gmail.com",3133700,"980759443",{"$f":"IF(ISERROR(VLOOKUP(Egresados!$N$8:$N$705,Maestros!$D$31:$E$530,2,0)),\"\",VLOOKUP(Egresados!$N$8:$N$705,Maestros!$D$31:$E$530,2,0))","v":"223"},{"$f":"IF(ISERROR(VLOOKUP(Egresados!$O455,Maestros!$G$31:$J$1030,2,0)),\"\",VLOOKUP(Egresados!$O455,Maestros!$G$31:$J$1030,2,0))","v":"8"},{"$f":"CONCATENATE(Egresados!$Z$8:$Z$705,\"a\",Egresados!$AA$8:$AA$705)","v":"223a8"},{"$f":"IF(ISERROR(VLOOKUP(Egresados!$P455,Maestros!$L$31:$Q$1030,2,0)),\"\",VLOOKUP(Egresados!$P455,Maestros!$L$31:$Q$1030,2,0))","v":"62"},{"$f":"CONCATENATE(Egresados!$Z$8:$Z$705,\"a\",Egresados!$AA$8:$AA$705,\"a\",Egresados!$AC$8:$AC$705)","v":"223a8a62"},{"$f":"IF(ISERROR(VLOOKUP(Egresados!$C$8:$C$705,Maestros!$A$4:$B$21,2,0)),\"\",VLOOKUP(Egresados!$C$8:$C$705,Maestros!$A$4:$B$21,2,0))","v":"1001"},{"$f":"IF(ISERROR(VLOOKUP(Egresados!$H$8:$H$705,Maestros!$D$4:$E$21,2,0)),\"\",VLOOKUP(Egresados!$H$8:$H$705,Maestros!$D$4:$E$21,2,0))","v":"1121"},{"$f":"IF(OR(UPPER(Egresados!$J$8:$J$705)=\"SI\",UPPER(Egresados!$J$8:$J$705)=\"SÍ\"),1,IF(UPPER(Egresados!$J$8:$J$705)=\"NO\",0,\"\"))","v":0},{"$f":"IF(OR(UPPER(Egresados!$R$8:$R$705)=\"SI\",UPPER(Egresados!$R$8:$R$705)=\"SÍ\"),1,IF(UPPER(Egresados!$R$8:$R$705)=\"NO\",0,\"\"))","v":""},{"$f":"IF(OR(UPPER(Egresados!$S$8:$S$705)=\"SI\",UPPER(Egresados!$S$8:$S$705)=\"SÍ\"),1,IF(UPPER(Egresados!$S$8:$S$705)=\"NO\",0,\"\"))","v":""},{"$f":"IF(ISERROR(VLOOKUP(Egresados!$T$8:$T$705,Maestros!$S$31:$T$530,2,0)),\"\",VLOOKUP(Egresados!$T$8:$T$705,Maestros!$S$31:$T$530,2,0))","v":"54"},{"$f":"IF(ISERROR(VLOOKUP(U455,Maestros!$S$31:$T$530,2,0)),\"\",VLOOKUP(U455,Maestros!$S$31:$T$530,2,0))","v":"54"},{"$f":"IF(ISERROR(VLOOKUP(Egresados!$K$8:$K$705,Maestros!$A$31:$B$130,2,0)),\"\",VLOOKUP(Egresados!$K$8:$K$705,Maestros!$A$31:$B$130,2,0))","v":""},{"$f":"IF(LEN(tablaEgresados[[#This Row],[Nota promedio]])>0,ROUND(tablaEgresados[[#This Row],[Nota promedio]],2),\"\")","v":15}]
[448,null,"DNI","40358556","SORIA","PEREZ","JAVIER CIRILO","MASCULINO",null,"NO",null,null,null,"2020-1","SEDE CENTRAL","FUERZA MOTRIZ",13.86,null,null,"2003-1","2003-1","20039375@une.edu.pe","jviersoria@hotmail.com",3133700,"936252468",{"$f":"IF(ISERROR(VLOOKUP(Egresados!$N$8:$N$705,Maestros!$D$31:$E$530,2,0)),\"\",VLOOKUP(Egresados!$N$8:$N$705,Maestros!$D$31:$E$530,2,0))","v":"223"},{"$f":"IF(ISERROR(VLOOKUP(Egresados!$O456,Maestros!$G$31:$J$1030,2,0)),\"\",VLOOKUP(Egresados!$O456,Maestros!$G$31:$J$1030,2,0))","v":"8"},{"$f":"CONCATENATE(Egresados!$Z$8:$Z$705,\"a\",Egresados!$AA$8:$AA$705)","v":"223a8"},{"$f":"IF(ISERROR(VLOOKUP(Egresados!$P456,Maestros!$L$31:$Q$1030,2,0)),\"\",VLOOKUP(Egresados!$P456,Maestros!$L$31:$Q$1030,2,0))","v":"62"},{"$f":"CONCATENATE(Egresados!$Z$8:$Z$705,\"a\",Egresados!$AA$8:$AA$705,\"a\",Egresados!$AC$8:$AC$705)","v":"223a8a62"},{"$f":"IF(ISERROR(VLOOKUP(Egresados!$C$8:$C$705,Maestros!$A$4:$B$21,2,0)),\"\",VLOOKUP(Egresados!$C$8:$C$705,Maestros!$A$4:$B$21,2,0))","v":"1001"},{"$f":"IF(ISERROR(VLOOKUP(Egresados!$H$8:$H$705,Maestros!$D$4:$E$21,2,0)),\"\",VLOOKUP(Egresados!$H$8:$H$705,Maestros!$D$4:$E$21,2,0))","v":"1121"},{"$f":"IF(OR(UPPER(Egresados!$J$8:$J$705)=\"SI\",UPPER(Egresados!$J$8:$J$705)=\"SÍ\"),1,IF(UPPER(Egresados!$J$8:$J$705)=\"NO\",0,\"\"))","v":0},{"$f":"IF(OR(UPPER(Egresados!$R$8:$R$705)=\"SI\",UPPER(Egresados!$R$8:$R$705)=\"SÍ\"),1,IF(UPPER(Egresados!$R$8:$R$705)=\"NO\",0,\"\"))","v":""},{"$f":"IF(OR(UPPER(Egresados!$S$8:$S$705)=\"SI\",UPPER(Egresados!$S$8:$S$705)=\"SÍ\"),1,IF(UPPER(Egresados!$S$8:$S$705)=\"NO\",0,\"\"))","v":""},{"$f":"IF(ISERROR(VLOOKUP(Egresados!$T$8:$T$705,Maestros!$S$31:$T$530,2,0)),\"\",VLOOKUP(Egresados!$T$8:$T$705,Maestros!$S$31:$T$530,2,0))","v":"14"},{"$f":"IF(ISERROR(VLOOKUP(U456,Maestros!$S$31:$T$530,2,0)),\"\",VLOOKUP(U456,Maestros!$S$31:$T$530,2,0))","v":"14"},{"$f":"IF(ISERROR(VLOOKUP(Egresados!$K$8:$K$705,Maestros!$A$31:$B$130,2,0)),\"\",VLOOKUP(Egresados!$K$8:$K$705,Maestros!$A$31:$B$130,2,0))","v":""},{"$f":"IF(LEN(tablaEgresados[[#This Row],[Nota promedio]])>0,ROUND(tablaEgresados[[#This Row],[Nota promedio]],2),\"\")","v":13.86}]
[449,null,"DNI","15743504","CALDERON","MANRIQUE","CESAR ALEJANDRO","MASCULINO",null,"NO",null,null,null,"2020-1","SEDE CENTRAL","FUERZA MOTRIZ",14.96,null,null,"2013-1","2013-1","20131995@une.edu.pe","ccalderonm@senati.pe",3133700,"950799162",{"$f":"IF(ISERROR(VLOOKUP(Egresados!$N$8:$N$705,Maestros!$D$31:$E$530,2,0)),\"\",VLOOKUP(Egresados!$N$8:$N$705,Maestros!$D$31:$E$530,2,0))","v":"223"},{"$f":"IF(ISERROR(VLOOKUP(Egresados!$O457,Maestros!$G$31:$J$1030,2,0)),\"\",VLOOKUP(Egresados!$O457,Maestros!$G$31:$J$1030,2,0))","v":"8"},{"$f":"CONCATENATE(Egresados!$Z$8:$Z$705,\"a\",Egresados!$AA$8:$AA$705)","v":"223a8"},{"$f":"IF(ISERROR(VLOOKUP(Egresados!$P457,Maestros!$L$31:$Q$1030,2,0)),\"\",VLOOKUP(Egresados!$P457,Maestros!$L$31:$Q$1030,2,0))","v":"62"},{"$f":"CONCATENATE(Egresados!$Z$8:$Z$705,\"a\",Egresados!$AA$8:$AA$705,\"a\",Egresados!$AC$8:$AC$705)","v":"223a8a62"},{"$f":"IF(ISERROR(VLOOKUP(Egresados!$C$8:$C$705,Maestros!$A$4:$B$21,2,0)),\"\",VLOOKUP(Egresados!$C$8:$C$705,Maestros!$A$4:$B$21,2,0))","v":"1001"},{"$f":"IF(ISERROR(VLOOKUP(Egresados!$H$8:$H$705,Maestros!$D$4:$E$21,2,0)),\"\",VLOOKUP(Egresados!$H$8:$H$705,Maestros!$D$4:$E$21,2,0))","v":"1121"},{"$f":"IF(OR(UPPER(Egresados!$J$8:$J$705)=\"SI\",UPPER(Egresados!$J$8:$J$705)=\"SÍ\"),1,IF(UPPER(Egresados!$J$8:$J$705)=\"NO\",0,\"\"))","v":0},{"$f":"IF(OR(UPPER(Egresados!$R$8:$R$705)=\"SI\",UPPER(Egresados!$R$8:$R$705)=\"SÍ\"),1,IF(UPPER(Egresados!$R$8:$R$705)=\"NO\",0,\"\"))","v":""},{"$f":"IF(OR(UPPER(Egresados!$S$8:$S$705)=\"SI\",UPPER(Egresados!$S$8:$S$705)=\"SÍ\"),1,IF(UPPER(Egresados!$S$8:$S$705)=\"NO\",0,\"\"))","v":""},{"$f":"IF(ISERROR(VLOOKUP(Egresados!$T$8:$T$705,Maestros!$S$31:$T$530,2,0)),\"\",VLOOKUP(Egresados!$T$8:$T$705,Maestros!$S$31:$T$530,2,0))","v":"54"},{"$f":"IF(ISERROR(VLOOKUP(U457,Maestros!$S$31:$T$530,2,0)),\"\",VLOOKUP(U457,Maestros!$S$31:$T$530,2,0))","v":"54"},{"$f":"IF(ISERROR(VLOOKUP(Egresados!$K$8:$K$705,Maestros!$A$31:$B$130,2,0)),\"\",VLOOKUP(Egresados!$K$8:$K$705,Maestros!$A$31:$B$130,2,0))","v":""},{"$f":"IF(LEN(tablaEgresados[[#This Row],[Nota promedio]])>0,ROUND(tablaEgresados[[#This Row],[Nota promedio]],2),\"\")","v":14.96}]
[450,null,"DNI","75095815","ESPINOZA","MENDOZA","JOSE LUIS","MASCULINO",null,"NO",null,null,null,"2020-1","SEDE CENTRAL","FUERZA MOTRIZ",15.57,null,null,"2015-1","2015-1","20150750@une.edu.pe","jespinoza_95@hotmail.com",3133700,"965763218",{"$f":"IF(ISERROR(VLOOKUP(Egresados!$N$8:$N$705,Maestros!$D$31:$E$530,2,0)),\"\",VLOOKUP(Egresados!$N$8:$N$705,Maestros!$D$31:$E$530,2,0))","v":"223"},{"$f":"IF(ISERROR(VLOOKUP(Egresados!$O458,Maestros!$G$31:$J$1030,2,0)),\"\",VLOOKUP(Egresados!$O458,Maestros!$G$31:$J$1030,2,0))","v":"8"},{"$f":"CONCATENATE(Egresados!$Z$8:$Z$705,\"a\",Egresados!$AA$8:$AA$705)","v":"223a8"},{"$f":"IF(ISERROR(VLOOKUP(Egresados!$P458,Maestros!$L$31:$Q$1030,2,0)),\"\",VLOOKUP(Egresados!$P458,Maestros!$L$31:$Q$1030,2,0))","v":"62"},{"$f":"CONCATENATE(Egresados!$Z$8:$Z$705,\"a\",Egresados!$AA$8:$AA$705,\"a\",Egresados!$AC$8:$AC$705)","v":"223a8a62"},{"$f":"IF(ISERROR(VLOOKUP(Egresados!$C$8:$C$705,Maestros!$A$4:$B$21,2,0)),\"\",VLOOKUP(Egresados!$C$8:$C$705,Maestros!$A$4:$B$21,2,0))","v":"1001"},{"$f":"IF(ISERROR(VLOOKUP(Egresados!$H$8:$H$705,Maestros!$D$4:$E$21,2,0)),\"\",VLOOKUP(Egresados!$H$8:$H$705,Maestros!$D$4:$E$21,2,0))","v":"1121"},{"$f":"IF(OR(UPPER(Egresados!$J$8:$J$705)=\"SI\",UPPER(Egresados!$J$8:$J$705)=\"SÍ\"),1,IF(UPPER(Egresados!$J$8:$J$705)=\"NO\",0,\"\"))","v":0},{"$f":"IF(OR(UPPER(Egresados!$R$8:$R$705)=\"SI\",UPPER(Egresados!$R$8:$R$705)=\"SÍ\"),1,IF(UPPER(Egresados!$R$8:$R$705)=\"NO\",0,\"\"))","v":""},{"$f":"IF(OR(UPPER(Egresados!$S$8:$S$705)=\"SI\",UPPER(Egresados!$S$8:$S$705)=\"SÍ\"),1,IF(UPPER(Egresados!$S$8:$S$705)=\"NO\",0,\"\"))","v":""},{"$f":"IF(ISERROR(VLOOKUP(Egresados!$T$8:$T$705,Maestros!$S$31:$T$530,2,0)),\"\",VLOOKUP(Egresados!$T$8:$T$705,Maestros!$S$31:$T$530,2,0))","v":"62"},{"$f":"IF(ISERROR(VLOOKUP(U458,Maestros!$S$31:$T$530,2,0)),\"\",VLOOKUP(U458,Maestros!$S$31:$T$530,2,0))","v":"62"},{"$f":"IF(ISERROR(VLOOKUP(Egresados!$K$8:$K$705,Maestros!$A$31:$B$130,2,0)),\"\",VLOOKUP(Egresados!$K$8:$K$705,Maestros!$A$31:$B$130,2,0))","v":""},{"$f":"IF(LEN(tablaEgresados[[#This Row],[Nota promedio]])>0,ROUND(tablaEgresados[[#This Row],[Nota promedio]],2),\"\")","v":15.57}]
[451,null,"DNI","77481263","CCENTE","TINEO","MOISES ABELARDO","MASCULINO",null,"NO",null,null,null,"2020-1","SEDE CENTRAL","FUERZA MOTRIZ",13.26,null,null,"2014-1","2014-1","20141300@une.edu.pe","CCENTE_50@HOTMAIL.COM",3133700,"999184187",{"$f":"IF(ISERROR(VLOOKUP(Egresados!$N$8:$N$705,Maestros!$D$31:$E$530,2,0)),\"\",VLOOKUP(Egresados!$N$8:$N$705,Maestros!$D$31:$E$530,2,0))","v":"223"},{"$f":"IF(ISERROR(VLOOKUP(Egresados!$O459,Maestros!$G$31:$J$1030,2,0)),\"\",VLOOKUP(Egresados!$O459,Maestros!$G$31:$J$1030,2,0))","v":"8"},{"$f":"CONCATENATE(Egresados!$Z$8:$Z$705,\"a\",Egresados!$AA$8:$AA$705)","v":"223a8"},{"$f":"IF(ISERROR(VLOOKUP(Egresados!$P459,Maestros!$L$31:$Q$1030,2,0)),\"\",VLOOKUP(Egresados!$P459,Maestros!$L$31:$Q$1030,2,0))","v":"62"},{"$f":"CONCATENATE(Egresados!$Z$8:$Z$705,\"a\",Egresados!$AA$8:$AA$705,\"a\",Egresados!$AC$8:$AC$705)","v":"223a8a62"},{"$f":"IF(ISERROR(VLOOKUP(Egresados!$C$8:$C$705,Maestros!$A$4:$B$21,2,0)),\"\",VLOOKUP(Egresados!$C$8:$C$705,Maestros!$A$4:$B$21,2,0))","v":"1001"},{"$f":"IF(ISERROR(VLOOKUP(Egresados!$H$8:$H$705,Maestros!$D$4:$E$21,2,0)),\"\",VLOOKUP(Egresados!$H$8:$H$705,Maestros!$D$4:$E$21,2,0))","v":"1121"},{"$f":"IF(OR(UPPER(Egresados!$J$8:$J$705)=\"SI\",UPPER(Egresados!$J$8:$J$705)=\"SÍ\"),1,IF(UPPER(Egresados!$J$8:$J$705)=\"NO\",0,\"\"))","v":0},{"$f":"IF(OR(UPPER(Egresados!$R$8:$R$705)=\"SI\",UPPER(Egresados!$R$8:$R$705)=\"SÍ\"),1,IF(UPPER(Egresados!$R$8:$R$705)=\"NO\",0,\"\"))","v":""},{"$f":"IF(OR(UPPER(Egresados!$S$8:$S$705)=\"SI\",UPPER(Egresados!$S$8:$S$705)=\"SÍ\"),1,IF(UPPER(Egresados!$S$8:$S$705)=\"NO\",0,\"\"))","v":""},{"$f":"IF(ISERROR(VLOOKUP(Egresados!$T$8:$T$705,Maestros!$S$31:$T$530,2,0)),\"\",VLOOKUP(Egresados!$T$8:$T$705,Maestros!$S$31:$T$530,2,0))","v":"58"},{"$f":"IF(ISERROR(VLOOKUP(U459,Maestros!$S$31:$T$530,2,0)),\"\",VLOOKUP(U459,Maestros!$S$31:$T$530,2,0))","v":"58"},{"$f":"IF(ISERROR(VLOOKUP(Egresados!$K$8:$K$705,Maestros!$A$31:$B$130,2,0)),\"\",VLOOKUP(Egresados!$K$8:$K$705,Maestros!$A$31:$B$130,2,0))","v":""},{"$f":"IF(LEN(tablaEgresados[[#This Row],[Nota promedio]])>0,ROUND(tablaEgresados[[#This Row],[Nota promedio]],2),\"\")","v":13.26}]
[452,null,"DNI","45768729","DUEÑAS","CHIMANCA","MENEM SCOTT","MASCULINO",null,"NO",null,null,null,"2020-1","SEDE CENTRAL","FUERZA MOTRIZ",14.74,null,null,"2016-1","2016-1","20163353@une.edu.pe","menem122@hotmail.com",3133700,"952039215",{"$f":"IF(ISERROR(VLOOKUP(Egresados!$N$8:$N$705,Maestros!$D$31:$E$530,2,0)),\"\",VLOOKUP(Egresados!$N$8:$N$705,Maestros!$D$31:$E$530,2,0))","v":"223"},{"$f":"IF(ISERROR(VLOOKUP(Egresados!$O460,Maestros!$G$31:$J$1030,2,0)),\"\",VLOOKUP(Egresados!$O460,Maestros!$G$31:$J$1030,2,0))","v":"8"},{"$f":"CONCATENATE(Egresados!$Z$8:$Z$705,\"a\",Egresados!$AA$8:$AA$705)","v":"223a8"},{"$f":"IF(ISERROR(VLOOKUP(Egresados!$P460,Maestros!$L$31:$Q$1030,2,0)),\"\",VLOOKUP(Egresados!$P460,Maestros!$L$31:$Q$1030,2,0))","v":"62"},{"$f":"CONCATENATE(Egresados!$Z$8:$Z$705,\"a\",Egresados!$AA$8:$AA$705,\"a\",Egresados!$AC$8:$AC$705)","v":"223a8a62"},{"$f":"IF(ISERROR(VLOOKUP(Egresados!$C$8:$C$705,Maestros!$A$4:$B$21,2,0)),\"\",VLOOKUP(Egresados!$C$8:$C$705,Maestros!$A$4:$B$21,2,0))","v":"1001"},{"$f":"IF(ISERROR(VLOOKUP(Egresados!$H$8:$H$705,Maestros!$D$4:$E$21,2,0)),\"\",VLOOKUP(Egresados!$H$8:$H$705,Maestros!$D$4:$E$21,2,0))","v":"1121"},{"$f":"IF(OR(UPPER(Egresados!$J$8:$J$705)=\"SI\",UPPER(Egresados!$J$8:$J$705)=\"SÍ\"),1,IF(UPPER(Egresados!$J$8:$J$705)=\"NO\",0,\"\"))","v":0},{"$f":"IF(OR(UPPER(Egresados!$R$8:$R$705)=\"SI\",UPPER(Egresados!$R$8:$R$705)=\"SÍ\"),1,IF(UPPER(Egresados!$R$8:$R$705)=\"NO\",0,\"\"))","v":""},{"$f":"IF(OR(UPPER(Egresados!$S$8:$S$705)=\"SI\",UPPER(Egresados!$S$8:$S$705)=\"SÍ\"),1,IF(UPPER(Egresados!$S$8:$S$705)=\"NO\",0,\"\"))","v":""},{"$f":"IF(ISERROR(VLOOKUP(Egresados!$T$8:$T$705,Maestros!$S$31:$T$530,2,0)),\"\",VLOOKUP(Egresados!$T$8:$T$705,Maestros!$S$31:$T$530,2,0))","v":"66"},{"$f":"IF(ISERROR(VLOOKUP(U460,Maestros!$S$31:$T$530,2,0)),\"\",VLOOKUP(U460,Maestros!$S$31:$T$530,2,0))","v":"66"},{"$f":"IF(ISERROR(VLOOKUP(Egresados!$K$8:$K$705,Maestros!$A$31:$B$130,2,0)),\"\",VLOOKUP(Egresados!$K$8:$K$705,Maestros!$A$31:$B$130,2,0))","v":""},{"$f":"IF(LEN(tablaEgresados[[#This Row],[Nota promedio]])>0,ROUND(tablaEgresados[[#This Row],[Nota promedio]],2),\"\")","v":14.74}]
[453,null,"DNI","70111332","CHAFLOQUE","VILCA","ANDERSON RICHARD","MASCULINO",null,"NO",null,null,null,"2020-1","SEDE CENTRAL","FUERZA MOTRIZ",15.3,null,null,"2015-1","2015-1","20150747@une.edu.pe","anderson_love54@hotmail.com",3133700,"949209039",{"$f":"IF(ISERROR(VLOOKUP(Egresados!$N$8:$N$705,Maestros!$D$31:$E$530,2,0)),\"\",VLOOKUP(Egresados!$N$8:$N$705,Maestros!$D$31:$E$530,2,0))","v":"223"},{"$f":"IF(ISERROR(VLOOKUP(Egresados!$O461,Maestros!$G$31:$J$1030,2,0)),\"\",VLOOKUP(Egresados!$O461,Maestros!$G$31:$J$1030,2,0))","v":"8"},{"$f":"CONCATENATE(Egresados!$Z$8:$Z$705,\"a\",Egresados!$AA$8:$AA$705)","v":"223a8"},{"$f":"IF(ISERROR(VLOOKUP(Egresados!$P461,Maestros!$L$31:$Q$1030,2,0)),\"\",VLOOKUP(Egresados!$P461,Maestros!$L$31:$Q$1030,2,0))","v":"62"},{"$f":"CONCATENATE(Egresados!$Z$8:$Z$705,\"a\",Egresados!$AA$8:$AA$705,\"a\",Egresados!$AC$8:$AC$705)","v":"223a8a62"},{"$f":"IF(ISERROR(VLOOKUP(Egresados!$C$8:$C$705,Maestros!$A$4:$B$21,2,0)),\"\",VLOOKUP(Egresados!$C$8:$C$705,Maestros!$A$4:$B$21,2,0))","v":"1001"},{"$f":"IF(ISERROR(VLOOKUP(Egresados!$H$8:$H$705,Maestros!$D$4:$E$21,2,0)),\"\",VLOOKUP(Egresados!$H$8:$H$705,Maestros!$D$4:$E$21,2,0))","v":"1121"},{"$f":"IF(OR(UPPER(Egresados!$J$8:$J$705)=\"SI\",UPPER(Egresados!$J$8:$J$705)=\"SÍ\"),1,IF(UPPER(Egresados!$J$8:$J$705)=\"NO\",0,\"\"))","v":0},{"$f":"IF(OR(UPPER(Egresados!$R$8:$R$705)=\"SI\",UPPER(Egresados!$R$8:$R$705)=\"SÍ\"),1,IF(UPPER(Egresados!$R$8:$R$705)=\"NO\",0,\"\"))","v":""},{"$f":"IF(OR(UPPER(Egresados!$S$8:$S$705)=\"SI\",UPPER(Egresados!$S$8:$S$705)=\"SÍ\"),1,IF(UPPER(Egresados!$S$8:$S$705)=\"NO\",0,\"\"))","v":""},{"$f":"IF(ISERROR(VLOOKUP(Egresados!$T$8:$T$705,Maestros!$S$31:$T$530,2,0)),\"\",VLOOKUP(Egresados!$T$8:$T$705,Maestros!$S$31:$T$530,2,0))","v":"62"},{"$f":"IF(ISERROR(VLOOKUP(U461,Maestros!$S$31:$T$530,2,0)),\"\",VLOOKUP(U461,Maestros!$S$31:$T$530,2,0))","v":"62"},{"$f":"IF(ISERROR(VLOOKUP(Egresados!$K$8:$K$705,Maestros!$A$31:$B$130,2,0)),\"\",VLOOKUP(Egresados!$K$8:$K$705,Maestros!$A$31:$B$130,2,0))","v":""},{"$f":"IF(LEN(tablaEgresados[[#This Row],[Nota promedio]])>0,ROUND(tablaEgresados[[#This Row],[Nota promedio]],2),\"\")","v":15.3}]
[454,null,"DNI","25696279","ARAMBURÚ","TAMAYO","PEDRO JULIO","MASCULINO",null,"NO",null,null,null,"2020-1","SEDE CENTRAL","FUERZA MOTRIZ",13.27,null,null,"1989-1","1989-1","19897221@une.edu.pe","19897221@une.edu.pe",3133700,976486001,{"$f":"IF(ISERROR(VLOOKUP(Egresados!$N$8:$N$705,Maestros!$D$31:$E$530,2,0)),\"\",VLOOKUP(Egresados!$N$8:$N$705,Maestros!$D$31:$E$530,2,0))","v":"223"},{"$f":"IF(ISERROR(VLOOKUP(Egresados!$O462,Maestros!$G$31:$J$1030,2,0)),\"\",VLOOKUP(Egresados!$O462,Maestros!$G$31:$J$1030,2,0))","v":"8"},{"$f":"CONCATENATE(Egresados!$Z$8:$Z$705,\"a\",Egresados!$AA$8:$AA$705)","v":"223a8"},{"$f":"IF(ISERROR(VLOOKUP(Egresados!$P462,Maestros!$L$31:$Q$1030,2,0)),\"\",VLOOKUP(Egresados!$P462,Maestros!$L$31:$Q$1030,2,0))","v":"62"},{"$f":"CONCATENATE(Egresados!$Z$8:$Z$705,\"a\",Egresados!$AA$8:$AA$705,\"a\",Egresados!$AC$8:$AC$705)","v":"223a8a62"},{"$f":"IF(ISERROR(VLOOKUP(Egresados!$C$8:$C$705,Maestros!$A$4:$B$21,2,0)),\"\",VLOOKUP(Egresados!$C$8:$C$705,Maestros!$A$4:$B$21,2,0))","v":"1001"},{"$f":"IF(ISERROR(VLOOKUP(Egresados!$H$8:$H$705,Maestros!$D$4:$E$21,2,0)),\"\",VLOOKUP(Egresados!$H$8:$H$705,Maestros!$D$4:$E$21,2,0))","v":"1121"},{"$f":"IF(OR(UPPER(Egresados!$J$8:$J$705)=\"SI\",UPPER(Egresados!$J$8:$J$705)=\"SÍ\"),1,IF(UPPER(Egresados!$J$8:$J$705)=\"NO\",0,\"\"))","v":0},{"$f":"IF(OR(UPPER(Egresados!$R$8:$R$705)=\"SI\",UPPER(Egresados!$R$8:$R$705)=\"SÍ\"),1,IF(UPPER(Egresados!$R$8:$R$705)=\"NO\",0,\"\"))","v":""},{"$f":"IF(OR(UPPER(Egresados!$S$8:$S$705)=\"SI\",UPPER(Egresados!$S$8:$S$705)=\"SÍ\"),1,IF(UPPER(Egresados!$S$8:$S$705)=\"NO\",0,\"\"))","v":""},{"$f":"IF(ISERROR(VLOOKUP(Egresados!$T$8:$T$705,Maestros!$S$31:$T$530,2,0)),\"\",VLOOKUP(Egresados!$T$8:$T$705,Maestros!$S$31:$T$530,2,0))","v":"98"},{"$f":"IF(ISERROR(VLOOKUP(U462,Maestros!$S$31:$T$530,2,0)),\"\",VLOOKUP(U462,Maestros!$S$31:$T$530,2,0))","v":"98"},{"$f":"IF(ISERROR(VLOOKUP(Egresados!$K$8:$K$705,Maestros!$A$31:$B$130,2,0)),\"\",VLOOKUP(Egresados!$K$8:$K$705,Maestros!$A$31:$B$130,2,0))","v":""},{"$f":"IF(LEN(tablaEgresados[[#This Row],[Nota promedio]])>0,ROUND(tablaEgresados[[#This Row],[Nota promedio]],2),\"\")","v":13.27}]
[455,null,"DNI",40788066,"INGA","GODIÑO","MIGUEL ANGEL","MASCULINO",null,"NO",null,null,null,"2020-1","SEDE CENTRAL","FUERZA MOTRIZ",0,null,null,"2006-1","2006-1","20064534@une.edu.pe","20064534@une.edu.pe",3133700,976486001,{"$f":"IF(ISERROR(VLOOKUP(Egresados!$N$8:$N$705,Maestros!$D$31:$E$530,2,0)),\"\",VLOOKUP(Egresados!$N$8:$N$705,Maestros!$D$31:$E$530,2,0))","v":"223"},{"$f":"IF(ISERROR(VLOOKUP(Egresados!$O463,Maestros!$G$31:$J$1030,2,0)),\"\",VLOOKUP(Egresados!$O463,Maestros!$G$31:$J$1030,2,0))","v":"8"},{"$f":"CONCATENATE(Egresados!$Z$8:$Z$705,\"a\",Egresados!$AA$8:$AA$705)","v":"223a8"},{"$f":"IF(ISERROR(VLOOKUP(Egresados!$P463,Maestros!$L$31:$Q$1030,2,0)),\"\",VLOOKUP(Egresados!$P463,Maestros!$L$31:$Q$1030,2,0))","v":"62"},{"$f":"CONCATENATE(Egresados!$Z$8:$Z$705,\"a\",Egresados!$AA$8:$AA$705,\"a\",Egresados!$AC$8:$AC$705)","v":"223a8a62"},{"$f":"IF(ISERROR(VLOOKUP(Egresados!$C$8:$C$705,Maestros!$A$4:$B$21,2,0)),\"\",VLOOKUP(Egresados!$C$8:$C$705,Maestros!$A$4:$B$21,2,0))","v":"1001"},{"$f":"IF(ISERROR(VLOOKUP(Egresados!$H$8:$H$705,Maestros!$D$4:$E$21,2,0)),\"\",VLOOKUP(Egresados!$H$8:$H$705,Maestros!$D$4:$E$21,2,0))","v":"1121"},{"$f":"IF(OR(UPPER(Egresados!$J$8:$J$705)=\"SI\",UPPER(Egresados!$J$8:$J$705)=\"SÍ\"),1,IF(UPPER(Egresados!$J$8:$J$705)=\"NO\",0,\"\"))","v":0},{"$f":"IF(OR(UPPER(Egresados!$R$8:$R$705)=\"SI\",UPPER(Egresados!$R$8:$R$705)=\"SÍ\"),1,IF(UPPER(Egresados!$R$8:$R$705)=\"NO\",0,\"\"))","v":""},{"$f":"IF(OR(UPPER(Egresados!$S$8:$S$705)=\"SI\",UPPER(Egresados!$S$8:$S$705)=\"SÍ\"),1,IF(UPPER(Egresados!$S$8:$S$705)=\"NO\",0,\"\"))","v":""},{"$f":"IF(ISERROR(VLOOKUP(Egresados!$T$8:$T$705,Maestros!$S$31:$T$530,2,0)),\"\",VLOOKUP(Egresados!$T$8:$T$705,Maestros!$S$31:$T$530,2,0))","v":"26"},{"$f":"IF(ISERROR(VLOOKUP(U463,Maestros!$S$31:$T$530,2,0)),\"\",VLOOKUP(U463,Maestros!$S$31:$T$530,2,0))","v":"26"},{"$f":"IF(ISERROR(VLOOKUP(Egresados!$K$8:$K$705,Maestros!$A$31:$B$130,2,0)),\"\",VLOOKUP(Egresados!$K$8:$K$705,Maestros!$A$31:$B$130,2,0))","v":""},{"$f":"IF(LEN(tablaEgresados[[#This Row],[Nota promedio]])>0,ROUND(tablaEgresados[[#This Row],[Nota promedio]],2),\"\")","v":0}]
[456,null,"DNI","76012999","HERRERA","SULLCARAY","IRIS","FEMENINO",null,"NO",null,null,null,"2020-1","EL RIMAC","GASTRONOMIA",14.95,null,null,"2015-1","2015-1","20151314@une.edu.pe","tuunico_amor_iris@hotmail.com",3133700,"935758659",{"$f":"IF(ISERROR(VLOOKUP(Egresados!$N$8:$N$705,Maestros!$D$31:$E$530,2,0)),\"\",VLOOKUP(Egresados!$N$8:$N$705,Maestros!$D$31:$E$530,2,0))","v":"223"},{"$f":"IF(ISERROR(VLOOKUP(Egresados!$O464,Maestros!$G$31:$J$1030,2,0)),\"\",VLOOKUP(Egresados!$O464,Maestros!$G$31:$J$1030,2,0))","v":"7"},{"$f":"CONCATENATE(Egresados!$Z$8:$Z$705,\"a\",Egresados!$AA$8:$AA$705)","v":"223a7"},{"$f":"IF(ISERROR(VLOOKUP(Egresados!$P464,Maestros!$L$31:$Q$1030,2,0)),\"\",VLOOKUP(Egresados!$P464,Maestros!$L$31:$Q$1030,2,0))","v":"214"},{"$f":"CONCATENATE(Egresados!$Z$8:$Z$705,\"a\",Egresados!$AA$8:$AA$705,\"a\",Egresados!$AC$8:$AC$705)","v":"223a7a214"},{"$f":"IF(ISERROR(VLOOKUP(Egresados!$C$8:$C$705,Maestros!$A$4:$B$21,2,0)),\"\",VLOOKUP(Egresados!$C$8:$C$705,Maestros!$A$4:$B$21,2,0))","v":"1001"},{"$f":"IF(ISERROR(VLOOKUP(Egresados!$H$8:$H$705,Maestros!$D$4:$E$21,2,0)),\"\",VLOOKUP(Egresados!$H$8:$H$705,Maestros!$D$4:$E$21,2,0))","v":"1122"},{"$f":"IF(OR(UPPER(Egresados!$J$8:$J$705)=\"SI\",UPPER(Egresados!$J$8:$J$705)=\"SÍ\"),1,IF(UPPER(Egresados!$J$8:$J$705)=\"NO\",0,\"\"))","v":0},{"$f":"IF(OR(UPPER(Egresados!$R$8:$R$705)=\"SI\",UPPER(Egresados!$R$8:$R$705)=\"SÍ\"),1,IF(UPPER(Egresados!$R$8:$R$705)=\"NO\",0,\"\"))","v":""},{"$f":"IF(OR(UPPER(Egresados!$S$8:$S$705)=\"SI\",UPPER(Egresados!$S$8:$S$705)=\"SÍ\"),1,IF(UPPER(Egresados!$S$8:$S$705)=\"NO\",0,\"\"))","v":""},{"$f":"IF(ISERROR(VLOOKUP(Egresados!$T$8:$T$705,Maestros!$S$31:$T$530,2,0)),\"\",VLOOKUP(Egresados!$T$8:$T$705,Maestros!$S$31:$T$530,2,0))","v":"62"},{"$f":"IF(ISERROR(VLOOKUP(U464,Maestros!$S$31:$T$530,2,0)),\"\",VLOOKUP(U464,Maestros!$S$31:$T$530,2,0))","v":"62"},{"$f":"IF(ISERROR(VLOOKUP(Egresados!$K$8:$K$705,Maestros!$A$31:$B$130,2,0)),\"\",VLOOKUP(Egresados!$K$8:$K$705,Maestros!$A$31:$B$130,2,0))","v":""},{"$f":"IF(LEN(tablaEgresados[[#This Row],[Nota promedio]])>0,ROUND(tablaEgresados[[#This Row],[Nota promedio]],2),\"\")","v":14.95}]
[457,null,"DNI","73422345","INGA","ALIAGA","FELIX RAUL","MASCULINO",null,"NO",null,null,null,"2020-1","EL RIMAC","GASTRONOMIA",15.58,null,null,"2012-1","2012-1","20121370@une.edu.pe","yesman_inga@hotmail.com",3133700,"963210083",{"$f":"IF(ISERROR(VLOOKUP(Egresados!$N$8:$N$705,Maestros!$D$31:$E$530,2,0)),\"\",VLOOKUP(Egresados!$N$8:$N$705,Maestros!$D$31:$E$530,2,0))","v":"223"},{"$f":"IF(ISERROR(VLOOKUP(Egresados!$O465,Maestros!$G$31:$J$1030,2,0)),\"\",VLOOKUP(Egresados!$O465,Maestros!$G$31:$J$1030,2,0))","v":"7"},{"$f":"CONCATENATE(Egresados!$Z$8:$Z$705,\"a\",Egresados!$AA$8:$AA$705)","v":"223a7"},{"$f":"IF(ISERROR(VLOOKUP(Egresados!$P465,Maestros!$L$31:$Q$1030,2,0)),\"\",VLOOKUP(Egresados!$P465,Maestros!$L$31:$Q$1030,2,0))","v":"214"},{"$f":"CONCATENATE(Egresados!$Z$8:$Z$705,\"a\",Egresados!$AA$8:$AA$705,\"a\",Egresados!$AC$8:$AC$705)","v":"223a7a214"},{"$f":"IF(ISERROR(VLOOKUP(Egresados!$C$8:$C$705,Maestros!$A$4:$B$21,2,0)),\"\",VLOOKUP(Egresados!$C$8:$C$705,Maestros!$A$4:$B$21,2,0))","v":"1001"},{"$f":"IF(ISERROR(VLOOKUP(Egresados!$H$8:$H$705,Maestros!$D$4:$E$21,2,0)),\"\",VLOOKUP(Egresados!$H$8:$H$705,Maestros!$D$4:$E$21,2,0))","v":"1121"},{"$f":"IF(OR(UPPER(Egresados!$J$8:$J$705)=\"SI\",UPPER(Egresados!$J$8:$J$705)=\"SÍ\"),1,IF(UPPER(Egresados!$J$8:$J$705)=\"NO\",0,\"\"))","v":0},{"$f":"IF(OR(UPPER(Egresados!$R$8:$R$705)=\"SI\",UPPER(Egresados!$R$8:$R$705)=\"SÍ\"),1,IF(UPPER(Egresados!$R$8:$R$705)=\"NO\",0,\"\"))","v":""},{"$f":"IF(OR(UPPER(Egresados!$S$8:$S$705)=\"SI\",UPPER(Egresados!$S$8:$S$705)=\"SÍ\"),1,IF(UPPER(Egresados!$S$8:$S$705)=\"NO\",0,\"\"))","v":""},{"$f":"IF(ISERROR(VLOOKUP(Egresados!$T$8:$T$705,Maestros!$S$31:$T$530,2,0)),\"\",VLOOKUP(Egresados!$T$8:$T$705,Maestros!$S$31:$T$530,2,0))","v":"50"},{"$f":"IF(ISERROR(VLOOKUP(U465,Maestros!$S$31:$T$530,2,0)),\"\",VLOOKUP(U465,Maestros!$S$31:$T$530,2,0))","v":"50"},{"$f":"IF(ISERROR(VLOOKUP(Egresados!$K$8:$K$705,Maestros!$A$31:$B$130,2,0)),\"\",VLOOKUP(Egresados!$K$8:$K$705,Maestros!$A$31:$B$130,2,0))","v":""},{"$f":"IF(LEN(tablaEgresados[[#This Row],[Nota promedio]])>0,ROUND(tablaEgresados[[#This Row],[Nota promedio]],2),\"\")","v":15.58}]
[458,null,"DNI","21410215","GAMBOA","SANTOS","ANA BERTHA","FEMENINO",null,"NO",null,null,null,"2020-1","EL RIMAC","GASTRONOMIA",15.55,null,null,"2015-1","2015-1","20151312@une.edu.pe","annygamboa@hotmail.com",3133700,"998078737",{"$f":"IF(ISERROR(VLOOKUP(Egresados!$N$8:$N$705,Maestros!$D$31:$E$530,2,0)),\"\",VLOOKUP(Egresados!$N$8:$N$705,Maestros!$D$31:$E$530,2,0))","v":"223"},{"$f":"IF(ISERROR(VLOOKUP(Egresados!$O466,Maestros!$G$31:$J$1030,2,0)),\"\",VLOOKUP(Egresados!$O466,Maestros!$G$31:$J$1030,2,0))","v":"7"},{"$f":"CONCATENATE(Egresados!$Z$8:$Z$705,\"a\",Egresados!$AA$8:$AA$705)","v":"223a7"},{"$f":"IF(ISERROR(VLOOKUP(Egresados!$P466,Maestros!$L$31:$Q$1030,2,0)),\"\",VLOOKUP(Egresados!$P466,Maestros!$L$31:$Q$1030,2,0))","v":"214"},{"$f":"CONCATENATE(Egresados!$Z$8:$Z$705,\"a\",Egresados!$AA$8:$AA$705,\"a\",Egresados!$AC$8:$AC$705)","v":"223a7a214"},{"$f":"IF(ISERROR(VLOOKUP(Egresados!$C$8:$C$705,Maestros!$A$4:$B$21,2,0)),\"\",VLOOKUP(Egresados!$C$8:$C$705,Maestros!$A$4:$B$21,2,0))","v":"1001"},{"$f":"IF(ISERROR(VLOOKUP(Egresados!$H$8:$H$705,Maestros!$D$4:$E$21,2,0)),\"\",VLOOKUP(Egresados!$H$8:$H$705,Maestros!$D$4:$E$21,2,0))","v":"1122"},{"$f":"IF(OR(UPPER(Egresados!$J$8:$J$705)=\"SI\",UPPER(Egresados!$J$8:$J$705)=\"SÍ\"),1,IF(UPPER(Egresados!$J$8:$J$705)=\"NO\",0,\"\"))","v":0},{"$f":"IF(OR(UPPER(Egresados!$R$8:$R$705)=\"SI\",UPPER(Egresados!$R$8:$R$705)=\"SÍ\"),1,IF(UPPER(Egresados!$R$8:$R$705)=\"NO\",0,\"\"))","v":""},{"$f":"IF(OR(UPPER(Egresados!$S$8:$S$705)=\"SI\",UPPER(Egresados!$S$8:$S$705)=\"SÍ\"),1,IF(UPPER(Egresados!$S$8:$S$705)=\"NO\",0,\"\"))","v":""},{"$f":"IF(ISERROR(VLOOKUP(Egresados!$T$8:$T$705,Maestros!$S$31:$T$530,2,0)),\"\",VLOOKUP(Egresados!$T$8:$T$705,Maestros!$S$31:$T$530,2,0))","v":"62"},{"$f":"IF(ISERROR(VLOOKUP(U466,Maestros!$S$31:$T$530,2,0)),\"\",VLOOKUP(U466,Maestros!$S$31:$T$530,2,0))","v":"62"},{"$f":"IF(ISERROR(VLOOKUP(Egresados!$K$8:$K$705,Maestros!$A$31:$B$130,2,0)),\"\",VLOOKUP(Egresados!$K$8:$K$705,Maestros!$A$31:$B$130,2,0))","v":""},{"$f":"IF(LEN(tablaEgresados[[#This Row],[Nota promedio]])>0,ROUND(tablaEgresados[[#This Row],[Nota promedio]],2),\"\")","v":15.55}]
[459,null,"DNI","75673175","CAMARGO","MAMANI","SAITT ESTEFANI","FEMENINO",null,"NO",null,null,null,"2020-1","EL RIMAC","GASTRONOMIA",15.69,null,null,"2015-1","2015-1","20151296@une.edu.pe","saitt19cm@gmail.com",3133700,"991086096",{"$f":"IF(ISERROR(VLOOKUP(Egresados!$N$8:$N$705,Maestros!$D$31:$E$530,2,0)),\"\",VLOOKUP(Egresados!$N$8:$N$705,Maestros!$D$31:$E$530,2,0))","v":"223"},{"$f":"IF(ISERROR(VLOOKUP(Egresados!$O467,Maestros!$G$31:$J$1030,2,0)),\"\",VLOOKUP(Egresados!$O467,Maestros!$G$31:$J$1030,2,0))","v":"7"},{"$f":"CONCATENATE(Egresados!$Z$8:$Z$705,\"a\",Egresados!$AA$8:$AA$705)","v":"223a7"},{"$f":"IF(ISERROR(VLOOKUP(Egresados!$P467,Maestros!$L$31:$Q$1030,2,0)),\"\",VLOOKUP(Egresados!$P467,Maestros!$L$31:$Q$1030,2,0))","v":"214"},{"$f":"CONCATENATE(Egresados!$Z$8:$Z$705,\"a\",Egresados!$AA$8:$AA$705,\"a\",Egresados!$AC$8:$AC$705)","v":"223a7a214"},{"$f":"IF(ISERROR(VLOOKUP(Egresados!$C$8:$C$705,Maestros!$A$4:$B$21,2,0)),\"\",VLOOKUP(Egresados!$C$8:$C$705,Maestros!$A$4:$B$21,2,0))","v":"1001"},{"$f":"IF(ISERROR(VLOOKUP(Egresados!$H$8:$H$705,Maestros!$D$4:$E$21,2,0)),\"\",VLOOKUP(Egresados!$H$8:$H$705,Maestros!$D$4:$E$21,2,0))","v":"1122"},{"$f":"IF(OR(UPPER(Egresados!$J$8:$J$705)=\"SI\",UPPER(Egresados!$J$8:$J$705)=\"SÍ\"),1,IF(UPPER(Egresados!$J$8:$J$705)=\"NO\",0,\"\"))","v":0},{"$f":"IF(OR(UPPER(Egresados!$R$8:$R$705)=\"SI\",UPPER(Egresados!$R$8:$R$705)=\"SÍ\"),1,IF(UPPER(Egresados!$R$8:$R$705)=\"NO\",0,\"\"))","v":""},{"$f":"IF(OR(UPPER(Egresados!$S$8:$S$705)=\"SI\",UPPER(Egresados!$S$8:$S$705)=\"SÍ\"),1,IF(UPPER(Egresados!$S$8:$S$705)=\"NO\",0,\"\"))","v":""},{"$f":"IF(ISERROR(VLOOKUP(Egresados!$T$8:$T$705,Maestros!$S$31:$T$530,2,0)),\"\",VLOOKUP(Egresados!$T$8:$T$705,Maestros!$S$31:$T$530,2,0))","v":"62"},{"$f":"IF(ISERROR(VLOOKUP(U467,Maestros!$S$31:$T$530,2,0)),\"\",VLOOKUP(U467,Maestros!$S$31:$T$530,2,0))","v":"62"},{"$f":"IF(ISERROR(VLOOKUP(Egresados!$K$8:$K$705,Maestros!$A$31:$B$130,2,0)),\"\",VLOOKUP(Egresados!$K$8:$K$705,Maestros!$A$31:$B$130,2,0))","v":""},{"$f":"IF(LEN(tablaEgresados[[#This Row],[Nota promedio]])>0,ROUND(tablaEgresados[[#This Row],[Nota promedio]],2),\"\")","v":15.69}]
[460,null,"DNI","73350177","PAUCAR","CHOCCA","URBANO","MASCULINO",null,"NO",null,null,null,"2020-1","EL RIMAC","GASTRONOMIA",15.64,null,null,"2015-1","2015-1","20151329@une.edu.pe","elvis_159_20@hotmail.com",3133700,"991139541",{"$f":"IF(ISERROR(VLOOKUP(Egresados!$N$8:$N$705,Maestros!$D$31:$E$530,2,0)),\"\",VLOOKUP(Egresados!$N$8:$N$705,Maestros!$D$31:$E$530,2,0))","v":"223"},{"$f":"IF(ISERROR(VLOOKUP(Egresados!$O468,Maestros!$G$31:$J$1030,2,0)),\"\",VLOOKUP(Egresados!$O468,Maestros!$G$31:$J$1030,2,0))","v":"7"},{"$f":"CONCATENATE(Egresados!$Z$8:$Z$705,\"a\",Egresados!$AA$8:$AA$705)","v":"223a7"},{"$f":"IF(ISERROR(VLOOKUP(Egresados!$P468,Maestros!$L$31:$Q$1030,2,0)),\"\",VLOOKUP(Egresados!$P468,Maestros!$L$31:$Q$1030,2,0))","v":"214"},{"$f":"CONCATENATE(Egresados!$Z$8:$Z$705,\"a\",Egresados!$AA$8:$AA$705,\"a\",Egresados!$AC$8:$AC$705)","v":"223a7a214"},{"$f":"IF(ISERROR(VLOOKUP(Egresados!$C$8:$C$705,Maestros!$A$4:$B$21,2,0)),\"\",VLOOKUP(Egresados!$C$8:$C$705,Maestros!$A$4:$B$21,2,0))","v":"1001"},{"$f":"IF(ISERROR(VLOOKUP(Egresados!$H$8:$H$705,Maestros!$D$4:$E$21,2,0)),\"\",VLOOKUP(Egresados!$H$8:$H$705,Maestros!$D$4:$E$21,2,0))","v":"1121"},{"$f":"IF(OR(UPPER(Egresados!$J$8:$J$705)=\"SI\",UPPER(Egresados!$J$8:$J$705)=\"SÍ\"),1,IF(UPPER(Egresados!$J$8:$J$705)=\"NO\",0,\"\"))","v":0},{"$f":"IF(OR(UPPER(Egresados!$R$8:$R$705)=\"SI\",UPPER(Egresados!$R$8:$R$705)=\"SÍ\"),1,IF(UPPER(Egresados!$R$8:$R$705)=\"NO\",0,\"\"))","v":""},{"$f":"IF(OR(UPPER(Egresados!$S$8:$S$705)=\"SI\",UPPER(Egresados!$S$8:$S$705)=\"SÍ\"),1,IF(UPPER(Egresados!$S$8:$S$705)=\"NO\",0,\"\"))","v":""},{"$f":"IF(ISERROR(VLOOKUP(Egresados!$T$8:$T$705,Maestros!$S$31:$T$530,2,0)),\"\",VLOOKUP(Egresados!$T$8:$T$705,Maestros!$S$31:$T$530,2,0))","v":"62"},{"$f":"IF(ISERROR(VLOOKUP(U468,Maestros!$S$31:$T$530,2,0)),\"\",VLOOKUP(U468,Maestros!$S$31:$T$530,2,0))","v":"62"},{"$f":"IF(ISERROR(VLOOKUP(Egresados!$K$8:$K$705,Maestros!$A$31:$B$130,2,0)),\"\",VLOOKUP(Egresados!$K$8:$K$705,Maestros!$A$31:$B$130,2,0))","v":""},{"$f":"IF(LEN(tablaEgresados[[#This Row],[Nota promedio]])>0,ROUND(tablaEgresados[[#This Row],[Nota promedio]],2),\"\")","v":15.64}]
[461,null,"DNI","47450446","FALCON","SOLIS","EVA LUZ","FEMENINO",null,"NO",null,null,null,"2020-1","EL RIMAC","GASTRONOMIA",16.13,null,null,"2015-1","2015-1","20151308@une.edu.pe","eva24fs@gmail.com",3133700,"925708252",{"$f":"IF(ISERROR(VLOOKUP(Egresados!$N$8:$N$705,Maestros!$D$31:$E$530,2,0)),\"\",VLOOKUP(Egresados!$N$8:$N$705,Maestros!$D$31:$E$530,2,0))","v":"223"},{"$f":"IF(ISERROR(VLOOKUP(Egresados!$O469,Maestros!$G$31:$J$1030,2,0)),\"\",VLOOKUP(Egresados!$O469,Maestros!$G$31:$J$1030,2,0))","v":"7"},{"$f":"CONCATENATE(Egresados!$Z$8:$Z$705,\"a\",Egresados!$AA$8:$AA$705)","v":"223a7"},{"$f":"IF(ISERROR(VLOOKUP(Egresados!$P469,Maestros!$L$31:$Q$1030,2,0)),\"\",VLOOKUP(Egresados!$P469,Maestros!$L$31:$Q$1030,2,0))","v":"214"},{"$f":"CONCATENATE(Egresados!$Z$8:$Z$705,\"a\",Egresados!$AA$8:$AA$705,\"a\",Egresados!$AC$8:$AC$705)","v":"223a7a214"},{"$f":"IF(ISERROR(VLOOKUP(Egresados!$C$8:$C$705,Maestros!$A$4:$B$21,2,0)),\"\",VLOOKUP(Egresados!$C$8:$C$705,Maestros!$A$4:$B$21,2,0))","v":"1001"},{"$f":"IF(ISERROR(VLOOKUP(Egresados!$H$8:$H$705,Maestros!$D$4:$E$21,2,0)),\"\",VLOOKUP(Egresados!$H$8:$H$705,Maestros!$D$4:$E$21,2,0))","v":"1122"},{"$f":"IF(OR(UPPER(Egresados!$J$8:$J$705)=\"SI\",UPPER(Egresados!$J$8:$J$705)=\"SÍ\"),1,IF(UPPER(Egresados!$J$8:$J$705)=\"NO\",0,\"\"))","v":0},{"$f":"IF(OR(UPPER(Egresados!$R$8:$R$705)=\"SI\",UPPER(Egresados!$R$8:$R$705)=\"SÍ\"),1,IF(UPPER(Egresados!$R$8:$R$705)=\"NO\",0,\"\"))","v":""},{"$f":"IF(OR(UPPER(Egresados!$S$8:$S$705)=\"SI\",UPPER(Egresados!$S$8:$S$705)=\"SÍ\"),1,IF(UPPER(Egresados!$S$8:$S$705)=\"NO\",0,\"\"))","v":""},{"$f":"IF(ISERROR(VLOOKUP(Egresados!$T$8:$T$705,Maestros!$S$31:$T$530,2,0)),\"\",VLOOKUP(Egresados!$T$8:$T$705,Maestros!$S$31:$T$530,2,0))","v":"62"},{"$f":"IF(ISERROR(VLOOKUP(U469,Maestros!$S$31:$T$530,2,0)),\"\",VLOOKUP(U469,Maestros!$S$31:$T$530,2,0))","v":"62"},{"$f":"IF(ISERROR(VLOOKUP(Egresados!$K$8:$K$705,Maestros!$A$31:$B$130,2,0)),\"\",VLOOKUP(Egresados!$K$8:$K$705,Maestros!$A$31:$B$130,2,0))","v":""},{"$f":"IF(LEN(tablaEgresados[[#This Row],[Nota promedio]])>0,ROUND(tablaEgresados[[#This Row],[Nota promedio]],2),\"\")","v":16.13}]
[462,null,"DNI","70651257","AGUILAR","MOZA","LEYDI MARGARITA","FEMENINO",null,"NO",null,null,null,"2020-1","EL RIMAC","GASTRONOMIA",16.25,null,null,"2015-1","2015-1","20151292@une.edu.pe","pandora407forever@gmail.com",3133700,"935564714",{"$f":"IF(ISERROR(VLOOKUP(Egresados!$N$8:$N$705,Maestros!$D$31:$E$530,2,0)),\"\",VLOOKUP(Egresados!$N$8:$N$705,Maestros!$D$31:$E$530,2,0))","v":"223"},{"$f":"IF(ISERROR(VLOOKUP(Egresados!$O470,Maestros!$G$31:$J$1030,2,0)),\"\",VLOOKUP(Egresados!$O470,Maestros!$G$31:$J$1030,2,0))","v":"7"},{"$f":"CONCATENATE(Egresados!$Z$8:$Z$705,\"a\",Egresados!$AA$8:$AA$705)","v":"223a7"},{"$f":"IF(ISERROR(VLOOKUP(Egresados!$P470,Maestros!$L$31:$Q$1030,2,0)),\"\",VLOOKUP(Egresados!$P470,Maestros!$L$31:$Q$1030,2,0))","v":"214"},{"$f":"CONCATENATE(Egresados!$Z$8:$Z$705,\"a\",Egresados!$AA$8:$AA$705,\"a\",Egresados!$AC$8:$AC$705)","v":"223a7a214"},{"$f":"IF(ISERROR(VLOOKUP(Egresados!$C$8:$C$705,Maestros!$A$4:$B$21,2,0)),\"\",VLOOKUP(Egresados!$C$8:$C$705,Maestros!$A$4:$B$21,2,0))","v":"1001"},{"$f":"IF(ISERROR(VLOOKUP(Egresados!$H$8:$H$705,Maestros!$D$4:$E$21,2,0)),\"\",VLOOKUP(Egresados!$H$8:$H$705,Maestros!$D$4:$E$21,2,0))","v":"1122"},{"$f":"IF(OR(UPPER(Egresados!$J$8:$J$705)=\"SI\",UPPER(Egresados!$J$8:$J$705)=\"SÍ\"),1,IF(UPPER(Egresados!$J$8:$J$705)=\"NO\",0,\"\"))","v":0},{"$f":"IF(OR(UPPER(Egresados!$R$8:$R$705)=\"SI\",UPPER(Egresados!$R$8:$R$705)=\"SÍ\"),1,IF(UPPER(Egresados!$R$8:$R$705)=\"NO\",0,\"\"))","v":""},{"$f":"IF(OR(UPPER(Egresados!$S$8:$S$705)=\"SI\",UPPER(Egresados!$S$8:$S$705)=\"SÍ\"),1,IF(UPPER(Egresados!$S$8:$S$705)=\"NO\",0,\"\"))","v":""},{"$f":"IF(ISERROR(VLOOKUP(Egresados!$T$8:$T$705,Maestros!$S$31:$T$530,2,0)),\"\",VLOOKUP(Egresados!$T$8:$T$705,Maestros!$S$31:$T$530,2,0))","v":"62"},{"$f":"IF(ISERROR(VLOOKUP(U470,Maestros!$S$31:$T$530,2,0)),\"\",VLOOKUP(U470,Maestros!$S$31:$T$530,2,0))","v":"62"},{"$f":"IF(ISERROR(VLOOKUP(Egresados!$K$8:$K$705,Maestros!$A$31:$B$130,2,0)),\"\",VLOOKUP(Egresados!$K$8:$K$705,Maestros!$A$31:$B$130,2,0))","v":""},{"$f":"IF(LEN(tablaEgresados[[#This Row],[Nota promedio]])>0,ROUND(tablaEgresados[[#This Row],[Nota promedio]],2),\"\")","v":16.25}]
[463,null,"DNI","07669166","MOLOCHE","CELLE","MARIA AMELIA","FEMENINO",null,"NO",null,null,null,"2020-1","SEDE CENTRAL","HISTORIA-CIENCIAS SOCIALES",16.28,null,null,"2016-1","2016-1","20163142@une.edu.pe","ameliamolocheune@gmail.com",3133700,"998940250",{"$f":"IF(ISERROR(VLOOKUP(Egresados!$N$8:$N$705,Maestros!$D$31:$E$530,2,0)),\"\",VLOOKUP(Egresados!$N$8:$N$705,Maestros!$D$31:$E$530,2,0))","v":"223"},{"$f":"IF(ISERROR(VLOOKUP(Egresados!$O471,Maestros!$G$31:$J$1030,2,0)),\"\",VLOOKUP(Egresados!$O471,Maestros!$G$31:$J$1030,2,0))","v":"8"},{"$f":"CONCATENATE(Egresados!$Z$8:$Z$705,\"a\",Egresados!$AA$8:$AA$705)","v":"223a8"},{"$f":"IF(ISERROR(VLOOKUP(Egresados!$P471,Maestros!$L$31:$Q$1030,2,0)),\"\",VLOOKUP(Egresados!$P471,Maestros!$L$31:$Q$1030,2,0))","v":"383"},{"$f":"CONCATENATE(Egresados!$Z$8:$Z$705,\"a\",Egresados!$AA$8:$AA$705,\"a\",Egresados!$AC$8:$AC$705)","v":"223a8a383"},{"$f":"IF(ISERROR(VLOOKUP(Egresados!$C$8:$C$705,Maestros!$A$4:$B$21,2,0)),\"\",VLOOKUP(Egresados!$C$8:$C$705,Maestros!$A$4:$B$21,2,0))","v":"1001"},{"$f":"IF(ISERROR(VLOOKUP(Egresados!$H$8:$H$705,Maestros!$D$4:$E$21,2,0)),\"\",VLOOKUP(Egresados!$H$8:$H$705,Maestros!$D$4:$E$21,2,0))","v":"1122"},{"$f":"IF(OR(UPPER(Egresados!$J$8:$J$705)=\"SI\",UPPER(Egresados!$J$8:$J$705)=\"SÍ\"),1,IF(UPPER(Egresados!$J$8:$J$705)=\"NO\",0,\"\"))","v":0},{"$f":"IF(OR(UPPER(Egresados!$R$8:$R$705)=\"SI\",UPPER(Egresados!$R$8:$R$705)=\"SÍ\"),1,IF(UPPER(Egresados!$R$8:$R$705)=\"NO\",0,\"\"))","v":""},{"$f":"IF(OR(UPPER(Egresados!$S$8:$S$705)=\"SI\",UPPER(Egresados!$S$8:$S$705)=\"SÍ\"),1,IF(UPPER(Egresados!$S$8:$S$705)=\"NO\",0,\"\"))","v":""},{"$f":"IF(ISERROR(VLOOKUP(Egresados!$T$8:$T$705,Maestros!$S$31:$T$530,2,0)),\"\",VLOOKUP(Egresados!$T$8:$T$705,Maestros!$S$31:$T$530,2,0))","v":"66"},{"$f":"IF(ISERROR(VLOOKUP(U471,Maestros!$S$31:$T$530,2,0)),\"\",VLOOKUP(U471,Maestros!$S$31:$T$530,2,0))","v":"66"},{"$f":"IF(ISERROR(VLOOKUP(Egresados!$K$8:$K$705,Maestros!$A$31:$B$130,2,0)),\"\",VLOOKUP(Egresados!$K$8:$K$705,Maestros!$A$31:$B$130,2,0))","v":""},{"$f":"IF(LEN(tablaEgresados[[#This Row],[Nota promedio]])>0,ROUND(tablaEgresados[[#This Row],[Nota promedio]],2),\"\")","v":16.28}]
[464,null,"DNI","08920215","MEJIA","ZUÑIGA","CESAR ARTURO","MASCULINO",null,"NO",null,null,null,"2020-1","SEDE CENTRAL","HISTORIA-CIENCIAS SOCIALES",15.15,null,null,"2000-1","2000-1","20008667@une.edu.pe","20008667@une.edu.pe",3133700,976486001,{"$f":"IF(ISERROR(VLOOKUP(Egresados!$N$8:$N$705,Maestros!$D$31:$E$530,2,0)),\"\",VLOOKUP(Egresados!$N$8:$N$705,Maestros!$D$31:$E$530,2,0))","v":"223"},{"$f":"IF(ISERROR(VLOOKUP(Egresados!$O472,Maestros!$G$31:$J$1030,2,0)),\"\",VLOOKUP(Egresados!$O472,Maestros!$G$31:$J$1030,2,0))","v":"8"},{"$f":"CONCATENATE(Egresados!$Z$8:$Z$705,\"a\",Egresados!$AA$8:$AA$705)","v":"223a8"},{"$f":"IF(ISERROR(VLOOKUP(Egresados!$P472,Maestros!$L$31:$Q$1030,2,0)),\"\",VLOOKUP(Egresados!$P472,Maestros!$L$31:$Q$1030,2,0))","v":"383"},{"$f":"CONCATENATE(Egresados!$Z$8:$Z$705,\"a\",Egresados!$AA$8:$AA$705,\"a\",Egresados!$AC$8:$AC$705)","v":"223a8a383"},{"$f":"IF(ISERROR(VLOOKUP(Egresados!$C$8:$C$705,Maestros!$A$4:$B$21,2,0)),\"\",VLOOKUP(Egresados!$C$8:$C$705,Maestros!$A$4:$B$21,2,0))","v":"1001"},{"$f":"IF(ISERROR(VLOOKUP(Egresados!$H$8:$H$705,Maestros!$D$4:$E$21,2,0)),\"\",VLOOKUP(Egresados!$H$8:$H$705,Maestros!$D$4:$E$21,2,0))","v":"1121"},{"$f":"IF(OR(UPPER(Egresados!$J$8:$J$705)=\"SI\",UPPER(Egresados!$J$8:$J$705)=\"SÍ\"),1,IF(UPPER(Egresados!$J$8:$J$705)=\"NO\",0,\"\"))","v":0},{"$f":"IF(OR(UPPER(Egresados!$R$8:$R$705)=\"SI\",UPPER(Egresados!$R$8:$R$705)=\"SÍ\"),1,IF(UPPER(Egresados!$R$8:$R$705)=\"NO\",0,\"\"))","v":""},{"$f":"IF(OR(UPPER(Egresados!$S$8:$S$705)=\"SI\",UPPER(Egresados!$S$8:$S$705)=\"SÍ\"),1,IF(UPPER(Egresados!$S$8:$S$705)=\"NO\",0,\"\"))","v":""},{"$f":"IF(ISERROR(VLOOKUP(Egresados!$T$8:$T$705,Maestros!$S$31:$T$530,2,0)),\"\",VLOOKUP(Egresados!$T$8:$T$705,Maestros!$S$31:$T$530,2,0))","v":"2"},{"$f":"IF(ISERROR(VLOOKUP(U472,Maestros!$S$31:$T$530,2,0)),\"\",VLOOKUP(U472,Maestros!$S$31:$T$530,2,0))","v":"2"},{"$f":"IF(ISERROR(VLOOKUP(Egresados!$K$8:$K$705,Maestros!$A$31:$B$130,2,0)),\"\",VLOOKUP(Egresados!$K$8:$K$705,Maestros!$A$31:$B$130,2,0))","v":""},{"$f":"IF(LEN(tablaEgresados[[#This Row],[Nota promedio]])>0,ROUND(tablaEgresados[[#This Row],[Nota promedio]],2),\"\")","v":15.15}]
[465,null,"DNI","31620550","CHAVEZ","MAYHUAY","ELISA CANTALICIA","FEMENINO",null,"NO",null,null,null,"2020-1","SEDE CENTRAL","HISTORIA-CIENCIAS SOCIALES",15.01,null,null,"2010-1","2010-1","20106174@une.edu.pe","20106174@une.edu.pe",3133700,976486001,{"$f":"IF(ISERROR(VLOOKUP(Egresados!$N$8:$N$705,Maestros!$D$31:$E$530,2,0)),\"\",VLOOKUP(Egresados!$N$8:$N$705,Maestros!$D$31:$E$530,2,0))","v":"223"},{"$f":"IF(ISERROR(VLOOKUP(Egresados!$O473,Maestros!$G$31:$J$1030,2,0)),\"\",VLOOKUP(Egresados!$O473,Maestros!$G$31:$J$1030,2,0))","v":"8"},{"$f":"CONCATENATE(Egresados!$Z$8:$Z$705,\"a\",Egresados!$AA$8:$AA$705)","v":"223a8"},{"$f":"IF(ISERROR(VLOOKUP(Egresados!$P473,Maestros!$L$31:$Q$1030,2,0)),\"\",VLOOKUP(Egresados!$P473,Maestros!$L$31:$Q$1030,2,0))","v":"383"},{"$f":"CONCATENATE(Egresados!$Z$8:$Z$705,\"a\",Egresados!$AA$8:$AA$705,\"a\",Egresados!$AC$8:$AC$705)","v":"223a8a383"},{"$f":"IF(ISERROR(VLOOKUP(Egresados!$C$8:$C$705,Maestros!$A$4:$B$21,2,0)),\"\",VLOOKUP(Egresados!$C$8:$C$705,Maestros!$A$4:$B$21,2,0))","v":"1001"},{"$f":"IF(ISERROR(VLOOKUP(Egresados!$H$8:$H$705,Maestros!$D$4:$E$21,2,0)),\"\",VLOOKUP(Egresados!$H$8:$H$705,Maestros!$D$4:$E$21,2,0))","v":"1122"},{"$f":"IF(OR(UPPER(Egresados!$J$8:$J$705)=\"SI\",UPPER(Egresados!$J$8:$J$705)=\"SÍ\"),1,IF(UPPER(Egresados!$J$8:$J$705)=\"NO\",0,\"\"))","v":0},{"$f":"IF(OR(UPPER(Egresados!$R$8:$R$705)=\"SI\",UPPER(Egresados!$R$8:$R$705)=\"SÍ\"),1,IF(UPPER(Egresados!$R$8:$R$705)=\"NO\",0,\"\"))","v":""},{"$f":"IF(OR(UPPER(Egresados!$S$8:$S$705)=\"SI\",UPPER(Egresados!$S$8:$S$705)=\"SÍ\"),1,IF(UPPER(Egresados!$S$8:$S$705)=\"NO\",0,\"\"))","v":""},{"$f":"IF(ISERROR(VLOOKUP(Egresados!$T$8:$T$705,Maestros!$S$31:$T$530,2,0)),\"\",VLOOKUP(Egresados!$T$8:$T$705,Maestros!$S$31:$T$530,2,0))","v":"42"},{"$f":"IF(ISERROR(VLOOKUP(U473,Maestros!$S$31:$T$530,2,0)),\"\",VLOOKUP(U473,Maestros!$S$31:$T$530,2,0))","v":"42"},{"$f":"IF(ISERROR(VLOOKUP(Egresados!$K$8:$K$705,Maestros!$A$31:$B$130,2,0)),\"\",VLOOKUP(Egresados!$K$8:$K$705,Maestros!$A$31:$B$130,2,0))","v":""},{"$f":"IF(LEN(tablaEgresados[[#This Row],[Nota promedio]])>0,ROUND(tablaEgresados[[#This Row],[Nota promedio]],2),\"\")","v":15.01}]
[466,null,"DNI","22244876","MARQUEZ","CHANG","VICTORIA DEL ROSARIO","FEMENINO",null,"NO",null,null,null,"2020-1","SEDE CENTRAL","HISTORIA-CIENCIAS SOCIALES",16.61,null,null,"2012-1","2012-1","20125245@une.edu.pe","20125245@une.edu.pe",3133700,976486001,{"$f":"IF(ISERROR(VLOOKUP(Egresados!$N$8:$N$705,Maestros!$D$31:$E$530,2,0)),\"\",VLOOKUP(Egresados!$N$8:$N$705,Maestros!$D$31:$E$530,2,0))","v":"223"},{"$f":"IF(ISERROR(VLOOKUP(Egresados!$O474,Maestros!$G$31:$J$1030,2,0)),\"\",VLOOKUP(Egresados!$O474,Maestros!$G$31:$J$1030,2,0))","v":"8"},{"$f":"CONCATENATE(Egresados!$Z$8:$Z$705,\"a\",Egresados!$AA$8:$AA$705)","v":"223a8"},{"$f":"IF(ISERROR(VLOOKUP(Egresados!$P474,Maestros!$L$31:$Q$1030,2,0)),\"\",VLOOKUP(Egresados!$P474,Maestros!$L$31:$Q$1030,2,0))","v":"383"},{"$f":"CONCATENATE(Egresados!$Z$8:$Z$705,\"a\",Egresados!$AA$8:$AA$705,\"a\",Egresados!$AC$8:$AC$705)","v":"223a8a383"},{"$f":"IF(ISERROR(VLOOKUP(Egresados!$C$8:$C$705,Maestros!$A$4:$B$21,2,0)),\"\",VLOOKUP(Egresados!$C$8:$C$705,Maestros!$A$4:$B$21,2,0))","v":"1001"},{"$f":"IF(ISERROR(VLOOKUP(Egresados!$H$8:$H$705,Maestros!$D$4:$E$21,2,0)),\"\",VLOOKUP(Egresados!$H$8:$H$705,Maestros!$D$4:$E$21,2,0))","v":"1122"},{"$f":"IF(OR(UPPER(Egresados!$J$8:$J$705)=\"SI\",UPPER(Egresados!$J$8:$J$705)=\"SÍ\"),1,IF(UPPER(Egresados!$J$8:$J$705)=\"NO\",0,\"\"))","v":0},{"$f":"IF(OR(UPPER(Egresados!$R$8:$R$705)=\"SI\",UPPER(Egresados!$R$8:$R$705)=\"SÍ\"),1,IF(UPPER(Egresados!$R$8:$R$705)=\"NO\",0,\"\"))","v":""},{"$f":"IF(OR(UPPER(Egresados!$S$8:$S$705)=\"SI\",UPPER(Egresados!$S$8:$S$705)=\"SÍ\"),1,IF(UPPER(Egresados!$S$8:$S$705)=\"NO\",0,\"\"))","v":""},{"$f":"IF(ISERROR(VLOOKUP(Egresados!$T$8:$T$705,Maestros!$S$31:$T$530,2,0)),\"\",VLOOKUP(Egresados!$T$8:$T$705,Maestros!$S$31:$T$530,2,0))","v":"50"},{"$f":"IF(ISERROR(VLOOKUP(U474,Maestros!$S$31:$T$530,2,0)),\"\",VLOOKUP(U474,Maestros!$S$31:$T$530,2,0))","v":"50"},{"$f":"IF(ISERROR(VLOOKUP(Egresados!$K$8:$K$705,Maestros!$A$31:$B$130,2,0)),\"\",VLOOKUP(Egresados!$K$8:$K$705,Maestros!$A$31:$B$130,2,0))","v":""},{"$f":"IF(LEN(tablaEgresados[[#This Row],[Nota promedio]])>0,ROUND(tablaEgresados[[#This Row],[Nota promedio]],2),\"\")","v":16.61}]
[467,null,"DNI",32490900,"LAVADO","ACERO","EPIFANIO RUFINO","MASCULINO",null,"NO",null,null,null,"2020-1","SEDE CENTRAL","HISTORIA-CIENCIAS SOCIALES",13.83,null,null,"2004-1","2004-1","20049608@une.edu.pe","20049608@une.edu.pe",3133700,976486001,{"$f":"IF(ISERROR(VLOOKUP(Egresados!$N$8:$N$705,Maestros!$D$31:$E$530,2,0)),\"\",VLOOKUP(Egresados!$N$8:$N$705,Maestros!$D$31:$E$530,2,0))","v":"223"},{"$f":"IF(ISERROR(VLOOKUP(Egresados!$O475,Maestros!$G$31:$J$1030,2,0)),\"\",VLOOKUP(Egresados!$O475,Maestros!$G$31:$J$1030,2,0))","v":"8"},{"$f":"CONCATENATE(Egresados!$Z$8:$Z$705,\"a\",Egresados!$AA$8:$AA$705)","v":"223a8"},{"$f":"IF(ISERROR(VLOOKUP(Egresados!$P475,Maestros!$L$31:$Q$1030,2,0)),\"\",VLOOKUP(Egresados!$P475,Maestros!$L$31:$Q$1030,2,0))","v":"383"},{"$f":"CONCATENATE(Egresados!$Z$8:$Z$705,\"a\",Egresados!$AA$8:$AA$705,\"a\",Egresados!$AC$8:$AC$705)","v":"223a8a383"},{"$f":"IF(ISERROR(VLOOKUP(Egresados!$C$8:$C$705,Maestros!$A$4:$B$21,2,0)),\"\",VLOOKUP(Egresados!$C$8:$C$705,Maestros!$A$4:$B$21,2,0))","v":"1001"},{"$f":"IF(ISERROR(VLOOKUP(Egresados!$H$8:$H$705,Maestros!$D$4:$E$21,2,0)),\"\",VLOOKUP(Egresados!$H$8:$H$705,Maestros!$D$4:$E$21,2,0))","v":"1121"},{"$f":"IF(OR(UPPER(Egresados!$J$8:$J$705)=\"SI\",UPPER(Egresados!$J$8:$J$705)=\"SÍ\"),1,IF(UPPER(Egresados!$J$8:$J$705)=\"NO\",0,\"\"))","v":0},{"$f":"IF(OR(UPPER(Egresados!$R$8:$R$705)=\"SI\",UPPER(Egresados!$R$8:$R$705)=\"SÍ\"),1,IF(UPPER(Egresados!$R$8:$R$705)=\"NO\",0,\"\"))","v":""},{"$f":"IF(OR(UPPER(Egresados!$S$8:$S$705)=\"SI\",UPPER(Egresados!$S$8:$S$705)=\"SÍ\"),1,IF(UPPER(Egresados!$S$8:$S$705)=\"NO\",0,\"\"))","v":""},{"$f":"IF(ISERROR(VLOOKUP(Egresados!$T$8:$T$705,Maestros!$S$31:$T$530,2,0)),\"\",VLOOKUP(Egresados!$T$8:$T$705,Maestros!$S$31:$T$530,2,0))","v":"18"},{"$f":"IF(ISERROR(VLOOKUP(U475,Maestros!$S$31:$T$530,2,0)),\"\",VLOOKUP(U475,Maestros!$S$31:$T$530,2,0))","v":"18"},{"$f":"IF(ISERROR(VLOOKUP(Egresados!$K$8:$K$705,Maestros!$A$31:$B$130,2,0)),\"\",VLOOKUP(Egresados!$K$8:$K$705,Maestros!$A$31:$B$130,2,0))","v":""},{"$f":"IF(LEN(tablaEgresados[[#This Row],[Nota promedio]])>0,ROUND(tablaEgresados[[#This Row],[Nota promedio]],2),\"\")","v":13.83}]
[468,null,"DNI","47905824","ROJAS","PACHECO","SOLEDAD CINDY","FEMENINO",null,"NO",null,null,null,"2020-1","SEDE CENTRAL","INDUSTRIA ALIMENTARIA Y NUTRICION",15.2,null,null,"2012-1","2012-1","20121295@une.edu.pe","soledad-18-07@hotmail.es",3133700,"966516952",{"$f":"IF(ISERROR(VLOOKUP(Egresados!$N$8:$N$705,Maestros!$D$31:$E$530,2,0)),\"\",VLOOKUP(Egresados!$N$8:$N$705,Maestros!$D$31:$E$530,2,0))","v":"223"},{"$f":"IF(ISERROR(VLOOKUP(Egresados!$O476,Maestros!$G$31:$J$1030,2,0)),\"\",VLOOKUP(Egresados!$O476,Maestros!$G$31:$J$1030,2,0))","v":"8"},{"$f":"CONCATENATE(Egresados!$Z$8:$Z$705,\"a\",Egresados!$AA$8:$AA$705)","v":"223a8"},{"$f":"IF(ISERROR(VLOOKUP(Egresados!$P476,Maestros!$L$31:$Q$1030,2,0)),\"\",VLOOKUP(Egresados!$P476,Maestros!$L$31:$Q$1030,2,0))","v":"218"},{"$f":"CONCATENATE(Egresados!$Z$8:$Z$705,\"a\",Egresados!$AA$8:$AA$705,\"a\",Egresados!$AC$8:$AC$705)","v":"223a8a218"},{"$f":"IF(ISERROR(VLOOKUP(Egresados!$C$8:$C$705,Maestros!$A$4:$B$21,2,0)),\"\",VLOOKUP(Egresados!$C$8:$C$705,Maestros!$A$4:$B$21,2,0))","v":"1001"},{"$f":"IF(ISERROR(VLOOKUP(Egresados!$H$8:$H$705,Maestros!$D$4:$E$21,2,0)),\"\",VLOOKUP(Egresados!$H$8:$H$705,Maestros!$D$4:$E$21,2,0))","v":"1122"},{"$f":"IF(OR(UPPER(Egresados!$J$8:$J$705)=\"SI\",UPPER(Egresados!$J$8:$J$705)=\"SÍ\"),1,IF(UPPER(Egresados!$J$8:$J$705)=\"NO\",0,\"\"))","v":0},{"$f":"IF(OR(UPPER(Egresados!$R$8:$R$705)=\"SI\",UPPER(Egresados!$R$8:$R$705)=\"SÍ\"),1,IF(UPPER(Egresados!$R$8:$R$705)=\"NO\",0,\"\"))","v":""},{"$f":"IF(OR(UPPER(Egresados!$S$8:$S$705)=\"SI\",UPPER(Egresados!$S$8:$S$705)=\"SÍ\"),1,IF(UPPER(Egresados!$S$8:$S$705)=\"NO\",0,\"\"))","v":""},{"$f":"IF(ISERROR(VLOOKUP(Egresados!$T$8:$T$705,Maestros!$S$31:$T$530,2,0)),\"\",VLOOKUP(Egresados!$T$8:$T$705,Maestros!$S$31:$T$530,2,0))","v":"50"},{"$f":"IF(ISERROR(VLOOKUP(U476,Maestros!$S$31:$T$530,2,0)),\"\",VLOOKUP(U476,Maestros!$S$31:$T$530,2,0))","v":"50"},{"$f":"IF(ISERROR(VLOOKUP(Egresados!$K$8:$K$705,Maestros!$A$31:$B$130,2,0)),\"\",VLOOKUP(Egresados!$K$8:$K$705,Maestros!$A$31:$B$130,2,0))","v":""},{"$f":"IF(LEN(tablaEgresados[[#This Row],[Nota promedio]])>0,ROUND(tablaEgresados[[#This Row],[Nota promedio]],2),\"\")","v":15.2}]
[469,null,"DNI","43514083","MINAYA","PAUCAR","FLORA","FEMENINO",null,"NO",null,null,null,"2020-1","SEDE CENTRAL","INDUSTRIA ALIMENTARIA Y NUTRICION",14.43,null,null,"2005-1","2005-1","20057175@une.edu.pe","floraminaya@hotmail.com",3133700,"986939109",{"$f":"IF(ISERROR(VLOOKUP(Egresados!$N$8:$N$705,Maestros!$D$31:$E$530,2,0)),\"\",VLOOKUP(Egresados!$N$8:$N$705,Maestros!$D$31:$E$530,2,0))","v":"223"},{"$f":"IF(ISERROR(VLOOKUP(Egresados!$O477,Maestros!$G$31:$J$1030,2,0)),\"\",VLOOKUP(Egresados!$O477,Maestros!$G$31:$J$1030,2,0))","v":"8"},{"$f":"CONCATENATE(Egresados!$Z$8:$Z$705,\"a\",Egresados!$AA$8:$AA$705)","v":"223a8"},{"$f":"IF(ISERROR(VLOOKUP(Egresados!$P477,Maestros!$L$31:$Q$1030,2,0)),\"\",VLOOKUP(Egresados!$P477,Maestros!$L$31:$Q$1030,2,0))","v":"218"},{"$f":"CONCATENATE(Egresados!$Z$8:$Z$705,\"a\",Egresados!$AA$8:$AA$705,\"a\",Egresados!$AC$8:$AC$705)","v":"223a8a218"},{"$f":"IF(ISERROR(VLOOKUP(Egresados!$C$8:$C$705,Maestros!$A$4:$B$21,2,0)),\"\",VLOOKUP(Egresados!$C$8:$C$705,Maestros!$A$4:$B$21,2,0))","v":"1001"},{"$f":"IF(ISERROR(VLOOKUP(Egresados!$H$8:$H$705,Maestros!$D$4:$E$21,2,0)),\"\",VLOOKUP(Egresados!$H$8:$H$705,Maestros!$D$4:$E$21,2,0))","v":"1122"},{"$f":"IF(OR(UPPER(Egresados!$J$8:$J$705)=\"SI\",UPPER(Egresados!$J$8:$J$705)=\"SÍ\"),1,IF(UPPER(Egresados!$J$8:$J$705)=\"NO\",0,\"\"))","v":0},{"$f":"IF(OR(UPPER(Egresados!$R$8:$R$705)=\"SI\",UPPER(Egresados!$R$8:$R$705)=\"SÍ\"),1,IF(UPPER(Egresados!$R$8:$R$705)=\"NO\",0,\"\"))","v":""},{"$f":"IF(OR(UPPER(Egresados!$S$8:$S$705)=\"SI\",UPPER(Egresados!$S$8:$S$705)=\"SÍ\"),1,IF(UPPER(Egresados!$S$8:$S$705)=\"NO\",0,\"\"))","v":""},{"$f":"IF(ISERROR(VLOOKUP(Egresados!$T$8:$T$705,Maestros!$S$31:$T$530,2,0)),\"\",VLOOKUP(Egresados!$T$8:$T$705,Maestros!$S$31:$T$530,2,0))","v":"22"},{"$f":"IF(ISERROR(VLOOKUP(U477,Maestros!$S$31:$T$530,2,0)),\"\",VLOOKUP(U477,Maestros!$S$31:$T$530,2,0))","v":"22"},{"$f":"IF(ISERROR(VLOOKUP(Egresados!$K$8:$K$705,Maestros!$A$31:$B$130,2,0)),\"\",VLOOKUP(Egresados!$K$8:$K$705,Maestros!$A$31:$B$130,2,0))","v":""},{"$f":"IF(LEN(tablaEgresados[[#This Row],[Nota promedio]])>0,ROUND(tablaEgresados[[#This Row],[Nota promedio]],2),\"\")","v":14.43}]
[470,null,"DNI","71924707","CABANILLAS","RODRIGO","CARLOS EDWIN","MASCULINO",null,"NO",null,null,null,"2020-1","SEDE CENTRAL","INDUSTRIA ALIMENTARIA Y NUTRICION",15.13,null,null,"2010-1","2010-1","20100865@une.edu.pe","carloscabanillasrodrigo@gmail.com",3133700,976486001,{"$f":"IF(ISERROR(VLOOKUP(Egresados!$N$8:$N$705,Maestros!$D$31:$E$530,2,0)),\"\",VLOOKUP(Egresados!$N$8:$N$705,Maestros!$D$31:$E$530,2,0))","v":"223"},{"$f":"IF(ISERROR(VLOOKUP(Egresados!$O478,Maestros!$G$31:$J$1030,2,0)),\"\",VLOOKUP(Egresados!$O478,Maestros!$G$31:$J$1030,2,0))","v":"8"},{"$f":"CONCATENATE(Egresados!$Z$8:$Z$705,\"a\",Egresados!$AA$8:$AA$705)","v":"223a8"},{"$f":"IF(ISERROR(VLOOKUP(Egresados!$P478,Maestros!$L$31:$Q$1030,2,0)),\"\",VLOOKUP(Egresados!$P478,Maestros!$L$31:$Q$1030,2,0))","v":"218"},{"$f":"CONCATENATE(Egresados!$Z$8:$Z$705,\"a\",Egresados!$AA$8:$AA$705,\"a\",Egresados!$AC$8:$AC$705)","v":"223a8a218"},{"$f":"IF(ISERROR(VLOOKUP(Egresados!$C$8:$C$705,Maestros!$A$4:$B$21,2,0)),\"\",VLOOKUP(Egresados!$C$8:$C$705,Maestros!$A$4:$B$21,2,0))","v":"1001"},{"$f":"IF(ISERROR(VLOOKUP(Egresados!$H$8:$H$705,Maestros!$D$4:$E$21,2,0)),\"\",VLOOKUP(Egresados!$H$8:$H$705,Maestros!$D$4:$E$21,2,0))","v":"1121"},{"$f":"IF(OR(UPPER(Egresados!$J$8:$J$705)=\"SI\",UPPER(Egresados!$J$8:$J$705)=\"SÍ\"),1,IF(UPPER(Egresados!$J$8:$J$705)=\"NO\",0,\"\"))","v":0},{"$f":"IF(OR(UPPER(Egresados!$R$8:$R$705)=\"SI\",UPPER(Egresados!$R$8:$R$705)=\"SÍ\"),1,IF(UPPER(Egresados!$R$8:$R$705)=\"NO\",0,\"\"))","v":""},{"$f":"IF(OR(UPPER(Egresados!$S$8:$S$705)=\"SI\",UPPER(Egresados!$S$8:$S$705)=\"SÍ\"),1,IF(UPPER(Egresados!$S$8:$S$705)=\"NO\",0,\"\"))","v":""},{"$f":"IF(ISERROR(VLOOKUP(Egresados!$T$8:$T$705,Maestros!$S$31:$T$530,2,0)),\"\",VLOOKUP(Egresados!$T$8:$T$705,Maestros!$S$31:$T$530,2,0))","v":"42"},{"$f":"IF(ISERROR(VLOOKUP(U478,Maestros!$S$31:$T$530,2,0)),\"\",VLOOKUP(U478,Maestros!$S$31:$T$530,2,0))","v":"42"},{"$f":"IF(ISERROR(VLOOKUP(Egresados!$K$8:$K$705,Maestros!$A$31:$B$130,2,0)),\"\",VLOOKUP(Egresados!$K$8:$K$705,Maestros!$A$31:$B$130,2,0))","v":""},{"$f":"IF(LEN(tablaEgresados[[#This Row],[Nota promedio]])>0,ROUND(tablaEgresados[[#This Row],[Nota promedio]],2),\"\")","v":15.13}]
[471,null,"DNI","72532161","RIVAS","JIMENEZ","ANA JULISSA","FEMENINO",null,"NO",null,null,null,"2020-1","SEDE CENTRAL","INDUSTRIA ALIMENTARIA Y NUTRICION",15.38,null,null,"2015-1","2015-1","20151123@une.edu.pe","julissa_18_1997@hotmail.com",3133700,"931124715",{"$f":"IF(ISERROR(VLOOKUP(Egresados!$N$8:$N$705,Maestros!$D$31:$E$530,2,0)),\"\",VLOOKUP(Egresados!$N$8:$N$705,Maestros!$D$31:$E$530,2,0))","v":"223"},{"$f":"IF(ISERROR(VLOOKUP(Egresados!$O479,Maestros!$G$31:$J$1030,2,0)),\"\",VLOOKUP(Egresados!$O479,Maestros!$G$31:$J$1030,2,0))","v":"8"},{"$f":"CONCATENATE(Egresados!$Z$8:$Z$705,\"a\",Egresados!$AA$8:$AA$705)","v":"223a8"},{"$f":"IF(ISERROR(VLOOKUP(Egresados!$P479,Maestros!$L$31:$Q$1030,2,0)),\"\",VLOOKUP(Egresados!$P479,Maestros!$L$31:$Q$1030,2,0))","v":"218"},{"$f":"CONCATENATE(Egresados!$Z$8:$Z$705,\"a\",Egresados!$AA$8:$AA$705,\"a\",Egresados!$AC$8:$AC$705)","v":"223a8a218"},{"$f":"IF(ISERROR(VLOOKUP(Egresados!$C$8:$C$705,Maestros!$A$4:$B$21,2,0)),\"\",VLOOKUP(Egresados!$C$8:$C$705,Maestros!$A$4:$B$21,2,0))","v":"1001"},{"$f":"IF(ISERROR(VLOOKUP(Egresados!$H$8:$H$705,Maestros!$D$4:$E$21,2,0)),\"\",VLOOKUP(Egresados!$H$8:$H$705,Maestros!$D$4:$E$21,2,0))","v":"1122"},{"$f":"IF(OR(UPPER(Egresados!$J$8:$J$705)=\"SI\",UPPER(Egresados!$J$8:$J$705)=\"SÍ\"),1,IF(UPPER(Egresados!$J$8:$J$705)=\"NO\",0,\"\"))","v":0},{"$f":"IF(OR(UPPER(Egresados!$R$8:$R$705)=\"SI\",UPPER(Egresados!$R$8:$R$705)=\"SÍ\"),1,IF(UPPER(Egresados!$R$8:$R$705)=\"NO\",0,\"\"))","v":""},{"$f":"IF(OR(UPPER(Egresados!$S$8:$S$705)=\"SI\",UPPER(Egresados!$S$8:$S$705)=\"SÍ\"),1,IF(UPPER(Egresados!$S$8:$S$705)=\"NO\",0,\"\"))","v":""},{"$f":"IF(ISERROR(VLOOKUP(Egresados!$T$8:$T$705,Maestros!$S$31:$T$530,2,0)),\"\",VLOOKUP(Egresados!$T$8:$T$705,Maestros!$S$31:$T$530,2,0))","v":"62"},{"$f":"IF(ISERROR(VLOOKUP(U479,Maestros!$S$31:$T$530,2,0)),\"\",VLOOKUP(U479,Maestros!$S$31:$T$530,2,0))","v":"62"},{"$f":"IF(ISERROR(VLOOKUP(Egresados!$K$8:$K$705,Maestros!$A$31:$B$130,2,0)),\"\",VLOOKUP(Egresados!$K$8:$K$705,Maestros!$A$31:$B$130,2,0))","v":""},{"$f":"IF(LEN(tablaEgresados[[#This Row],[Nota promedio]])>0,ROUND(tablaEgresados[[#This Row],[Nota promedio]],2),\"\")","v":15.38}]
[472,null,"DNI","72022767","CUELLAR","GRANADOS","LUBBY","FEMENINO",null,"NO",null,null,null,"2020-1","SEDE CENTRAL","INDUSTRIA ALIMENTARIA Y NUTRICION",14.56,null,null,"2015-1","2015-1","20151094@une.edu.pe","lubbycuellar@hotmail.com",3133700,"921515884",{"$f":"IF(ISERROR(VLOOKUP(Egresados!$N$8:$N$705,Maestros!$D$31:$E$530,2,0)),\"\",VLOOKUP(Egresados!$N$8:$N$705,Maestros!$D$31:$E$530,2,0))","v":"223"},{"$f":"IF(ISERROR(VLOOKUP(Egresados!$O480,Maestros!$G$31:$J$1030,2,0)),\"\",VLOOKUP(Egresados!$O480,Maestros!$G$31:$J$1030,2,0))","v":"8"},{"$f":"CONCATENATE(Egresados!$Z$8:$Z$705,\"a\",Egresados!$AA$8:$AA$705)","v":"223a8"},{"$f":"IF(ISERROR(VLOOKUP(Egresados!$P480,Maestros!$L$31:$Q$1030,2,0)),\"\",VLOOKUP(Egresados!$P480,Maestros!$L$31:$Q$1030,2,0))","v":"218"},{"$f":"CONCATENATE(Egresados!$Z$8:$Z$705,\"a\",Egresados!$AA$8:$AA$705,\"a\",Egresados!$AC$8:$AC$705)","v":"223a8a218"},{"$f":"IF(ISERROR(VLOOKUP(Egresados!$C$8:$C$705,Maestros!$A$4:$B$21,2,0)),\"\",VLOOKUP(Egresados!$C$8:$C$705,Maestros!$A$4:$B$21,2,0))","v":"1001"},{"$f":"IF(ISERROR(VLOOKUP(Egresados!$H$8:$H$705,Maestros!$D$4:$E$21,2,0)),\"\",VLOOKUP(Egresados!$H$8:$H$705,Maestros!$D$4:$E$21,2,0))","v":"1122"},{"$f":"IF(OR(UPPER(Egresados!$J$8:$J$705)=\"SI\",UPPER(Egresados!$J$8:$J$705)=\"SÍ\"),1,IF(UPPER(Egresados!$J$8:$J$705)=\"NO\",0,\"\"))","v":0},{"$f":"IF(OR(UPPER(Egresados!$R$8:$R$705)=\"SI\",UPPER(Egresados!$R$8:$R$705)=\"SÍ\"),1,IF(UPPER(Egresados!$R$8:$R$705)=\"NO\",0,\"\"))","v":""},{"$f":"IF(OR(UPPER(Egresados!$S$8:$S$705)=\"SI\",UPPER(Egresados!$S$8:$S$705)=\"SÍ\"),1,IF(UPPER(Egresados!$S$8:$S$705)=\"NO\",0,\"\"))","v":""},{"$f":"IF(ISERROR(VLOOKUP(Egresados!$T$8:$T$705,Maestros!$S$31:$T$530,2,0)),\"\",VLOOKUP(Egresados!$T$8:$T$705,Maestros!$S$31:$T$530,2,0))","v":"62"},{"$f":"IF(ISERROR(VLOOKUP(U480,Maestros!$S$31:$T$530,2,0)),\"\",VLOOKUP(U480,Maestros!$S$31:$T$530,2,0))","v":"62"},{"$f":"IF(ISERROR(VLOOKUP(Egresados!$K$8:$K$705,Maestros!$A$31:$B$130,2,0)),\"\",VLOOKUP(Egresados!$K$8:$K$705,Maestros!$A$31:$B$130,2,0))","v":""},{"$f":"IF(LEN(tablaEgresados[[#This Row],[Nota promedio]])>0,ROUND(tablaEgresados[[#This Row],[Nota promedio]],2),\"\")","v":14.56}]
[473,null,"DNI","74823467","PERALTA","CIERTO","MAYRA LUCY","FEMENINO",null,"NO",null,null,null,"2020-1","SEDE CENTRAL","INDUSTRIA ALIMENTARIA Y NUTRICION",14.89,null,null,"2015-1","2015-1","20151114@une.edu.pe","mayra_lucy_21@hotmail.com",3133700,976486001,{"$f":"IF(ISERROR(VLOOKUP(Egresados!$N$8:$N$705,Maestros!$D$31:$E$530,2,0)),\"\",VLOOKUP(Egresados!$N$8:$N$705,Maestros!$D$31:$E$530,2,0))","v":"223"},{"$f":"IF(ISERROR(VLOOKUP(Egresados!$O481,Maestros!$G$31:$J$1030,2,0)),\"\",VLOOKUP(Egresados!$O481,Maestros!$G$31:$J$1030,2,0))","v":"8"},{"$f":"CONCATENATE(Egresados!$Z$8:$Z$705,\"a\",Egresados!$AA$8:$AA$705)","v":"223a8"},{"$f":"IF(ISERROR(VLOOKUP(Egresados!$P481,Maestros!$L$31:$Q$1030,2,0)),\"\",VLOOKUP(Egresados!$P481,Maestros!$L$31:$Q$1030,2,0))","v":"218"},{"$f":"CONCATENATE(Egresados!$Z$8:$Z$705,\"a\",Egresados!$AA$8:$AA$705,\"a\",Egresados!$AC$8:$AC$705)","v":"223a8a218"},{"$f":"IF(ISERROR(VLOOKUP(Egresados!$C$8:$C$705,Maestros!$A$4:$B$21,2,0)),\"\",VLOOKUP(Egresados!$C$8:$C$705,Maestros!$A$4:$B$21,2,0))","v":"1001"},{"$f":"IF(ISERROR(VLOOKUP(Egresados!$H$8:$H$705,Maestros!$D$4:$E$21,2,0)),\"\",VLOOKUP(Egresados!$H$8:$H$705,Maestros!$D$4:$E$21,2,0))","v":"1122"},{"$f":"IF(OR(UPPER(Egresados!$J$8:$J$705)=\"SI\",UPPER(Egresados!$J$8:$J$705)=\"SÍ\"),1,IF(UPPER(Egresados!$J$8:$J$705)=\"NO\",0,\"\"))","v":0},{"$f":"IF(OR(UPPER(Egresados!$R$8:$R$705)=\"SI\",UPPER(Egresados!$R$8:$R$705)=\"SÍ\"),1,IF(UPPER(Egresados!$R$8:$R$705)=\"NO\",0,\"\"))","v":""},{"$f":"IF(OR(UPPER(Egresados!$S$8:$S$705)=\"SI\",UPPER(Egresados!$S$8:$S$705)=\"SÍ\"),1,IF(UPPER(Egresados!$S$8:$S$705)=\"NO\",0,\"\"))","v":""},{"$f":"IF(ISERROR(VLOOKUP(Egresados!$T$8:$T$705,Maestros!$S$31:$T$530,2,0)),\"\",VLOOKUP(Egresados!$T$8:$T$705,Maestros!$S$31:$T$530,2,0))","v":"62"},{"$f":"IF(ISERROR(VLOOKUP(U481,Maestros!$S$31:$T$530,2,0)),\"\",VLOOKUP(U481,Maestros!$S$31:$T$530,2,0))","v":"62"},{"$f":"IF(ISERROR(VLOOKUP(Egresados!$K$8:$K$705,Maestros!$A$31:$B$130,2,0)),\"\",VLOOKUP(Egresados!$K$8:$K$705,Maestros!$A$31:$B$130,2,0))","v":""},{"$f":"IF(LEN(tablaEgresados[[#This Row],[Nota promedio]])>0,ROUND(tablaEgresados[[#This Row],[Nota promedio]],2),\"\")","v":14.89}]
[474,null,"DNI","75969185","ROBLES","CORTABRAZO","ALBERTO ANTONIO","MASCULINO",null,"NO",null,null,null,"2020-1","SEDE CENTRAL","INDUSTRIA ALIMENTARIA Y NUTRICION",15.5,null,null,"2015-1","2015-1","20151124@une.edu.pe","alberto_cancer_123456789@hotmail.com",3133700,"989920325",{"$f":"IF(ISERROR(VLOOKUP(Egresados!$N$8:$N$705,Maestros!$D$31:$E$530,2,0)),\"\",VLOOKUP(Egresados!$N$8:$N$705,Maestros!$D$31:$E$530,2,0))","v":"223"},{"$f":"IF(ISERROR(VLOOKUP(Egresados!$O482,Maestros!$G$31:$J$1030,2,0)),\"\",VLOOKUP(Egresados!$O482,Maestros!$G$31:$J$1030,2,0))","v":"8"},{"$f":"CONCATENATE(Egresados!$Z$8:$Z$705,\"a\",Egresados!$AA$8:$AA$705)","v":"223a8"},{"$f":"IF(ISERROR(VLOOKUP(Egresados!$P482,Maestros!$L$31:$Q$1030,2,0)),\"\",VLOOKUP(Egresados!$P482,Maestros!$L$31:$Q$1030,2,0))","v":"218"},{"$f":"CONCATENATE(Egresados!$Z$8:$Z$705,\"a\",Egresados!$AA$8:$AA$705,\"a\",Egresados!$AC$8:$AC$705)","v":"223a8a218"},{"$f":"IF(ISERROR(VLOOKUP(Egresados!$C$8:$C$705,Maestros!$A$4:$B$21,2,0)),\"\",VLOOKUP(Egresados!$C$8:$C$705,Maestros!$A$4:$B$21,2,0))","v":"1001"},{"$f":"IF(ISERROR(VLOOKUP(Egresados!$H$8:$H$705,Maestros!$D$4:$E$21,2,0)),\"\",VLOOKUP(Egresados!$H$8:$H$705,Maestros!$D$4:$E$21,2,0))","v":"1121"},{"$f":"IF(OR(UPPER(Egresados!$J$8:$J$705)=\"SI\",UPPER(Egresados!$J$8:$J$705)=\"SÍ\"),1,IF(UPPER(Egresados!$J$8:$J$705)=\"NO\",0,\"\"))","v":0},{"$f":"IF(OR(UPPER(Egresados!$R$8:$R$705)=\"SI\",UPPER(Egresados!$R$8:$R$705)=\"SÍ\"),1,IF(UPPER(Egresados!$R$8:$R$705)=\"NO\",0,\"\"))","v":""},{"$f":"IF(OR(UPPER(Egresados!$S$8:$S$705)=\"SI\",UPPER(Egresados!$S$8:$S$705)=\"SÍ\"),1,IF(UPPER(Egresados!$S$8:$S$705)=\"NO\",0,\"\"))","v":""},{"$f":"IF(ISERROR(VLOOKUP(Egresados!$T$8:$T$705,Maestros!$S$31:$T$530,2,0)),\"\",VLOOKUP(Egresados!$T$8:$T$705,Maestros!$S$31:$T$530,2,0))","v":"62"},{"$f":"IF(ISERROR(VLOOKUP(U482,Maestros!$S$31:$T$530,2,0)),\"\",VLOOKUP(U482,Maestros!$S$31:$T$530,2,0))","v":"62"},{"$f":"IF(ISERROR(VLOOKUP(Egresados!$K$8:$K$705,Maestros!$A$31:$B$130,2,0)),\"\",VLOOKUP(Egresados!$K$8:$K$705,Maestros!$A$31:$B$130,2,0))","v":""},{"$f":"IF(LEN(tablaEgresados[[#This Row],[Nota promedio]])>0,ROUND(tablaEgresados[[#This Row],[Nota promedio]],2),\"\")","v":15.5}]
[475,null,"DNI","43201856","PAUCAR","YANGUA","RAUL ALAN","MASCULINO",null,"NO",null,null,null,"2020-1","SEDE CENTRAL","INDUSTRIA ALIMENTARIA Y NUTRICION",14.4,null,null,"2009-1","2009-1","20091113@une.edu.pe","kacormi@gmail.com",3133700,"931225990",{"$f":"IF(ISERROR(VLOOKUP(Egresados!$N$8:$N$705,Maestros!$D$31:$E$530,2,0)),\"\",VLOOKUP(Egresados!$N$8:$N$705,Maestros!$D$31:$E$530,2,0))","v":"223"},{"$f":"IF(ISERROR(VLOOKUP(Egresados!$O483,Maestros!$G$31:$J$1030,2,0)),\"\",VLOOKUP(Egresados!$O483,Maestros!$G$31:$J$1030,2,0))","v":"8"},{"$f":"CONCATENATE(Egresados!$Z$8:$Z$705,\"a\",Egresados!$AA$8:$AA$705)","v":"223a8"},{"$f":"IF(ISERROR(VLOOKUP(Egresados!$P483,Maestros!$L$31:$Q$1030,2,0)),\"\",VLOOKUP(Egresados!$P483,Maestros!$L$31:$Q$1030,2,0))","v":"218"},{"$f":"CONCATENATE(Egresados!$Z$8:$Z$705,\"a\",Egresados!$AA$8:$AA$705,\"a\",Egresados!$AC$8:$AC$705)","v":"223a8a218"},{"$f":"IF(ISERROR(VLOOKUP(Egresados!$C$8:$C$705,Maestros!$A$4:$B$21,2,0)),\"\",VLOOKUP(Egresados!$C$8:$C$705,Maestros!$A$4:$B$21,2,0))","v":"1001"},{"$f":"IF(ISERROR(VLOOKUP(Egresados!$H$8:$H$705,Maestros!$D$4:$E$21,2,0)),\"\",VLOOKUP(Egresados!$H$8:$H$705,Maestros!$D$4:$E$21,2,0))","v":"1121"},{"$f":"IF(OR(UPPER(Egresados!$J$8:$J$705)=\"SI\",UPPER(Egresados!$J$8:$J$705)=\"SÍ\"),1,IF(UPPER(Egresados!$J$8:$J$705)=\"NO\",0,\"\"))","v":0},{"$f":"IF(OR(UPPER(Egresados!$R$8:$R$705)=\"SI\",UPPER(Egresados!$R$8:$R$705)=\"SÍ\"),1,IF(UPPER(Egresados!$R$8:$R$705)=\"NO\",0,\"\"))","v":""},{"$f":"IF(OR(UPPER(Egresados!$S$8:$S$705)=\"SI\",UPPER(Egresados!$S$8:$S$705)=\"SÍ\"),1,IF(UPPER(Egresados!$S$8:$S$705)=\"NO\",0,\"\"))","v":""},{"$f":"IF(ISERROR(VLOOKUP(Egresados!$T$8:$T$705,Maestros!$S$31:$T$530,2,0)),\"\",VLOOKUP(Egresados!$T$8:$T$705,Maestros!$S$31:$T$530,2,0))","v":"38"},{"$f":"IF(ISERROR(VLOOKUP(U483,Maestros!$S$31:$T$530,2,0)),\"\",VLOOKUP(U483,Maestros!$S$31:$T$530,2,0))","v":"38"},{"$f":"IF(ISERROR(VLOOKUP(Egresados!$K$8:$K$705,Maestros!$A$31:$B$130,2,0)),\"\",VLOOKUP(Egresados!$K$8:$K$705,Maestros!$A$31:$B$130,2,0))","v":""},{"$f":"IF(LEN(tablaEgresados[[#This Row],[Nota promedio]])>0,ROUND(tablaEgresados[[#This Row],[Nota promedio]],2),\"\")","v":14.4}]
[476,null,"DNI","74566491","ARELLANOS","TAPIA","CARMEN AYDE","FEMENINO",null,"NO",null,null,null,"2020-1","SEDE CENTRAL","INDUSTRIA ALIMENTARIA Y NUTRICION",15.63,null,null,"2015-1","2015-1","20151089@une.edu.pe","carellanostapia@gmail.com",3133700,"915903252",{"$f":"IF(ISERROR(VLOOKUP(Egresados!$N$8:$N$705,Maestros!$D$31:$E$530,2,0)),\"\",VLOOKUP(Egresados!$N$8:$N$705,Maestros!$D$31:$E$530,2,0))","v":"223"},{"$f":"IF(ISERROR(VLOOKUP(Egresados!$O484,Maestros!$G$31:$J$1030,2,0)),\"\",VLOOKUP(Egresados!$O484,Maestros!$G$31:$J$1030,2,0))","v":"8"},{"$f":"CONCATENATE(Egresados!$Z$8:$Z$705,\"a\",Egresados!$AA$8:$AA$705)","v":"223a8"},{"$f":"IF(ISERROR(VLOOKUP(Egresados!$P484,Maestros!$L$31:$Q$1030,2,0)),\"\",VLOOKUP(Egresados!$P484,Maestros!$L$31:$Q$1030,2,0))","v":"218"},{"$f":"CONCATENATE(Egresados!$Z$8:$Z$705,\"a\",Egresados!$AA$8:$AA$705,\"a\",Egresados!$AC$8:$AC$705)","v":"223a8a218"},{"$f":"IF(ISERROR(VLOOKUP(Egresados!$C$8:$C$705,Maestros!$A$4:$B$21,2,0)),\"\",VLOOKUP(Egresados!$C$8:$C$705,Maestros!$A$4:$B$21,2,0))","v":"1001"},{"$f":"IF(ISERROR(VLOOKUP(Egresados!$H$8:$H$705,Maestros!$D$4:$E$21,2,0)),\"\",VLOOKUP(Egresados!$H$8:$H$705,Maestros!$D$4:$E$21,2,0))","v":"1122"},{"$f":"IF(OR(UPPER(Egresados!$J$8:$J$705)=\"SI\",UPPER(Egresados!$J$8:$J$705)=\"SÍ\"),1,IF(UPPER(Egresados!$J$8:$J$705)=\"NO\",0,\"\"))","v":0},{"$f":"IF(OR(UPPER(Egresados!$R$8:$R$705)=\"SI\",UPPER(Egresados!$R$8:$R$705)=\"SÍ\"),1,IF(UPPER(Egresados!$R$8:$R$705)=\"NO\",0,\"\"))","v":""},{"$f":"IF(OR(UPPER(Egresados!$S$8:$S$705)=\"SI\",UPPER(Egresados!$S$8:$S$705)=\"SÍ\"),1,IF(UPPER(Egresados!$S$8:$S$705)=\"NO\",0,\"\"))","v":""},{"$f":"IF(ISERROR(VLOOKUP(Egresados!$T$8:$T$705,Maestros!$S$31:$T$530,2,0)),\"\",VLOOKUP(Egresados!$T$8:$T$705,Maestros!$S$31:$T$530,2,0))","v":"62"},{"$f":"IF(ISERROR(VLOOKUP(U484,Maestros!$S$31:$T$530,2,0)),\"\",VLOOKUP(U484,Maestros!$S$31:$T$530,2,0))","v":"62"},{"$f":"IF(ISERROR(VLOOKUP(Egresados!$K$8:$K$705,Maestros!$A$31:$B$130,2,0)),\"\",VLOOKUP(Egresados!$K$8:$K$705,Maestros!$A$31:$B$130,2,0))","v":""},{"$f":"IF(LEN(tablaEgresados[[#This Row],[Nota promedio]])>0,ROUND(tablaEgresados[[#This Row],[Nota promedio]],2),\"\")","v":15.63}]
[477,null,"DNI","47283039","HUAMAN","VALLE","DALIA ISABEL","FEMENINO",null,"NO",null,null,null,"2020-1","SEDE CENTRAL","INDUSTRIA ALIMENTARIA Y NUTRICION",15.23,null,null,"2015-1","2015-1","20151102@une.edu.pe","daliahuaman30@gmail.com",3133700,"962758753",{"$f":"IF(ISERROR(VLOOKUP(Egresados!$N$8:$N$705,Maestros!$D$31:$E$530,2,0)),\"\",VLOOKUP(Egresados!$N$8:$N$705,Maestros!$D$31:$E$530,2,0))","v":"223"},{"$f":"IF(ISERROR(VLOOKUP(Egresados!$O485,Maestros!$G$31:$J$1030,2,0)),\"\",VLOOKUP(Egresados!$O485,Maestros!$G$31:$J$1030,2,0))","v":"8"},{"$f":"CONCATENATE(Egresados!$Z$8:$Z$705,\"a\",Egresados!$AA$8:$AA$705)","v":"223a8"},{"$f":"IF(ISERROR(VLOOKUP(Egresados!$P485,Maestros!$L$31:$Q$1030,2,0)),\"\",VLOOKUP(Egresados!$P485,Maestros!$L$31:$Q$1030,2,0))","v":"218"},{"$f":"CONCATENATE(Egresados!$Z$8:$Z$705,\"a\",Egresados!$AA$8:$AA$705,\"a\",Egresados!$AC$8:$AC$705)","v":"223a8a218"},{"$f":"IF(ISERROR(VLOOKUP(Egresados!$C$8:$C$705,Maestros!$A$4:$B$21,2,0)),\"\",VLOOKUP(Egresados!$C$8:$C$705,Maestros!$A$4:$B$21,2,0))","v":"1001"},{"$f":"IF(ISERROR(VLOOKUP(Egresados!$H$8:$H$705,Maestros!$D$4:$E$21,2,0)),\"\",VLOOKUP(Egresados!$H$8:$H$705,Maestros!$D$4:$E$21,2,0))","v":"1122"},{"$f":"IF(OR(UPPER(Egresados!$J$8:$J$705)=\"SI\",UPPER(Egresados!$J$8:$J$705)=\"SÍ\"),1,IF(UPPER(Egresados!$J$8:$J$705)=\"NO\",0,\"\"))","v":0},{"$f":"IF(OR(UPPER(Egresados!$R$8:$R$705)=\"SI\",UPPER(Egresados!$R$8:$R$705)=\"SÍ\"),1,IF(UPPER(Egresados!$R$8:$R$705)=\"NO\",0,\"\"))","v":""},{"$f":"IF(OR(UPPER(Egresados!$S$8:$S$705)=\"SI\",UPPER(Egresados!$S$8:$S$705)=\"SÍ\"),1,IF(UPPER(Egresados!$S$8:$S$705)=\"NO\",0,\"\"))","v":""},{"$f":"IF(ISERROR(VLOOKUP(Egresados!$T$8:$T$705,Maestros!$S$31:$T$530,2,0)),\"\",VLOOKUP(Egresados!$T$8:$T$705,Maestros!$S$31:$T$530,2,0))","v":"62"},{"$f":"IF(ISERROR(VLOOKUP(U485,Maestros!$S$31:$T$530,2,0)),\"\",VLOOKUP(U485,Maestros!$S$31:$T$530,2,0))","v":"62"},{"$f":"IF(ISERROR(VLOOKUP(Egresados!$K$8:$K$705,Maestros!$A$31:$B$130,2,0)),\"\",VLOOKUP(Egresados!$K$8:$K$705,Maestros!$A$31:$B$130,2,0))","v":""},{"$f":"IF(LEN(tablaEgresados[[#This Row],[Nota promedio]])>0,ROUND(tablaEgresados[[#This Row],[Nota promedio]],2),\"\")","v":15.23}]
[478,null,"DNI","70793002","QUISPE","POMA","EMBER MANUEL","MASCULINO",null,"NO",null,null,null,"2020-1","SEDE CENTRAL","INDUSTRIA ALIMENTARIA Y NUTRICION",15.07,null,null,"2015-1","2015-1","20151118@une.edu.pe","manuelito_2808@hotmail.com",3133700,"931116578",{"$f":"IF(ISERROR(VLOOKUP(Egresados!$N$8:$N$705,Maestros!$D$31:$E$530,2,0)),\"\",VLOOKUP(Egresados!$N$8:$N$705,Maestros!$D$31:$E$530,2,0))","v":"223"},{"$f":"IF(ISERROR(VLOOKUP(Egresados!$O486,Maestros!$G$31:$J$1030,2,0)),\"\",VLOOKUP(Egresados!$O486,Maestros!$G$31:$J$1030,2,0))","v":"8"},{"$f":"CONCATENATE(Egresados!$Z$8:$Z$705,\"a\",Egresados!$AA$8:$AA$705)","v":"223a8"},{"$f":"IF(ISERROR(VLOOKUP(Egresados!$P486,Maestros!$L$31:$Q$1030,2,0)),\"\",VLOOKUP(Egresados!$P486,Maestros!$L$31:$Q$1030,2,0))","v":"218"},{"$f":"CONCATENATE(Egresados!$Z$8:$Z$705,\"a\",Egresados!$AA$8:$AA$705,\"a\",Egresados!$AC$8:$AC$705)","v":"223a8a218"},{"$f":"IF(ISERROR(VLOOKUP(Egresados!$C$8:$C$705,Maestros!$A$4:$B$21,2,0)),\"\",VLOOKUP(Egresados!$C$8:$C$705,Maestros!$A$4:$B$21,2,0))","v":"1001"},{"$f":"IF(ISERROR(VLOOKUP(Egresados!$H$8:$H$705,Maestros!$D$4:$E$21,2,0)),\"\",VLOOKUP(Egresados!$H$8:$H$705,Maestros!$D$4:$E$21,2,0))","v":"1121"},{"$f":"IF(OR(UPPER(Egresados!$J$8:$J$705)=\"SI\",UPPER(Egresados!$J$8:$J$705)=\"SÍ\"),1,IF(UPPER(Egresados!$J$8:$J$705)=\"NO\",0,\"\"))","v":0},{"$f":"IF(OR(UPPER(Egresados!$R$8:$R$705)=\"SI\",UPPER(Egresados!$R$8:$R$705)=\"SÍ\"),1,IF(UPPER(Egresados!$R$8:$R$705)=\"NO\",0,\"\"))","v":""},{"$f":"IF(OR(UPPER(Egresados!$S$8:$S$705)=\"SI\",UPPER(Egresados!$S$8:$S$705)=\"SÍ\"),1,IF(UPPER(Egresados!$S$8:$S$705)=\"NO\",0,\"\"))","v":""},{"$f":"IF(ISERROR(VLOOKUP(Egresados!$T$8:$T$705,Maestros!$S$31:$T$530,2,0)),\"\",VLOOKUP(Egresados!$T$8:$T$705,Maestros!$S$31:$T$530,2,0))","v":"62"},{"$f":"IF(ISERROR(VLOOKUP(U486,Maestros!$S$31:$T$530,2,0)),\"\",VLOOKUP(U486,Maestros!$S$31:$T$530,2,0))","v":"62"},{"$f":"IF(ISERROR(VLOOKUP(Egresados!$K$8:$K$705,Maestros!$A$31:$B$130,2,0)),\"\",VLOOKUP(Egresados!$K$8:$K$705,Maestros!$A$31:$B$130,2,0))","v":""},{"$f":"IF(LEN(tablaEgresados[[#This Row],[Nota promedio]])>0,ROUND(tablaEgresados[[#This Row],[Nota promedio]],2),\"\")","v":15.07}]
[479,null,"DNI","70771496","RODRIGUEZ","TOVAR","LILIANA LEZLI","FEMENINO",null,"NO",null,null,null,"2020-1","SEDE CENTRAL","INDUSTRIA ALIMENTARIA Y NUTRICION",16.75,null,null,"2015-1","2015-1","20151125@une.edu.pe","lili_rt_27@hotmail.com",3133700,"953017603",{"$f":"IF(ISERROR(VLOOKUP(Egresados!$N$8:$N$705,Maestros!$D$31:$E$530,2,0)),\"\",VLOOKUP(Egresados!$N$8:$N$705,Maestros!$D$31:$E$530,2,0))","v":"223"},{"$f":"IF(ISERROR(VLOOKUP(Egresados!$O487,Maestros!$G$31:$J$1030,2,0)),\"\",VLOOKUP(Egresados!$O487,Maestros!$G$31:$J$1030,2,0))","v":"8"},{"$f":"CONCATENATE(Egresados!$Z$8:$Z$705,\"a\",Egresados!$AA$8:$AA$705)","v":"223a8"},{"$f":"IF(ISERROR(VLOOKUP(Egresados!$P487,Maestros!$L$31:$Q$1030,2,0)),\"\",VLOOKUP(Egresados!$P487,Maestros!$L$31:$Q$1030,2,0))","v":"218"},{"$f":"CONCATENATE(Egresados!$Z$8:$Z$705,\"a\",Egresados!$AA$8:$AA$705,\"a\",Egresados!$AC$8:$AC$705)","v":"223a8a218"},{"$f":"IF(ISERROR(VLOOKUP(Egresados!$C$8:$C$705,Maestros!$A$4:$B$21,2,0)),\"\",VLOOKUP(Egresados!$C$8:$C$705,Maestros!$A$4:$B$21,2,0))","v":"1001"},{"$f":"IF(ISERROR(VLOOKUP(Egresados!$H$8:$H$705,Maestros!$D$4:$E$21,2,0)),\"\",VLOOKUP(Egresados!$H$8:$H$705,Maestros!$D$4:$E$21,2,0))","v":"1122"},{"$f":"IF(OR(UPPER(Egresados!$J$8:$J$705)=\"SI\",UPPER(Egresados!$J$8:$J$705)=\"SÍ\"),1,IF(UPPER(Egresados!$J$8:$J$705)=\"NO\",0,\"\"))","v":0},{"$f":"IF(OR(UPPER(Egresados!$R$8:$R$705)=\"SI\",UPPER(Egresados!$R$8:$R$705)=\"SÍ\"),1,IF(UPPER(Egresados!$R$8:$R$705)=\"NO\",0,\"\"))","v":""},{"$f":"IF(OR(UPPER(Egresados!$S$8:$S$705)=\"SI\",UPPER(Egresados!$S$8:$S$705)=\"SÍ\"),1,IF(UPPER(Egresados!$S$8:$S$705)=\"NO\",0,\"\"))","v":""},{"$f":"IF(ISERROR(VLOOKUP(Egresados!$T$8:$T$705,Maestros!$S$31:$T$530,2,0)),\"\",VLOOKUP(Egresados!$T$8:$T$705,Maestros!$S$31:$T$530,2,0))","v":"62"},{"$f":"IF(ISERROR(VLOOKUP(U487,Maestros!$S$31:$T$530,2,0)),\"\",VLOOKUP(U487,Maestros!$S$31:$T$530,2,0))","v":"62"},{"$f":"IF(ISERROR(VLOOKUP(Egresados!$K$8:$K$705,Maestros!$A$31:$B$130,2,0)),\"\",VLOOKUP(Egresados!$K$8:$K$705,Maestros!$A$31:$B$130,2,0))","v":""},{"$f":"IF(LEN(tablaEgresados[[#This Row],[Nota promedio]])>0,ROUND(tablaEgresados[[#This Row],[Nota promedio]],2),\"\")","v":16.75}]
[480,null,"DNI","72634595","AYALA","DE LA CRUZ","LIZABETH","FEMENINO",null,"NO",null,null,null,"2020-1","SEDE CENTRAL","INDUSTRIA ALIMENTARIA Y NUTRICION",14.97,null,null,"2014-1","2014-1","20141010@une.edu.pe","lizabeth_tlv_93@hotmail.com",3133700,"931311391",{"$f":"IF(ISERROR(VLOOKUP(Egresados!$N$8:$N$705,Maestros!$D$31:$E$530,2,0)),\"\",VLOOKUP(Egresados!$N$8:$N$705,Maestros!$D$31:$E$530,2,0))","v":"223"},{"$f":"IF(ISERROR(VLOOKUP(Egresados!$O488,Maestros!$G$31:$J$1030,2,0)),\"\",VLOOKUP(Egresados!$O488,Maestros!$G$31:$J$1030,2,0))","v":"8"},{"$f":"CONCATENATE(Egresados!$Z$8:$Z$705,\"a\",Egresados!$AA$8:$AA$705)","v":"223a8"},{"$f":"IF(ISERROR(VLOOKUP(Egresados!$P488,Maestros!$L$31:$Q$1030,2,0)),\"\",VLOOKUP(Egresados!$P488,Maestros!$L$31:$Q$1030,2,0))","v":"218"},{"$f":"CONCATENATE(Egresados!$Z$8:$Z$705,\"a\",Egresados!$AA$8:$AA$705,\"a\",Egresados!$AC$8:$AC$705)","v":"223a8a218"},{"$f":"IF(ISERROR(VLOOKUP(Egresados!$C$8:$C$705,Maestros!$A$4:$B$21,2,0)),\"\",VLOOKUP(Egresados!$C$8:$C$705,Maestros!$A$4:$B$21,2,0))","v":"1001"},{"$f":"IF(ISERROR(VLOOKUP(Egresados!$H$8:$H$705,Maestros!$D$4:$E$21,2,0)),\"\",VLOOKUP(Egresados!$H$8:$H$705,Maestros!$D$4:$E$21,2,0))","v":"1122"},{"$f":"IF(OR(UPPER(Egresados!$J$8:$J$705)=\"SI\",UPPER(Egresados!$J$8:$J$705)=\"SÍ\"),1,IF(UPPER(Egresados!$J$8:$J$705)=\"NO\",0,\"\"))","v":0},{"$f":"IF(OR(UPPER(Egresados!$R$8:$R$705)=\"SI\",UPPER(Egresados!$R$8:$R$705)=\"SÍ\"),1,IF(UPPER(Egresados!$R$8:$R$705)=\"NO\",0,\"\"))","v":""},{"$f":"IF(OR(UPPER(Egresados!$S$8:$S$705)=\"SI\",UPPER(Egresados!$S$8:$S$705)=\"SÍ\"),1,IF(UPPER(Egresados!$S$8:$S$705)=\"NO\",0,\"\"))","v":""},{"$f":"IF(ISERROR(VLOOKUP(Egresados!$T$8:$T$705,Maestros!$S$31:$T$530,2,0)),\"\",VLOOKUP(Egresados!$T$8:$T$705,Maestros!$S$31:$T$530,2,0))","v":"58"},{"$f":"IF(ISERROR(VLOOKUP(U488,Maestros!$S$31:$T$530,2,0)),\"\",VLOOKUP(U488,Maestros!$S$31:$T$530,2,0))","v":"58"},{"$f":"IF(ISERROR(VLOOKUP(Egresados!$K$8:$K$705,Maestros!$A$31:$B$130,2,0)),\"\",VLOOKUP(Egresados!$K$8:$K$705,Maestros!$A$31:$B$130,2,0))","v":""},{"$f":"IF(LEN(tablaEgresados[[#This Row],[Nota promedio]])>0,ROUND(tablaEgresados[[#This Row],[Nota promedio]],2),\"\")","v":14.97}]
[481,null,"DNI","47731863","LARREATEGUI","MITMA","LIZETTE CAROLINA","FEMENINO",null,"NO",null,null,null,"2020-1","SEDE CENTRAL","INDUSTRIA ALIMENTARIA Y NUTRICION",14.75,null,null,"2011-1","2011-1","20110600@une.edu.pe","carol_18_cancer@hotmail.com",3133700,"986870010",{"$f":"IF(ISERROR(VLOOKUP(Egresados!$N$8:$N$705,Maestros!$D$31:$E$530,2,0)),\"\",VLOOKUP(Egresados!$N$8:$N$705,Maestros!$D$31:$E$530,2,0))","v":"223"},{"$f":"IF(ISERROR(VLOOKUP(Egresados!$O489,Maestros!$G$31:$J$1030,2,0)),\"\",VLOOKUP(Egresados!$O489,Maestros!$G$31:$J$1030,2,0))","v":"8"},{"$f":"CONCATENATE(Egresados!$Z$8:$Z$705,\"a\",Egresados!$AA$8:$AA$705)","v":"223a8"},{"$f":"IF(ISERROR(VLOOKUP(Egresados!$P489,Maestros!$L$31:$Q$1030,2,0)),\"\",VLOOKUP(Egresados!$P489,Maestros!$L$31:$Q$1030,2,0))","v":"218"},{"$f":"CONCATENATE(Egresados!$Z$8:$Z$705,\"a\",Egresados!$AA$8:$AA$705,\"a\",Egresados!$AC$8:$AC$705)","v":"223a8a218"},{"$f":"IF(ISERROR(VLOOKUP(Egresados!$C$8:$C$705,Maestros!$A$4:$B$21,2,0)),\"\",VLOOKUP(Egresados!$C$8:$C$705,Maestros!$A$4:$B$21,2,0))","v":"1001"},{"$f":"IF(ISERROR(VLOOKUP(Egresados!$H$8:$H$705,Maestros!$D$4:$E$21,2,0)),\"\",VLOOKUP(Egresados!$H$8:$H$705,Maestros!$D$4:$E$21,2,0))","v":"1122"},{"$f":"IF(OR(UPPER(Egresados!$J$8:$J$705)=\"SI\",UPPER(Egresados!$J$8:$J$705)=\"SÍ\"),1,IF(UPPER(Egresados!$J$8:$J$705)=\"NO\",0,\"\"))","v":0},{"$f":"IF(OR(UPPER(Egresados!$R$8:$R$705)=\"SI\",UPPER(Egresados!$R$8:$R$705)=\"SÍ\"),1,IF(UPPER(Egresados!$R$8:$R$705)=\"NO\",0,\"\"))","v":""},{"$f":"IF(OR(UPPER(Egresados!$S$8:$S$705)=\"SI\",UPPER(Egresados!$S$8:$S$705)=\"SÍ\"),1,IF(UPPER(Egresados!$S$8:$S$705)=\"NO\",0,\"\"))","v":""},{"$f":"IF(ISERROR(VLOOKUP(Egresados!$T$8:$T$705,Maestros!$S$31:$T$530,2,0)),\"\",VLOOKUP(Egresados!$T$8:$T$705,Maestros!$S$31:$T$530,2,0))","v":"46"},{"$f":"IF(ISERROR(VLOOKUP(U489,Maestros!$S$31:$T$530,2,0)),\"\",VLOOKUP(U489,Maestros!$S$31:$T$530,2,0))","v":"46"},{"$f":"IF(ISERROR(VLOOKUP(Egresados!$K$8:$K$705,Maestros!$A$31:$B$130,2,0)),\"\",VLOOKUP(Egresados!$K$8:$K$705,Maestros!$A$31:$B$130,2,0))","v":""},{"$f":"IF(LEN(tablaEgresados[[#This Row],[Nota promedio]])>0,ROUND(tablaEgresados[[#This Row],[Nota promedio]],2),\"\")","v":14.75}]
[482,null,"DNI","72077706","LLOCCLLA","CHAPOÑAN","KATHERINE LIZETH","FEMENINO",null,"NO",null,null,null,"2020-1","SEDE CENTRAL","INDUSTRIA ALIMENTARIA Y NUTRICION",14.46,null,null,"2015-1","2015-1","20151106@une.edu.pe","qllocclla06@gmail.com",3133700,"975959736",{"$f":"IF(ISERROR(VLOOKUP(Egresados!$N$8:$N$705,Maestros!$D$31:$E$530,2,0)),\"\",VLOOKUP(Egresados!$N$8:$N$705,Maestros!$D$31:$E$530,2,0))","v":"223"},{"$f":"IF(ISERROR(VLOOKUP(Egresados!$O490,Maestros!$G$31:$J$1030,2,0)),\"\",VLOOKUP(Egresados!$O490,Maestros!$G$31:$J$1030,2,0))","v":"8"},{"$f":"CONCATENATE(Egresados!$Z$8:$Z$705,\"a\",Egresados!$AA$8:$AA$705)","v":"223a8"},{"$f":"IF(ISERROR(VLOOKUP(Egresados!$P490,Maestros!$L$31:$Q$1030,2,0)),\"\",VLOOKUP(Egresados!$P490,Maestros!$L$31:$Q$1030,2,0))","v":"218"},{"$f":"CONCATENATE(Egresados!$Z$8:$Z$705,\"a\",Egresados!$AA$8:$AA$705,\"a\",Egresados!$AC$8:$AC$705)","v":"223a8a218"},{"$f":"IF(ISERROR(VLOOKUP(Egresados!$C$8:$C$705,Maestros!$A$4:$B$21,2,0)),\"\",VLOOKUP(Egresados!$C$8:$C$705,Maestros!$A$4:$B$21,2,0))","v":"1001"},{"$f":"IF(ISERROR(VLOOKUP(Egresados!$H$8:$H$705,Maestros!$D$4:$E$21,2,0)),\"\",VLOOKUP(Egresados!$H$8:$H$705,Maestros!$D$4:$E$21,2,0))","v":"1122"},{"$f":"IF(OR(UPPER(Egresados!$J$8:$J$705)=\"SI\",UPPER(Egresados!$J$8:$J$705)=\"SÍ\"),1,IF(UPPER(Egresados!$J$8:$J$705)=\"NO\",0,\"\"))","v":0},{"$f":"IF(OR(UPPER(Egresados!$R$8:$R$705)=\"SI\",UPPER(Egresados!$R$8:$R$705)=\"SÍ\"),1,IF(UPPER(Egresados!$R$8:$R$705)=\"NO\",0,\"\"))","v":""},{"$f":"IF(OR(UPPER(Egresados!$S$8:$S$705)=\"SI\",UPPER(Egresados!$S$8:$S$705)=\"SÍ\"),1,IF(UPPER(Egresados!$S$8:$S$705)=\"NO\",0,\"\"))","v":""},{"$f":"IF(ISERROR(VLOOKUP(Egresados!$T$8:$T$705,Maestros!$S$31:$T$530,2,0)),\"\",VLOOKUP(Egresados!$T$8:$T$705,Maestros!$S$31:$T$530,2,0))","v":"62"},{"$f":"IF(ISERROR(VLOOKUP(U490,Maestros!$S$31:$T$530,2,0)),\"\",VLOOKUP(U490,Maestros!$S$31:$T$530,2,0))","v":"62"},{"$f":"IF(ISERROR(VLOOKUP(Egresados!$K$8:$K$705,Maestros!$A$31:$B$130,2,0)),\"\",VLOOKUP(Egresados!$K$8:$K$705,Maestros!$A$31:$B$130,2,0))","v":""},{"$f":"IF(LEN(tablaEgresados[[#This Row],[Nota promedio]])>0,ROUND(tablaEgresados[[#This Row],[Nota promedio]],2),\"\")","v":14.46}]
[483,null,"DNI","71969830","VIDALON","MAGNO","WENDY ANGELA","FEMENINO",null,"NO",null,null,null,"2020-1","SEDE CENTRAL","INDUSTRIA ALIMENTARIA Y NUTRICION",15.81,null,null,"2015-1","2015-1","20151131@une.edu.pe","wendy_tlv_31@hotmail.com",3133700,"955410258",{"$f":"IF(ISERROR(VLOOKUP(Egresados!$N$8:$N$705,Maestros!$D$31:$E$530,2,0)),\"\",VLOOKUP(Egresados!$N$8:$N$705,Maestros!$D$31:$E$530,2,0))","v":"223"},{"$f":"IF(ISERROR(VLOOKUP(Egresados!$O491,Maestros!$G$31:$J$1030,2,0)),\"\",VLOOKUP(Egresados!$O491,Maestros!$G$31:$J$1030,2,0))","v":"8"},{"$f":"CONCATENATE(Egresados!$Z$8:$Z$705,\"a\",Egresados!$AA$8:$AA$705)","v":"223a8"},{"$f":"IF(ISERROR(VLOOKUP(Egresados!$P491,Maestros!$L$31:$Q$1030,2,0)),\"\",VLOOKUP(Egresados!$P491,Maestros!$L$31:$Q$1030,2,0))","v":"218"},{"$f":"CONCATENATE(Egresados!$Z$8:$Z$705,\"a\",Egresados!$AA$8:$AA$705,\"a\",Egresados!$AC$8:$AC$705)","v":"223a8a218"},{"$f":"IF(ISERROR(VLOOKUP(Egresados!$C$8:$C$705,Maestros!$A$4:$B$21,2,0)),\"\",VLOOKUP(Egresados!$C$8:$C$705,Maestros!$A$4:$B$21,2,0))","v":"1001"},{"$f":"IF(ISERROR(VLOOKUP(Egresados!$H$8:$H$705,Maestros!$D$4:$E$21,2,0)),\"\",VLOOKUP(Egresados!$H$8:$H$705,Maestros!$D$4:$E$21,2,0))","v":"1122"},{"$f":"IF(OR(UPPER(Egresados!$J$8:$J$705)=\"SI\",UPPER(Egresados!$J$8:$J$705)=\"SÍ\"),1,IF(UPPER(Egresados!$J$8:$J$705)=\"NO\",0,\"\"))","v":0},{"$f":"IF(OR(UPPER(Egresados!$R$8:$R$705)=\"SI\",UPPER(Egresados!$R$8:$R$705)=\"SÍ\"),1,IF(UPPER(Egresados!$R$8:$R$705)=\"NO\",0,\"\"))","v":""},{"$f":"IF(OR(UPPER(Egresados!$S$8:$S$705)=\"SI\",UPPER(Egresados!$S$8:$S$705)=\"SÍ\"),1,IF(UPPER(Egresados!$S$8:$S$705)=\"NO\",0,\"\"))","v":""},{"$f":"IF(ISERROR(VLOOKUP(Egresados!$T$8:$T$705,Maestros!$S$31:$T$530,2,0)),\"\",VLOOKUP(Egresados!$T$8:$T$705,Maestros!$S$31:$T$530,2,0))","v":"62"},{"$f":"IF(ISERROR(VLOOKUP(U491,Maestros!$S$31:$T$530,2,0)),\"\",VLOOKUP(U491,Maestros!$S$31:$T$530,2,0))","v":"62"},{"$f":"IF(ISERROR(VLOOKUP(Egresados!$K$8:$K$705,Maestros!$A$31:$B$130,2,0)),\"\",VLOOKUP(Egresados!$K$8:$K$705,Maestros!$A$31:$B$130,2,0))","v":""},{"$f":"IF(LEN(tablaEgresados[[#This Row],[Nota promedio]])>0,ROUND(tablaEgresados[[#This Row],[Nota promedio]],2),\"\")","v":15.81}]
[484,null,"DNI","76406610","GONZALO","PARIONA","SHEYLA SANDY","FEMENINO",null,"NO",null,null,null,"2020-1","SEDE CENTRAL","INDUSTRIA ALIMENTARIA Y NUTRICION",15.52,null,null,"2015-1","2015-1","20151101@une.edu.pe","sandy_crazy_1997@hotmail.com",3133700,"947337885",{"$f":"IF(ISERROR(VLOOKUP(Egresados!$N$8:$N$705,Maestros!$D$31:$E$530,2,0)),\"\",VLOOKUP(Egresados!$N$8:$N$705,Maestros!$D$31:$E$530,2,0))","v":"223"},{"$f":"IF(ISERROR(VLOOKUP(Egresados!$O492,Maestros!$G$31:$J$1030,2,0)),\"\",VLOOKUP(Egresados!$O492,Maestros!$G$31:$J$1030,2,0))","v":"8"},{"$f":"CONCATENATE(Egresados!$Z$8:$Z$705,\"a\",Egresados!$AA$8:$AA$705)","v":"223a8"},{"$f":"IF(ISERROR(VLOOKUP(Egresados!$P492,Maestros!$L$31:$Q$1030,2,0)),\"\",VLOOKUP(Egresados!$P492,Maestros!$L$31:$Q$1030,2,0))","v":"218"},{"$f":"CONCATENATE(Egresados!$Z$8:$Z$705,\"a\",Egresados!$AA$8:$AA$705,\"a\",Egresados!$AC$8:$AC$705)","v":"223a8a218"},{"$f":"IF(ISERROR(VLOOKUP(Egresados!$C$8:$C$705,Maestros!$A$4:$B$21,2,0)),\"\",VLOOKUP(Egresados!$C$8:$C$705,Maestros!$A$4:$B$21,2,0))","v":"1001"},{"$f":"IF(ISERROR(VLOOKUP(Egresados!$H$8:$H$705,Maestros!$D$4:$E$21,2,0)),\"\",VLOOKUP(Egresados!$H$8:$H$705,Maestros!$D$4:$E$21,2,0))","v":"1122"},{"$f":"IF(OR(UPPER(Egresados!$J$8:$J$705)=\"SI\",UPPER(Egresados!$J$8:$J$705)=\"SÍ\"),1,IF(UPPER(Egresados!$J$8:$J$705)=\"NO\",0,\"\"))","v":0},{"$f":"IF(OR(UPPER(Egresados!$R$8:$R$705)=\"SI\",UPPER(Egresados!$R$8:$R$705)=\"SÍ\"),1,IF(UPPER(Egresados!$R$8:$R$705)=\"NO\",0,\"\"))","v":""},{"$f":"IF(OR(UPPER(Egresados!$S$8:$S$705)=\"SI\",UPPER(Egresados!$S$8:$S$705)=\"SÍ\"),1,IF(UPPER(Egresados!$S$8:$S$705)=\"NO\",0,\"\"))","v":""},{"$f":"IF(ISERROR(VLOOKUP(Egresados!$T$8:$T$705,Maestros!$S$31:$T$530,2,0)),\"\",VLOOKUP(Egresados!$T$8:$T$705,Maestros!$S$31:$T$530,2,0))","v":"62"},{"$f":"IF(ISERROR(VLOOKUP(U492,Maestros!$S$31:$T$530,2,0)),\"\",VLOOKUP(U492,Maestros!$S$31:$T$530,2,0))","v":"62"},{"$f":"IF(ISERROR(VLOOKUP(Egresados!$K$8:$K$705,Maestros!$A$31:$B$130,2,0)),\"\",VLOOKUP(Egresados!$K$8:$K$705,Maestros!$A$31:$B$130,2,0))","v":""},{"$f":"IF(LEN(tablaEgresados[[#This Row],[Nota promedio]])>0,ROUND(tablaEgresados[[#This Row],[Nota promedio]],2),\"\")","v":15.52}]
[485,null,"DNI",33734657,"CARRION","GUEVARA","AMERICO","MASCULINO",null,"NO",null,null,null,"2020-1","SEDE CENTRAL","INDUSTRIA ALIMENTARIA Y NUTRICION",14.21,null,null,"2004-1","2004-1","20047912@une.edu.pe","20047912@une.edu.pe",3133700,976486001,{"$f":"IF(ISERROR(VLOOKUP(Egresados!$N$8:$N$705,Maestros!$D$31:$E$530,2,0)),\"\",VLOOKUP(Egresados!$N$8:$N$705,Maestros!$D$31:$E$530,2,0))","v":"223"},{"$f":"IF(ISERROR(VLOOKUP(Egresados!$O493,Maestros!$G$31:$J$1030,2,0)),\"\",VLOOKUP(Egresados!$O493,Maestros!$G$31:$J$1030,2,0))","v":"8"},{"$f":"CONCATENATE(Egresados!$Z$8:$Z$705,\"a\",Egresados!$AA$8:$AA$705)","v":"223a8"},{"$f":"IF(ISERROR(VLOOKUP(Egresados!$P493,Maestros!$L$31:$Q$1030,2,0)),\"\",VLOOKUP(Egresados!$P493,Maestros!$L$31:$Q$1030,2,0))","v":"218"},{"$f":"CONCATENATE(Egresados!$Z$8:$Z$705,\"a\",Egresados!$AA$8:$AA$705,\"a\",Egresados!$AC$8:$AC$705)","v":"223a8a218"},{"$f":"IF(ISERROR(VLOOKUP(Egresados!$C$8:$C$705,Maestros!$A$4:$B$21,2,0)),\"\",VLOOKUP(Egresados!$C$8:$C$705,Maestros!$A$4:$B$21,2,0))","v":"1001"},{"$f":"IF(ISERROR(VLOOKUP(Egresados!$H$8:$H$705,Maestros!$D$4:$E$21,2,0)),\"\",VLOOKUP(Egresados!$H$8:$H$705,Maestros!$D$4:$E$21,2,0))","v":"1121"},{"$f":"IF(OR(UPPER(Egresados!$J$8:$J$705)=\"SI\",UPPER(Egresados!$J$8:$J$705)=\"SÍ\"),1,IF(UPPER(Egresados!$J$8:$J$705)=\"NO\",0,\"\"))","v":0},{"$f":"IF(OR(UPPER(Egresados!$R$8:$R$705)=\"SI\",UPPER(Egresados!$R$8:$R$705)=\"SÍ\"),1,IF(UPPER(Egresados!$R$8:$R$705)=\"NO\",0,\"\"))","v":""},{"$f":"IF(OR(UPPER(Egresados!$S$8:$S$705)=\"SI\",UPPER(Egresados!$S$8:$S$705)=\"SÍ\"),1,IF(UPPER(Egresados!$S$8:$S$705)=\"NO\",0,\"\"))","v":""},{"$f":"IF(ISERROR(VLOOKUP(Egresados!$T$8:$T$705,Maestros!$S$31:$T$530,2,0)),\"\",VLOOKUP(Egresados!$T$8:$T$705,Maestros!$S$31:$T$530,2,0))","v":"18"},{"$f":"IF(ISERROR(VLOOKUP(U493,Maestros!$S$31:$T$530,2,0)),\"\",VLOOKUP(U493,Maestros!$S$31:$T$530,2,0))","v":"18"},{"$f":"IF(ISERROR(VLOOKUP(Egresados!$K$8:$K$705,Maestros!$A$31:$B$130,2,0)),\"\",VLOOKUP(Egresados!$K$8:$K$705,Maestros!$A$31:$B$130,2,0))","v":""},{"$f":"IF(LEN(tablaEgresados[[#This Row],[Nota promedio]])>0,ROUND(tablaEgresados[[#This Row],[Nota promedio]],2),\"\")","v":14.21}]
[486,null,"DNI","10491603","ALMINAGORTA","HUAMAN","KORINA LIZ","MASCULINO",null,"NO",null,null,null,"2020-1","SEDE CENTRAL","INDUSTRIA ALIMENTARIA Y NUTRICION",15.47,null,null,"2011-1","2011-1","20111837@une.edu.pe","20111837@une.edu.pe",3133700,976486001,{"$f":"IF(ISERROR(VLOOKUP(Egresados!$N$8:$N$705,Maestros!$D$31:$E$530,2,0)),\"\",VLOOKUP(Egresados!$N$8:$N$705,Maestros!$D$31:$E$530,2,0))","v":"223"},{"$f":"IF(ISERROR(VLOOKUP(Egresados!$O494,Maestros!$G$31:$J$1030,2,0)),\"\",VLOOKUP(Egresados!$O494,Maestros!$G$31:$J$1030,2,0))","v":"8"},{"$f":"CONCATENATE(Egresados!$Z$8:$Z$705,\"a\",Egresados!$AA$8:$AA$705)","v":"223a8"},{"$f":"IF(ISERROR(VLOOKUP(Egresados!$P494,Maestros!$L$31:$Q$1030,2,0)),\"\",VLOOKUP(Egresados!$P494,Maestros!$L$31:$Q$1030,2,0))","v":"218"},{"$f":"CONCATENATE(Egresados!$Z$8:$Z$705,\"a\",Egresados!$AA$8:$AA$705,\"a\",Egresados!$AC$8:$AC$705)","v":"223a8a218"},{"$f":"IF(ISERROR(VLOOKUP(Egresados!$C$8:$C$705,Maestros!$A$4:$B$21,2,0)),\"\",VLOOKUP(Egresados!$C$8:$C$705,Maestros!$A$4:$B$21,2,0))","v":"1001"},{"$f":"IF(ISERROR(VLOOKUP(Egresados!$H$8:$H$705,Maestros!$D$4:$E$21,2,0)),\"\",VLOOKUP(Egresados!$H$8:$H$705,Maestros!$D$4:$E$21,2,0))","v":"1121"},{"$f":"IF(OR(UPPER(Egresados!$J$8:$J$705)=\"SI\",UPPER(Egresados!$J$8:$J$705)=\"SÍ\"),1,IF(UPPER(Egresados!$J$8:$J$705)=\"NO\",0,\"\"))","v":0},{"$f":"IF(OR(UPPER(Egresados!$R$8:$R$705)=\"SI\",UPPER(Egresados!$R$8:$R$705)=\"SÍ\"),1,IF(UPPER(Egresados!$R$8:$R$705)=\"NO\",0,\"\"))","v":""},{"$f":"IF(OR(UPPER(Egresados!$S$8:$S$705)=\"SI\",UPPER(Egresados!$S$8:$S$705)=\"SÍ\"),1,IF(UPPER(Egresados!$S$8:$S$705)=\"NO\",0,\"\"))","v":""},{"$f":"IF(ISERROR(VLOOKUP(Egresados!$T$8:$T$705,Maestros!$S$31:$T$530,2,0)),\"\",VLOOKUP(Egresados!$T$8:$T$705,Maestros!$S$31:$T$530,2,0))","v":"46"},{"$f":"IF(ISERROR(VLOOKUP(U494,Maestros!$S$31:$T$530,2,0)),\"\",VLOOKUP(U494,Maestros!$S$31:$T$530,2,0))","v":"46"},{"$f":"IF(ISERROR(VLOOKUP(Egresados!$K$8:$K$705,Maestros!$A$31:$B$130,2,0)),\"\",VLOOKUP(Egresados!$K$8:$K$705,Maestros!$A$31:$B$130,2,0))","v":""},{"$f":"IF(LEN(tablaEgresados[[#This Row],[Nota promedio]])>0,ROUND(tablaEgresados[[#This Row],[Nota promedio]],2),\"\")","v":15.47}]
[487,null,"DNI",42194120,"HUAMANI","BACA","ANGEL JHON","MASCULINO",null,"NO",null,null,null,"2020-1","SEDE CENTRAL","INDUSTRIA ALIMENTARIA Y NUTRICION",13.8,null,null,"2005-1","2005-1","20057149@une.edu.pe","20057149@une.edu.pe",3133700,976486001,{"$f":"IF(ISERROR(VLOOKUP(Egresados!$N$8:$N$705,Maestros!$D$31:$E$530,2,0)),\"\",VLOOKUP(Egresados!$N$8:$N$705,Maestros!$D$31:$E$530,2,0))","v":"223"},{"$f":"IF(ISERROR(VLOOKUP(Egresados!$O495,Maestros!$G$31:$J$1030,2,0)),\"\",VLOOKUP(Egresados!$O495,Maestros!$G$31:$J$1030,2,0))","v":"8"},{"$f":"CONCATENATE(Egresados!$Z$8:$Z$705,\"a\",Egresados!$AA$8:$AA$705)","v":"223a8"},{"$f":"IF(ISERROR(VLOOKUP(Egresados!$P495,Maestros!$L$31:$Q$1030,2,0)),\"\",VLOOKUP(Egresados!$P495,Maestros!$L$31:$Q$1030,2,0))","v":"218"},{"$f":"CONCATENATE(Egresados!$Z$8:$Z$705,\"a\",Egresados!$AA$8:$AA$705,\"a\",Egresados!$AC$8:$AC$705)","v":"223a8a218"},{"$f":"IF(ISERROR(VLOOKUP(Egresados!$C$8:$C$705,Maestros!$A$4:$B$21,2,0)),\"\",VLOOKUP(Egresados!$C$8:$C$705,Maestros!$A$4:$B$21,2,0))","v":"1001"},{"$f":"IF(ISERROR(VLOOKUP(Egresados!$H$8:$H$705,Maestros!$D$4:$E$21,2,0)),\"\",VLOOKUP(Egresados!$H$8:$H$705,Maestros!$D$4:$E$21,2,0))","v":"1121"},{"$f":"IF(OR(UPPER(Egresados!$J$8:$J$705)=\"SI\",UPPER(Egresados!$J$8:$J$705)=\"SÍ\"),1,IF(UPPER(Egresados!$J$8:$J$705)=\"NO\",0,\"\"))","v":0},{"$f":"IF(OR(UPPER(Egresados!$R$8:$R$705)=\"SI\",UPPER(Egresados!$R$8:$R$705)=\"SÍ\"),1,IF(UPPER(Egresados!$R$8:$R$705)=\"NO\",0,\"\"))","v":""},{"$f":"IF(OR(UPPER(Egresados!$S$8:$S$705)=\"SI\",UPPER(Egresados!$S$8:$S$705)=\"SÍ\"),1,IF(UPPER(Egresados!$S$8:$S$705)=\"NO\",0,\"\"))","v":""},{"$f":"IF(ISERROR(VLOOKUP(Egresados!$T$8:$T$705,Maestros!$S$31:$T$530,2,0)),\"\",VLOOKUP(Egresados!$T$8:$T$705,Maestros!$S$31:$T$530,2,0))","v":"22"},{"$f":"IF(ISERROR(VLOOKUP(U495,Maestros!$S$31:$T$530,2,0)),\"\",VLOOKUP(U495,Maestros!$S$31:$T$530,2,0))","v":"22"},{"$f":"IF(ISERROR(VLOOKUP(Egresados!$K$8:$K$705,Maestros!$A$31:$B$130,2,0)),\"\",VLOOKUP(Egresados!$K$8:$K$705,Maestros!$A$31:$B$130,2,0))","v":""},{"$f":"IF(LEN(tablaEgresados[[#This Row],[Nota promedio]])>0,ROUND(tablaEgresados[[#This Row],[Nota promedio]],2),\"\")","v":13.8}]
[488,null,"DNI","42165367","SANCHEZ","RODRIGUEZ","GERMAN","MASCULINO",null,"NO",null,null,null,"2020-1","SEDE CENTRAL","INFORMATICA",15.74,null,null,"2015-1","2015-1","20153842@une.edu.pe","geryaless1982@gmail.com",3133700,"957693882",{"$f":"IF(ISERROR(VLOOKUP(Egresados!$N$8:$N$705,Maestros!$D$31:$E$530,2,0)),\"\",VLOOKUP(Egresados!$N$8:$N$705,Maestros!$D$31:$E$530,2,0))","v":"223"},{"$f":"IF(ISERROR(VLOOKUP(Egresados!$O496,Maestros!$G$31:$J$1030,2,0)),\"\",VLOOKUP(Egresados!$O496,Maestros!$G$31:$J$1030,2,0))","v":"8"},{"$f":"CONCATENATE(Egresados!$Z$8:$Z$705,\"a\",Egresados!$AA$8:$AA$705)","v":"223a8"},{"$f":"IF(ISERROR(VLOOKUP(Egresados!$P496,Maestros!$L$31:$Q$1030,2,0)),\"\",VLOOKUP(Egresados!$P496,Maestros!$L$31:$Q$1030,2,0))","v":"302"},{"$f":"CONCATENATE(Egresados!$Z$8:$Z$705,\"a\",Egresados!$AA$8:$AA$705,\"a\",Egresados!$AC$8:$AC$705)","v":"223a8a302"},{"$f":"IF(ISERROR(VLOOKUP(Egresados!$C$8:$C$705,Maestros!$A$4:$B$21,2,0)),\"\",VLOOKUP(Egresados!$C$8:$C$705,Maestros!$A$4:$B$21,2,0))","v":"1001"},{"$f":"IF(ISERROR(VLOOKUP(Egresados!$H$8:$H$705,Maestros!$D$4:$E$21,2,0)),\"\",VLOOKUP(Egresados!$H$8:$H$705,Maestros!$D$4:$E$21,2,0))","v":"1121"},{"$f":"IF(OR(UPPER(Egresados!$J$8:$J$705)=\"SI\",UPPER(Egresados!$J$8:$J$705)=\"SÍ\"),1,IF(UPPER(Egresados!$J$8:$J$705)=\"NO\",0,\"\"))","v":0},{"$f":"IF(OR(UPPER(Egresados!$R$8:$R$705)=\"SI\",UPPER(Egresados!$R$8:$R$705)=\"SÍ\"),1,IF(UPPER(Egresados!$R$8:$R$705)=\"NO\",0,\"\"))","v":""},{"$f":"IF(OR(UPPER(Egresados!$S$8:$S$705)=\"SI\",UPPER(Egresados!$S$8:$S$705)=\"SÍ\"),1,IF(UPPER(Egresados!$S$8:$S$705)=\"NO\",0,\"\"))","v":""},{"$f":"IF(ISERROR(VLOOKUP(Egresados!$T$8:$T$705,Maestros!$S$31:$T$530,2,0)),\"\",VLOOKUP(Egresados!$T$8:$T$705,Maestros!$S$31:$T$530,2,0))","v":"62"},{"$f":"IF(ISERROR(VLOOKUP(U496,Maestros!$S$31:$T$530,2,0)),\"\",VLOOKUP(U496,Maestros!$S$31:$T$530,2,0))","v":"62"},{"$f":"IF(ISERROR(VLOOKUP(Egresados!$K$8:$K$705,Maestros!$A$31:$B$130,2,0)),\"\",VLOOKUP(Egresados!$K$8:$K$705,Maestros!$A$31:$B$130,2,0))","v":""},{"$f":"IF(LEN(tablaEgresados[[#This Row],[Nota promedio]])>0,ROUND(tablaEgresados[[#This Row],[Nota promedio]],2),\"\")","v":15.74}]
[489,null,"DNI","10720413","HUACHACA","AMAO","JENNY ELVIRA","FEMENINO",null,"NO",null,null,null,"2020-1","SEDE CENTRAL","INFORMATICA",13.92,null,null,"2016-1","2016-1","20163533@une.edu.pe","elvira_j3@hotmail.com",3133700,"972759147",{"$f":"IF(ISERROR(VLOOKUP(Egresados!$N$8:$N$705,Maestros!$D$31:$E$530,2,0)),\"\",VLOOKUP(Egresados!$N$8:$N$705,Maestros!$D$31:$E$530,2,0))","v":"223"},{"$f":"IF(ISERROR(VLOOKUP(Egresados!$O497,Maestros!$G$31:$J$1030,2,0)),\"\",VLOOKUP(Egresados!$O497,Maestros!$G$31:$J$1030,2,0))","v":"8"},{"$f":"CONCATENATE(Egresados!$Z$8:$Z$705,\"a\",Egresados!$AA$8:$AA$705)","v":"223a8"},{"$f":"IF(ISERROR(VLOOKUP(Egresados!$P497,Maestros!$L$31:$Q$1030,2,0)),\"\",VLOOKUP(Egresados!$P497,Maestros!$L$31:$Q$1030,2,0))","v":"302"},{"$f":"CONCATENATE(Egresados!$Z$8:$Z$705,\"a\",Egresados!$AA$8:$AA$705,\"a\",Egresados!$AC$8:$AC$705)","v":"223a8a302"},{"$f":"IF(ISERROR(VLOOKUP(Egresados!$C$8:$C$705,Maestros!$A$4:$B$21,2,0)),\"\",VLOOKUP(Egresados!$C$8:$C$705,Maestros!$A$4:$B$21,2,0))","v":"1001"},{"$f":"IF(ISERROR(VLOOKUP(Egresados!$H$8:$H$705,Maestros!$D$4:$E$21,2,0)),\"\",VLOOKUP(Egresados!$H$8:$H$705,Maestros!$D$4:$E$21,2,0))","v":"1122"},{"$f":"IF(OR(UPPER(Egresados!$J$8:$J$705)=\"SI\",UPPER(Egresados!$J$8:$J$705)=\"SÍ\"),1,IF(UPPER(Egresados!$J$8:$J$705)=\"NO\",0,\"\"))","v":0},{"$f":"IF(OR(UPPER(Egresados!$R$8:$R$705)=\"SI\",UPPER(Egresados!$R$8:$R$705)=\"SÍ\"),1,IF(UPPER(Egresados!$R$8:$R$705)=\"NO\",0,\"\"))","v":""},{"$f":"IF(OR(UPPER(Egresados!$S$8:$S$705)=\"SI\",UPPER(Egresados!$S$8:$S$705)=\"SÍ\"),1,IF(UPPER(Egresados!$S$8:$S$705)=\"NO\",0,\"\"))","v":""},{"$f":"IF(ISERROR(VLOOKUP(Egresados!$T$8:$T$705,Maestros!$S$31:$T$530,2,0)),\"\",VLOOKUP(Egresados!$T$8:$T$705,Maestros!$S$31:$T$530,2,0))","v":"66"},{"$f":"IF(ISERROR(VLOOKUP(U497,Maestros!$S$31:$T$530,2,0)),\"\",VLOOKUP(U497,Maestros!$S$31:$T$530,2,0))","v":"66"},{"$f":"IF(ISERROR(VLOOKUP(Egresados!$K$8:$K$705,Maestros!$A$31:$B$130,2,0)),\"\",VLOOKUP(Egresados!$K$8:$K$705,Maestros!$A$31:$B$130,2,0))","v":""},{"$f":"IF(LEN(tablaEgresados[[#This Row],[Nota promedio]])>0,ROUND(tablaEgresados[[#This Row],[Nota promedio]],2),\"\")","v":13.92}]
[490,null,"DNI","05416177","ARELLANO","NERY","JUAN CARLOS","MASCULINO",null,"NO",null,null,null,"2020-1","SEDE CENTRAL","INFORMATICA",14.58,null,null,"2012-1","2012-1","20127220@une.edu.pe","jucan0303@gmail.com",3133700,"989410671",{"$f":"IF(ISERROR(VLOOKUP(Egresados!$N$8:$N$705,Maestros!$D$31:$E$530,2,0)),\"\",VLOOKUP(Egresados!$N$8:$N$705,Maestros!$D$31:$E$530,2,0))","v":"223"},{"$f":"IF(ISERROR(VLOOKUP(Egresados!$O498,Maestros!$G$31:$J$1030,2,0)),\"\",VLOOKUP(Egresados!$O498,Maestros!$G$31:$J$1030,2,0))","v":"8"},{"$f":"CONCATENATE(Egresados!$Z$8:$Z$705,\"a\",Egresados!$AA$8:$AA$705)","v":"223a8"},{"$f":"IF(ISERROR(VLOOKUP(Egresados!$P498,Maestros!$L$31:$Q$1030,2,0)),\"\",VLOOKUP(Egresados!$P498,Maestros!$L$31:$Q$1030,2,0))","v":"302"},{"$f":"CONCATENATE(Egresados!$Z$8:$Z$705,\"a\",Egresados!$AA$8:$AA$705,\"a\",Egresados!$AC$8:$AC$705)","v":"223a8a302"},{"$f":"IF(ISERROR(VLOOKUP(Egresados!$C$8:$C$705,Maestros!$A$4:$B$21,2,0)),\"\",VLOOKUP(Egresados!$C$8:$C$705,Maestros!$A$4:$B$21,2,0))","v":"1001"},{"$f":"IF(ISERROR(VLOOKUP(Egresados!$H$8:$H$705,Maestros!$D$4:$E$21,2,0)),\"\",VLOOKUP(Egresados!$H$8:$H$705,Maestros!$D$4:$E$21,2,0))","v":"1121"},{"$f":"IF(OR(UPPER(Egresados!$J$8:$J$705)=\"SI\",UPPER(Egresados!$J$8:$J$705)=\"SÍ\"),1,IF(UPPER(Egresados!$J$8:$J$705)=\"NO\",0,\"\"))","v":0},{"$f":"IF(OR(UPPER(Egresados!$R$8:$R$705)=\"SI\",UPPER(Egresados!$R$8:$R$705)=\"SÍ\"),1,IF(UPPER(Egresados!$R$8:$R$705)=\"NO\",0,\"\"))","v":""},{"$f":"IF(OR(UPPER(Egresados!$S$8:$S$705)=\"SI\",UPPER(Egresados!$S$8:$S$705)=\"SÍ\"),1,IF(UPPER(Egresados!$S$8:$S$705)=\"NO\",0,\"\"))","v":""},{"$f":"IF(ISERROR(VLOOKUP(Egresados!$T$8:$T$705,Maestros!$S$31:$T$530,2,0)),\"\",VLOOKUP(Egresados!$T$8:$T$705,Maestros!$S$31:$T$530,2,0))","v":"50"},{"$f":"IF(ISERROR(VLOOKUP(U498,Maestros!$S$31:$T$530,2,0)),\"\",VLOOKUP(U498,Maestros!$S$31:$T$530,2,0))","v":"50"},{"$f":"IF(ISERROR(VLOOKUP(Egresados!$K$8:$K$705,Maestros!$A$31:$B$130,2,0)),\"\",VLOOKUP(Egresados!$K$8:$K$705,Maestros!$A$31:$B$130,2,0))","v":""},{"$f":"IF(LEN(tablaEgresados[[#This Row],[Nota promedio]])>0,ROUND(tablaEgresados[[#This Row],[Nota promedio]],2),\"\")","v":14.58}]
[491,null,"DNI","70838087","HUARANGA","RUIZ","JONATHAN RUBEN","MASCULINO",null,"NO",null,null,null,"2020-1","SEDE CENTRAL","INFORMATICA",15.49,null,null,"2015-1","2015-1","20150995@une.edu.pe","joanhuru@gmial.com",3133700,"981597036",{"$f":"IF(ISERROR(VLOOKUP(Egresados!$N$8:$N$705,Maestros!$D$31:$E$530,2,0)),\"\",VLOOKUP(Egresados!$N$8:$N$705,Maestros!$D$31:$E$530,2,0))","v":"223"},{"$f":"IF(ISERROR(VLOOKUP(Egresados!$O499,Maestros!$G$31:$J$1030,2,0)),\"\",VLOOKUP(Egresados!$O499,Maestros!$G$31:$J$1030,2,0))","v":"8"},{"$f":"CONCATENATE(Egresados!$Z$8:$Z$705,\"a\",Egresados!$AA$8:$AA$705)","v":"223a8"},{"$f":"IF(ISERROR(VLOOKUP(Egresados!$P499,Maestros!$L$31:$Q$1030,2,0)),\"\",VLOOKUP(Egresados!$P499,Maestros!$L$31:$Q$1030,2,0))","v":"302"},{"$f":"CONCATENATE(Egresados!$Z$8:$Z$705,\"a\",Egresados!$AA$8:$AA$705,\"a\",Egresados!$AC$8:$AC$705)","v":"223a8a302"},{"$f":"IF(ISERROR(VLOOKUP(Egresados!$C$8:$C$705,Maestros!$A$4:$B$21,2,0)),\"\",VLOOKUP(Egresados!$C$8:$C$705,Maestros!$A$4:$B$21,2,0))","v":"1001"},{"$f":"IF(ISERROR(VLOOKUP(Egresados!$H$8:$H$705,Maestros!$D$4:$E$21,2,0)),\"\",VLOOKUP(Egresados!$H$8:$H$705,Maestros!$D$4:$E$21,2,0))","v":"1121"},{"$f":"IF(OR(UPPER(Egresados!$J$8:$J$705)=\"SI\",UPPER(Egresados!$J$8:$J$705)=\"SÍ\"),1,IF(UPPER(Egresados!$J$8:$J$705)=\"NO\",0,\"\"))","v":0},{"$f":"IF(OR(UPPER(Egresados!$R$8:$R$705)=\"SI\",UPPER(Egresados!$R$8:$R$705)=\"SÍ\"),1,IF(UPPER(Egresados!$R$8:$R$705)=\"NO\",0,\"\"))","v":""},{"$f":"IF(OR(UPPER(Egresados!$S$8:$S$705)=\"SI\",UPPER(Egresados!$S$8:$S$705)=\"SÍ\"),1,IF(UPPER(Egresados!$S$8:$S$705)=\"NO\",0,\"\"))","v":""},{"$f":"IF(ISERROR(VLOOKUP(Egresados!$T$8:$T$705,Maestros!$S$31:$T$530,2,0)),\"\",VLOOKUP(Egresados!$T$8:$T$705,Maestros!$S$31:$T$530,2,0))","v":"62"},{"$f":"IF(ISERROR(VLOOKUP(U499,Maestros!$S$31:$T$530,2,0)),\"\",VLOOKUP(U499,Maestros!$S$31:$T$530,2,0))","v":"62"},{"$f":"IF(ISERROR(VLOOKUP(Egresados!$K$8:$K$705,Maestros!$A$31:$B$130,2,0)),\"\",VLOOKUP(Egresados!$K$8:$K$705,Maestros!$A$31:$B$130,2,0))","v":""},{"$f":"IF(LEN(tablaEgresados[[#This Row],[Nota promedio]])>0,ROUND(tablaEgresados[[#This Row],[Nota promedio]],2),\"\")","v":15.49}]
[492,null,"DNI","33721217","CULQUI","ARCE","EGMA","FEMENINO",null,"NO",null,null,null,"2020-1","SEDE CENTRAL","INFORMATICA",13.92,null,null,"2017-1","2017-1","20172388@une.edu.pe","mushita121@hotmail.com",3133700,"985253259",{"$f":"IF(ISERROR(VLOOKUP(Egresados!$N$8:$N$705,Maestros!$D$31:$E$530,2,0)),\"\",VLOOKUP(Egresados!$N$8:$N$705,Maestros!$D$31:$E$530,2,0))","v":"223"},{"$f":"IF(ISERROR(VLOOKUP(Egresados!$O500,Maestros!$G$31:$J$1030,2,0)),\"\",VLOOKUP(Egresados!$O500,Maestros!$G$31:$J$1030,2,0))","v":"8"},{"$f":"CONCATENATE(Egresados!$Z$8:$Z$705,\"a\",Egresados!$AA$8:$AA$705)","v":"223a8"},{"$f":"IF(ISERROR(VLOOKUP(Egresados!$P500,Maestros!$L$31:$Q$1030,2,0)),\"\",VLOOKUP(Egresados!$P500,Maestros!$L$31:$Q$1030,2,0))","v":"302"},{"$f":"CONCATENATE(Egresados!$Z$8:$Z$705,\"a\",Egresados!$AA$8:$AA$705,\"a\",Egresados!$AC$8:$AC$705)","v":"223a8a302"},{"$f":"IF(ISERROR(VLOOKUP(Egresados!$C$8:$C$705,Maestros!$A$4:$B$21,2,0)),\"\",VLOOKUP(Egresados!$C$8:$C$705,Maestros!$A$4:$B$21,2,0))","v":"1001"},{"$f":"IF(ISERROR(VLOOKUP(Egresados!$H$8:$H$705,Maestros!$D$4:$E$21,2,0)),\"\",VLOOKUP(Egresados!$H$8:$H$705,Maestros!$D$4:$E$21,2,0))","v":"1122"},{"$f":"IF(OR(UPPER(Egresados!$J$8:$J$705)=\"SI\",UPPER(Egresados!$J$8:$J$705)=\"SÍ\"),1,IF(UPPER(Egresados!$J$8:$J$705)=\"NO\",0,\"\"))","v":0},{"$f":"IF(OR(UPPER(Egresados!$R$8:$R$705)=\"SI\",UPPER(Egresados!$R$8:$R$705)=\"SÍ\"),1,IF(UPPER(Egresados!$R$8:$R$705)=\"NO\",0,\"\"))","v":""},{"$f":"IF(OR(UPPER(Egresados!$S$8:$S$705)=\"SI\",UPPER(Egresados!$S$8:$S$705)=\"SÍ\"),1,IF(UPPER(Egresados!$S$8:$S$705)=\"NO\",0,\"\"))","v":""},{"$f":"IF(ISERROR(VLOOKUP(Egresados!$T$8:$T$705,Maestros!$S$31:$T$530,2,0)),\"\",VLOOKUP(Egresados!$T$8:$T$705,Maestros!$S$31:$T$530,2,0))","v":"70"},{"$f":"IF(ISERROR(VLOOKUP(U500,Maestros!$S$31:$T$530,2,0)),\"\",VLOOKUP(U500,Maestros!$S$31:$T$530,2,0))","v":"70"},{"$f":"IF(ISERROR(VLOOKUP(Egresados!$K$8:$K$705,Maestros!$A$31:$B$130,2,0)),\"\",VLOOKUP(Egresados!$K$8:$K$705,Maestros!$A$31:$B$130,2,0))","v":""},{"$f":"IF(LEN(tablaEgresados[[#This Row],[Nota promedio]])>0,ROUND(tablaEgresados[[#This Row],[Nota promedio]],2),\"\")","v":13.92}]
[493,null,"DNI","76443003","PORMACHI","RAMOS","EDISON","MASCULINO",null,"NO",null,null,null,"2020-1","SEDE CENTRAL","INFORMATICA",15.08,null,null,"2014-1","2014-1","20141187@une.edu.pe","tm_eddy_95@hotmail.com",3133700,"941626615",{"$f":"IF(ISERROR(VLOOKUP(Egresados!$N$8:$N$705,Maestros!$D$31:$E$530,2,0)),\"\",VLOOKUP(Egresados!$N$8:$N$705,Maestros!$D$31:$E$530,2,0))","v":"223"},{"$f":"IF(ISERROR(VLOOKUP(Egresados!$O501,Maestros!$G$31:$J$1030,2,0)),\"\",VLOOKUP(Egresados!$O501,Maestros!$G$31:$J$1030,2,0))","v":"8"},{"$f":"CONCATENATE(Egresados!$Z$8:$Z$705,\"a\",Egresados!$AA$8:$AA$705)","v":"223a8"},{"$f":"IF(ISERROR(VLOOKUP(Egresados!$P501,Maestros!$L$31:$Q$1030,2,0)),\"\",VLOOKUP(Egresados!$P501,Maestros!$L$31:$Q$1030,2,0))","v":"302"},{"$f":"CONCATENATE(Egresados!$Z$8:$Z$705,\"a\",Egresados!$AA$8:$AA$705,\"a\",Egresados!$AC$8:$AC$705)","v":"223a8a302"},{"$f":"IF(ISERROR(VLOOKUP(Egresados!$C$8:$C$705,Maestros!$A$4:$B$21,2,0)),\"\",VLOOKUP(Egresados!$C$8:$C$705,Maestros!$A$4:$B$21,2,0))","v":"1001"},{"$f":"IF(ISERROR(VLOOKUP(Egresados!$H$8:$H$705,Maestros!$D$4:$E$21,2,0)),\"\",VLOOKUP(Egresados!$H$8:$H$705,Maestros!$D$4:$E$21,2,0))","v":"1121"},{"$f":"IF(OR(UPPER(Egresados!$J$8:$J$705)=\"SI\",UPPER(Egresados!$J$8:$J$705)=\"SÍ\"),1,IF(UPPER(Egresados!$J$8:$J$705)=\"NO\",0,\"\"))","v":0},{"$f":"IF(OR(UPPER(Egresados!$R$8:$R$705)=\"SI\",UPPER(Egresados!$R$8:$R$705)=\"SÍ\"),1,IF(UPPER(Egresados!$R$8:$R$705)=\"NO\",0,\"\"))","v":""},{"$f":"IF(OR(UPPER(Egresados!$S$8:$S$705)=\"SI\",UPPER(Egresados!$S$8:$S$705)=\"SÍ\"),1,IF(UPPER(Egresados!$S$8:$S$705)=\"NO\",0,\"\"))","v":""},{"$f":"IF(ISERROR(VLOOKUP(Egresados!$T$8:$T$705,Maestros!$S$31:$T$530,2,0)),\"\",VLOOKUP(Egresados!$T$8:$T$705,Maestros!$S$31:$T$530,2,0))","v":"58"},{"$f":"IF(ISERROR(VLOOKUP(U501,Maestros!$S$31:$T$530,2,0)),\"\",VLOOKUP(U501,Maestros!$S$31:$T$530,2,0))","v":"58"},{"$f":"IF(ISERROR(VLOOKUP(Egresados!$K$8:$K$705,Maestros!$A$31:$B$130,2,0)),\"\",VLOOKUP(Egresados!$K$8:$K$705,Maestros!$A$31:$B$130,2,0))","v":""},{"$f":"IF(LEN(tablaEgresados[[#This Row],[Nota promedio]])>0,ROUND(tablaEgresados[[#This Row],[Nota promedio]],2),\"\")","v":15.08}]
[494,null,"DNI","45257572","VELIZ","MADUEÑO","BEATRIZ","FEMENINO",null,"NO",null,null,null,"2020-1","SEDE CENTRAL","INFORMATICA",15.74,null,null,"2017-1","2017-1","20173475@une.edu.pe","beatrizvelizm@hotmail.com",3133700,"993202277",{"$f":"IF(ISERROR(VLOOKUP(Egresados!$N$8:$N$705,Maestros!$D$31:$E$530,2,0)),\"\",VLOOKUP(Egresados!$N$8:$N$705,Maestros!$D$31:$E$530,2,0))","v":"223"},{"$f":"IF(ISERROR(VLOOKUP(Egresados!$O502,Maestros!$G$31:$J$1030,2,0)),\"\",VLOOKUP(Egresados!$O502,Maestros!$G$31:$J$1030,2,0))","v":"8"},{"$f":"CONCATENATE(Egresados!$Z$8:$Z$705,\"a\",Egresados!$AA$8:$AA$705)","v":"223a8"},{"$f":"IF(ISERROR(VLOOKUP(Egresados!$P502,Maestros!$L$31:$Q$1030,2,0)),\"\",VLOOKUP(Egresados!$P502,Maestros!$L$31:$Q$1030,2,0))","v":"302"},{"$f":"CONCATENATE(Egresados!$Z$8:$Z$705,\"a\",Egresados!$AA$8:$AA$705,\"a\",Egresados!$AC$8:$AC$705)","v":"223a8a302"},{"$f":"IF(ISERROR(VLOOKUP(Egresados!$C$8:$C$705,Maestros!$A$4:$B$21,2,0)),\"\",VLOOKUP(Egresados!$C$8:$C$705,Maestros!$A$4:$B$21,2,0))","v":"1001"},{"$f":"IF(ISERROR(VLOOKUP(Egresados!$H$8:$H$705,Maestros!$D$4:$E$21,2,0)),\"\",VLOOKUP(Egresados!$H$8:$H$705,Maestros!$D$4:$E$21,2,0))","v":"1122"},{"$f":"IF(OR(UPPER(Egresados!$J$8:$J$705)=\"SI\",UPPER(Egresados!$J$8:$J$705)=\"SÍ\"),1,IF(UPPER(Egresados!$J$8:$J$705)=\"NO\",0,\"\"))","v":0},{"$f":"IF(OR(UPPER(Egresados!$R$8:$R$705)=\"SI\",UPPER(Egresados!$R$8:$R$705)=\"SÍ\"),1,IF(UPPER(Egresados!$R$8:$R$705)=\"NO\",0,\"\"))","v":""},{"$f":"IF(OR(UPPER(Egresados!$S$8:$S$705)=\"SI\",UPPER(Egresados!$S$8:$S$705)=\"SÍ\"),1,IF(UPPER(Egresados!$S$8:$S$705)=\"NO\",0,\"\"))","v":""},{"$f":"IF(ISERROR(VLOOKUP(Egresados!$T$8:$T$705,Maestros!$S$31:$T$530,2,0)),\"\",VLOOKUP(Egresados!$T$8:$T$705,Maestros!$S$31:$T$530,2,0))","v":"70"},{"$f":"IF(ISERROR(VLOOKUP(U502,Maestros!$S$31:$T$530,2,0)),\"\",VLOOKUP(U502,Maestros!$S$31:$T$530,2,0))","v":"70"},{"$f":"IF(ISERROR(VLOOKUP(Egresados!$K$8:$K$705,Maestros!$A$31:$B$130,2,0)),\"\",VLOOKUP(Egresados!$K$8:$K$705,Maestros!$A$31:$B$130,2,0))","v":""},{"$f":"IF(LEN(tablaEgresados[[#This Row],[Nota promedio]])>0,ROUND(tablaEgresados[[#This Row],[Nota promedio]],2),\"\")","v":15.74}]
[495,null,"DNI","40771292","CRISTOBAL","VILLANUEVA","REBECA HAYDEE","FEMENINO",null,"NO",null,null,null,"2020-1","SEDE CENTRAL","INFORMATICA",14.89,null,null,"2017-1","2017-1","20172387@une.edu.pe","rebecacristobal017@hotmail.com",3133700,"940117272",{"$f":"IF(ISERROR(VLOOKUP(Egresados!$N$8:$N$705,Maestros!$D$31:$E$530,2,0)),\"\",VLOOKUP(Egresados!$N$8:$N$705,Maestros!$D$31:$E$530,2,0))","v":"223"},{"$f":"IF(ISERROR(VLOOKUP(Egresados!$O503,Maestros!$G$31:$J$1030,2,0)),\"\",VLOOKUP(Egresados!$O503,Maestros!$G$31:$J$1030,2,0))","v":"8"},{"$f":"CONCATENATE(Egresados!$Z$8:$Z$705,\"a\",Egresados!$AA$8:$AA$705)","v":"223a8"},{"$f":"IF(ISERROR(VLOOKUP(Egresados!$P503,Maestros!$L$31:$Q$1030,2,0)),\"\",VLOOKUP(Egresados!$P503,Maestros!$L$31:$Q$1030,2,0))","v":"302"},{"$f":"CONCATENATE(Egresados!$Z$8:$Z$705,\"a\",Egresados!$AA$8:$AA$705,\"a\",Egresados!$AC$8:$AC$705)","v":"223a8a302"},{"$f":"IF(ISERROR(VLOOKUP(Egresados!$C$8:$C$705,Maestros!$A$4:$B$21,2,0)),\"\",VLOOKUP(Egresados!$C$8:$C$705,Maestros!$A$4:$B$21,2,0))","v":"1001"},{"$f":"IF(ISERROR(VLOOKUP(Egresados!$H$8:$H$705,Maestros!$D$4:$E$21,2,0)),\"\",VLOOKUP(Egresados!$H$8:$H$705,Maestros!$D$4:$E$21,2,0))","v":"1122"},{"$f":"IF(OR(UPPER(Egresados!$J$8:$J$705)=\"SI\",UPPER(Egresados!$J$8:$J$705)=\"SÍ\"),1,IF(UPPER(Egresados!$J$8:$J$705)=\"NO\",0,\"\"))","v":0},{"$f":"IF(OR(UPPER(Egresados!$R$8:$R$705)=\"SI\",UPPER(Egresados!$R$8:$R$705)=\"SÍ\"),1,IF(UPPER(Egresados!$R$8:$R$705)=\"NO\",0,\"\"))","v":""},{"$f":"IF(OR(UPPER(Egresados!$S$8:$S$705)=\"SI\",UPPER(Egresados!$S$8:$S$705)=\"SÍ\"),1,IF(UPPER(Egresados!$S$8:$S$705)=\"NO\",0,\"\"))","v":""},{"$f":"IF(ISERROR(VLOOKUP(Egresados!$T$8:$T$705,Maestros!$S$31:$T$530,2,0)),\"\",VLOOKUP(Egresados!$T$8:$T$705,Maestros!$S$31:$T$530,2,0))","v":"70"},{"$f":"IF(ISERROR(VLOOKUP(U503,Maestros!$S$31:$T$530,2,0)),\"\",VLOOKUP(U503,Maestros!$S$31:$T$530,2,0))","v":"70"},{"$f":"IF(ISERROR(VLOOKUP(Egresados!$K$8:$K$705,Maestros!$A$31:$B$130,2,0)),\"\",VLOOKUP(Egresados!$K$8:$K$705,Maestros!$A$31:$B$130,2,0))","v":""},{"$f":"IF(LEN(tablaEgresados[[#This Row],[Nota promedio]])>0,ROUND(tablaEgresados[[#This Row],[Nota promedio]],2),\"\")","v":14.89}]
[496,null,"DNI","22489037","GUILLERMO","CASTILLO","BELTA YESICA","FEMENINO",null,"NO",null,null,null,"2020-1","SEDE CENTRAL","INFORMATICA",14.94,null,null,"2013-1","2013-1","20133361@une.edu.pe","oepc25@gmail.com",3133700,976486001,{"$f":"IF(ISERROR(VLOOKUP(Egresados!$N$8:$N$705,Maestros!$D$31:$E$530,2,0)),\"\",VLOOKUP(Egresados!$N$8:$N$705,Maestros!$D$31:$E$530,2,0))","v":"223"},{"$f":"IF(ISERROR(VLOOKUP(Egresados!$O504,Maestros!$G$31:$J$1030,2,0)),\"\",VLOOKUP(Egresados!$O504,Maestros!$G$31:$J$1030,2,0))","v":"8"},{"$f":"CONCATENATE(Egresados!$Z$8:$Z$705,\"a\",Egresados!$AA$8:$AA$705)","v":"223a8"},{"$f":"IF(ISERROR(VLOOKUP(Egresados!$P504,Maestros!$L$31:$Q$1030,2,0)),\"\",VLOOKUP(Egresados!$P504,Maestros!$L$31:$Q$1030,2,0))","v":"302"},{"$f":"CONCATENATE(Egresados!$Z$8:$Z$705,\"a\",Egresados!$AA$8:$AA$705,\"a\",Egresados!$AC$8:$AC$705)","v":"223a8a302"},{"$f":"IF(ISERROR(VLOOKUP(Egresados!$C$8:$C$705,Maestros!$A$4:$B$21,2,0)),\"\",VLOOKUP(Egresados!$C$8:$C$705,Maestros!$A$4:$B$21,2,0))","v":"1001"},{"$f":"IF(ISERROR(VLOOKUP(Egresados!$H$8:$H$705,Maestros!$D$4:$E$21,2,0)),\"\",VLOOKUP(Egresados!$H$8:$H$705,Maestros!$D$4:$E$21,2,0))","v":"1122"},{"$f":"IF(OR(UPPER(Egresados!$J$8:$J$705)=\"SI\",UPPER(Egresados!$J$8:$J$705)=\"SÍ\"),1,IF(UPPER(Egresados!$J$8:$J$705)=\"NO\",0,\"\"))","v":0},{"$f":"IF(OR(UPPER(Egresados!$R$8:$R$705)=\"SI\",UPPER(Egresados!$R$8:$R$705)=\"SÍ\"),1,IF(UPPER(Egresados!$R$8:$R$705)=\"NO\",0,\"\"))","v":""},{"$f":"IF(OR(UPPER(Egresados!$S$8:$S$705)=\"SI\",UPPER(Egresados!$S$8:$S$705)=\"SÍ\"),1,IF(UPPER(Egresados!$S$8:$S$705)=\"NO\",0,\"\"))","v":""},{"$f":"IF(ISERROR(VLOOKUP(Egresados!$T$8:$T$705,Maestros!$S$31:$T$530,2,0)),\"\",VLOOKUP(Egresados!$T$8:$T$705,Maestros!$S$31:$T$530,2,0))","v":"54"},{"$f":"IF(ISERROR(VLOOKUP(U504,Maestros!$S$31:$T$530,2,0)),\"\",VLOOKUP(U504,Maestros!$S$31:$T$530,2,0))","v":"54"},{"$f":"IF(ISERROR(VLOOKUP(Egresados!$K$8:$K$705,Maestros!$A$31:$B$130,2,0)),\"\",VLOOKUP(Egresados!$K$8:$K$705,Maestros!$A$31:$B$130,2,0))","v":""},{"$f":"IF(LEN(tablaEgresados[[#This Row],[Nota promedio]])>0,ROUND(tablaEgresados[[#This Row],[Nota promedio]],2),\"\")","v":14.94}]
[497,null,"DNI","29416250","CORNEJO","CARPIO","LUCIA YUREMA","FEMENINO",null,"NO",null,null,null,"2020-1","SEDE CENTRAL","INFORMATICA",14.54,null,null,"2012-1","2012-1","20124624@une.edu.pe","luciayuremacc@gmail.com",3133700,"975414055",{"$f":"IF(ISERROR(VLOOKUP(Egresados!$N$8:$N$705,Maestros!$D$31:$E$530,2,0)),\"\",VLOOKUP(Egresados!$N$8:$N$705,Maestros!$D$31:$E$530,2,0))","v":"223"},{"$f":"IF(ISERROR(VLOOKUP(Egresados!$O505,Maestros!$G$31:$J$1030,2,0)),\"\",VLOOKUP(Egresados!$O505,Maestros!$G$31:$J$1030,2,0))","v":"8"},{"$f":"CONCATENATE(Egresados!$Z$8:$Z$705,\"a\",Egresados!$AA$8:$AA$705)","v":"223a8"},{"$f":"IF(ISERROR(VLOOKUP(Egresados!$P505,Maestros!$L$31:$Q$1030,2,0)),\"\",VLOOKUP(Egresados!$P505,Maestros!$L$31:$Q$1030,2,0))","v":"302"},{"$f":"CONCATENATE(Egresados!$Z$8:$Z$705,\"a\",Egresados!$AA$8:$AA$705,\"a\",Egresados!$AC$8:$AC$705)","v":"223a8a302"},{"$f":"IF(ISERROR(VLOOKUP(Egresados!$C$8:$C$705,Maestros!$A$4:$B$21,2,0)),\"\",VLOOKUP(Egresados!$C$8:$C$705,Maestros!$A$4:$B$21,2,0))","v":"1001"},{"$f":"IF(ISERROR(VLOOKUP(Egresados!$H$8:$H$705,Maestros!$D$4:$E$21,2,0)),\"\",VLOOKUP(Egresados!$H$8:$H$705,Maestros!$D$4:$E$21,2,0))","v":"1122"},{"$f":"IF(OR(UPPER(Egresados!$J$8:$J$705)=\"SI\",UPPER(Egresados!$J$8:$J$705)=\"SÍ\"),1,IF(UPPER(Egresados!$J$8:$J$705)=\"NO\",0,\"\"))","v":0},{"$f":"IF(OR(UPPER(Egresados!$R$8:$R$705)=\"SI\",UPPER(Egresados!$R$8:$R$705)=\"SÍ\"),1,IF(UPPER(Egresados!$R$8:$R$705)=\"NO\",0,\"\"))","v":""},{"$f":"IF(OR(UPPER(Egresados!$S$8:$S$705)=\"SI\",UPPER(Egresados!$S$8:$S$705)=\"SÍ\"),1,IF(UPPER(Egresados!$S$8:$S$705)=\"NO\",0,\"\"))","v":""},{"$f":"IF(ISERROR(VLOOKUP(Egresados!$T$8:$T$705,Maestros!$S$31:$T$530,2,0)),\"\",VLOOKUP(Egresados!$T$8:$T$705,Maestros!$S$31:$T$530,2,0))","v":"50"},{"$f":"IF(ISERROR(VLOOKUP(U505,Maestros!$S$31:$T$530,2,0)),\"\",VLOOKUP(U505,Maestros!$S$31:$T$530,2,0))","v":"50"},{"$f":"IF(ISERROR(VLOOKUP(Egresados!$K$8:$K$705,Maestros!$A$31:$B$130,2,0)),\"\",VLOOKUP(Egresados!$K$8:$K$705,Maestros!$A$31:$B$130,2,0))","v":""},{"$f":"IF(LEN(tablaEgresados[[#This Row],[Nota promedio]])>0,ROUND(tablaEgresados[[#This Row],[Nota promedio]],2),\"\")","v":14.54}]
[498,null,"DNI","75605512","TITO","ROJAS","ANTUANE JANNELY","FEMENINO",null,"NO",null,null,null,"2020-1","SEDE CENTRAL","INGLES-ALEMAN",16.22,null,null,"2015-1","2015-1","20150423@une.edu.pe","antuane_458@hotmail.com",3133700,"980918220",{"$f":"IF(ISERROR(VLOOKUP(Egresados!$N$8:$N$705,Maestros!$D$31:$E$530,2,0)),\"\",VLOOKUP(Egresados!$N$8:$N$705,Maestros!$D$31:$E$530,2,0))","v":"223"},{"$f":"IF(ISERROR(VLOOKUP(Egresados!$O506,Maestros!$G$31:$J$1030,2,0)),\"\",VLOOKUP(Egresados!$O506,Maestros!$G$31:$J$1030,2,0))","v":"8"},{"$f":"CONCATENATE(Egresados!$Z$8:$Z$705,\"a\",Egresados!$AA$8:$AA$705)","v":"223a8"},{"$f":"IF(ISERROR(VLOOKUP(Egresados!$P506,Maestros!$L$31:$Q$1030,2,0)),\"\",VLOOKUP(Egresados!$P506,Maestros!$L$31:$Q$1030,2,0))","v":"323"},{"$f":"CONCATENATE(Egresados!$Z$8:$Z$705,\"a\",Egresados!$AA$8:$AA$705,\"a\",Egresados!$AC$8:$AC$705)","v":"223a8a323"},{"$f":"IF(ISERROR(VLOOKUP(Egresados!$C$8:$C$705,Maestros!$A$4:$B$21,2,0)),\"\",VLOOKUP(Egresados!$C$8:$C$705,Maestros!$A$4:$B$21,2,0))","v":"1001"},{"$f":"IF(ISERROR(VLOOKUP(Egresados!$H$8:$H$705,Maestros!$D$4:$E$21,2,0)),\"\",VLOOKUP(Egresados!$H$8:$H$705,Maestros!$D$4:$E$21,2,0))","v":"1122"},{"$f":"IF(OR(UPPER(Egresados!$J$8:$J$705)=\"SI\",UPPER(Egresados!$J$8:$J$705)=\"SÍ\"),1,IF(UPPER(Egresados!$J$8:$J$705)=\"NO\",0,\"\"))","v":0},{"$f":"IF(OR(UPPER(Egresados!$R$8:$R$705)=\"SI\",UPPER(Egresados!$R$8:$R$705)=\"SÍ\"),1,IF(UPPER(Egresados!$R$8:$R$705)=\"NO\",0,\"\"))","v":""},{"$f":"IF(OR(UPPER(Egresados!$S$8:$S$705)=\"SI\",UPPER(Egresados!$S$8:$S$705)=\"SÍ\"),1,IF(UPPER(Egresados!$S$8:$S$705)=\"NO\",0,\"\"))","v":""},{"$f":"IF(ISERROR(VLOOKUP(Egresados!$T$8:$T$705,Maestros!$S$31:$T$530,2,0)),\"\",VLOOKUP(Egresados!$T$8:$T$705,Maestros!$S$31:$T$530,2,0))","v":"62"},{"$f":"IF(ISERROR(VLOOKUP(U506,Maestros!$S$31:$T$530,2,0)),\"\",VLOOKUP(U506,Maestros!$S$31:$T$530,2,0))","v":"62"},{"$f":"IF(ISERROR(VLOOKUP(Egresados!$K$8:$K$705,Maestros!$A$31:$B$130,2,0)),\"\",VLOOKUP(Egresados!$K$8:$K$705,Maestros!$A$31:$B$130,2,0))","v":""},{"$f":"IF(LEN(tablaEgresados[[#This Row],[Nota promedio]])>0,ROUND(tablaEgresados[[#This Row],[Nota promedio]],2),\"\")","v":16.22}]
[499,null,"DNI","72541234","JAUREGUI","GONZALES","AMELIA JHEMIRA","FEMENINO",null,"NO",null,null,null,"2020-1","SEDE CENTRAL","INGLES-ALEMAN",16.600000000000001,null,null,"2015-1","2015-1","20150392@une.edu.pe","ameliaj.gonzales@hotmail.com",3133700,"960822777",{"$f":"IF(ISERROR(VLOOKUP(Egresados!$N$8:$N$705,Maestros!$D$31:$E$530,2,0)),\"\",VLOOKUP(Egresados!$N$8:$N$705,Maestros!$D$31:$E$530,2,0))","v":"223"},{"$f":"IF(ISERROR(VLOOKUP(Egresados!$O507,Maestros!$G$31:$J$1030,2,0)),\"\",VLOOKUP(Egresados!$O507,Maestros!$G$31:$J$1030,2,0))","v":"8"},{"$f":"CONCATENATE(Egresados!$Z$8:$Z$705,\"a\",Egresados!$AA$8:$AA$705)","v":"223a8"},{"$f":"IF(ISERROR(VLOOKUP(Egresados!$P507,Maestros!$L$31:$Q$1030,2,0)),\"\",VLOOKUP(Egresados!$P507,Maestros!$L$31:$Q$1030,2,0))","v":"323"},{"$f":"CONCATENATE(Egresados!$Z$8:$Z$705,\"a\",Egresados!$AA$8:$AA$705,\"a\",Egresados!$AC$8:$AC$705)","v":"223a8a323"},{"$f":"IF(ISERROR(VLOOKUP(Egresados!$C$8:$C$705,Maestros!$A$4:$B$21,2,0)),\"\",VLOOKUP(Egresados!$C$8:$C$705,Maestros!$A$4:$B$21,2,0))","v":"1001"},{"$f":"IF(ISERROR(VLOOKUP(Egresados!$H$8:$H$705,Maestros!$D$4:$E$21,2,0)),\"\",VLOOKUP(Egresados!$H$8:$H$705,Maestros!$D$4:$E$21,2,0))","v":"1122"},{"$f":"IF(OR(UPPER(Egresados!$J$8:$J$705)=\"SI\",UPPER(Egresados!$J$8:$J$705)=\"SÍ\"),1,IF(UPPER(Egresados!$J$8:$J$705)=\"NO\",0,\"\"))","v":0},{"$f":"IF(OR(UPPER(Egresados!$R$8:$R$705)=\"SI\",UPPER(Egresados!$R$8:$R$705)=\"SÍ\"),1,IF(UPPER(Egresados!$R$8:$R$705)=\"NO\",0,\"\"))","v":""},{"$f":"IF(OR(UPPER(Egresados!$S$8:$S$705)=\"SI\",UPPER(Egresados!$S$8:$S$705)=\"SÍ\"),1,IF(UPPER(Egresados!$S$8:$S$705)=\"NO\",0,\"\"))","v":""},{"$f":"IF(ISERROR(VLOOKUP(Egresados!$T$8:$T$705,Maestros!$S$31:$T$530,2,0)),\"\",VLOOKUP(Egresados!$T$8:$T$705,Maestros!$S$31:$T$530,2,0))","v":"62"},{"$f":"IF(ISERROR(VLOOKUP(U507,Maestros!$S$31:$T$530,2,0)),\"\",VLOOKUP(U507,Maestros!$S$31:$T$530,2,0))","v":"62"},{"$f":"IF(ISERROR(VLOOKUP(Egresados!$K$8:$K$705,Maestros!$A$31:$B$130,2,0)),\"\",VLOOKUP(Egresados!$K$8:$K$705,Maestros!$A$31:$B$130,2,0))","v":""},{"$f":"IF(LEN(tablaEgresados[[#This Row],[Nota promedio]])>0,ROUND(tablaEgresados[[#This Row],[Nota promedio]],2),\"\")","v":16.600000000000001}]
[500,null,"DNI","72896497","ZAMBRANO","AGUIRRE","MARCO ANTONIO","MASCULINO",null,"NO",null,null,null,"2020-1","SEDE CENTRAL","INGLES-ESPAÑOL COMO LENGUA EXTRANJERA",15.58,null,null,"2015-1","2015-1","20150432@une.edu.pe","marcus_98_tlv@hotmail.com",3133700,"940330534",{"$f":"IF(ISERROR(VLOOKUP(Egresados!$N$8:$N$705,Maestros!$D$31:$E$530,2,0)),\"\",VLOOKUP(Egresados!$N$8:$N$705,Maestros!$D$31:$E$530,2,0))","v":"223"},{"$f":"IF(ISERROR(VLOOKUP(Egresados!$O508,Maestros!$G$31:$J$1030,2,0)),\"\",VLOOKUP(Egresados!$O508,Maestros!$G$31:$J$1030,2,0))","v":"8"},{"$f":"CONCATENATE(Egresados!$Z$8:$Z$705,\"a\",Egresados!$AA$8:$AA$705)","v":"223a8"},{"$f":"IF(ISERROR(VLOOKUP(Egresados!$P508,Maestros!$L$31:$Q$1030,2,0)),\"\",VLOOKUP(Egresados!$P508,Maestros!$L$31:$Q$1030,2,0))","v":"335"},{"$f":"CONCATENATE(Egresados!$Z$8:$Z$705,\"a\",Egresados!$AA$8:$AA$705,\"a\",Egresados!$AC$8:$AC$705)","v":"223a8a335"},{"$f":"IF(ISERROR(VLOOKUP(Egresados!$C$8:$C$705,Maestros!$A$4:$B$21,2,0)),\"\",VLOOKUP(Egresados!$C$8:$C$705,Maestros!$A$4:$B$21,2,0))","v":"1001"},{"$f":"IF(ISERROR(VLOOKUP(Egresados!$H$8:$H$705,Maestros!$D$4:$E$21,2,0)),\"\",VLOOKUP(Egresados!$H$8:$H$705,Maestros!$D$4:$E$21,2,0))","v":"1121"},{"$f":"IF(OR(UPPER(Egresados!$J$8:$J$705)=\"SI\",UPPER(Egresados!$J$8:$J$705)=\"SÍ\"),1,IF(UPPER(Egresados!$J$8:$J$705)=\"NO\",0,\"\"))","v":0},{"$f":"IF(OR(UPPER(Egresados!$R$8:$R$705)=\"SI\",UPPER(Egresados!$R$8:$R$705)=\"SÍ\"),1,IF(UPPER(Egresados!$R$8:$R$705)=\"NO\",0,\"\"))","v":""},{"$f":"IF(OR(UPPER(Egresados!$S$8:$S$705)=\"SI\",UPPER(Egresados!$S$8:$S$705)=\"SÍ\"),1,IF(UPPER(Egresados!$S$8:$S$705)=\"NO\",0,\"\"))","v":""},{"$f":"IF(ISERROR(VLOOKUP(Egresados!$T$8:$T$705,Maestros!$S$31:$T$530,2,0)),\"\",VLOOKUP(Egresados!$T$8:$T$705,Maestros!$S$31:$T$530,2,0))","v":"62"},{"$f":"IF(ISERROR(VLOOKUP(U508,Maestros!$S$31:$T$530,2,0)),\"\",VLOOKUP(U508,Maestros!$S$31:$T$530,2,0))","v":"62"},{"$f":"IF(ISERROR(VLOOKUP(Egresados!$K$8:$K$705,Maestros!$A$31:$B$130,2,0)),\"\",VLOOKUP(Egresados!$K$8:$K$705,Maestros!$A$31:$B$130,2,0))","v":""},{"$f":"IF(LEN(tablaEgresados[[#This Row],[Nota promedio]])>0,ROUND(tablaEgresados[[#This Row],[Nota promedio]],2),\"\")","v":15.58}]
[501,null,"DNI","75496808","POMACANCHARI","ROJAS","ESTEFANY SHIRLEY","FEMENINO",null,"NO",null,null,null,"2020-1","SEDE CENTRAL","INGLES-ESPAÑOL COMO LENGUA EXTRANJERA",15.31,null,null,"2014-1","2014-1","20141246@une.edu.pe","estefany.rojasj30@gmail.com",3133700,"929431009",{"$f":"IF(ISERROR(VLOOKUP(Egresados!$N$8:$N$705,Maestros!$D$31:$E$530,2,0)),\"\",VLOOKUP(Egresados!$N$8:$N$705,Maestros!$D$31:$E$530,2,0))","v":"223"},{"$f":"IF(ISERROR(VLOOKUP(Egresados!$O509,Maestros!$G$31:$J$1030,2,0)),\"\",VLOOKUP(Egresados!$O509,Maestros!$G$31:$J$1030,2,0))","v":"8"},{"$f":"CONCATENATE(Egresados!$Z$8:$Z$705,\"a\",Egresados!$AA$8:$AA$705)","v":"223a8"},{"$f":"IF(ISERROR(VLOOKUP(Egresados!$P509,Maestros!$L$31:$Q$1030,2,0)),\"\",VLOOKUP(Egresados!$P509,Maestros!$L$31:$Q$1030,2,0))","v":"335"},{"$f":"CONCATENATE(Egresados!$Z$8:$Z$705,\"a\",Egresados!$AA$8:$AA$705,\"a\",Egresados!$AC$8:$AC$705)","v":"223a8a335"},{"$f":"IF(ISERROR(VLOOKUP(Egresados!$C$8:$C$705,Maestros!$A$4:$B$21,2,0)),\"\",VLOOKUP(Egresados!$C$8:$C$705,Maestros!$A$4:$B$21,2,0))","v":"1001"},{"$f":"IF(ISERROR(VLOOKUP(Egresados!$H$8:$H$705,Maestros!$D$4:$E$21,2,0)),\"\",VLOOKUP(Egresados!$H$8:$H$705,Maestros!$D$4:$E$21,2,0))","v":"1122"},{"$f":"IF(OR(UPPER(Egresados!$J$8:$J$705)=\"SI\",UPPER(Egresados!$J$8:$J$705)=\"SÍ\"),1,IF(UPPER(Egresados!$J$8:$J$705)=\"NO\",0,\"\"))","v":0},{"$f":"IF(OR(UPPER(Egresados!$R$8:$R$705)=\"SI\",UPPER(Egresados!$R$8:$R$705)=\"SÍ\"),1,IF(UPPER(Egresados!$R$8:$R$705)=\"NO\",0,\"\"))","v":""},{"$f":"IF(OR(UPPER(Egresados!$S$8:$S$705)=\"SI\",UPPER(Egresados!$S$8:$S$705)=\"SÍ\"),1,IF(UPPER(Egresados!$S$8:$S$705)=\"NO\",0,\"\"))","v":""},{"$f":"IF(ISERROR(VLOOKUP(Egresados!$T$8:$T$705,Maestros!$S$31:$T$530,2,0)),\"\",VLOOKUP(Egresados!$T$8:$T$705,Maestros!$S$31:$T$530,2,0))","v":"58"},{"$f":"IF(ISERROR(VLOOKUP(U509,Maestros!$S$31:$T$530,2,0)),\"\",VLOOKUP(U509,Maestros!$S$31:$T$530,2,0))","v":"58"},{"$f":"IF(ISERROR(VLOOKUP(Egresados!$K$8:$K$705,Maestros!$A$31:$B$130,2,0)),\"\",VLOOKUP(Egresados!$K$8:$K$705,Maestros!$A$31:$B$130,2,0))","v":""},{"$f":"IF(LEN(tablaEgresados[[#This Row],[Nota promedio]])>0,ROUND(tablaEgresados[[#This Row],[Nota promedio]],2),\"\")","v":15.31}]
[502,null,"DNI","70608503","DIAZ","CAYCHO","SUGER ANDRE","MASCULINO",null,"NO",null,null,null,"2020-1","SEDE CENTRAL","INGLES-ESPAÑOL COMO LENGUA EXTRANJERA",16.47,null,null,"2015-1","2015-1","20150377@une.edu.pe","diazcaycho66@gmail.com",3133700,"961811518",{"$f":"IF(ISERROR(VLOOKUP(Egresados!$N$8:$N$705,Maestros!$D$31:$E$530,2,0)),\"\",VLOOKUP(Egresados!$N$8:$N$705,Maestros!$D$31:$E$530,2,0))","v":"223"},{"$f":"IF(ISERROR(VLOOKUP(Egresados!$O510,Maestros!$G$31:$J$1030,2,0)),\"\",VLOOKUP(Egresados!$O510,Maestros!$G$31:$J$1030,2,0))","v":"8"},{"$f":"CONCATENATE(Egresados!$Z$8:$Z$705,\"a\",Egresados!$AA$8:$AA$705)","v":"223a8"},{"$f":"IF(ISERROR(VLOOKUP(Egresados!$P510,Maestros!$L$31:$Q$1030,2,0)),\"\",VLOOKUP(Egresados!$P510,Maestros!$L$31:$Q$1030,2,0))","v":"335"},{"$f":"CONCATENATE(Egresados!$Z$8:$Z$705,\"a\",Egresados!$AA$8:$AA$705,\"a\",Egresados!$AC$8:$AC$705)","v":"223a8a335"},{"$f":"IF(ISERROR(VLOOKUP(Egresados!$C$8:$C$705,Maestros!$A$4:$B$21,2,0)),\"\",VLOOKUP(Egresados!$C$8:$C$705,Maestros!$A$4:$B$21,2,0))","v":"1001"},{"$f":"IF(ISERROR(VLOOKUP(Egresados!$H$8:$H$705,Maestros!$D$4:$E$21,2,0)),\"\",VLOOKUP(Egresados!$H$8:$H$705,Maestros!$D$4:$E$21,2,0))","v":"1121"},{"$f":"IF(OR(UPPER(Egresados!$J$8:$J$705)=\"SI\",UPPER(Egresados!$J$8:$J$705)=\"SÍ\"),1,IF(UPPER(Egresados!$J$8:$J$705)=\"NO\",0,\"\"))","v":0},{"$f":"IF(OR(UPPER(Egresados!$R$8:$R$705)=\"SI\",UPPER(Egresados!$R$8:$R$705)=\"SÍ\"),1,IF(UPPER(Egresados!$R$8:$R$705)=\"NO\",0,\"\"))","v":""},{"$f":"IF(OR(UPPER(Egresados!$S$8:$S$705)=\"SI\",UPPER(Egresados!$S$8:$S$705)=\"SÍ\"),1,IF(UPPER(Egresados!$S$8:$S$705)=\"NO\",0,\"\"))","v":""},{"$f":"IF(ISERROR(VLOOKUP(Egresados!$T$8:$T$705,Maestros!$S$31:$T$530,2,0)),\"\",VLOOKUP(Egresados!$T$8:$T$705,Maestros!$S$31:$T$530,2,0))","v":"62"},{"$f":"IF(ISERROR(VLOOKUP(U510,Maestros!$S$31:$T$530,2,0)),\"\",VLOOKUP(U510,Maestros!$S$31:$T$530,2,0))","v":"62"},{"$f":"IF(ISERROR(VLOOKUP(Egresados!$K$8:$K$705,Maestros!$A$31:$B$130,2,0)),\"\",VLOOKUP(Egresados!$K$8:$K$705,Maestros!$A$31:$B$130,2,0))","v":""},{"$f":"IF(LEN(tablaEgresados[[#This Row],[Nota promedio]])>0,ROUND(tablaEgresados[[#This Row],[Nota promedio]],2),\"\")","v":16.47}]
[503,null,"DNI","76030183","OCAMPO","DIAZ","LIZ FIORELLA","FEMENINO",null,"NO",null,null,null,"2020-1","SEDE CENTRAL","INGLES-ESPAÑOL COMO LENGUA EXTRANJERA",16.98,null,null,"2013-1","2013-1","20131422@une.edu.pe","fiorella.0808@gmail.com",3133700,"964156456",{"$f":"IF(ISERROR(VLOOKUP(Egresados!$N$8:$N$705,Maestros!$D$31:$E$530,2,0)),\"\",VLOOKUP(Egresados!$N$8:$N$705,Maestros!$D$31:$E$530,2,0))","v":"223"},{"$f":"IF(ISERROR(VLOOKUP(Egresados!$O511,Maestros!$G$31:$J$1030,2,0)),\"\",VLOOKUP(Egresados!$O511,Maestros!$G$31:$J$1030,2,0))","v":"8"},{"$f":"CONCATENATE(Egresados!$Z$8:$Z$705,\"a\",Egresados!$AA$8:$AA$705)","v":"223a8"},{"$f":"IF(ISERROR(VLOOKUP(Egresados!$P511,Maestros!$L$31:$Q$1030,2,0)),\"\",VLOOKUP(Egresados!$P511,Maestros!$L$31:$Q$1030,2,0))","v":"335"},{"$f":"CONCATENATE(Egresados!$Z$8:$Z$705,\"a\",Egresados!$AA$8:$AA$705,\"a\",Egresados!$AC$8:$AC$705)","v":"223a8a335"},{"$f":"IF(ISERROR(VLOOKUP(Egresados!$C$8:$C$705,Maestros!$A$4:$B$21,2,0)),\"\",VLOOKUP(Egresados!$C$8:$C$705,Maestros!$A$4:$B$21,2,0))","v":"1001"},{"$f":"IF(ISERROR(VLOOKUP(Egresados!$H$8:$H$705,Maestros!$D$4:$E$21,2,0)),\"\",VLOOKUP(Egresados!$H$8:$H$705,Maestros!$D$4:$E$21,2,0))","v":"1122"},{"$f":"IF(OR(UPPER(Egresados!$J$8:$J$705)=\"SI\",UPPER(Egresados!$J$8:$J$705)=\"SÍ\"),1,IF(UPPER(Egresados!$J$8:$J$705)=\"NO\",0,\"\"))","v":0},{"$f":"IF(OR(UPPER(Egresados!$R$8:$R$705)=\"SI\",UPPER(Egresados!$R$8:$R$705)=\"SÍ\"),1,IF(UPPER(Egresados!$R$8:$R$705)=\"NO\",0,\"\"))","v":""},{"$f":"IF(OR(UPPER(Egresados!$S$8:$S$705)=\"SI\",UPPER(Egresados!$S$8:$S$705)=\"SÍ\"),1,IF(UPPER(Egresados!$S$8:$S$705)=\"NO\",0,\"\"))","v":""},{"$f":"IF(ISERROR(VLOOKUP(Egresados!$T$8:$T$705,Maestros!$S$31:$T$530,2,0)),\"\",VLOOKUP(Egresados!$T$8:$T$705,Maestros!$S$31:$T$530,2,0))","v":"54"},{"$f":"IF(ISERROR(VLOOKUP(U511,Maestros!$S$31:$T$530,2,0)),\"\",VLOOKUP(U511,Maestros!$S$31:$T$530,2,0))","v":"54"},{"$f":"IF(ISERROR(VLOOKUP(Egresados!$K$8:$K$705,Maestros!$A$31:$B$130,2,0)),\"\",VLOOKUP(Egresados!$K$8:$K$705,Maestros!$A$31:$B$130,2,0))","v":""},{"$f":"IF(LEN(tablaEgresados[[#This Row],[Nota promedio]])>0,ROUND(tablaEgresados[[#This Row],[Nota promedio]],2),\"\")","v":16.98}]
[504,null,"DNI","44741733","ALARCON","TORRES","NAHUN JAFET","MASCULINO",null,"NO",null,null,null,"2020-1","SEDE CENTRAL","INGLES-ESPAÑOL COMO LENGUA EXTRANJERA",14.89,null,null,"2007-1","2007-1","20070478@une.edu.pe","jefalarcon21@gmail.com",3133700,"977175300",{"$f":"IF(ISERROR(VLOOKUP(Egresados!$N$8:$N$705,Maestros!$D$31:$E$530,2,0)),\"\",VLOOKUP(Egresados!$N$8:$N$705,Maestros!$D$31:$E$530,2,0))","v":"223"},{"$f":"IF(ISERROR(VLOOKUP(Egresados!$O512,Maestros!$G$31:$J$1030,2,0)),\"\",VLOOKUP(Egresados!$O512,Maestros!$G$31:$J$1030,2,0))","v":"8"},{"$f":"CONCATENATE(Egresados!$Z$8:$Z$705,\"a\",Egresados!$AA$8:$AA$705)","v":"223a8"},{"$f":"IF(ISERROR(VLOOKUP(Egresados!$P512,Maestros!$L$31:$Q$1030,2,0)),\"\",VLOOKUP(Egresados!$P512,Maestros!$L$31:$Q$1030,2,0))","v":"335"},{"$f":"CONCATENATE(Egresados!$Z$8:$Z$705,\"a\",Egresados!$AA$8:$AA$705,\"a\",Egresados!$AC$8:$AC$705)","v":"223a8a335"},{"$f":"IF(ISERROR(VLOOKUP(Egresados!$C$8:$C$705,Maestros!$A$4:$B$21,2,0)),\"\",VLOOKUP(Egresados!$C$8:$C$705,Maestros!$A$4:$B$21,2,0))","v":"1001"},{"$f":"IF(ISERROR(VLOOKUP(Egresados!$H$8:$H$705,Maestros!$D$4:$E$21,2,0)),\"\",VLOOKUP(Egresados!$H$8:$H$705,Maestros!$D$4:$E$21,2,0))","v":"1121"},{"$f":"IF(OR(UPPER(Egresados!$J$8:$J$705)=\"SI\",UPPER(Egresados!$J$8:$J$705)=\"SÍ\"),1,IF(UPPER(Egresados!$J$8:$J$705)=\"NO\",0,\"\"))","v":0},{"$f":"IF(OR(UPPER(Egresados!$R$8:$R$705)=\"SI\",UPPER(Egresados!$R$8:$R$705)=\"SÍ\"),1,IF(UPPER(Egresados!$R$8:$R$705)=\"NO\",0,\"\"))","v":""},{"$f":"IF(OR(UPPER(Egresados!$S$8:$S$705)=\"SI\",UPPER(Egresados!$S$8:$S$705)=\"SÍ\"),1,IF(UPPER(Egresados!$S$8:$S$705)=\"NO\",0,\"\"))","v":""},{"$f":"IF(ISERROR(VLOOKUP(Egresados!$T$8:$T$705,Maestros!$S$31:$T$530,2,0)),\"\",VLOOKUP(Egresados!$T$8:$T$705,Maestros!$S$31:$T$530,2,0))","v":"30"},{"$f":"IF(ISERROR(VLOOKUP(U512,Maestros!$S$31:$T$530,2,0)),\"\",VLOOKUP(U512,Maestros!$S$31:$T$530,2,0))","v":"30"},{"$f":"IF(ISERROR(VLOOKUP(Egresados!$K$8:$K$705,Maestros!$A$31:$B$130,2,0)),\"\",VLOOKUP(Egresados!$K$8:$K$705,Maestros!$A$31:$B$130,2,0))","v":""},{"$f":"IF(LEN(tablaEgresados[[#This Row],[Nota promedio]])>0,ROUND(tablaEgresados[[#This Row],[Nota promedio]],2),\"\")","v":14.89}]
[505,null,"DNI","15440131","BERROCAL","NAPAN","MIGUEL CIRILO","MASCULINO",null,"NO",null,null,null,"2020-1","SEDE CENTRAL","INGLES-ESPAÑOL COMO LENGUA EXTRANJERA",14.6,null,null,"2015-1","2015-1","20152698@une.edu.pe","miguelitocbn@hotmail.com",3133700,"947477641",{"$f":"IF(ISERROR(VLOOKUP(Egresados!$N$8:$N$705,Maestros!$D$31:$E$530,2,0)),\"\",VLOOKUP(Egresados!$N$8:$N$705,Maestros!$D$31:$E$530,2,0))","v":"223"},{"$f":"IF(ISERROR(VLOOKUP(Egresados!$O513,Maestros!$G$31:$J$1030,2,0)),\"\",VLOOKUP(Egresados!$O513,Maestros!$G$31:$J$1030,2,0))","v":"8"},{"$f":"CONCATENATE(Egresados!$Z$8:$Z$705,\"a\",Egresados!$AA$8:$AA$705)","v":"223a8"},{"$f":"IF(ISERROR(VLOOKUP(Egresados!$P513,Maestros!$L$31:$Q$1030,2,0)),\"\",VLOOKUP(Egresados!$P513,Maestros!$L$31:$Q$1030,2,0))","v":"335"},{"$f":"CONCATENATE(Egresados!$Z$8:$Z$705,\"a\",Egresados!$AA$8:$AA$705,\"a\",Egresados!$AC$8:$AC$705)","v":"223a8a335"},{"$f":"IF(ISERROR(VLOOKUP(Egresados!$C$8:$C$705,Maestros!$A$4:$B$21,2,0)),\"\",VLOOKUP(Egresados!$C$8:$C$705,Maestros!$A$4:$B$21,2,0))","v":"1001"},{"$f":"IF(ISERROR(VLOOKUP(Egresados!$H$8:$H$705,Maestros!$D$4:$E$21,2,0)),\"\",VLOOKUP(Egresados!$H$8:$H$705,Maestros!$D$4:$E$21,2,0))","v":"1121"},{"$f":"IF(OR(UPPER(Egresados!$J$8:$J$705)=\"SI\",UPPER(Egresados!$J$8:$J$705)=\"SÍ\"),1,IF(UPPER(Egresados!$J$8:$J$705)=\"NO\",0,\"\"))","v":0},{"$f":"IF(OR(UPPER(Egresados!$R$8:$R$705)=\"SI\",UPPER(Egresados!$R$8:$R$705)=\"SÍ\"),1,IF(UPPER(Egresados!$R$8:$R$705)=\"NO\",0,\"\"))","v":""},{"$f":"IF(OR(UPPER(Egresados!$S$8:$S$705)=\"SI\",UPPER(Egresados!$S$8:$S$705)=\"SÍ\"),1,IF(UPPER(Egresados!$S$8:$S$705)=\"NO\",0,\"\"))","v":""},{"$f":"IF(ISERROR(VLOOKUP(Egresados!$T$8:$T$705,Maestros!$S$31:$T$530,2,0)),\"\",VLOOKUP(Egresados!$T$8:$T$705,Maestros!$S$31:$T$530,2,0))","v":"62"},{"$f":"IF(ISERROR(VLOOKUP(U513,Maestros!$S$31:$T$530,2,0)),\"\",VLOOKUP(U513,Maestros!$S$31:$T$530,2,0))","v":"62"},{"$f":"IF(ISERROR(VLOOKUP(Egresados!$K$8:$K$705,Maestros!$A$31:$B$130,2,0)),\"\",VLOOKUP(Egresados!$K$8:$K$705,Maestros!$A$31:$B$130,2,0))","v":""},{"$f":"IF(LEN(tablaEgresados[[#This Row],[Nota promedio]])>0,ROUND(tablaEgresados[[#This Row],[Nota promedio]],2),\"\")","v":14.6}]
[506,null,"DNI","47645484","NINA","MARCHAN","LIBELLY ROMINA","FEMENINO",null,"NO",null,null,null,"2020-1","SEDE CENTRAL","INGLES-ESPAÑOL COMO LENGUA EXTRANJERA",15.97,null,null,"2015-1","2015-1","20150404@une.edu.pe","libelli_2392@hotmail.com",3133700,"991602801",{"$f":"IF(ISERROR(VLOOKUP(Egresados!$N$8:$N$705,Maestros!$D$31:$E$530,2,0)),\"\",VLOOKUP(Egresados!$N$8:$N$705,Maestros!$D$31:$E$530,2,0))","v":"223"},{"$f":"IF(ISERROR(VLOOKUP(Egresados!$O514,Maestros!$G$31:$J$1030,2,0)),\"\",VLOOKUP(Egresados!$O514,Maestros!$G$31:$J$1030,2,0))","v":"8"},{"$f":"CONCATENATE(Egresados!$Z$8:$Z$705,\"a\",Egresados!$AA$8:$AA$705)","v":"223a8"},{"$f":"IF(ISERROR(VLOOKUP(Egresados!$P514,Maestros!$L$31:$Q$1030,2,0)),\"\",VLOOKUP(Egresados!$P514,Maestros!$L$31:$Q$1030,2,0))","v":"335"},{"$f":"CONCATENATE(Egresados!$Z$8:$Z$705,\"a\",Egresados!$AA$8:$AA$705,\"a\",Egresados!$AC$8:$AC$705)","v":"223a8a335"},{"$f":"IF(ISERROR(VLOOKUP(Egresados!$C$8:$C$705,Maestros!$A$4:$B$21,2,0)),\"\",VLOOKUP(Egresados!$C$8:$C$705,Maestros!$A$4:$B$21,2,0))","v":"1001"},{"$f":"IF(ISERROR(VLOOKUP(Egresados!$H$8:$H$705,Maestros!$D$4:$E$21,2,0)),\"\",VLOOKUP(Egresados!$H$8:$H$705,Maestros!$D$4:$E$21,2,0))","v":"1122"},{"$f":"IF(OR(UPPER(Egresados!$J$8:$J$705)=\"SI\",UPPER(Egresados!$J$8:$J$705)=\"SÍ\"),1,IF(UPPER(Egresados!$J$8:$J$705)=\"NO\",0,\"\"))","v":0},{"$f":"IF(OR(UPPER(Egresados!$R$8:$R$705)=\"SI\",UPPER(Egresados!$R$8:$R$705)=\"SÍ\"),1,IF(UPPER(Egresados!$R$8:$R$705)=\"NO\",0,\"\"))","v":""},{"$f":"IF(OR(UPPER(Egresados!$S$8:$S$705)=\"SI\",UPPER(Egresados!$S$8:$S$705)=\"SÍ\"),1,IF(UPPER(Egresados!$S$8:$S$705)=\"NO\",0,\"\"))","v":""},{"$f":"IF(ISERROR(VLOOKUP(Egresados!$T$8:$T$705,Maestros!$S$31:$T$530,2,0)),\"\",VLOOKUP(Egresados!$T$8:$T$705,Maestros!$S$31:$T$530,2,0))","v":"62"},{"$f":"IF(ISERROR(VLOOKUP(U514,Maestros!$S$31:$T$530,2,0)),\"\",VLOOKUP(U514,Maestros!$S$31:$T$530,2,0))","v":"62"},{"$f":"IF(ISERROR(VLOOKUP(Egresados!$K$8:$K$705,Maestros!$A$31:$B$130,2,0)),\"\",VLOOKUP(Egresados!$K$8:$K$705,Maestros!$A$31:$B$130,2,0))","v":""},{"$f":"IF(LEN(tablaEgresados[[#This Row],[Nota promedio]])>0,ROUND(tablaEgresados[[#This Row],[Nota promedio]],2),\"\")","v":15.97}]
[507,null,"DNI","72534428","RODRIGUEZ","JAMANCA","CYNTHIA HELEN","FEMENINO",null,"NO",null,null,null,"2020-1","SEDE CENTRAL","INGLES-ESPAÑOL COMO LENGUA EXTRANJERA",15.29,null,null,"2009-1","2009-1","20091472@une.edu.pe","jumi.hecy@gmail.com",3133700,"948426477",{"$f":"IF(ISERROR(VLOOKUP(Egresados!$N$8:$N$705,Maestros!$D$31:$E$530,2,0)),\"\",VLOOKUP(Egresados!$N$8:$N$705,Maestros!$D$31:$E$530,2,0))","v":"223"},{"$f":"IF(ISERROR(VLOOKUP(Egresados!$O515,Maestros!$G$31:$J$1030,2,0)),\"\",VLOOKUP(Egresados!$O515,Maestros!$G$31:$J$1030,2,0))","v":"8"},{"$f":"CONCATENATE(Egresados!$Z$8:$Z$705,\"a\",Egresados!$AA$8:$AA$705)","v":"223a8"},{"$f":"IF(ISERROR(VLOOKUP(Egresados!$P515,Maestros!$L$31:$Q$1030,2,0)),\"\",VLOOKUP(Egresados!$P515,Maestros!$L$31:$Q$1030,2,0))","v":"335"},{"$f":"CONCATENATE(Egresados!$Z$8:$Z$705,\"a\",Egresados!$AA$8:$AA$705,\"a\",Egresados!$AC$8:$AC$705)","v":"223a8a335"},{"$f":"IF(ISERROR(VLOOKUP(Egresados!$C$8:$C$705,Maestros!$A$4:$B$21,2,0)),\"\",VLOOKUP(Egresados!$C$8:$C$705,Maestros!$A$4:$B$21,2,0))","v":"1001"},{"$f":"IF(ISERROR(VLOOKUP(Egresados!$H$8:$H$705,Maestros!$D$4:$E$21,2,0)),\"\",VLOOKUP(Egresados!$H$8:$H$705,Maestros!$D$4:$E$21,2,0))","v":"1122"},{"$f":"IF(OR(UPPER(Egresados!$J$8:$J$705)=\"SI\",UPPER(Egresados!$J$8:$J$705)=\"SÍ\"),1,IF(UPPER(Egresados!$J$8:$J$705)=\"NO\",0,\"\"))","v":0},{"$f":"IF(OR(UPPER(Egresados!$R$8:$R$705)=\"SI\",UPPER(Egresados!$R$8:$R$705)=\"SÍ\"),1,IF(UPPER(Egresados!$R$8:$R$705)=\"NO\",0,\"\"))","v":""},{"$f":"IF(OR(UPPER(Egresados!$S$8:$S$705)=\"SI\",UPPER(Egresados!$S$8:$S$705)=\"SÍ\"),1,IF(UPPER(Egresados!$S$8:$S$705)=\"NO\",0,\"\"))","v":""},{"$f":"IF(ISERROR(VLOOKUP(Egresados!$T$8:$T$705,Maestros!$S$31:$T$530,2,0)),\"\",VLOOKUP(Egresados!$T$8:$T$705,Maestros!$S$31:$T$530,2,0))","v":"38"},{"$f":"IF(ISERROR(VLOOKUP(U515,Maestros!$S$31:$T$530,2,0)),\"\",VLOOKUP(U515,Maestros!$S$31:$T$530,2,0))","v":"38"},{"$f":"IF(ISERROR(VLOOKUP(Egresados!$K$8:$K$705,Maestros!$A$31:$B$130,2,0)),\"\",VLOOKUP(Egresados!$K$8:$K$705,Maestros!$A$31:$B$130,2,0))","v":""},{"$f":"IF(LEN(tablaEgresados[[#This Row],[Nota promedio]])>0,ROUND(tablaEgresados[[#This Row],[Nota promedio]],2),\"\")","v":15.29}]
[508,null,"DNI","45950674","GAMBOA","GUTIERREZ","INES","FEMENINO",null,"NO",null,null,null,"2020-1","SEDE CENTRAL","INGLES-ESPAÑOL COMO LENGUA EXTRANJERA",15.34,null,null,"2017-1","2017-1","20175362@une.edu.pe","ineswoaini@gmail.com",3133700,"990302842",{"$f":"IF(ISERROR(VLOOKUP(Egresados!$N$8:$N$705,Maestros!$D$31:$E$530,2,0)),\"\",VLOOKUP(Egresados!$N$8:$N$705,Maestros!$D$31:$E$530,2,0))","v":"223"},{"$f":"IF(ISERROR(VLOOKUP(Egresados!$O516,Maestros!$G$31:$J$1030,2,0)),\"\",VLOOKUP(Egresados!$O516,Maestros!$G$31:$J$1030,2,0))","v":"8"},{"$f":"CONCATENATE(Egresados!$Z$8:$Z$705,\"a\",Egresados!$AA$8:$AA$705)","v":"223a8"},{"$f":"IF(ISERROR(VLOOKUP(Egresados!$P516,Maestros!$L$31:$Q$1030,2,0)),\"\",VLOOKUP(Egresados!$P516,Maestros!$L$31:$Q$1030,2,0))","v":"335"},{"$f":"CONCATENATE(Egresados!$Z$8:$Z$705,\"a\",Egresados!$AA$8:$AA$705,\"a\",Egresados!$AC$8:$AC$705)","v":"223a8a335"},{"$f":"IF(ISERROR(VLOOKUP(Egresados!$C$8:$C$705,Maestros!$A$4:$B$21,2,0)),\"\",VLOOKUP(Egresados!$C$8:$C$705,Maestros!$A$4:$B$21,2,0))","v":"1001"},{"$f":"IF(ISERROR(VLOOKUP(Egresados!$H$8:$H$705,Maestros!$D$4:$E$21,2,0)),\"\",VLOOKUP(Egresados!$H$8:$H$705,Maestros!$D$4:$E$21,2,0))","v":"1122"},{"$f":"IF(OR(UPPER(Egresados!$J$8:$J$705)=\"SI\",UPPER(Egresados!$J$8:$J$705)=\"SÍ\"),1,IF(UPPER(Egresados!$J$8:$J$705)=\"NO\",0,\"\"))","v":0},{"$f":"IF(OR(UPPER(Egresados!$R$8:$R$705)=\"SI\",UPPER(Egresados!$R$8:$R$705)=\"SÍ\"),1,IF(UPPER(Egresados!$R$8:$R$705)=\"NO\",0,\"\"))","v":""},{"$f":"IF(OR(UPPER(Egresados!$S$8:$S$705)=\"SI\",UPPER(Egresados!$S$8:$S$705)=\"SÍ\"),1,IF(UPPER(Egresados!$S$8:$S$705)=\"NO\",0,\"\"))","v":""},{"$f":"IF(ISERROR(VLOOKUP(Egresados!$T$8:$T$705,Maestros!$S$31:$T$530,2,0)),\"\",VLOOKUP(Egresados!$T$8:$T$705,Maestros!$S$31:$T$530,2,0))","v":"70"},{"$f":"IF(ISERROR(VLOOKUP(U516,Maestros!$S$31:$T$530,2,0)),\"\",VLOOKUP(U516,Maestros!$S$31:$T$530,2,0))","v":"70"},{"$f":"IF(ISERROR(VLOOKUP(Egresados!$K$8:$K$705,Maestros!$A$31:$B$130,2,0)),\"\",VLOOKUP(Egresados!$K$8:$K$705,Maestros!$A$31:$B$130,2,0))","v":""},{"$f":"IF(LEN(tablaEgresados[[#This Row],[Nota promedio]])>0,ROUND(tablaEgresados[[#This Row],[Nota promedio]],2),\"\")","v":15.34}]
[509,null,"DNI","01320918","CARI","YUCRA","BASILIE STEPHANO","MASCULINO",null,"NO",null,null,null,"2020-1","SEDE CENTRAL","INGLES-ESPAÑOL COMO LENGUA EXTRANJERA",14.28,null,null,"2015-1","2015-1","20152665@une.edu.pe","basiliestephano@hotmail.com",3133700,"966626288",{"$f":"IF(ISERROR(VLOOKUP(Egresados!$N$8:$N$705,Maestros!$D$31:$E$530,2,0)),\"\",VLOOKUP(Egresados!$N$8:$N$705,Maestros!$D$31:$E$530,2,0))","v":"223"},{"$f":"IF(ISERROR(VLOOKUP(Egresados!$O517,Maestros!$G$31:$J$1030,2,0)),\"\",VLOOKUP(Egresados!$O517,Maestros!$G$31:$J$1030,2,0))","v":"8"},{"$f":"CONCATENATE(Egresados!$Z$8:$Z$705,\"a\",Egresados!$AA$8:$AA$705)","v":"223a8"},{"$f":"IF(ISERROR(VLOOKUP(Egresados!$P517,Maestros!$L$31:$Q$1030,2,0)),\"\",VLOOKUP(Egresados!$P517,Maestros!$L$31:$Q$1030,2,0))","v":"335"},{"$f":"CONCATENATE(Egresados!$Z$8:$Z$705,\"a\",Egresados!$AA$8:$AA$705,\"a\",Egresados!$AC$8:$AC$705)","v":"223a8a335"},{"$f":"IF(ISERROR(VLOOKUP(Egresados!$C$8:$C$705,Maestros!$A$4:$B$21,2,0)),\"\",VLOOKUP(Egresados!$C$8:$C$705,Maestros!$A$4:$B$21,2,0))","v":"1001"},{"$f":"IF(ISERROR(VLOOKUP(Egresados!$H$8:$H$705,Maestros!$D$4:$E$21,2,0)),\"\",VLOOKUP(Egresados!$H$8:$H$705,Maestros!$D$4:$E$21,2,0))","v":"1121"},{"$f":"IF(OR(UPPER(Egresados!$J$8:$J$705)=\"SI\",UPPER(Egresados!$J$8:$J$705)=\"SÍ\"),1,IF(UPPER(Egresados!$J$8:$J$705)=\"NO\",0,\"\"))","v":0},{"$f":"IF(OR(UPPER(Egresados!$R$8:$R$705)=\"SI\",UPPER(Egresados!$R$8:$R$705)=\"SÍ\"),1,IF(UPPER(Egresados!$R$8:$R$705)=\"NO\",0,\"\"))","v":""},{"$f":"IF(OR(UPPER(Egresados!$S$8:$S$705)=\"SI\",UPPER(Egresados!$S$8:$S$705)=\"SÍ\"),1,IF(UPPER(Egresados!$S$8:$S$705)=\"NO\",0,\"\"))","v":""},{"$f":"IF(ISERROR(VLOOKUP(Egresados!$T$8:$T$705,Maestros!$S$31:$T$530,2,0)),\"\",VLOOKUP(Egresados!$T$8:$T$705,Maestros!$S$31:$T$530,2,0))","v":"62"},{"$f":"IF(ISERROR(VLOOKUP(U517,Maestros!$S$31:$T$530,2,0)),\"\",VLOOKUP(U517,Maestros!$S$31:$T$530,2,0))","v":"62"},{"$f":"IF(ISERROR(VLOOKUP(Egresados!$K$8:$K$705,Maestros!$A$31:$B$130,2,0)),\"\",VLOOKUP(Egresados!$K$8:$K$705,Maestros!$A$31:$B$130,2,0))","v":""},{"$f":"IF(LEN(tablaEgresados[[#This Row],[Nota promedio]])>0,ROUND(tablaEgresados[[#This Row],[Nota promedio]],2),\"\")","v":14.28}]
[510,null,"DNI",40795375,"TOTORA","HUARAHUARA","ELMER ANGEL","MASCULINO",null,"NO",null,null,null,"2020-1","SEDE CENTRAL","INGLES-ESPAÑOL COMO LENGUA EXTRANJERA",14.5,null,null,"2012-1","2012-1","20123425@une.edu.pe","20123425@une.edu.pe",3133700,976486001,{"$f":"IF(ISERROR(VLOOKUP(Egresados!$N$8:$N$705,Maestros!$D$31:$E$530,2,0)),\"\",VLOOKUP(Egresados!$N$8:$N$705,Maestros!$D$31:$E$530,2,0))","v":"223"},{"$f":"IF(ISERROR(VLOOKUP(Egresados!$O518,Maestros!$G$31:$J$1030,2,0)),\"\",VLOOKUP(Egresados!$O518,Maestros!$G$31:$J$1030,2,0))","v":"8"},{"$f":"CONCATENATE(Egresados!$Z$8:$Z$705,\"a\",Egresados!$AA$8:$AA$705)","v":"223a8"},{"$f":"IF(ISERROR(VLOOKUP(Egresados!$P518,Maestros!$L$31:$Q$1030,2,0)),\"\",VLOOKUP(Egresados!$P518,Maestros!$L$31:$Q$1030,2,0))","v":"335"},{"$f":"CONCATENATE(Egresados!$Z$8:$Z$705,\"a\",Egresados!$AA$8:$AA$705,\"a\",Egresados!$AC$8:$AC$705)","v":"223a8a335"},{"$f":"IF(ISERROR(VLOOKUP(Egresados!$C$8:$C$705,Maestros!$A$4:$B$21,2,0)),\"\",VLOOKUP(Egresados!$C$8:$C$705,Maestros!$A$4:$B$21,2,0))","v":"1001"},{"$f":"IF(ISERROR(VLOOKUP(Egresados!$H$8:$H$705,Maestros!$D$4:$E$21,2,0)),\"\",VLOOKUP(Egresados!$H$8:$H$705,Maestros!$D$4:$E$21,2,0))","v":"1121"},{"$f":"IF(OR(UPPER(Egresados!$J$8:$J$705)=\"SI\",UPPER(Egresados!$J$8:$J$705)=\"SÍ\"),1,IF(UPPER(Egresados!$J$8:$J$705)=\"NO\",0,\"\"))","v":0},{"$f":"IF(OR(UPPER(Egresados!$R$8:$R$705)=\"SI\",UPPER(Egresados!$R$8:$R$705)=\"SÍ\"),1,IF(UPPER(Egresados!$R$8:$R$705)=\"NO\",0,\"\"))","v":""},{"$f":"IF(OR(UPPER(Egresados!$S$8:$S$705)=\"SI\",UPPER(Egresados!$S$8:$S$705)=\"SÍ\"),1,IF(UPPER(Egresados!$S$8:$S$705)=\"NO\",0,\"\"))","v":""},{"$f":"IF(ISERROR(VLOOKUP(Egresados!$T$8:$T$705,Maestros!$S$31:$T$530,2,0)),\"\",VLOOKUP(Egresados!$T$8:$T$705,Maestros!$S$31:$T$530,2,0))","v":"50"},{"$f":"IF(ISERROR(VLOOKUP(U518,Maestros!$S$31:$T$530,2,0)),\"\",VLOOKUP(U518,Maestros!$S$31:$T$530,2,0))","v":"50"},{"$f":"IF(ISERROR(VLOOKUP(Egresados!$K$8:$K$705,Maestros!$A$31:$B$130,2,0)),\"\",VLOOKUP(Egresados!$K$8:$K$705,Maestros!$A$31:$B$130,2,0))","v":""},{"$f":"IF(LEN(tablaEgresados[[#This Row],[Nota promedio]])>0,ROUND(tablaEgresados[[#This Row],[Nota promedio]],2),\"\")","v":14.5}]
[{"$f":"ROW()-8","v":511},null,"DNI","43781362","CARNERO","CAMACHO","ELBA ROSA","FEMENINO",null,"NO",null,null,null,"2020-1","SEDE CENTRAL","INGLES-ESPAÑOL COMO LENGUA EXTRANJERA",15.75,null,null,"2015-1","2015-1","20152876@une.edu.pe","20152876@une.edu.pe",3133700,976486001,{"$f":"IF(ISERROR(VLOOKUP(Egresados!$N$8:$N$705,Maestros!$D$31:$E$530,2,0)),\"\",VLOOKUP(Egresados!$N$8:$N$705,Maestros!$D$31:$E$530,2,0))","v":"223"},{"$f":"IF(ISERROR(VLOOKUP(Egresados!$O519,Maestros!$G$31:$J$1030,2,0)),\"\",VLOOKUP(Egresados!$O519,Maestros!$G$31:$J$1030,2,0))","v":"8"},{"$f":"CONCATENATE(Egresados!$Z$8:$Z$705,\"a\",Egresados!$AA$8:$AA$705)","v":"223a8"},{"$f":"IF(ISERROR(VLOOKUP(Egresados!$P519,Maestros!$L$31:$Q$1030,2,0)),\"\",VLOOKUP(Egresados!$P519,Maestros!$L$31:$Q$1030,2,0))","v":"335"},{"$f":"CONCATENATE(Egresados!$Z$8:$Z$705,\"a\",Egresados!$AA$8:$AA$705,\"a\",Egresados!$AC$8:$AC$705)","v":"223a8a335"},{"$f":"IF(ISERROR(VLOOKUP(Egresados!$C$8:$C$705,Maestros!$A$4:$B$21,2,0)),\"\",VLOOKUP(Egresados!$C$8:$C$705,Maestros!$A$4:$B$21,2,0))","v":"1001"},{"$f":"IF(ISERROR(VLOOKUP(Egresados!$H$8:$H$705,Maestros!$D$4:$E$21,2,0)),\"\",VLOOKUP(Egresados!$H$8:$H$705,Maestros!$D$4:$E$21,2,0))","v":"1122"},{"$f":"IF(OR(UPPER(Egresados!$J$8:$J$705)=\"SI\",UPPER(Egresados!$J$8:$J$705)=\"SÍ\"),1,IF(UPPER(Egresados!$J$8:$J$705)=\"NO\",0,\"\"))","v":0},{"$f":"IF(OR(UPPER(Egresados!$R$8:$R$705)=\"SI\",UPPER(Egresados!$R$8:$R$705)=\"SÍ\"),1,IF(UPPER(Egresados!$R$8:$R$705)=\"NO\",0,\"\"))","v":""},{"$f":"IF(OR(UPPER(Egresados!$S$8:$S$705)=\"SI\",UPPER(Egresados!$S$8:$S$705)=\"SÍ\"),1,IF(UPPER(Egresados!$S$8:$S$705)=\"NO\",0,\"\"))","v":""},{"$f":"IF(ISERROR(VLOOKUP(Egresados!$T$8:$T$705,Maestros!$S$31:$T$530,2,0)),\"\",VLOOKUP(Egresados!$T$8:$T$705,Maestros!$S$31:$T$530,2,0))","v":"62"},{"$f":"IF(ISERROR(VLOOKUP(U519,Maestros!$S$31:$T$530,2,0)),\"\",VLOOKUP(U519,Maestros!$S$31:$T$530,2,0))","v":"62"},{"$f":"IF(ISERROR(VLOOKUP(Egresados!$K$8:$K$705,Maestros!$A$31:$B$130,2,0)),\"\",VLOOKUP(Egresados!$K$8:$K$705,Maestros!$A$31:$B$130,2,0))","v":""},{"$f":"IF(LEN(tablaEgresados[[#This Row],[Nota promedio]])>0,ROUND(tablaEgresados[[#This Row],[Nota promedio]],2),\"\")","v":15.75}]
[512,null,"DNI","42084518","MOLLEDA","PAILE","HELEN LITSI","FEMENINO",null,"NO",null,null,null,"2020-1","SEDE CENTRAL","INGLES-ESPAÑOL COMO LENGUA EXTRANJERA",15.32,null,null,"2010-1","2010-1","20105907@une.edu.pe","20105907@une.edu.pe",3133700,"987824142",{"$f":"IF(ISERROR(VLOOKUP(Egresados!$N$8:$N$705,Maestros!$D$31:$E$530,2,0)),\"\",VLOOKUP(Egresados!$N$8:$N$705,Maestros!$D$31:$E$530,2,0))","v":"223"},{"$f":"IF(ISERROR(VLOOKUP(Egresados!$O520,Maestros!$G$31:$J$1030,2,0)),\"\",VLOOKUP(Egresados!$O520,Maestros!$G$31:$J$1030,2,0))","v":"8"},{"$f":"CONCATENATE(Egresados!$Z$8:$Z$705,\"a\",Egresados!$AA$8:$AA$705)","v":"223a8"},{"$f":"IF(ISERROR(VLOOKUP(Egresados!$P520,Maestros!$L$31:$Q$1030,2,0)),\"\",VLOOKUP(Egresados!$P520,Maestros!$L$31:$Q$1030,2,0))","v":"335"},{"$f":"CONCATENATE(Egresados!$Z$8:$Z$705,\"a\",Egresados!$AA$8:$AA$705,\"a\",Egresados!$AC$8:$AC$705)","v":"223a8a335"},{"$f":"IF(ISERROR(VLOOKUP(Egresados!$C$8:$C$705,Maestros!$A$4:$B$21,2,0)),\"\",VLOOKUP(Egresados!$C$8:$C$705,Maestros!$A$4:$B$21,2,0))","v":"1001"},{"$f":"IF(ISERROR(VLOOKUP(Egresados!$H$8:$H$705,Maestros!$D$4:$E$21,2,0)),\"\",VLOOKUP(Egresados!$H$8:$H$705,Maestros!$D$4:$E$21,2,0))","v":"1122"},{"$f":"IF(OR(UPPER(Egresados!$J$8:$J$705)=\"SI\",UPPER(Egresados!$J$8:$J$705)=\"SÍ\"),1,IF(UPPER(Egresados!$J$8:$J$705)=\"NO\",0,\"\"))","v":0},{"$f":"IF(OR(UPPER(Egresados!$R$8:$R$705)=\"SI\",UPPER(Egresados!$R$8:$R$705)=\"SÍ\"),1,IF(UPPER(Egresados!$R$8:$R$705)=\"NO\",0,\"\"))","v":""},{"$f":"IF(OR(UPPER(Egresados!$S$8:$S$705)=\"SI\",UPPER(Egresados!$S$8:$S$705)=\"SÍ\"),1,IF(UPPER(Egresados!$S$8:$S$705)=\"NO\",0,\"\"))","v":""},{"$f":"IF(ISERROR(VLOOKUP(Egresados!$T$8:$T$705,Maestros!$S$31:$T$530,2,0)),\"\",VLOOKUP(Egresados!$T$8:$T$705,Maestros!$S$31:$T$530,2,0))","v":"42"},{"$f":"IF(ISERROR(VLOOKUP(U520,Maestros!$S$31:$T$530,2,0)),\"\",VLOOKUP(U520,Maestros!$S$31:$T$530,2,0))","v":"42"},{"$f":"IF(ISERROR(VLOOKUP(Egresados!$K$8:$K$705,Maestros!$A$31:$B$130,2,0)),\"\",VLOOKUP(Egresados!$K$8:$K$705,Maestros!$A$31:$B$130,2,0))","v":""},{"$f":"IF(LEN(tablaEgresados[[#This Row],[Nota promedio]])>0,ROUND(tablaEgresados[[#This Row],[Nota promedio]],2),\"\")","v":15.32}]
[513,null,"DNI",45429811,"CALERO","REYES","REYNA VIOLETA","FEMENINO",null,"NO",null,null,null,"2020-1","SEDE CENTRAL","INGLES-ESPAÑOL COMO LENGUA EXTRANJERA",15.22,null,null,"2012-1","2012-1","20127324@une.edu.pe","20127324@une.edu.pe",3133700,976486001,{"$f":"IF(ISERROR(VLOOKUP(Egresados!$N$8:$N$705,Maestros!$D$31:$E$530,2,0)),\"\",VLOOKUP(Egresados!$N$8:$N$705,Maestros!$D$31:$E$530,2,0))","v":"223"},{"$f":"IF(ISERROR(VLOOKUP(Egresados!$O521,Maestros!$G$31:$J$1030,2,0)),\"\",VLOOKUP(Egresados!$O521,Maestros!$G$31:$J$1030,2,0))","v":"8"},{"$f":"CONCATENATE(Egresados!$Z$8:$Z$705,\"a\",Egresados!$AA$8:$AA$705)","v":"223a8"},{"$f":"IF(ISERROR(VLOOKUP(Egresados!$P521,Maestros!$L$31:$Q$1030,2,0)),\"\",VLOOKUP(Egresados!$P521,Maestros!$L$31:$Q$1030,2,0))","v":"335"},{"$f":"CONCATENATE(Egresados!$Z$8:$Z$705,\"a\",Egresados!$AA$8:$AA$705,\"a\",Egresados!$AC$8:$AC$705)","v":"223a8a335"},{"$f":"IF(ISERROR(VLOOKUP(Egresados!$C$8:$C$705,Maestros!$A$4:$B$21,2,0)),\"\",VLOOKUP(Egresados!$C$8:$C$705,Maestros!$A$4:$B$21,2,0))","v":"1001"},{"$f":"IF(ISERROR(VLOOKUP(Egresados!$H$8:$H$705,Maestros!$D$4:$E$21,2,0)),\"\",VLOOKUP(Egresados!$H$8:$H$705,Maestros!$D$4:$E$21,2,0))","v":"1122"},{"$f":"IF(OR(UPPER(Egresados!$J$8:$J$705)=\"SI\",UPPER(Egresados!$J$8:$J$705)=\"SÍ\"),1,IF(UPPER(Egresados!$J$8:$J$705)=\"NO\",0,\"\"))","v":0},{"$f":"IF(OR(UPPER(Egresados!$R$8:$R$705)=\"SI\",UPPER(Egresados!$R$8:$R$705)=\"SÍ\"),1,IF(UPPER(Egresados!$R$8:$R$705)=\"NO\",0,\"\"))","v":""},{"$f":"IF(OR(UPPER(Egresados!$S$8:$S$705)=\"SI\",UPPER(Egresados!$S$8:$S$705)=\"SÍ\"),1,IF(UPPER(Egresados!$S$8:$S$705)=\"NO\",0,\"\"))","v":""},{"$f":"IF(ISERROR(VLOOKUP(Egresados!$T$8:$T$705,Maestros!$S$31:$T$530,2,0)),\"\",VLOOKUP(Egresados!$T$8:$T$705,Maestros!$S$31:$T$530,2,0))","v":"50"},{"$f":"IF(ISERROR(VLOOKUP(U521,Maestros!$S$31:$T$530,2,0)),\"\",VLOOKUP(U521,Maestros!$S$31:$T$530,2,0))","v":"50"},{"$f":"IF(ISERROR(VLOOKUP(Egresados!$K$8:$K$705,Maestros!$A$31:$B$130,2,0)),\"\",VLOOKUP(Egresados!$K$8:$K$705,Maestros!$A$31:$B$130,2,0))","v":""},{"$f":"IF(LEN(tablaEgresados[[#This Row],[Nota promedio]])>0,ROUND(tablaEgresados[[#This Row],[Nota promedio]],2),\"\")","v":15.22}]
[514,null,"DNI",47329886,"CONTEÑA","HUAPAYA","ZOILA DEL CARMEN","FEMENINO",null,"NO",null,null,null,"2020-1","SEDE CENTRAL","INGLES-ESPAÑOL COMO LENGUA EXTRANJERA",15.47,null,null,"2010-1","2010-1","20100363@une.edu.pe","20100363@une.edu.pe",3133700,976486001,{"$f":"IF(ISERROR(VLOOKUP(Egresados!$N$8:$N$705,Maestros!$D$31:$E$530,2,0)),\"\",VLOOKUP(Egresados!$N$8:$N$705,Maestros!$D$31:$E$530,2,0))","v":"223"},{"$f":"IF(ISERROR(VLOOKUP(Egresados!$O522,Maestros!$G$31:$J$1030,2,0)),\"\",VLOOKUP(Egresados!$O522,Maestros!$G$31:$J$1030,2,0))","v":"8"},{"$f":"CONCATENATE(Egresados!$Z$8:$Z$705,\"a\",Egresados!$AA$8:$AA$705)","v":"223a8"},{"$f":"IF(ISERROR(VLOOKUP(Egresados!$P522,Maestros!$L$31:$Q$1030,2,0)),\"\",VLOOKUP(Egresados!$P522,Maestros!$L$31:$Q$1030,2,0))","v":"335"},{"$f":"CONCATENATE(Egresados!$Z$8:$Z$705,\"a\",Egresados!$AA$8:$AA$705,\"a\",Egresados!$AC$8:$AC$705)","v":"223a8a335"},{"$f":"IF(ISERROR(VLOOKUP(Egresados!$C$8:$C$705,Maestros!$A$4:$B$21,2,0)),\"\",VLOOKUP(Egresados!$C$8:$C$705,Maestros!$A$4:$B$21,2,0))","v":"1001"},{"$f":"IF(ISERROR(VLOOKUP(Egresados!$H$8:$H$705,Maestros!$D$4:$E$21,2,0)),\"\",VLOOKUP(Egresados!$H$8:$H$705,Maestros!$D$4:$E$21,2,0))","v":"1122"},{"$f":"IF(OR(UPPER(Egresados!$J$8:$J$705)=\"SI\",UPPER(Egresados!$J$8:$J$705)=\"SÍ\"),1,IF(UPPER(Egresados!$J$8:$J$705)=\"NO\",0,\"\"))","v":0},{"$f":"IF(OR(UPPER(Egresados!$R$8:$R$705)=\"SI\",UPPER(Egresados!$R$8:$R$705)=\"SÍ\"),1,IF(UPPER(Egresados!$R$8:$R$705)=\"NO\",0,\"\"))","v":""},{"$f":"IF(OR(UPPER(Egresados!$S$8:$S$705)=\"SI\",UPPER(Egresados!$S$8:$S$705)=\"SÍ\"),1,IF(UPPER(Egresados!$S$8:$S$705)=\"NO\",0,\"\"))","v":""},{"$f":"IF(ISERROR(VLOOKUP(Egresados!$T$8:$T$705,Maestros!$S$31:$T$530,2,0)),\"\",VLOOKUP(Egresados!$T$8:$T$705,Maestros!$S$31:$T$530,2,0))","v":"42"},{"$f":"IF(ISERROR(VLOOKUP(U522,Maestros!$S$31:$T$530,2,0)),\"\",VLOOKUP(U522,Maestros!$S$31:$T$530,2,0))","v":"42"},{"$f":"IF(ISERROR(VLOOKUP(Egresados!$K$8:$K$705,Maestros!$A$31:$B$130,2,0)),\"\",VLOOKUP(Egresados!$K$8:$K$705,Maestros!$A$31:$B$130,2,0))","v":""},{"$f":"IF(LEN(tablaEgresados[[#This Row],[Nota promedio]])>0,ROUND(tablaEgresados[[#This Row],[Nota promedio]],2),\"\")","v":15.47}]
[515,null,"DNI","46645536","OCHOA","CONTRERAS","JOHANA BETTY","FEMENINO",null,"NO",null,null,null,"2020-1","SEDE CENTRAL","INGLES-FRANCES",16.329999999999998,null,null,"2014-1","2014-1","20140284@une.edu.pe","fullchava@hotmail.com",3133700,"993698096",{"$f":"IF(ISERROR(VLOOKUP(Egresados!$N$8:$N$705,Maestros!$D$31:$E$530,2,0)),\"\",VLOOKUP(Egresados!$N$8:$N$705,Maestros!$D$31:$E$530,2,0))","v":"223"},{"$f":"IF(ISERROR(VLOOKUP(Egresados!$O523,Maestros!$G$31:$J$1030,2,0)),\"\",VLOOKUP(Egresados!$O523,Maestros!$G$31:$J$1030,2,0))","v":"8"},{"$f":"CONCATENATE(Egresados!$Z$8:$Z$705,\"a\",Egresados!$AA$8:$AA$705)","v":"223a8"},{"$f":"IF(ISERROR(VLOOKUP(Egresados!$P523,Maestros!$L$31:$Q$1030,2,0)),\"\",VLOOKUP(Egresados!$P523,Maestros!$L$31:$Q$1030,2,0))","v":"324"},{"$f":"CONCATENATE(Egresados!$Z$8:$Z$705,\"a\",Egresados!$AA$8:$AA$705,\"a\",Egresados!$AC$8:$AC$705)","v":"223a8a324"},{"$f":"IF(ISERROR(VLOOKUP(Egresados!$C$8:$C$705,Maestros!$A$4:$B$21,2,0)),\"\",VLOOKUP(Egresados!$C$8:$C$705,Maestros!$A$4:$B$21,2,0))","v":"1001"},{"$f":"IF(ISERROR(VLOOKUP(Egresados!$H$8:$H$705,Maestros!$D$4:$E$21,2,0)),\"\",VLOOKUP(Egresados!$H$8:$H$705,Maestros!$D$4:$E$21,2,0))","v":"1122"},{"$f":"IF(OR(UPPER(Egresados!$J$8:$J$705)=\"SI\",UPPER(Egresados!$J$8:$J$705)=\"SÍ\"),1,IF(UPPER(Egresados!$J$8:$J$705)=\"NO\",0,\"\"))","v":0},{"$f":"IF(OR(UPPER(Egresados!$R$8:$R$705)=\"SI\",UPPER(Egresados!$R$8:$R$705)=\"SÍ\"),1,IF(UPPER(Egresados!$R$8:$R$705)=\"NO\",0,\"\"))","v":""},{"$f":"IF(OR(UPPER(Egresados!$S$8:$S$705)=\"SI\",UPPER(Egresados!$S$8:$S$705)=\"SÍ\"),1,IF(UPPER(Egresados!$S$8:$S$705)=\"NO\",0,\"\"))","v":""},{"$f":"IF(ISERROR(VLOOKUP(Egresados!$T$8:$T$705,Maestros!$S$31:$T$530,2,0)),\"\",VLOOKUP(Egresados!$T$8:$T$705,Maestros!$S$31:$T$530,2,0))","v":"58"},{"$f":"IF(ISERROR(VLOOKUP(U523,Maestros!$S$31:$T$530,2,0)),\"\",VLOOKUP(U523,Maestros!$S$31:$T$530,2,0))","v":"58"},{"$f":"IF(ISERROR(VLOOKUP(Egresados!$K$8:$K$705,Maestros!$A$31:$B$130,2,0)),\"\",VLOOKUP(Egresados!$K$8:$K$705,Maestros!$A$31:$B$130,2,0))","v":""},{"$f":"IF(LEN(tablaEgresados[[#This Row],[Nota promedio]])>0,ROUND(tablaEgresados[[#This Row],[Nota promedio]],2),\"\")","v":16.329999999999998}]
[516,null,"DNI","42988238","OSORIO","VELA","JUAN DANIEL","MASCULINO",null,"NO",null,null,null,"2020-1","SEDE CENTRAL","INGLES-FRANCES",15.5,null,null,"2013-1","2013-1","20131692@une.edu.pe","juda_30_30@hotmail.com",3133700,"956796424",{"$f":"IF(ISERROR(VLOOKUP(Egresados!$N$8:$N$705,Maestros!$D$31:$E$530,2,0)),\"\",VLOOKUP(Egresados!$N$8:$N$705,Maestros!$D$31:$E$530,2,0))","v":"223"},{"$f":"IF(ISERROR(VLOOKUP(Egresados!$O524,Maestros!$G$31:$J$1030,2,0)),\"\",VLOOKUP(Egresados!$O524,Maestros!$G$31:$J$1030,2,0))","v":"8"},{"$f":"CONCATENATE(Egresados!$Z$8:$Z$705,\"a\",Egresados!$AA$8:$AA$705)","v":"223a8"},{"$f":"IF(ISERROR(VLOOKUP(Egresados!$P524,Maestros!$L$31:$Q$1030,2,0)),\"\",VLOOKUP(Egresados!$P524,Maestros!$L$31:$Q$1030,2,0))","v":"324"},{"$f":"CONCATENATE(Egresados!$Z$8:$Z$705,\"a\",Egresados!$AA$8:$AA$705,\"a\",Egresados!$AC$8:$AC$705)","v":"223a8a324"},{"$f":"IF(ISERROR(VLOOKUP(Egresados!$C$8:$C$705,Maestros!$A$4:$B$21,2,0)),\"\",VLOOKUP(Egresados!$C$8:$C$705,Maestros!$A$4:$B$21,2,0))","v":"1001"},{"$f":"IF(ISERROR(VLOOKUP(Egresados!$H$8:$H$705,Maestros!$D$4:$E$21,2,0)),\"\",VLOOKUP(Egresados!$H$8:$H$705,Maestros!$D$4:$E$21,2,0))","v":"1121"},{"$f":"IF(OR(UPPER(Egresados!$J$8:$J$705)=\"SI\",UPPER(Egresados!$J$8:$J$705)=\"SÍ\"),1,IF(UPPER(Egresados!$J$8:$J$705)=\"NO\",0,\"\"))","v":0},{"$f":"IF(OR(UPPER(Egresados!$R$8:$R$705)=\"SI\",UPPER(Egresados!$R$8:$R$705)=\"SÍ\"),1,IF(UPPER(Egresados!$R$8:$R$705)=\"NO\",0,\"\"))","v":""},{"$f":"IF(OR(UPPER(Egresados!$S$8:$S$705)=\"SI\",UPPER(Egresados!$S$8:$S$705)=\"SÍ\"),1,IF(UPPER(Egresados!$S$8:$S$705)=\"NO\",0,\"\"))","v":""},{"$f":"IF(ISERROR(VLOOKUP(Egresados!$T$8:$T$705,Maestros!$S$31:$T$530,2,0)),\"\",VLOOKUP(Egresados!$T$8:$T$705,Maestros!$S$31:$T$530,2,0))","v":"54"},{"$f":"IF(ISERROR(VLOOKUP(U524,Maestros!$S$31:$T$530,2,0)),\"\",VLOOKUP(U524,Maestros!$S$31:$T$530,2,0))","v":"54"},{"$f":"IF(ISERROR(VLOOKUP(Egresados!$K$8:$K$705,Maestros!$A$31:$B$130,2,0)),\"\",VLOOKUP(Egresados!$K$8:$K$705,Maestros!$A$31:$B$130,2,0))","v":""},{"$f":"IF(LEN(tablaEgresados[[#This Row],[Nota promedio]])>0,ROUND(tablaEgresados[[#This Row],[Nota promedio]],2),\"\")","v":15.5}]
[517,null,"DNI","77439364","ADCO","RAMOS","CLAUDIA PAULA","FEMENINO",null,"NO",null,null,null,"2020-1","SEDE CENTRAL","INGLES-FRANCES",14.37,null,null,"2013-1","2013-1","20130435@une.edu.pe","claudia_escorpio_24@hotmail.com",3133700,"962744857",{"$f":"IF(ISERROR(VLOOKUP(Egresados!$N$8:$N$705,Maestros!$D$31:$E$530,2,0)),\"\",VLOOKUP(Egresados!$N$8:$N$705,Maestros!$D$31:$E$530,2,0))","v":"223"},{"$f":"IF(ISERROR(VLOOKUP(Egresados!$O525,Maestros!$G$31:$J$1030,2,0)),\"\",VLOOKUP(Egresados!$O525,Maestros!$G$31:$J$1030,2,0))","v":"8"},{"$f":"CONCATENATE(Egresados!$Z$8:$Z$705,\"a\",Egresados!$AA$8:$AA$705)","v":"223a8"},{"$f":"IF(ISERROR(VLOOKUP(Egresados!$P525,Maestros!$L$31:$Q$1030,2,0)),\"\",VLOOKUP(Egresados!$P525,Maestros!$L$31:$Q$1030,2,0))","v":"324"},{"$f":"CONCATENATE(Egresados!$Z$8:$Z$705,\"a\",Egresados!$AA$8:$AA$705,\"a\",Egresados!$AC$8:$AC$705)","v":"223a8a324"},{"$f":"IF(ISERROR(VLOOKUP(Egresados!$C$8:$C$705,Maestros!$A$4:$B$21,2,0)),\"\",VLOOKUP(Egresados!$C$8:$C$705,Maestros!$A$4:$B$21,2,0))","v":"1001"},{"$f":"IF(ISERROR(VLOOKUP(Egresados!$H$8:$H$705,Maestros!$D$4:$E$21,2,0)),\"\",VLOOKUP(Egresados!$H$8:$H$705,Maestros!$D$4:$E$21,2,0))","v":"1122"},{"$f":"IF(OR(UPPER(Egresados!$J$8:$J$705)=\"SI\",UPPER(Egresados!$J$8:$J$705)=\"SÍ\"),1,IF(UPPER(Egresados!$J$8:$J$705)=\"NO\",0,\"\"))","v":0},{"$f":"IF(OR(UPPER(Egresados!$R$8:$R$705)=\"SI\",UPPER(Egresados!$R$8:$R$705)=\"SÍ\"),1,IF(UPPER(Egresados!$R$8:$R$705)=\"NO\",0,\"\"))","v":""},{"$f":"IF(OR(UPPER(Egresados!$S$8:$S$705)=\"SI\",UPPER(Egresados!$S$8:$S$705)=\"SÍ\"),1,IF(UPPER(Egresados!$S$8:$S$705)=\"NO\",0,\"\"))","v":""},{"$f":"IF(ISERROR(VLOOKUP(Egresados!$T$8:$T$705,Maestros!$S$31:$T$530,2,0)),\"\",VLOOKUP(Egresados!$T$8:$T$705,Maestros!$S$31:$T$530,2,0))","v":"54"},{"$f":"IF(ISERROR(VLOOKUP(U525,Maestros!$S$31:$T$530,2,0)),\"\",VLOOKUP(U525,Maestros!$S$31:$T$530,2,0))","v":"54"},{"$f":"IF(ISERROR(VLOOKUP(Egresados!$K$8:$K$705,Maestros!$A$31:$B$130,2,0)),\"\",VLOOKUP(Egresados!$K$8:$K$705,Maestros!$A$31:$B$130,2,0))","v":""},{"$f":"IF(LEN(tablaEgresados[[#This Row],[Nota promedio]])>0,ROUND(tablaEgresados[[#This Row],[Nota promedio]],2),\"\")","v":14.37}]
[518,null,"DNI","42114079","CASTILLO","CASTAÑEDA","WIL ALFREDO","MASCULINO",null,"NO",null,null,null,"2020-1","SEDE CENTRAL","INGLES-FRANCES",14.88,null,null,"2011-1","2011-1","20111914@une.edu.pe","willyacc@hotmail.com",3133700,"948410621",{"$f":"IF(ISERROR(VLOOKUP(Egresados!$N$8:$N$705,Maestros!$D$31:$E$530,2,0)),\"\",VLOOKUP(Egresados!$N$8:$N$705,Maestros!$D$31:$E$530,2,0))","v":"223"},{"$f":"IF(ISERROR(VLOOKUP(Egresados!$O526,Maestros!$G$31:$J$1030,2,0)),\"\",VLOOKUP(Egresados!$O526,Maestros!$G$31:$J$1030,2,0))","v":"8"},{"$f":"CONCATENATE(Egresados!$Z$8:$Z$705,\"a\",Egresados!$AA$8:$AA$705)","v":"223a8"},{"$f":"IF(ISERROR(VLOOKUP(Egresados!$P526,Maestros!$L$31:$Q$1030,2,0)),\"\",VLOOKUP(Egresados!$P526,Maestros!$L$31:$Q$1030,2,0))","v":"324"},{"$f":"CONCATENATE(Egresados!$Z$8:$Z$705,\"a\",Egresados!$AA$8:$AA$705,\"a\",Egresados!$AC$8:$AC$705)","v":"223a8a324"},{"$f":"IF(ISERROR(VLOOKUP(Egresados!$C$8:$C$705,Maestros!$A$4:$B$21,2,0)),\"\",VLOOKUP(Egresados!$C$8:$C$705,Maestros!$A$4:$B$21,2,0))","v":"1001"},{"$f":"IF(ISERROR(VLOOKUP(Egresados!$H$8:$H$705,Maestros!$D$4:$E$21,2,0)),\"\",VLOOKUP(Egresados!$H$8:$H$705,Maestros!$D$4:$E$21,2,0))","v":"1121"},{"$f":"IF(OR(UPPER(Egresados!$J$8:$J$705)=\"SI\",UPPER(Egresados!$J$8:$J$705)=\"SÍ\"),1,IF(UPPER(Egresados!$J$8:$J$705)=\"NO\",0,\"\"))","v":0},{"$f":"IF(OR(UPPER(Egresados!$R$8:$R$705)=\"SI\",UPPER(Egresados!$R$8:$R$705)=\"SÍ\"),1,IF(UPPER(Egresados!$R$8:$R$705)=\"NO\",0,\"\"))","v":""},{"$f":"IF(OR(UPPER(Egresados!$S$8:$S$705)=\"SI\",UPPER(Egresados!$S$8:$S$705)=\"SÍ\"),1,IF(UPPER(Egresados!$S$8:$S$705)=\"NO\",0,\"\"))","v":""},{"$f":"IF(ISERROR(VLOOKUP(Egresados!$T$8:$T$705,Maestros!$S$31:$T$530,2,0)),\"\",VLOOKUP(Egresados!$T$8:$T$705,Maestros!$S$31:$T$530,2,0))","v":"46"},{"$f":"IF(ISERROR(VLOOKUP(U526,Maestros!$S$31:$T$530,2,0)),\"\",VLOOKUP(U526,Maestros!$S$31:$T$530,2,0))","v":"46"},{"$f":"IF(ISERROR(VLOOKUP(Egresados!$K$8:$K$705,Maestros!$A$31:$B$130,2,0)),\"\",VLOOKUP(Egresados!$K$8:$K$705,Maestros!$A$31:$B$130,2,0))","v":""},{"$f":"IF(LEN(tablaEgresados[[#This Row],[Nota promedio]])>0,ROUND(tablaEgresados[[#This Row],[Nota promedio]],2),\"\")","v":14.88}]
[519,null,"DNI","72955205","CASTRO","MAYHUA","PAUL CRISTHIAN","MASCULINO",null,"NO",null,null,null,"2020-1","SEDE CENTRAL","INGLES-FRANCES",15.35,null,null,"2014-1","2014-1","20140256@une.edu.pe","paul_p.c_10@hotmail.com",3133700,"975387794",{"$f":"IF(ISERROR(VLOOKUP(Egresados!$N$8:$N$705,Maestros!$D$31:$E$530,2,0)),\"\",VLOOKUP(Egresados!$N$8:$N$705,Maestros!$D$31:$E$530,2,0))","v":"223"},{"$f":"IF(ISERROR(VLOOKUP(Egresados!$O527,Maestros!$G$31:$J$1030,2,0)),\"\",VLOOKUP(Egresados!$O527,Maestros!$G$31:$J$1030,2,0))","v":"8"},{"$f":"CONCATENATE(Egresados!$Z$8:$Z$705,\"a\",Egresados!$AA$8:$AA$705)","v":"223a8"},{"$f":"IF(ISERROR(VLOOKUP(Egresados!$P527,Maestros!$L$31:$Q$1030,2,0)),\"\",VLOOKUP(Egresados!$P527,Maestros!$L$31:$Q$1030,2,0))","v":"324"},{"$f":"CONCATENATE(Egresados!$Z$8:$Z$705,\"a\",Egresados!$AA$8:$AA$705,\"a\",Egresados!$AC$8:$AC$705)","v":"223a8a324"},{"$f":"IF(ISERROR(VLOOKUP(Egresados!$C$8:$C$705,Maestros!$A$4:$B$21,2,0)),\"\",VLOOKUP(Egresados!$C$8:$C$705,Maestros!$A$4:$B$21,2,0))","v":"1001"},{"$f":"IF(ISERROR(VLOOKUP(Egresados!$H$8:$H$705,Maestros!$D$4:$E$21,2,0)),\"\",VLOOKUP(Egresados!$H$8:$H$705,Maestros!$D$4:$E$21,2,0))","v":"1121"},{"$f":"IF(OR(UPPER(Egresados!$J$8:$J$705)=\"SI\",UPPER(Egresados!$J$8:$J$705)=\"SÍ\"),1,IF(UPPER(Egresados!$J$8:$J$705)=\"NO\",0,\"\"))","v":0},{"$f":"IF(OR(UPPER(Egresados!$R$8:$R$705)=\"SI\",UPPER(Egresados!$R$8:$R$705)=\"SÍ\"),1,IF(UPPER(Egresados!$R$8:$R$705)=\"NO\",0,\"\"))","v":""},{"$f":"IF(OR(UPPER(Egresados!$S$8:$S$705)=\"SI\",UPPER(Egresados!$S$8:$S$705)=\"SÍ\"),1,IF(UPPER(Egresados!$S$8:$S$705)=\"NO\",0,\"\"))","v":""},{"$f":"IF(ISERROR(VLOOKUP(Egresados!$T$8:$T$705,Maestros!$S$31:$T$530,2,0)),\"\",VLOOKUP(Egresados!$T$8:$T$705,Maestros!$S$31:$T$530,2,0))","v":"58"},{"$f":"IF(ISERROR(VLOOKUP(U527,Maestros!$S$31:$T$530,2,0)),\"\",VLOOKUP(U527,Maestros!$S$31:$T$530,2,0))","v":"58"},{"$f":"IF(ISERROR(VLOOKUP(Egresados!$K$8:$K$705,Maestros!$A$31:$B$130,2,0)),\"\",VLOOKUP(Egresados!$K$8:$K$705,Maestros!$A$31:$B$130,2,0))","v":""},{"$f":"IF(LEN(tablaEgresados[[#This Row],[Nota promedio]])>0,ROUND(tablaEgresados[[#This Row],[Nota promedio]],2),\"\")","v":15.35}]
[520,null,"DNI","75503955","REYES","MERCADO","CATHERINE MARISOL","FEMENINO",null,"NO",null,null,null,"2020-1","SEDE CENTRAL","INGLES-FRANCES",16.399999999999999,null,null,"2015-1","2015-1","20150416@une.edu.pe","reyescatherine96@gmail.com",3133700,"997247411",{"$f":"IF(ISERROR(VLOOKUP(Egresados!$N$8:$N$705,Maestros!$D$31:$E$530,2,0)),\"\",VLOOKUP(Egresados!$N$8:$N$705,Maestros!$D$31:$E$530,2,0))","v":"223"},{"$f":"IF(ISERROR(VLOOKUP(Egresados!$O528,Maestros!$G$31:$J$1030,2,0)),\"\",VLOOKUP(Egresados!$O528,Maestros!$G$31:$J$1030,2,0))","v":"8"},{"$f":"CONCATENATE(Egresados!$Z$8:$Z$705,\"a\",Egresados!$AA$8:$AA$705)","v":"223a8"},{"$f":"IF(ISERROR(VLOOKUP(Egresados!$P528,Maestros!$L$31:$Q$1030,2,0)),\"\",VLOOKUP(Egresados!$P528,Maestros!$L$31:$Q$1030,2,0))","v":"324"},{"$f":"CONCATENATE(Egresados!$Z$8:$Z$705,\"a\",Egresados!$AA$8:$AA$705,\"a\",Egresados!$AC$8:$AC$705)","v":"223a8a324"},{"$f":"IF(ISERROR(VLOOKUP(Egresados!$C$8:$C$705,Maestros!$A$4:$B$21,2,0)),\"\",VLOOKUP(Egresados!$C$8:$C$705,Maestros!$A$4:$B$21,2,0))","v":"1001"},{"$f":"IF(ISERROR(VLOOKUP(Egresados!$H$8:$H$705,Maestros!$D$4:$E$21,2,0)),\"\",VLOOKUP(Egresados!$H$8:$H$705,Maestros!$D$4:$E$21,2,0))","v":"1122"},{"$f":"IF(OR(UPPER(Egresados!$J$8:$J$705)=\"SI\",UPPER(Egresados!$J$8:$J$705)=\"SÍ\"),1,IF(UPPER(Egresados!$J$8:$J$705)=\"NO\",0,\"\"))","v":0},{"$f":"IF(OR(UPPER(Egresados!$R$8:$R$705)=\"SI\",UPPER(Egresados!$R$8:$R$705)=\"SÍ\"),1,IF(UPPER(Egresados!$R$8:$R$705)=\"NO\",0,\"\"))","v":""},{"$f":"IF(OR(UPPER(Egresados!$S$8:$S$705)=\"SI\",UPPER(Egresados!$S$8:$S$705)=\"SÍ\"),1,IF(UPPER(Egresados!$S$8:$S$705)=\"NO\",0,\"\"))","v":""},{"$f":"IF(ISERROR(VLOOKUP(Egresados!$T$8:$T$705,Maestros!$S$31:$T$530,2,0)),\"\",VLOOKUP(Egresados!$T$8:$T$705,Maestros!$S$31:$T$530,2,0))","v":"62"},{"$f":"IF(ISERROR(VLOOKUP(U528,Maestros!$S$31:$T$530,2,0)),\"\",VLOOKUP(U528,Maestros!$S$31:$T$530,2,0))","v":"62"},{"$f":"IF(ISERROR(VLOOKUP(Egresados!$K$8:$K$705,Maestros!$A$31:$B$130,2,0)),\"\",VLOOKUP(Egresados!$K$8:$K$705,Maestros!$A$31:$B$130,2,0))","v":""},{"$f":"IF(LEN(tablaEgresados[[#This Row],[Nota promedio]])>0,ROUND(tablaEgresados[[#This Row],[Nota promedio]],2),\"\")","v":16.399999999999999}]
[521,null,"DNI","20721843","GONZALES","ALIAGA","NANCY OLIVA","FEMENINO",null,"NO",null,null,null,"2020-1","SEDE CENTRAL","INGLES-FRANCES",14.9,null,null,"2014-1","2014-1","20140532@une.edu.pe","ganancy.4@gmail.com",3133700,"960083677",{"$f":"IF(ISERROR(VLOOKUP(Egresados!$N$8:$N$705,Maestros!$D$31:$E$530,2,0)),\"\",VLOOKUP(Egresados!$N$8:$N$705,Maestros!$D$31:$E$530,2,0))","v":"223"},{"$f":"IF(ISERROR(VLOOKUP(Egresados!$O529,Maestros!$G$31:$J$1030,2,0)),\"\",VLOOKUP(Egresados!$O529,Maestros!$G$31:$J$1030,2,0))","v":"8"},{"$f":"CONCATENATE(Egresados!$Z$8:$Z$705,\"a\",Egresados!$AA$8:$AA$705)","v":"223a8"},{"$f":"IF(ISERROR(VLOOKUP(Egresados!$P529,Maestros!$L$31:$Q$1030,2,0)),\"\",VLOOKUP(Egresados!$P529,Maestros!$L$31:$Q$1030,2,0))","v":"324"},{"$f":"CONCATENATE(Egresados!$Z$8:$Z$705,\"a\",Egresados!$AA$8:$AA$705,\"a\",Egresados!$AC$8:$AC$705)","v":"223a8a324"},{"$f":"IF(ISERROR(VLOOKUP(Egresados!$C$8:$C$705,Maestros!$A$4:$B$21,2,0)),\"\",VLOOKUP(Egresados!$C$8:$C$705,Maestros!$A$4:$B$21,2,0))","v":"1001"},{"$f":"IF(ISERROR(VLOOKUP(Egresados!$H$8:$H$705,Maestros!$D$4:$E$21,2,0)),\"\",VLOOKUP(Egresados!$H$8:$H$705,Maestros!$D$4:$E$21,2,0))","v":"1122"},{"$f":"IF(OR(UPPER(Egresados!$J$8:$J$705)=\"SI\",UPPER(Egresados!$J$8:$J$705)=\"SÍ\"),1,IF(UPPER(Egresados!$J$8:$J$705)=\"NO\",0,\"\"))","v":0},{"$f":"IF(OR(UPPER(Egresados!$R$8:$R$705)=\"SI\",UPPER(Egresados!$R$8:$R$705)=\"SÍ\"),1,IF(UPPER(Egresados!$R$8:$R$705)=\"NO\",0,\"\"))","v":""},{"$f":"IF(OR(UPPER(Egresados!$S$8:$S$705)=\"SI\",UPPER(Egresados!$S$8:$S$705)=\"SÍ\"),1,IF(UPPER(Egresados!$S$8:$S$705)=\"NO\",0,\"\"))","v":""},{"$f":"IF(ISERROR(VLOOKUP(Egresados!$T$8:$T$705,Maestros!$S$31:$T$530,2,0)),\"\",VLOOKUP(Egresados!$T$8:$T$705,Maestros!$S$31:$T$530,2,0))","v":"58"},{"$f":"IF(ISERROR(VLOOKUP(U529,Maestros!$S$31:$T$530,2,0)),\"\",VLOOKUP(U529,Maestros!$S$31:$T$530,2,0))","v":"58"},{"$f":"IF(ISERROR(VLOOKUP(Egresados!$K$8:$K$705,Maestros!$A$31:$B$130,2,0)),\"\",VLOOKUP(Egresados!$K$8:$K$705,Maestros!$A$31:$B$130,2,0))","v":""},{"$f":"IF(LEN(tablaEgresados[[#This Row],[Nota promedio]])>0,ROUND(tablaEgresados[[#This Row],[Nota promedio]],2),\"\")","v":14.9}]
[522,null,"DNI","46493639","JARA","LORA","MILY CONZUELO","FEMENINO",null,"NO",null,null,null,"2020-1","SEDE CENTRAL","INGLES-FRANCES",14.16,null,null,"2009-1","2009-1","20092128@une.edu.pe","mily_jaral@hotmail.com",3133700,"931874375",{"$f":"IF(ISERROR(VLOOKUP(Egresados!$N$8:$N$705,Maestros!$D$31:$E$530,2,0)),\"\",VLOOKUP(Egresados!$N$8:$N$705,Maestros!$D$31:$E$530,2,0))","v":"223"},{"$f":"IF(ISERROR(VLOOKUP(Egresados!$O530,Maestros!$G$31:$J$1030,2,0)),\"\",VLOOKUP(Egresados!$O530,Maestros!$G$31:$J$1030,2,0))","v":"8"},{"$f":"CONCATENATE(Egresados!$Z$8:$Z$705,\"a\",Egresados!$AA$8:$AA$705)","v":"223a8"},{"$f":"IF(ISERROR(VLOOKUP(Egresados!$P530,Maestros!$L$31:$Q$1030,2,0)),\"\",VLOOKUP(Egresados!$P530,Maestros!$L$31:$Q$1030,2,0))","v":"324"},{"$f":"CONCATENATE(Egresados!$Z$8:$Z$705,\"a\",Egresados!$AA$8:$AA$705,\"a\",Egresados!$AC$8:$AC$705)","v":"223a8a324"},{"$f":"IF(ISERROR(VLOOKUP(Egresados!$C$8:$C$705,Maestros!$A$4:$B$21,2,0)),\"\",VLOOKUP(Egresados!$C$8:$C$705,Maestros!$A$4:$B$21,2,0))","v":"1001"},{"$f":"IF(ISERROR(VLOOKUP(Egresados!$H$8:$H$705,Maestros!$D$4:$E$21,2,0)),\"\",VLOOKUP(Egresados!$H$8:$H$705,Maestros!$D$4:$E$21,2,0))","v":"1122"},{"$f":"IF(OR(UPPER(Egresados!$J$8:$J$705)=\"SI\",UPPER(Egresados!$J$8:$J$705)=\"SÍ\"),1,IF(UPPER(Egresados!$J$8:$J$705)=\"NO\",0,\"\"))","v":0},{"$f":"IF(OR(UPPER(Egresados!$R$8:$R$705)=\"SI\",UPPER(Egresados!$R$8:$R$705)=\"SÍ\"),1,IF(UPPER(Egresados!$R$8:$R$705)=\"NO\",0,\"\"))","v":""},{"$f":"IF(OR(UPPER(Egresados!$S$8:$S$705)=\"SI\",UPPER(Egresados!$S$8:$S$705)=\"SÍ\"),1,IF(UPPER(Egresados!$S$8:$S$705)=\"NO\",0,\"\"))","v":""},{"$f":"IF(ISERROR(VLOOKUP(Egresados!$T$8:$T$705,Maestros!$S$31:$T$530,2,0)),\"\",VLOOKUP(Egresados!$T$8:$T$705,Maestros!$S$31:$T$530,2,0))","v":"38"},{"$f":"IF(ISERROR(VLOOKUP(U530,Maestros!$S$31:$T$530,2,0)),\"\",VLOOKUP(U530,Maestros!$S$31:$T$530,2,0))","v":"38"},{"$f":"IF(ISERROR(VLOOKUP(Egresados!$K$8:$K$705,Maestros!$A$31:$B$130,2,0)),\"\",VLOOKUP(Egresados!$K$8:$K$705,Maestros!$A$31:$B$130,2,0))","v":""},{"$f":"IF(LEN(tablaEgresados[[#This Row],[Nota promedio]])>0,ROUND(tablaEgresados[[#This Row],[Nota promedio]],2),\"\")","v":14.16}]
[523,null,"DNI","70116596","JANAMPA","MEJIA","KIMBERLY MICHELL","FEMENINO",null,"NO",null,null,null,"2020-1","SEDE CENTRAL","INGLES-FRANCES",17.84,null,null,"2015-1","2015-1","20150391@une.edu.pe","kim_2603@hotmail.com",3133700,"940752161",{"$f":"IF(ISERROR(VLOOKUP(Egresados!$N$8:$N$705,Maestros!$D$31:$E$530,2,0)),\"\",VLOOKUP(Egresados!$N$8:$N$705,Maestros!$D$31:$E$530,2,0))","v":"223"},{"$f":"IF(ISERROR(VLOOKUP(Egresados!$O531,Maestros!$G$31:$J$1030,2,0)),\"\",VLOOKUP(Egresados!$O531,Maestros!$G$31:$J$1030,2,0))","v":"8"},{"$f":"CONCATENATE(Egresados!$Z$8:$Z$705,\"a\",Egresados!$AA$8:$AA$705)","v":"223a8"},{"$f":"IF(ISERROR(VLOOKUP(Egresados!$P531,Maestros!$L$31:$Q$1030,2,0)),\"\",VLOOKUP(Egresados!$P531,Maestros!$L$31:$Q$1030,2,0))","v":"324"},{"$f":"CONCATENATE(Egresados!$Z$8:$Z$705,\"a\",Egresados!$AA$8:$AA$705,\"a\",Egresados!$AC$8:$AC$705)","v":"223a8a324"},{"$f":"IF(ISERROR(VLOOKUP(Egresados!$C$8:$C$705,Maestros!$A$4:$B$21,2,0)),\"\",VLOOKUP(Egresados!$C$8:$C$705,Maestros!$A$4:$B$21,2,0))","v":"1001"},{"$f":"IF(ISERROR(VLOOKUP(Egresados!$H$8:$H$705,Maestros!$D$4:$E$21,2,0)),\"\",VLOOKUP(Egresados!$H$8:$H$705,Maestros!$D$4:$E$21,2,0))","v":"1122"},{"$f":"IF(OR(UPPER(Egresados!$J$8:$J$705)=\"SI\",UPPER(Egresados!$J$8:$J$705)=\"SÍ\"),1,IF(UPPER(Egresados!$J$8:$J$705)=\"NO\",0,\"\"))","v":0},{"$f":"IF(OR(UPPER(Egresados!$R$8:$R$705)=\"SI\",UPPER(Egresados!$R$8:$R$705)=\"SÍ\"),1,IF(UPPER(Egresados!$R$8:$R$705)=\"NO\",0,\"\"))","v":""},{"$f":"IF(OR(UPPER(Egresados!$S$8:$S$705)=\"SI\",UPPER(Egresados!$S$8:$S$705)=\"SÍ\"),1,IF(UPPER(Egresados!$S$8:$S$705)=\"NO\",0,\"\"))","v":""},{"$f":"IF(ISERROR(VLOOKUP(Egresados!$T$8:$T$705,Maestros!$S$31:$T$530,2,0)),\"\",VLOOKUP(Egresados!$T$8:$T$705,Maestros!$S$31:$T$530,2,0))","v":"62"},{"$f":"IF(ISERROR(VLOOKUP(U531,Maestros!$S$31:$T$530,2,0)),\"\",VLOOKUP(U531,Maestros!$S$31:$T$530,2,0))","v":"62"},{"$f":"IF(ISERROR(VLOOKUP(Egresados!$K$8:$K$705,Maestros!$A$31:$B$130,2,0)),\"\",VLOOKUP(Egresados!$K$8:$K$705,Maestros!$A$31:$B$130,2,0))","v":""},{"$f":"IF(LEN(tablaEgresados[[#This Row],[Nota promedio]])>0,ROUND(tablaEgresados[[#This Row],[Nota promedio]],2),\"\")","v":17.84}]
[524,null,"DNI","42964479","ORIHUELA","SULCA","LIZ MARIA","FEMENINO",null,"NO",null,null,null,"2020-1","SEDE CENTRAL","INGLES-FRANCES",15.13,null,null,"2015-1","2015-1","20150406@une.edu.pe","LIZORI_85@HOTMAIL.COM",3133700,976486001,{"$f":"IF(ISERROR(VLOOKUP(Egresados!$N$8:$N$705,Maestros!$D$31:$E$530,2,0)),\"\",VLOOKUP(Egresados!$N$8:$N$705,Maestros!$D$31:$E$530,2,0))","v":"223"},{"$f":"IF(ISERROR(VLOOKUP(Egresados!$O532,Maestros!$G$31:$J$1030,2,0)),\"\",VLOOKUP(Egresados!$O532,Maestros!$G$31:$J$1030,2,0))","v":"8"},{"$f":"CONCATENATE(Egresados!$Z$8:$Z$705,\"a\",Egresados!$AA$8:$AA$705)","v":"223a8"},{"$f":"IF(ISERROR(VLOOKUP(Egresados!$P532,Maestros!$L$31:$Q$1030,2,0)),\"\",VLOOKUP(Egresados!$P532,Maestros!$L$31:$Q$1030,2,0))","v":"324"},{"$f":"CONCATENATE(Egresados!$Z$8:$Z$705,\"a\",Egresados!$AA$8:$AA$705,\"a\",Egresados!$AC$8:$AC$705)","v":"223a8a324"},{"$f":"IF(ISERROR(VLOOKUP(Egresados!$C$8:$C$705,Maestros!$A$4:$B$21,2,0)),\"\",VLOOKUP(Egresados!$C$8:$C$705,Maestros!$A$4:$B$21,2,0))","v":"1001"},{"$f":"IF(ISERROR(VLOOKUP(Egresados!$H$8:$H$705,Maestros!$D$4:$E$21,2,0)),\"\",VLOOKUP(Egresados!$H$8:$H$705,Maestros!$D$4:$E$21,2,0))","v":"1122"},{"$f":"IF(OR(UPPER(Egresados!$J$8:$J$705)=\"SI\",UPPER(Egresados!$J$8:$J$705)=\"SÍ\"),1,IF(UPPER(Egresados!$J$8:$J$705)=\"NO\",0,\"\"))","v":0},{"$f":"IF(OR(UPPER(Egresados!$R$8:$R$705)=\"SI\",UPPER(Egresados!$R$8:$R$705)=\"SÍ\"),1,IF(UPPER(Egresados!$R$8:$R$705)=\"NO\",0,\"\"))","v":""},{"$f":"IF(OR(UPPER(Egresados!$S$8:$S$705)=\"SI\",UPPER(Egresados!$S$8:$S$705)=\"SÍ\"),1,IF(UPPER(Egresados!$S$8:$S$705)=\"NO\",0,\"\"))","v":""},{"$f":"IF(ISERROR(VLOOKUP(Egresados!$T$8:$T$705,Maestros!$S$31:$T$530,2,0)),\"\",VLOOKUP(Egresados!$T$8:$T$705,Maestros!$S$31:$T$530,2,0))","v":"62"},{"$f":"IF(ISERROR(VLOOKUP(U532,Maestros!$S$31:$T$530,2,0)),\"\",VLOOKUP(U532,Maestros!$S$31:$T$530,2,0))","v":"62"},{"$f":"IF(ISERROR(VLOOKUP(Egresados!$K$8:$K$705,Maestros!$A$31:$B$130,2,0)),\"\",VLOOKUP(Egresados!$K$8:$K$705,Maestros!$A$31:$B$130,2,0))","v":""},{"$f":"IF(LEN(tablaEgresados[[#This Row],[Nota promedio]])>0,ROUND(tablaEgresados[[#This Row],[Nota promedio]],2),\"\")","v":15.13}]
[525,null,"DNI","77540592","OSIS","BARBARAN","MONICA FLOR","FEMENINO",null,"NO",null,null,null,"2020-1","SEDE CENTRAL","INGLES-FRANCES",16.2,null,null,"2014-1","2014-1","20140285@une.edu.pe","aishiteruDenis@outlook.com",3133700,"930201539",{"$f":"IF(ISERROR(VLOOKUP(Egresados!$N$8:$N$705,Maestros!$D$31:$E$530,2,0)),\"\",VLOOKUP(Egresados!$N$8:$N$705,Maestros!$D$31:$E$530,2,0))","v":"223"},{"$f":"IF(ISERROR(VLOOKUP(Egresados!$O533,Maestros!$G$31:$J$1030,2,0)),\"\",VLOOKUP(Egresados!$O533,Maestros!$G$31:$J$1030,2,0))","v":"8"},{"$f":"CONCATENATE(Egresados!$Z$8:$Z$705,\"a\",Egresados!$AA$8:$AA$705)","v":"223a8"},{"$f":"IF(ISERROR(VLOOKUP(Egresados!$P533,Maestros!$L$31:$Q$1030,2,0)),\"\",VLOOKUP(Egresados!$P533,Maestros!$L$31:$Q$1030,2,0))","v":"324"},{"$f":"CONCATENATE(Egresados!$Z$8:$Z$705,\"a\",Egresados!$AA$8:$AA$705,\"a\",Egresados!$AC$8:$AC$705)","v":"223a8a324"},{"$f":"IF(ISERROR(VLOOKUP(Egresados!$C$8:$C$705,Maestros!$A$4:$B$21,2,0)),\"\",VLOOKUP(Egresados!$C$8:$C$705,Maestros!$A$4:$B$21,2,0))","v":"1001"},{"$f":"IF(ISERROR(VLOOKUP(Egresados!$H$8:$H$705,Maestros!$D$4:$E$21,2,0)),\"\",VLOOKUP(Egresados!$H$8:$H$705,Maestros!$D$4:$E$21,2,0))","v":"1122"},{"$f":"IF(OR(UPPER(Egresados!$J$8:$J$705)=\"SI\",UPPER(Egresados!$J$8:$J$705)=\"SÍ\"),1,IF(UPPER(Egresados!$J$8:$J$705)=\"NO\",0,\"\"))","v":0},{"$f":"IF(OR(UPPER(Egresados!$R$8:$R$705)=\"SI\",UPPER(Egresados!$R$8:$R$705)=\"SÍ\"),1,IF(UPPER(Egresados!$R$8:$R$705)=\"NO\",0,\"\"))","v":""},{"$f":"IF(OR(UPPER(Egresados!$S$8:$S$705)=\"SI\",UPPER(Egresados!$S$8:$S$705)=\"SÍ\"),1,IF(UPPER(Egresados!$S$8:$S$705)=\"NO\",0,\"\"))","v":""},{"$f":"IF(ISERROR(VLOOKUP(Egresados!$T$8:$T$705,Maestros!$S$31:$T$530,2,0)),\"\",VLOOKUP(Egresados!$T$8:$T$705,Maestros!$S$31:$T$530,2,0))","v":"58"},{"$f":"IF(ISERROR(VLOOKUP(U533,Maestros!$S$31:$T$530,2,0)),\"\",VLOOKUP(U533,Maestros!$S$31:$T$530,2,0))","v":"58"},{"$f":"IF(ISERROR(VLOOKUP(Egresados!$K$8:$K$705,Maestros!$A$31:$B$130,2,0)),\"\",VLOOKUP(Egresados!$K$8:$K$705,Maestros!$A$31:$B$130,2,0))","v":""},{"$f":"IF(LEN(tablaEgresados[[#This Row],[Nota promedio]])>0,ROUND(tablaEgresados[[#This Row],[Nota promedio]],2),\"\")","v":16.2}]
[526,null,"DNI","43930755","VILCARANO","LOPEZ","JAKLIN JULIE","FEMENINO",null,"NO",null,null,null,"2020-1","SEDE CENTRAL","INGLES-FRANCES",15.48,null,null,"2010-1","2010-1","20101495@une.edu.pe","Jaklinvilcarano@gmail.com",3133700,"940640694",{"$f":"IF(ISERROR(VLOOKUP(Egresados!$N$8:$N$705,Maestros!$D$31:$E$530,2,0)),\"\",VLOOKUP(Egresados!$N$8:$N$705,Maestros!$D$31:$E$530,2,0))","v":"223"},{"$f":"IF(ISERROR(VLOOKUP(Egresados!$O534,Maestros!$G$31:$J$1030,2,0)),\"\",VLOOKUP(Egresados!$O534,Maestros!$G$31:$J$1030,2,0))","v":"8"},{"$f":"CONCATENATE(Egresados!$Z$8:$Z$705,\"a\",Egresados!$AA$8:$AA$705)","v":"223a8"},{"$f":"IF(ISERROR(VLOOKUP(Egresados!$P534,Maestros!$L$31:$Q$1030,2,0)),\"\",VLOOKUP(Egresados!$P534,Maestros!$L$31:$Q$1030,2,0))","v":"324"},{"$f":"CONCATENATE(Egresados!$Z$8:$Z$705,\"a\",Egresados!$AA$8:$AA$705,\"a\",Egresados!$AC$8:$AC$705)","v":"223a8a324"},{"$f":"IF(ISERROR(VLOOKUP(Egresados!$C$8:$C$705,Maestros!$A$4:$B$21,2,0)),\"\",VLOOKUP(Egresados!$C$8:$C$705,Maestros!$A$4:$B$21,2,0))","v":"1001"},{"$f":"IF(ISERROR(VLOOKUP(Egresados!$H$8:$H$705,Maestros!$D$4:$E$21,2,0)),\"\",VLOOKUP(Egresados!$H$8:$H$705,Maestros!$D$4:$E$21,2,0))","v":"1122"},{"$f":"IF(OR(UPPER(Egresados!$J$8:$J$705)=\"SI\",UPPER(Egresados!$J$8:$J$705)=\"SÍ\"),1,IF(UPPER(Egresados!$J$8:$J$705)=\"NO\",0,\"\"))","v":0},{"$f":"IF(OR(UPPER(Egresados!$R$8:$R$705)=\"SI\",UPPER(Egresados!$R$8:$R$705)=\"SÍ\"),1,IF(UPPER(Egresados!$R$8:$R$705)=\"NO\",0,\"\"))","v":""},{"$f":"IF(OR(UPPER(Egresados!$S$8:$S$705)=\"SI\",UPPER(Egresados!$S$8:$S$705)=\"SÍ\"),1,IF(UPPER(Egresados!$S$8:$S$705)=\"NO\",0,\"\"))","v":""},{"$f":"IF(ISERROR(VLOOKUP(Egresados!$T$8:$T$705,Maestros!$S$31:$T$530,2,0)),\"\",VLOOKUP(Egresados!$T$8:$T$705,Maestros!$S$31:$T$530,2,0))","v":"42"},{"$f":"IF(ISERROR(VLOOKUP(U534,Maestros!$S$31:$T$530,2,0)),\"\",VLOOKUP(U534,Maestros!$S$31:$T$530,2,0))","v":"42"},{"$f":"IF(ISERROR(VLOOKUP(Egresados!$K$8:$K$705,Maestros!$A$31:$B$130,2,0)),\"\",VLOOKUP(Egresados!$K$8:$K$705,Maestros!$A$31:$B$130,2,0))","v":""},{"$f":"IF(LEN(tablaEgresados[[#This Row],[Nota promedio]])>0,ROUND(tablaEgresados[[#This Row],[Nota promedio]],2),\"\")","v":15.48}]
[527,null,"DNI","73242178","TORRES","REYNOSO","JOHAN ALEXANDER","MASCULINO",null,"NO",null,null,null,"2020-1","SEDE CENTRAL","INGLES-FRANCES",15.79,null,null,"2015-1","2015-1","20150425@une.edu.pe","alexander_tr_1998@hotmail.com",3133700,"940017752",{"$f":"IF(ISERROR(VLOOKUP(Egresados!$N$8:$N$705,Maestros!$D$31:$E$530,2,0)),\"\",VLOOKUP(Egresados!$N$8:$N$705,Maestros!$D$31:$E$530,2,0))","v":"223"},{"$f":"IF(ISERROR(VLOOKUP(Egresados!$O535,Maestros!$G$31:$J$1030,2,0)),\"\",VLOOKUP(Egresados!$O535,Maestros!$G$31:$J$1030,2,0))","v":"8"},{"$f":"CONCATENATE(Egresados!$Z$8:$Z$705,\"a\",Egresados!$AA$8:$AA$705)","v":"223a8"},{"$f":"IF(ISERROR(VLOOKUP(Egresados!$P535,Maestros!$L$31:$Q$1030,2,0)),\"\",VLOOKUP(Egresados!$P535,Maestros!$L$31:$Q$1030,2,0))","v":"324"},{"$f":"CONCATENATE(Egresados!$Z$8:$Z$705,\"a\",Egresados!$AA$8:$AA$705,\"a\",Egresados!$AC$8:$AC$705)","v":"223a8a324"},{"$f":"IF(ISERROR(VLOOKUP(Egresados!$C$8:$C$705,Maestros!$A$4:$B$21,2,0)),\"\",VLOOKUP(Egresados!$C$8:$C$705,Maestros!$A$4:$B$21,2,0))","v":"1001"},{"$f":"IF(ISERROR(VLOOKUP(Egresados!$H$8:$H$705,Maestros!$D$4:$E$21,2,0)),\"\",VLOOKUP(Egresados!$H$8:$H$705,Maestros!$D$4:$E$21,2,0))","v":"1121"},{"$f":"IF(OR(UPPER(Egresados!$J$8:$J$705)=\"SI\",UPPER(Egresados!$J$8:$J$705)=\"SÍ\"),1,IF(UPPER(Egresados!$J$8:$J$705)=\"NO\",0,\"\"))","v":0},{"$f":"IF(OR(UPPER(Egresados!$R$8:$R$705)=\"SI\",UPPER(Egresados!$R$8:$R$705)=\"SÍ\"),1,IF(UPPER(Egresados!$R$8:$R$705)=\"NO\",0,\"\"))","v":""},{"$f":"IF(OR(UPPER(Egresados!$S$8:$S$705)=\"SI\",UPPER(Egresados!$S$8:$S$705)=\"SÍ\"),1,IF(UPPER(Egresados!$S$8:$S$705)=\"NO\",0,\"\"))","v":""},{"$f":"IF(ISERROR(VLOOKUP(Egresados!$T$8:$T$705,Maestros!$S$31:$T$530,2,0)),\"\",VLOOKUP(Egresados!$T$8:$T$705,Maestros!$S$31:$T$530,2,0))","v":"62"},{"$f":"IF(ISERROR(VLOOKUP(U535,Maestros!$S$31:$T$530,2,0)),\"\",VLOOKUP(U535,Maestros!$S$31:$T$530,2,0))","v":"62"},{"$f":"IF(ISERROR(VLOOKUP(Egresados!$K$8:$K$705,Maestros!$A$31:$B$130,2,0)),\"\",VLOOKUP(Egresados!$K$8:$K$705,Maestros!$A$31:$B$130,2,0))","v":""},{"$f":"IF(LEN(tablaEgresados[[#This Row],[Nota promedio]])>0,ROUND(tablaEgresados[[#This Row],[Nota promedio]],2),\"\")","v":15.79}]
[528,null,"DNI","47832437","ILLATOPA","BRAVO","GRACE ABIGAIL","FEMENINO",null,"NO",null,null,null,"2020-1","SEDE CENTRAL","INGLES-FRANCES",16.11,null,null,"2015-1","2015-1","20150389@une.edu.pe","grace.illatopa@hotmail.com",3133700,"940434415",{"$f":"IF(ISERROR(VLOOKUP(Egresados!$N$8:$N$705,Maestros!$D$31:$E$530,2,0)),\"\",VLOOKUP(Egresados!$N$8:$N$705,Maestros!$D$31:$E$530,2,0))","v":"223"},{"$f":"IF(ISERROR(VLOOKUP(Egresados!$O536,Maestros!$G$31:$J$1030,2,0)),\"\",VLOOKUP(Egresados!$O536,Maestros!$G$31:$J$1030,2,0))","v":"8"},{"$f":"CONCATENATE(Egresados!$Z$8:$Z$705,\"a\",Egresados!$AA$8:$AA$705)","v":"223a8"},{"$f":"IF(ISERROR(VLOOKUP(Egresados!$P536,Maestros!$L$31:$Q$1030,2,0)),\"\",VLOOKUP(Egresados!$P536,Maestros!$L$31:$Q$1030,2,0))","v":"324"},{"$f":"CONCATENATE(Egresados!$Z$8:$Z$705,\"a\",Egresados!$AA$8:$AA$705,\"a\",Egresados!$AC$8:$AC$705)","v":"223a8a324"},{"$f":"IF(ISERROR(VLOOKUP(Egresados!$C$8:$C$705,Maestros!$A$4:$B$21,2,0)),\"\",VLOOKUP(Egresados!$C$8:$C$705,Maestros!$A$4:$B$21,2,0))","v":"1001"},{"$f":"IF(ISERROR(VLOOKUP(Egresados!$H$8:$H$705,Maestros!$D$4:$E$21,2,0)),\"\",VLOOKUP(Egresados!$H$8:$H$705,Maestros!$D$4:$E$21,2,0))","v":"1122"},{"$f":"IF(OR(UPPER(Egresados!$J$8:$J$705)=\"SI\",UPPER(Egresados!$J$8:$J$705)=\"SÍ\"),1,IF(UPPER(Egresados!$J$8:$J$705)=\"NO\",0,\"\"))","v":0},{"$f":"IF(OR(UPPER(Egresados!$R$8:$R$705)=\"SI\",UPPER(Egresados!$R$8:$R$705)=\"SÍ\"),1,IF(UPPER(Egresados!$R$8:$R$705)=\"NO\",0,\"\"))","v":""},{"$f":"IF(OR(UPPER(Egresados!$S$8:$S$705)=\"SI\",UPPER(Egresados!$S$8:$S$705)=\"SÍ\"),1,IF(UPPER(Egresados!$S$8:$S$705)=\"NO\",0,\"\"))","v":""},{"$f":"IF(ISERROR(VLOOKUP(Egresados!$T$8:$T$705,Maestros!$S$31:$T$530,2,0)),\"\",VLOOKUP(Egresados!$T$8:$T$705,Maestros!$S$31:$T$530,2,0))","v":"62"},{"$f":"IF(ISERROR(VLOOKUP(U536,Maestros!$S$31:$T$530,2,0)),\"\",VLOOKUP(U536,Maestros!$S$31:$T$530,2,0))","v":"62"},{"$f":"IF(ISERROR(VLOOKUP(Egresados!$K$8:$K$705,Maestros!$A$31:$B$130,2,0)),\"\",VLOOKUP(Egresados!$K$8:$K$705,Maestros!$A$31:$B$130,2,0))","v":""},{"$f":"IF(LEN(tablaEgresados[[#This Row],[Nota promedio]])>0,ROUND(tablaEgresados[[#This Row],[Nota promedio]],2),\"\")","v":16.11}]
[529,null,"DNI","72112396","MEDRANO","ROSADIO","LUZ MARIA","FEMENINO",null,"NO",null,null,null,"2020-1","SEDE CENTRAL","INGLES-FRANCES",15.3,null,null,"2015-1","2015-1","20150400@une.edu.pe","lulu_98_24@hotmail.com",3133700,"949279550",{"$f":"IF(ISERROR(VLOOKUP(Egresados!$N$8:$N$705,Maestros!$D$31:$E$530,2,0)),\"\",VLOOKUP(Egresados!$N$8:$N$705,Maestros!$D$31:$E$530,2,0))","v":"223"},{"$f":"IF(ISERROR(VLOOKUP(Egresados!$O537,Maestros!$G$31:$J$1030,2,0)),\"\",VLOOKUP(Egresados!$O537,Maestros!$G$31:$J$1030,2,0))","v":"8"},{"$f":"CONCATENATE(Egresados!$Z$8:$Z$705,\"a\",Egresados!$AA$8:$AA$705)","v":"223a8"},{"$f":"IF(ISERROR(VLOOKUP(Egresados!$P537,Maestros!$L$31:$Q$1030,2,0)),\"\",VLOOKUP(Egresados!$P537,Maestros!$L$31:$Q$1030,2,0))","v":"324"},{"$f":"CONCATENATE(Egresados!$Z$8:$Z$705,\"a\",Egresados!$AA$8:$AA$705,\"a\",Egresados!$AC$8:$AC$705)","v":"223a8a324"},{"$f":"IF(ISERROR(VLOOKUP(Egresados!$C$8:$C$705,Maestros!$A$4:$B$21,2,0)),\"\",VLOOKUP(Egresados!$C$8:$C$705,Maestros!$A$4:$B$21,2,0))","v":"1001"},{"$f":"IF(ISERROR(VLOOKUP(Egresados!$H$8:$H$705,Maestros!$D$4:$E$21,2,0)),\"\",VLOOKUP(Egresados!$H$8:$H$705,Maestros!$D$4:$E$21,2,0))","v":"1122"},{"$f":"IF(OR(UPPER(Egresados!$J$8:$J$705)=\"SI\",UPPER(Egresados!$J$8:$J$705)=\"SÍ\"),1,IF(UPPER(Egresados!$J$8:$J$705)=\"NO\",0,\"\"))","v":0},{"$f":"IF(OR(UPPER(Egresados!$R$8:$R$705)=\"SI\",UPPER(Egresados!$R$8:$R$705)=\"SÍ\"),1,IF(UPPER(Egresados!$R$8:$R$705)=\"NO\",0,\"\"))","v":""},{"$f":"IF(OR(UPPER(Egresados!$S$8:$S$705)=\"SI\",UPPER(Egresados!$S$8:$S$705)=\"SÍ\"),1,IF(UPPER(Egresados!$S$8:$S$705)=\"NO\",0,\"\"))","v":""},{"$f":"IF(ISERROR(VLOOKUP(Egresados!$T$8:$T$705,Maestros!$S$31:$T$530,2,0)),\"\",VLOOKUP(Egresados!$T$8:$T$705,Maestros!$S$31:$T$530,2,0))","v":"62"},{"$f":"IF(ISERROR(VLOOKUP(U537,Maestros!$S$31:$T$530,2,0)),\"\",VLOOKUP(U537,Maestros!$S$31:$T$530,2,0))","v":"62"},{"$f":"IF(ISERROR(VLOOKUP(Egresados!$K$8:$K$705,Maestros!$A$31:$B$130,2,0)),\"\",VLOOKUP(Egresados!$K$8:$K$705,Maestros!$A$31:$B$130,2,0))","v":""},{"$f":"IF(LEN(tablaEgresados[[#This Row],[Nota promedio]])>0,ROUND(tablaEgresados[[#This Row],[Nota promedio]],2),\"\")","v":15.3}]
[530,null,"DNI","43181090","CARPIO","COTA","JUDHIT MALENA","FEMENINO",null,"NO",null,null,null,"2020-1","SEDE CENTRAL","INGLES-FRANCES",16.5,null,null,"2015-1","2015-1","20150368@une.edu.pe","carpio.judhit@gmail.com",3133700,"931524381",{"$f":"IF(ISERROR(VLOOKUP(Egresados!$N$8:$N$705,Maestros!$D$31:$E$530,2,0)),\"\",VLOOKUP(Egresados!$N$8:$N$705,Maestros!$D$31:$E$530,2,0))","v":"223"},{"$f":"IF(ISERROR(VLOOKUP(Egresados!$O538,Maestros!$G$31:$J$1030,2,0)),\"\",VLOOKUP(Egresados!$O538,Maestros!$G$31:$J$1030,2,0))","v":"8"},{"$f":"CONCATENATE(Egresados!$Z$8:$Z$705,\"a\",Egresados!$AA$8:$AA$705)","v":"223a8"},{"$f":"IF(ISERROR(VLOOKUP(Egresados!$P538,Maestros!$L$31:$Q$1030,2,0)),\"\",VLOOKUP(Egresados!$P538,Maestros!$L$31:$Q$1030,2,0))","v":"324"},{"$f":"CONCATENATE(Egresados!$Z$8:$Z$705,\"a\",Egresados!$AA$8:$AA$705,\"a\",Egresados!$AC$8:$AC$705)","v":"223a8a324"},{"$f":"IF(ISERROR(VLOOKUP(Egresados!$C$8:$C$705,Maestros!$A$4:$B$21,2,0)),\"\",VLOOKUP(Egresados!$C$8:$C$705,Maestros!$A$4:$B$21,2,0))","v":"1001"},{"$f":"IF(ISERROR(VLOOKUP(Egresados!$H$8:$H$705,Maestros!$D$4:$E$21,2,0)),\"\",VLOOKUP(Egresados!$H$8:$H$705,Maestros!$D$4:$E$21,2,0))","v":"1122"},{"$f":"IF(OR(UPPER(Egresados!$J$8:$J$705)=\"SI\",UPPER(Egresados!$J$8:$J$705)=\"SÍ\"),1,IF(UPPER(Egresados!$J$8:$J$705)=\"NO\",0,\"\"))","v":0},{"$f":"IF(OR(UPPER(Egresados!$R$8:$R$705)=\"SI\",UPPER(Egresados!$R$8:$R$705)=\"SÍ\"),1,IF(UPPER(Egresados!$R$8:$R$705)=\"NO\",0,\"\"))","v":""},{"$f":"IF(OR(UPPER(Egresados!$S$8:$S$705)=\"SI\",UPPER(Egresados!$S$8:$S$705)=\"SÍ\"),1,IF(UPPER(Egresados!$S$8:$S$705)=\"NO\",0,\"\"))","v":""},{"$f":"IF(ISERROR(VLOOKUP(Egresados!$T$8:$T$705,Maestros!$S$31:$T$530,2,0)),\"\",VLOOKUP(Egresados!$T$8:$T$705,Maestros!$S$31:$T$530,2,0))","v":"62"},{"$f":"IF(ISERROR(VLOOKUP(U538,Maestros!$S$31:$T$530,2,0)),\"\",VLOOKUP(U538,Maestros!$S$31:$T$530,2,0))","v":"62"},{"$f":"IF(ISERROR(VLOOKUP(Egresados!$K$8:$K$705,Maestros!$A$31:$B$130,2,0)),\"\",VLOOKUP(Egresados!$K$8:$K$705,Maestros!$A$31:$B$130,2,0))","v":""},{"$f":"IF(LEN(tablaEgresados[[#This Row],[Nota promedio]])>0,ROUND(tablaEgresados[[#This Row],[Nota promedio]],2),\"\")","v":16.5}]
[531,null,"DNI","70081170","AZAÑEDO","ROSSI","IVETT GLENI","FEMENINO",null,"NO",null,null,null,"2020-1","SEDE CENTRAL","INGLES-FRANCES",14.98,null,null,"2015-1","2015-1","20150355@une.edu.pe","gleni2191@gmail.com",3133700,"982054287",{"$f":"IF(ISERROR(VLOOKUP(Egresados!$N$8:$N$705,Maestros!$D$31:$E$530,2,0)),\"\",VLOOKUP(Egresados!$N$8:$N$705,Maestros!$D$31:$E$530,2,0))","v":"223"},{"$f":"IF(ISERROR(VLOOKUP(Egresados!$O539,Maestros!$G$31:$J$1030,2,0)),\"\",VLOOKUP(Egresados!$O539,Maestros!$G$31:$J$1030,2,0))","v":"8"},{"$f":"CONCATENATE(Egresados!$Z$8:$Z$705,\"a\",Egresados!$AA$8:$AA$705)","v":"223a8"},{"$f":"IF(ISERROR(VLOOKUP(Egresados!$P539,Maestros!$L$31:$Q$1030,2,0)),\"\",VLOOKUP(Egresados!$P539,Maestros!$L$31:$Q$1030,2,0))","v":"324"},{"$f":"CONCATENATE(Egresados!$Z$8:$Z$705,\"a\",Egresados!$AA$8:$AA$705,\"a\",Egresados!$AC$8:$AC$705)","v":"223a8a324"},{"$f":"IF(ISERROR(VLOOKUP(Egresados!$C$8:$C$705,Maestros!$A$4:$B$21,2,0)),\"\",VLOOKUP(Egresados!$C$8:$C$705,Maestros!$A$4:$B$21,2,0))","v":"1001"},{"$f":"IF(ISERROR(VLOOKUP(Egresados!$H$8:$H$705,Maestros!$D$4:$E$21,2,0)),\"\",VLOOKUP(Egresados!$H$8:$H$705,Maestros!$D$4:$E$21,2,0))","v":"1122"},{"$f":"IF(OR(UPPER(Egresados!$J$8:$J$705)=\"SI\",UPPER(Egresados!$J$8:$J$705)=\"SÍ\"),1,IF(UPPER(Egresados!$J$8:$J$705)=\"NO\",0,\"\"))","v":0},{"$f":"IF(OR(UPPER(Egresados!$R$8:$R$705)=\"SI\",UPPER(Egresados!$R$8:$R$705)=\"SÍ\"),1,IF(UPPER(Egresados!$R$8:$R$705)=\"NO\",0,\"\"))","v":""},{"$f":"IF(OR(UPPER(Egresados!$S$8:$S$705)=\"SI\",UPPER(Egresados!$S$8:$S$705)=\"SÍ\"),1,IF(UPPER(Egresados!$S$8:$S$705)=\"NO\",0,\"\"))","v":""},{"$f":"IF(ISERROR(VLOOKUP(Egresados!$T$8:$T$705,Maestros!$S$31:$T$530,2,0)),\"\",VLOOKUP(Egresados!$T$8:$T$705,Maestros!$S$31:$T$530,2,0))","v":"62"},{"$f":"IF(ISERROR(VLOOKUP(U539,Maestros!$S$31:$T$530,2,0)),\"\",VLOOKUP(U539,Maestros!$S$31:$T$530,2,0))","v":"62"},{"$f":"IF(ISERROR(VLOOKUP(Egresados!$K$8:$K$705,Maestros!$A$31:$B$130,2,0)),\"\",VLOOKUP(Egresados!$K$8:$K$705,Maestros!$A$31:$B$130,2,0))","v":""},{"$f":"IF(LEN(tablaEgresados[[#This Row],[Nota promedio]])>0,ROUND(tablaEgresados[[#This Row],[Nota promedio]],2),\"\")","v":14.98}]
[532,null,"DNI","74074408","HUAMANCAYO","BALTAZAR","SOLIMAR STEFANY","FEMENINO",null,"NO",null,null,null,"2020-1","SEDE CENTRAL","INGLES-FRANCES",14.92,null,null,"2015-1","2015-1","20150386@une.edu.pe","baltazarstephany1998@gmail.com",3133700,"943976359",{"$f":"IF(ISERROR(VLOOKUP(Egresados!$N$8:$N$705,Maestros!$D$31:$E$530,2,0)),\"\",VLOOKUP(Egresados!$N$8:$N$705,Maestros!$D$31:$E$530,2,0))","v":"223"},{"$f":"IF(ISERROR(VLOOKUP(Egresados!$O540,Maestros!$G$31:$J$1030,2,0)),\"\",VLOOKUP(Egresados!$O540,Maestros!$G$31:$J$1030,2,0))","v":"8"},{"$f":"CONCATENATE(Egresados!$Z$8:$Z$705,\"a\",Egresados!$AA$8:$AA$705)","v":"223a8"},{"$f":"IF(ISERROR(VLOOKUP(Egresados!$P540,Maestros!$L$31:$Q$1030,2,0)),\"\",VLOOKUP(Egresados!$P540,Maestros!$L$31:$Q$1030,2,0))","v":"324"},{"$f":"CONCATENATE(Egresados!$Z$8:$Z$705,\"a\",Egresados!$AA$8:$AA$705,\"a\",Egresados!$AC$8:$AC$705)","v":"223a8a324"},{"$f":"IF(ISERROR(VLOOKUP(Egresados!$C$8:$C$705,Maestros!$A$4:$B$21,2,0)),\"\",VLOOKUP(Egresados!$C$8:$C$705,Maestros!$A$4:$B$21,2,0))","v":"1001"},{"$f":"IF(ISERROR(VLOOKUP(Egresados!$H$8:$H$705,Maestros!$D$4:$E$21,2,0)),\"\",VLOOKUP(Egresados!$H$8:$H$705,Maestros!$D$4:$E$21,2,0))","v":"1122"},{"$f":"IF(OR(UPPER(Egresados!$J$8:$J$705)=\"SI\",UPPER(Egresados!$J$8:$J$705)=\"SÍ\"),1,IF(UPPER(Egresados!$J$8:$J$705)=\"NO\",0,\"\"))","v":0},{"$f":"IF(OR(UPPER(Egresados!$R$8:$R$705)=\"SI\",UPPER(Egresados!$R$8:$R$705)=\"SÍ\"),1,IF(UPPER(Egresados!$R$8:$R$705)=\"NO\",0,\"\"))","v":""},{"$f":"IF(OR(UPPER(Egresados!$S$8:$S$705)=\"SI\",UPPER(Egresados!$S$8:$S$705)=\"SÍ\"),1,IF(UPPER(Egresados!$S$8:$S$705)=\"NO\",0,\"\"))","v":""},{"$f":"IF(ISERROR(VLOOKUP(Egresados!$T$8:$T$705,Maestros!$S$31:$T$530,2,0)),\"\",VLOOKUP(Egresados!$T$8:$T$705,Maestros!$S$31:$T$530,2,0))","v":"62"},{"$f":"IF(ISERROR(VLOOKUP(U540,Maestros!$S$31:$T$530,2,0)),\"\",VLOOKUP(U540,Maestros!$S$31:$T$530,2,0))","v":"62"},{"$f":"IF(ISERROR(VLOOKUP(Egresados!$K$8:$K$705,Maestros!$A$31:$B$130,2,0)),\"\",VLOOKUP(Egresados!$K$8:$K$705,Maestros!$A$31:$B$130,2,0))","v":""},{"$f":"IF(LEN(tablaEgresados[[#This Row],[Nota promedio]])>0,ROUND(tablaEgresados[[#This Row],[Nota promedio]],2),\"\")","v":14.92}]
[533,null,"DNI","77223942","GASTELU","DIAZ","BRENDA PAOLA","FEMENINO",null,"NO",null,null,null,"2020-1","SEDE CENTRAL","INGLES-FRANCES",15.38,null,null,"2015-1","2015-1","20150385@une.edu.pe","pxolxx@gmail.com",3133700,"970570414",{"$f":"IF(ISERROR(VLOOKUP(Egresados!$N$8:$N$705,Maestros!$D$31:$E$530,2,0)),\"\",VLOOKUP(Egresados!$N$8:$N$705,Maestros!$D$31:$E$530,2,0))","v":"223"},{"$f":"IF(ISERROR(VLOOKUP(Egresados!$O541,Maestros!$G$31:$J$1030,2,0)),\"\",VLOOKUP(Egresados!$O541,Maestros!$G$31:$J$1030,2,0))","v":"8"},{"$f":"CONCATENATE(Egresados!$Z$8:$Z$705,\"a\",Egresados!$AA$8:$AA$705)","v":"223a8"},{"$f":"IF(ISERROR(VLOOKUP(Egresados!$P541,Maestros!$L$31:$Q$1030,2,0)),\"\",VLOOKUP(Egresados!$P541,Maestros!$L$31:$Q$1030,2,0))","v":"324"},{"$f":"CONCATENATE(Egresados!$Z$8:$Z$705,\"a\",Egresados!$AA$8:$AA$705,\"a\",Egresados!$AC$8:$AC$705)","v":"223a8a324"},{"$f":"IF(ISERROR(VLOOKUP(Egresados!$C$8:$C$705,Maestros!$A$4:$B$21,2,0)),\"\",VLOOKUP(Egresados!$C$8:$C$705,Maestros!$A$4:$B$21,2,0))","v":"1001"},{"$f":"IF(ISERROR(VLOOKUP(Egresados!$H$8:$H$705,Maestros!$D$4:$E$21,2,0)),\"\",VLOOKUP(Egresados!$H$8:$H$705,Maestros!$D$4:$E$21,2,0))","v":"1122"},{"$f":"IF(OR(UPPER(Egresados!$J$8:$J$705)=\"SI\",UPPER(Egresados!$J$8:$J$705)=\"SÍ\"),1,IF(UPPER(Egresados!$J$8:$J$705)=\"NO\",0,\"\"))","v":0},{"$f":"IF(OR(UPPER(Egresados!$R$8:$R$705)=\"SI\",UPPER(Egresados!$R$8:$R$705)=\"SÍ\"),1,IF(UPPER(Egresados!$R$8:$R$705)=\"NO\",0,\"\"))","v":""},{"$f":"IF(OR(UPPER(Egresados!$S$8:$S$705)=\"SI\",UPPER(Egresados!$S$8:$S$705)=\"SÍ\"),1,IF(UPPER(Egresados!$S$8:$S$705)=\"NO\",0,\"\"))","v":""},{"$f":"IF(ISERROR(VLOOKUP(Egresados!$T$8:$T$705,Maestros!$S$31:$T$530,2,0)),\"\",VLOOKUP(Egresados!$T$8:$T$705,Maestros!$S$31:$T$530,2,0))","v":"62"},{"$f":"IF(ISERROR(VLOOKUP(U541,Maestros!$S$31:$T$530,2,0)),\"\",VLOOKUP(U541,Maestros!$S$31:$T$530,2,0))","v":"62"},{"$f":"IF(ISERROR(VLOOKUP(Egresados!$K$8:$K$705,Maestros!$A$31:$B$130,2,0)),\"\",VLOOKUP(Egresados!$K$8:$K$705,Maestros!$A$31:$B$130,2,0))","v":""},{"$f":"IF(LEN(tablaEgresados[[#This Row],[Nota promedio]])>0,ROUND(tablaEgresados[[#This Row],[Nota promedio]],2),\"\")","v":15.38}]
[534,null,"DNI",10050672,"ANDIA","CRUZ","MARGARITA VICTORIA","FEMENINO",null,"NO",null,null,null,"2020-1","SEDE CENTRAL","INGLES-FRANCES",14.48,null,null,"2000-1","2000-1","20004339@une.edu.pe","20004339@une.edu.pe",3133700,976486001,{"$f":"IF(ISERROR(VLOOKUP(Egresados!$N$8:$N$705,Maestros!$D$31:$E$530,2,0)),\"\",VLOOKUP(Egresados!$N$8:$N$705,Maestros!$D$31:$E$530,2,0))","v":"223"},{"$f":"IF(ISERROR(VLOOKUP(Egresados!$O542,Maestros!$G$31:$J$1030,2,0)),\"\",VLOOKUP(Egresados!$O542,Maestros!$G$31:$J$1030,2,0))","v":"8"},{"$f":"CONCATENATE(Egresados!$Z$8:$Z$705,\"a\",Egresados!$AA$8:$AA$705)","v":"223a8"},{"$f":"IF(ISERROR(VLOOKUP(Egresados!$P542,Maestros!$L$31:$Q$1030,2,0)),\"\",VLOOKUP(Egresados!$P542,Maestros!$L$31:$Q$1030,2,0))","v":"324"},{"$f":"CONCATENATE(Egresados!$Z$8:$Z$705,\"a\",Egresados!$AA$8:$AA$705,\"a\",Egresados!$AC$8:$AC$705)","v":"223a8a324"},{"$f":"IF(ISERROR(VLOOKUP(Egresados!$C$8:$C$705,Maestros!$A$4:$B$21,2,0)),\"\",VLOOKUP(Egresados!$C$8:$C$705,Maestros!$A$4:$B$21,2,0))","v":"1001"},{"$f":"IF(ISERROR(VLOOKUP(Egresados!$H$8:$H$705,Maestros!$D$4:$E$21,2,0)),\"\",VLOOKUP(Egresados!$H$8:$H$705,Maestros!$D$4:$E$21,2,0))","v":"1122"},{"$f":"IF(OR(UPPER(Egresados!$J$8:$J$705)=\"SI\",UPPER(Egresados!$J$8:$J$705)=\"SÍ\"),1,IF(UPPER(Egresados!$J$8:$J$705)=\"NO\",0,\"\"))","v":0},{"$f":"IF(OR(UPPER(Egresados!$R$8:$R$705)=\"SI\",UPPER(Egresados!$R$8:$R$705)=\"SÍ\"),1,IF(UPPER(Egresados!$R$8:$R$705)=\"NO\",0,\"\"))","v":""},{"$f":"IF(OR(UPPER(Egresados!$S$8:$S$705)=\"SI\",UPPER(Egresados!$S$8:$S$705)=\"SÍ\"),1,IF(UPPER(Egresados!$S$8:$S$705)=\"NO\",0,\"\"))","v":""},{"$f":"IF(ISERROR(VLOOKUP(Egresados!$T$8:$T$705,Maestros!$S$31:$T$530,2,0)),\"\",VLOOKUP(Egresados!$T$8:$T$705,Maestros!$S$31:$T$530,2,0))","v":"2"},{"$f":"IF(ISERROR(VLOOKUP(U542,Maestros!$S$31:$T$530,2,0)),\"\",VLOOKUP(U542,Maestros!$S$31:$T$530,2,0))","v":"2"},{"$f":"IF(ISERROR(VLOOKUP(Egresados!$K$8:$K$705,Maestros!$A$31:$B$130,2,0)),\"\",VLOOKUP(Egresados!$K$8:$K$705,Maestros!$A$31:$B$130,2,0))","v":""},{"$f":"IF(LEN(tablaEgresados[[#This Row],[Nota promedio]])>0,ROUND(tablaEgresados[[#This Row],[Nota promedio]],2),\"\")","v":14.48}]
[535,null,"DNI","41360756","GAVILAN","GALINDO","JIMY ADOLFO","MASCULINO",null,"NO",null,null,null,"2020-1","SEDE CENTRAL","INGLES-ITALIANO",13.56,null,null,"2008-1","2008-1","20080424@une.edu.pe","five_one@hotmail.com",3133700,"949299166",{"$f":"IF(ISERROR(VLOOKUP(Egresados!$N$8:$N$705,Maestros!$D$31:$E$530,2,0)),\"\",VLOOKUP(Egresados!$N$8:$N$705,Maestros!$D$31:$E$530,2,0))","v":"223"},{"$f":"IF(ISERROR(VLOOKUP(Egresados!$O543,Maestros!$G$31:$J$1030,2,0)),\"\",VLOOKUP(Egresados!$O543,Maestros!$G$31:$J$1030,2,0))","v":"8"},{"$f":"CONCATENATE(Egresados!$Z$8:$Z$705,\"a\",Egresados!$AA$8:$AA$705)","v":"223a8"},{"$f":"IF(ISERROR(VLOOKUP(Egresados!$P543,Maestros!$L$31:$Q$1030,2,0)),\"\",VLOOKUP(Egresados!$P543,Maestros!$L$31:$Q$1030,2,0))","v":"325"},{"$f":"CONCATENATE(Egresados!$Z$8:$Z$705,\"a\",Egresados!$AA$8:$AA$705,\"a\",Egresados!$AC$8:$AC$705)","v":"223a8a325"},{"$f":"IF(ISERROR(VLOOKUP(Egresados!$C$8:$C$705,Maestros!$A$4:$B$21,2,0)),\"\",VLOOKUP(Egresados!$C$8:$C$705,Maestros!$A$4:$B$21,2,0))","v":"1001"},{"$f":"IF(ISERROR(VLOOKUP(Egresados!$H$8:$H$705,Maestros!$D$4:$E$21,2,0)),\"\",VLOOKUP(Egresados!$H$8:$H$705,Maestros!$D$4:$E$21,2,0))","v":"1121"},{"$f":"IF(OR(UPPER(Egresados!$J$8:$J$705)=\"SI\",UPPER(Egresados!$J$8:$J$705)=\"SÍ\"),1,IF(UPPER(Egresados!$J$8:$J$705)=\"NO\",0,\"\"))","v":0},{"$f":"IF(OR(UPPER(Egresados!$R$8:$R$705)=\"SI\",UPPER(Egresados!$R$8:$R$705)=\"SÍ\"),1,IF(UPPER(Egresados!$R$8:$R$705)=\"NO\",0,\"\"))","v":""},{"$f":"IF(OR(UPPER(Egresados!$S$8:$S$705)=\"SI\",UPPER(Egresados!$S$8:$S$705)=\"SÍ\"),1,IF(UPPER(Egresados!$S$8:$S$705)=\"NO\",0,\"\"))","v":""},{"$f":"IF(ISERROR(VLOOKUP(Egresados!$T$8:$T$705,Maestros!$S$31:$T$530,2,0)),\"\",VLOOKUP(Egresados!$T$8:$T$705,Maestros!$S$31:$T$530,2,0))","v":"34"},{"$f":"IF(ISERROR(VLOOKUP(U543,Maestros!$S$31:$T$530,2,0)),\"\",VLOOKUP(U543,Maestros!$S$31:$T$530,2,0))","v":"34"},{"$f":"IF(ISERROR(VLOOKUP(Egresados!$K$8:$K$705,Maestros!$A$31:$B$130,2,0)),\"\",VLOOKUP(Egresados!$K$8:$K$705,Maestros!$A$31:$B$130,2,0))","v":""},{"$f":"IF(LEN(tablaEgresados[[#This Row],[Nota promedio]])>0,ROUND(tablaEgresados[[#This Row],[Nota promedio]],2),\"\")","v":13.56}]
[536,null,"DNI","47008639","DIAZ","RUEDA","NATALYN ELENA","FEMENINO",null,"NO",null,null,null,"2020-1","SEDE CENTRAL","INGLES-ITALIANO",16.13,null,null,"2015-1","2015-1","20150378@une.edu.pe","natie_1415@hotmail.com",3133700,"940747714",{"$f":"IF(ISERROR(VLOOKUP(Egresados!$N$8:$N$705,Maestros!$D$31:$E$530,2,0)),\"\",VLOOKUP(Egresados!$N$8:$N$705,Maestros!$D$31:$E$530,2,0))","v":"223"},{"$f":"IF(ISERROR(VLOOKUP(Egresados!$O544,Maestros!$G$31:$J$1030,2,0)),\"\",VLOOKUP(Egresados!$O544,Maestros!$G$31:$J$1030,2,0))","v":"8"},{"$f":"CONCATENATE(Egresados!$Z$8:$Z$705,\"a\",Egresados!$AA$8:$AA$705)","v":"223a8"},{"$f":"IF(ISERROR(VLOOKUP(Egresados!$P544,Maestros!$L$31:$Q$1030,2,0)),\"\",VLOOKUP(Egresados!$P544,Maestros!$L$31:$Q$1030,2,0))","v":"325"},{"$f":"CONCATENATE(Egresados!$Z$8:$Z$705,\"a\",Egresados!$AA$8:$AA$705,\"a\",Egresados!$AC$8:$AC$705)","v":"223a8a325"},{"$f":"IF(ISERROR(VLOOKUP(Egresados!$C$8:$C$705,Maestros!$A$4:$B$21,2,0)),\"\",VLOOKUP(Egresados!$C$8:$C$705,Maestros!$A$4:$B$21,2,0))","v":"1001"},{"$f":"IF(ISERROR(VLOOKUP(Egresados!$H$8:$H$705,Maestros!$D$4:$E$21,2,0)),\"\",VLOOKUP(Egresados!$H$8:$H$705,Maestros!$D$4:$E$21,2,0))","v":"1122"},{"$f":"IF(OR(UPPER(Egresados!$J$8:$J$705)=\"SI\",UPPER(Egresados!$J$8:$J$705)=\"SÍ\"),1,IF(UPPER(Egresados!$J$8:$J$705)=\"NO\",0,\"\"))","v":0},{"$f":"IF(OR(UPPER(Egresados!$R$8:$R$705)=\"SI\",UPPER(Egresados!$R$8:$R$705)=\"SÍ\"),1,IF(UPPER(Egresados!$R$8:$R$705)=\"NO\",0,\"\"))","v":""},{"$f":"IF(OR(UPPER(Egresados!$S$8:$S$705)=\"SI\",UPPER(Egresados!$S$8:$S$705)=\"SÍ\"),1,IF(UPPER(Egresados!$S$8:$S$705)=\"NO\",0,\"\"))","v":""},{"$f":"IF(ISERROR(VLOOKUP(Egresados!$T$8:$T$705,Maestros!$S$31:$T$530,2,0)),\"\",VLOOKUP(Egresados!$T$8:$T$705,Maestros!$S$31:$T$530,2,0))","v":"62"},{"$f":"IF(ISERROR(VLOOKUP(U544,Maestros!$S$31:$T$530,2,0)),\"\",VLOOKUP(U544,Maestros!$S$31:$T$530,2,0))","v":"62"},{"$f":"IF(ISERROR(VLOOKUP(Egresados!$K$8:$K$705,Maestros!$A$31:$B$130,2,0)),\"\",VLOOKUP(Egresados!$K$8:$K$705,Maestros!$A$31:$B$130,2,0))","v":""},{"$f":"IF(LEN(tablaEgresados[[#This Row],[Nota promedio]])>0,ROUND(tablaEgresados[[#This Row],[Nota promedio]],2),\"\")","v":16.13}]
[537,null,"DNI","76278844","NOLASCO","ZARATE","MARILYN","FEMENINO",null,"NO",null,null,null,"2020-1","SEDE CENTRAL","INGLES-ITALIANO",16.8,null,null,"2015-1","2015-1","20150405@une.edu.pe","marilyn_826lyn@hotmail.com",3133700,"980860556",{"$f":"IF(ISERROR(VLOOKUP(Egresados!$N$8:$N$705,Maestros!$D$31:$E$530,2,0)),\"\",VLOOKUP(Egresados!$N$8:$N$705,Maestros!$D$31:$E$530,2,0))","v":"223"},{"$f":"IF(ISERROR(VLOOKUP(Egresados!$O545,Maestros!$G$31:$J$1030,2,0)),\"\",VLOOKUP(Egresados!$O545,Maestros!$G$31:$J$1030,2,0))","v":"8"},{"$f":"CONCATENATE(Egresados!$Z$8:$Z$705,\"a\",Egresados!$AA$8:$AA$705)","v":"223a8"},{"$f":"IF(ISERROR(VLOOKUP(Egresados!$P545,Maestros!$L$31:$Q$1030,2,0)),\"\",VLOOKUP(Egresados!$P545,Maestros!$L$31:$Q$1030,2,0))","v":"325"},{"$f":"CONCATENATE(Egresados!$Z$8:$Z$705,\"a\",Egresados!$AA$8:$AA$705,\"a\",Egresados!$AC$8:$AC$705)","v":"223a8a325"},{"$f":"IF(ISERROR(VLOOKUP(Egresados!$C$8:$C$705,Maestros!$A$4:$B$21,2,0)),\"\",VLOOKUP(Egresados!$C$8:$C$705,Maestros!$A$4:$B$21,2,0))","v":"1001"},{"$f":"IF(ISERROR(VLOOKUP(Egresados!$H$8:$H$705,Maestros!$D$4:$E$21,2,0)),\"\",VLOOKUP(Egresados!$H$8:$H$705,Maestros!$D$4:$E$21,2,0))","v":"1122"},{"$f":"IF(OR(UPPER(Egresados!$J$8:$J$705)=\"SI\",UPPER(Egresados!$J$8:$J$705)=\"SÍ\"),1,IF(UPPER(Egresados!$J$8:$J$705)=\"NO\",0,\"\"))","v":0},{"$f":"IF(OR(UPPER(Egresados!$R$8:$R$705)=\"SI\",UPPER(Egresados!$R$8:$R$705)=\"SÍ\"),1,IF(UPPER(Egresados!$R$8:$R$705)=\"NO\",0,\"\"))","v":""},{"$f":"IF(OR(UPPER(Egresados!$S$8:$S$705)=\"SI\",UPPER(Egresados!$S$8:$S$705)=\"SÍ\"),1,IF(UPPER(Egresados!$S$8:$S$705)=\"NO\",0,\"\"))","v":""},{"$f":"IF(ISERROR(VLOOKUP(Egresados!$T$8:$T$705,Maestros!$S$31:$T$530,2,0)),\"\",VLOOKUP(Egresados!$T$8:$T$705,Maestros!$S$31:$T$530,2,0))","v":"62"},{"$f":"IF(ISERROR(VLOOKUP(U545,Maestros!$S$31:$T$530,2,0)),\"\",VLOOKUP(U545,Maestros!$S$31:$T$530,2,0))","v":"62"},{"$f":"IF(ISERROR(VLOOKUP(Egresados!$K$8:$K$705,Maestros!$A$31:$B$130,2,0)),\"\",VLOOKUP(Egresados!$K$8:$K$705,Maestros!$A$31:$B$130,2,0))","v":""},{"$f":"IF(LEN(tablaEgresados[[#This Row],[Nota promedio]])>0,ROUND(tablaEgresados[[#This Row],[Nota promedio]],2),\"\")","v":16.8}]
[538,null,"DNI","74988866","VASQUEZ","FACIO","KATHERINE MARIA","FEMENINO",null,"NO",null,null,null,"2020-1","SEDE CENTRAL","INGLES-ITALIANO",16.41,null,null,"2015-1","2015-1","20150428@une.edu.pe","katherinevasquezfacio@gmail.com",3133700,"982511492",{"$f":"IF(ISERROR(VLOOKUP(Egresados!$N$8:$N$705,Maestros!$D$31:$E$530,2,0)),\"\",VLOOKUP(Egresados!$N$8:$N$705,Maestros!$D$31:$E$530,2,0))","v":"223"},{"$f":"IF(ISERROR(VLOOKUP(Egresados!$O546,Maestros!$G$31:$J$1030,2,0)),\"\",VLOOKUP(Egresados!$O546,Maestros!$G$31:$J$1030,2,0))","v":"8"},{"$f":"CONCATENATE(Egresados!$Z$8:$Z$705,\"a\",Egresados!$AA$8:$AA$705)","v":"223a8"},{"$f":"IF(ISERROR(VLOOKUP(Egresados!$P546,Maestros!$L$31:$Q$1030,2,0)),\"\",VLOOKUP(Egresados!$P546,Maestros!$L$31:$Q$1030,2,0))","v":"325"},{"$f":"CONCATENATE(Egresados!$Z$8:$Z$705,\"a\",Egresados!$AA$8:$AA$705,\"a\",Egresados!$AC$8:$AC$705)","v":"223a8a325"},{"$f":"IF(ISERROR(VLOOKUP(Egresados!$C$8:$C$705,Maestros!$A$4:$B$21,2,0)),\"\",VLOOKUP(Egresados!$C$8:$C$705,Maestros!$A$4:$B$21,2,0))","v":"1001"},{"$f":"IF(ISERROR(VLOOKUP(Egresados!$H$8:$H$705,Maestros!$D$4:$E$21,2,0)),\"\",VLOOKUP(Egresados!$H$8:$H$705,Maestros!$D$4:$E$21,2,0))","v":"1122"},{"$f":"IF(OR(UPPER(Egresados!$J$8:$J$705)=\"SI\",UPPER(Egresados!$J$8:$J$705)=\"SÍ\"),1,IF(UPPER(Egresados!$J$8:$J$705)=\"NO\",0,\"\"))","v":0},{"$f":"IF(OR(UPPER(Egresados!$R$8:$R$705)=\"SI\",UPPER(Egresados!$R$8:$R$705)=\"SÍ\"),1,IF(UPPER(Egresados!$R$8:$R$705)=\"NO\",0,\"\"))","v":""},{"$f":"IF(OR(UPPER(Egresados!$S$8:$S$705)=\"SI\",UPPER(Egresados!$S$8:$S$705)=\"SÍ\"),1,IF(UPPER(Egresados!$S$8:$S$705)=\"NO\",0,\"\"))","v":""},{"$f":"IF(ISERROR(VLOOKUP(Egresados!$T$8:$T$705,Maestros!$S$31:$T$530,2,0)),\"\",VLOOKUP(Egresados!$T$8:$T$705,Maestros!$S$31:$T$530,2,0))","v":"62"},{"$f":"IF(ISERROR(VLOOKUP(U546,Maestros!$S$31:$T$530,2,0)),\"\",VLOOKUP(U546,Maestros!$S$31:$T$530,2,0))","v":"62"},{"$f":"IF(ISERROR(VLOOKUP(Egresados!$K$8:$K$705,Maestros!$A$31:$B$130,2,0)),\"\",VLOOKUP(Egresados!$K$8:$K$705,Maestros!$A$31:$B$130,2,0))","v":""},{"$f":"IF(LEN(tablaEgresados[[#This Row],[Nota promedio]])>0,ROUND(tablaEgresados[[#This Row],[Nota promedio]],2),\"\")","v":16.41}]
[539,null,"DNI","45568364","TORRE","HINOJOSA","LILIANA","FEMENINO",null,"NO",null,null,null,"2020-1","SEDE CENTRAL","LENGUA ESPAÑOLA-INGLES",14.07,null,null,"2011-1","2011-1","20110424@une.edu.pe","Hugo_05_@hotmail.com",3133700,"950407132",{"$f":"IF(ISERROR(VLOOKUP(Egresados!$N$8:$N$705,Maestros!$D$31:$E$530,2,0)),\"\",VLOOKUP(Egresados!$N$8:$N$705,Maestros!$D$31:$E$530,2,0))","v":"223"},{"$f":"IF(ISERROR(VLOOKUP(Egresados!$O547,Maestros!$G$31:$J$1030,2,0)),\"\",VLOOKUP(Egresados!$O547,Maestros!$G$31:$J$1030,2,0))","v":"8"},{"$f":"CONCATENATE(Egresados!$Z$8:$Z$705,\"a\",Egresados!$AA$8:$AA$705)","v":"223a8"},{"$f":"IF(ISERROR(VLOOKUP(Egresados!$P547,Maestros!$L$31:$Q$1030,2,0)),\"\",VLOOKUP(Egresados!$P547,Maestros!$L$31:$Q$1030,2,0))","v":"334"},{"$f":"CONCATENATE(Egresados!$Z$8:$Z$705,\"a\",Egresados!$AA$8:$AA$705,\"a\",Egresados!$AC$8:$AC$705)","v":"223a8a334"},{"$f":"IF(ISERROR(VLOOKUP(Egresados!$C$8:$C$705,Maestros!$A$4:$B$21,2,0)),\"\",VLOOKUP(Egresados!$C$8:$C$705,Maestros!$A$4:$B$21,2,0))","v":"1001"},{"$f":"IF(ISERROR(VLOOKUP(Egresados!$H$8:$H$705,Maestros!$D$4:$E$21,2,0)),\"\",VLOOKUP(Egresados!$H$8:$H$705,Maestros!$D$4:$E$21,2,0))","v":"1122"},{"$f":"IF(OR(UPPER(Egresados!$J$8:$J$705)=\"SI\",UPPER(Egresados!$J$8:$J$705)=\"SÍ\"),1,IF(UPPER(Egresados!$J$8:$J$705)=\"NO\",0,\"\"))","v":0},{"$f":"IF(OR(UPPER(Egresados!$R$8:$R$705)=\"SI\",UPPER(Egresados!$R$8:$R$705)=\"SÍ\"),1,IF(UPPER(Egresados!$R$8:$R$705)=\"NO\",0,\"\"))","v":""},{"$f":"IF(OR(UPPER(Egresados!$S$8:$S$705)=\"SI\",UPPER(Egresados!$S$8:$S$705)=\"SÍ\"),1,IF(UPPER(Egresados!$S$8:$S$705)=\"NO\",0,\"\"))","v":""},{"$f":"IF(ISERROR(VLOOKUP(Egresados!$T$8:$T$705,Maestros!$S$31:$T$530,2,0)),\"\",VLOOKUP(Egresados!$T$8:$T$705,Maestros!$S$31:$T$530,2,0))","v":"46"},{"$f":"IF(ISERROR(VLOOKUP(U547,Maestros!$S$31:$T$530,2,0)),\"\",VLOOKUP(U547,Maestros!$S$31:$T$530,2,0))","v":"46"},{"$f":"IF(ISERROR(VLOOKUP(Egresados!$K$8:$K$705,Maestros!$A$31:$B$130,2,0)),\"\",VLOOKUP(Egresados!$K$8:$K$705,Maestros!$A$31:$B$130,2,0))","v":""},{"$f":"IF(LEN(tablaEgresados[[#This Row],[Nota promedio]])>0,ROUND(tablaEgresados[[#This Row],[Nota promedio]],2),\"\")","v":14.07}]
[540,null,"DNI","73814904","PILCO","ESCALANTE","JUAN DANIEL","MASCULINO",null,"NO",null,null,null,"2020-1","SEDE CENTRAL","LENGUA ESPAÑOLA-INGLES",14.79,null,null,"2014-1","2014-1","20140542@une.edu.pe","juandanielpilco@gmail.com",3133700,976486001,{"$f":"IF(ISERROR(VLOOKUP(Egresados!$N$8:$N$705,Maestros!$D$31:$E$530,2,0)),\"\",VLOOKUP(Egresados!$N$8:$N$705,Maestros!$D$31:$E$530,2,0))","v":"223"},{"$f":"IF(ISERROR(VLOOKUP(Egresados!$O548,Maestros!$G$31:$J$1030,2,0)),\"\",VLOOKUP(Egresados!$O548,Maestros!$G$31:$J$1030,2,0))","v":"8"},{"$f":"CONCATENATE(Egresados!$Z$8:$Z$705,\"a\",Egresados!$AA$8:$AA$705)","v":"223a8"},{"$f":"IF(ISERROR(VLOOKUP(Egresados!$P548,Maestros!$L$31:$Q$1030,2,0)),\"\",VLOOKUP(Egresados!$P548,Maestros!$L$31:$Q$1030,2,0))","v":"334"},{"$f":"CONCATENATE(Egresados!$Z$8:$Z$705,\"a\",Egresados!$AA$8:$AA$705,\"a\",Egresados!$AC$8:$AC$705)","v":"223a8a334"},{"$f":"IF(ISERROR(VLOOKUP(Egresados!$C$8:$C$705,Maestros!$A$4:$B$21,2,0)),\"\",VLOOKUP(Egresados!$C$8:$C$705,Maestros!$A$4:$B$21,2,0))","v":"1001"},{"$f":"IF(ISERROR(VLOOKUP(Egresados!$H$8:$H$705,Maestros!$D$4:$E$21,2,0)),\"\",VLOOKUP(Egresados!$H$8:$H$705,Maestros!$D$4:$E$21,2,0))","v":"1121"},{"$f":"IF(OR(UPPER(Egresados!$J$8:$J$705)=\"SI\",UPPER(Egresados!$J$8:$J$705)=\"SÍ\"),1,IF(UPPER(Egresados!$J$8:$J$705)=\"NO\",0,\"\"))","v":0},{"$f":"IF(OR(UPPER(Egresados!$R$8:$R$705)=\"SI\",UPPER(Egresados!$R$8:$R$705)=\"SÍ\"),1,IF(UPPER(Egresados!$R$8:$R$705)=\"NO\",0,\"\"))","v":""},{"$f":"IF(OR(UPPER(Egresados!$S$8:$S$705)=\"SI\",UPPER(Egresados!$S$8:$S$705)=\"SÍ\"),1,IF(UPPER(Egresados!$S$8:$S$705)=\"NO\",0,\"\"))","v":""},{"$f":"IF(ISERROR(VLOOKUP(Egresados!$T$8:$T$705,Maestros!$S$31:$T$530,2,0)),\"\",VLOOKUP(Egresados!$T$8:$T$705,Maestros!$S$31:$T$530,2,0))","v":"58"},{"$f":"IF(ISERROR(VLOOKUP(U548,Maestros!$S$31:$T$530,2,0)),\"\",VLOOKUP(U548,Maestros!$S$31:$T$530,2,0))","v":"58"},{"$f":"IF(ISERROR(VLOOKUP(Egresados!$K$8:$K$705,Maestros!$A$31:$B$130,2,0)),\"\",VLOOKUP(Egresados!$K$8:$K$705,Maestros!$A$31:$B$130,2,0))","v":""},{"$f":"IF(LEN(tablaEgresados[[#This Row],[Nota promedio]])>0,ROUND(tablaEgresados[[#This Row],[Nota promedio]],2),\"\")","v":14.79}]
[541,null,"DNI","47098362","CHOCCA","MORENO","CYNTHIA","FEMENINO",null,"NO",null,null,null,"2020-1","SEDE CENTRAL","LENGUA ESPAÑOLA-INGLES",14.76,null,null,"2015-1","2015-1","20150640@une.edu.pe","cynthia.cmoreno@hotmail.com",3133700,"955763310",{"$f":"IF(ISERROR(VLOOKUP(Egresados!$N$8:$N$705,Maestros!$D$31:$E$530,2,0)),\"\",VLOOKUP(Egresados!$N$8:$N$705,Maestros!$D$31:$E$530,2,0))","v":"223"},{"$f":"IF(ISERROR(VLOOKUP(Egresados!$O549,Maestros!$G$31:$J$1030,2,0)),\"\",VLOOKUP(Egresados!$O549,Maestros!$G$31:$J$1030,2,0))","v":"8"},{"$f":"CONCATENATE(Egresados!$Z$8:$Z$705,\"a\",Egresados!$AA$8:$AA$705)","v":"223a8"},{"$f":"IF(ISERROR(VLOOKUP(Egresados!$P549,Maestros!$L$31:$Q$1030,2,0)),\"\",VLOOKUP(Egresados!$P549,Maestros!$L$31:$Q$1030,2,0))","v":"334"},{"$f":"CONCATENATE(Egresados!$Z$8:$Z$705,\"a\",Egresados!$AA$8:$AA$705,\"a\",Egresados!$AC$8:$AC$705)","v":"223a8a334"},{"$f":"IF(ISERROR(VLOOKUP(Egresados!$C$8:$C$705,Maestros!$A$4:$B$21,2,0)),\"\",VLOOKUP(Egresados!$C$8:$C$705,Maestros!$A$4:$B$21,2,0))","v":"1001"},{"$f":"IF(ISERROR(VLOOKUP(Egresados!$H$8:$H$705,Maestros!$D$4:$E$21,2,0)),\"\",VLOOKUP(Egresados!$H$8:$H$705,Maestros!$D$4:$E$21,2,0))","v":"1122"},{"$f":"IF(OR(UPPER(Egresados!$J$8:$J$705)=\"SI\",UPPER(Egresados!$J$8:$J$705)=\"SÍ\"),1,IF(UPPER(Egresados!$J$8:$J$705)=\"NO\",0,\"\"))","v":0},{"$f":"IF(OR(UPPER(Egresados!$R$8:$R$705)=\"SI\",UPPER(Egresados!$R$8:$R$705)=\"SÍ\"),1,IF(UPPER(Egresados!$R$8:$R$705)=\"NO\",0,\"\"))","v":""},{"$f":"IF(OR(UPPER(Egresados!$S$8:$S$705)=\"SI\",UPPER(Egresados!$S$8:$S$705)=\"SÍ\"),1,IF(UPPER(Egresados!$S$8:$S$705)=\"NO\",0,\"\"))","v":""},{"$f":"IF(ISERROR(VLOOKUP(Egresados!$T$8:$T$705,Maestros!$S$31:$T$530,2,0)),\"\",VLOOKUP(Egresados!$T$8:$T$705,Maestros!$S$31:$T$530,2,0))","v":"62"},{"$f":"IF(ISERROR(VLOOKUP(U549,Maestros!$S$31:$T$530,2,0)),\"\",VLOOKUP(U549,Maestros!$S$31:$T$530,2,0))","v":"62"},{"$f":"IF(ISERROR(VLOOKUP(Egresados!$K$8:$K$705,Maestros!$A$31:$B$130,2,0)),\"\",VLOOKUP(Egresados!$K$8:$K$705,Maestros!$A$31:$B$130,2,0))","v":""},{"$f":"IF(LEN(tablaEgresados[[#This Row],[Nota promedio]])>0,ROUND(tablaEgresados[[#This Row],[Nota promedio]],2),\"\")","v":14.76}]
[542,null,"DNI","46082885","ORTEGA","ROQUE","ROSARIO KELLY","FEMENINO",null,"NO",null,null,null,"2020-1","SEDE CENTRAL","LENGUA ESPAÑOLA-INGLES",14.59,null,null,"2007-1","2007-1","20071195@une.edu.pe","Kelly8908_2616@hotmail.com",3133700,"952133228",{"$f":"IF(ISERROR(VLOOKUP(Egresados!$N$8:$N$705,Maestros!$D$31:$E$530,2,0)),\"\",VLOOKUP(Egresados!$N$8:$N$705,Maestros!$D$31:$E$530,2,0))","v":"223"},{"$f":"IF(ISERROR(VLOOKUP(Egresados!$O550,Maestros!$G$31:$J$1030,2,0)),\"\",VLOOKUP(Egresados!$O550,Maestros!$G$31:$J$1030,2,0))","v":"8"},{"$f":"CONCATENATE(Egresados!$Z$8:$Z$705,\"a\",Egresados!$AA$8:$AA$705)","v":"223a8"},{"$f":"IF(ISERROR(VLOOKUP(Egresados!$P550,Maestros!$L$31:$Q$1030,2,0)),\"\",VLOOKUP(Egresados!$P550,Maestros!$L$31:$Q$1030,2,0))","v":"334"},{"$f":"CONCATENATE(Egresados!$Z$8:$Z$705,\"a\",Egresados!$AA$8:$AA$705,\"a\",Egresados!$AC$8:$AC$705)","v":"223a8a334"},{"$f":"IF(ISERROR(VLOOKUP(Egresados!$C$8:$C$705,Maestros!$A$4:$B$21,2,0)),\"\",VLOOKUP(Egresados!$C$8:$C$705,Maestros!$A$4:$B$21,2,0))","v":"1001"},{"$f":"IF(ISERROR(VLOOKUP(Egresados!$H$8:$H$705,Maestros!$D$4:$E$21,2,0)),\"\",VLOOKUP(Egresados!$H$8:$H$705,Maestros!$D$4:$E$21,2,0))","v":"1122"},{"$f":"IF(OR(UPPER(Egresados!$J$8:$J$705)=\"SI\",UPPER(Egresados!$J$8:$J$705)=\"SÍ\"),1,IF(UPPER(Egresados!$J$8:$J$705)=\"NO\",0,\"\"))","v":0},{"$f":"IF(OR(UPPER(Egresados!$R$8:$R$705)=\"SI\",UPPER(Egresados!$R$8:$R$705)=\"SÍ\"),1,IF(UPPER(Egresados!$R$8:$R$705)=\"NO\",0,\"\"))","v":""},{"$f":"IF(OR(UPPER(Egresados!$S$8:$S$705)=\"SI\",UPPER(Egresados!$S$8:$S$705)=\"SÍ\"),1,IF(UPPER(Egresados!$S$8:$S$705)=\"NO\",0,\"\"))","v":""},{"$f":"IF(ISERROR(VLOOKUP(Egresados!$T$8:$T$705,Maestros!$S$31:$T$530,2,0)),\"\",VLOOKUP(Egresados!$T$8:$T$705,Maestros!$S$31:$T$530,2,0))","v":"30"},{"$f":"IF(ISERROR(VLOOKUP(U550,Maestros!$S$31:$T$530,2,0)),\"\",VLOOKUP(U550,Maestros!$S$31:$T$530,2,0))","v":"30"},{"$f":"IF(ISERROR(VLOOKUP(Egresados!$K$8:$K$705,Maestros!$A$31:$B$130,2,0)),\"\",VLOOKUP(Egresados!$K$8:$K$705,Maestros!$A$31:$B$130,2,0))","v":""},{"$f":"IF(LEN(tablaEgresados[[#This Row],[Nota promedio]])>0,ROUND(tablaEgresados[[#This Row],[Nota promedio]],2),\"\")","v":14.59}]
[543,null,"DNI","47811338","PONCE DE LEON","CUSIHUALLPA","CASIANA","FEMENINO",null,"NO",null,null,null,"2020-1","SEDE CENTRAL","LENGUA ESPAÑOLA-INGLES",16.420000000000002,null,null,"2015-1","2015-1","20150655@une.edu.pe","casiapdlc_93_24@hotmail.com",3133700,"941305700",{"$f":"IF(ISERROR(VLOOKUP(Egresados!$N$8:$N$705,Maestros!$D$31:$E$530,2,0)),\"\",VLOOKUP(Egresados!$N$8:$N$705,Maestros!$D$31:$E$530,2,0))","v":"223"},{"$f":"IF(ISERROR(VLOOKUP(Egresados!$O551,Maestros!$G$31:$J$1030,2,0)),\"\",VLOOKUP(Egresados!$O551,Maestros!$G$31:$J$1030,2,0))","v":"8"},{"$f":"CONCATENATE(Egresados!$Z$8:$Z$705,\"a\",Egresados!$AA$8:$AA$705)","v":"223a8"},{"$f":"IF(ISERROR(VLOOKUP(Egresados!$P551,Maestros!$L$31:$Q$1030,2,0)),\"\",VLOOKUP(Egresados!$P551,Maestros!$L$31:$Q$1030,2,0))","v":"334"},{"$f":"CONCATENATE(Egresados!$Z$8:$Z$705,\"a\",Egresados!$AA$8:$AA$705,\"a\",Egresados!$AC$8:$AC$705)","v":"223a8a334"},{"$f":"IF(ISERROR(VLOOKUP(Egresados!$C$8:$C$705,Maestros!$A$4:$B$21,2,0)),\"\",VLOOKUP(Egresados!$C$8:$C$705,Maestros!$A$4:$B$21,2,0))","v":"1001"},{"$f":"IF(ISERROR(VLOOKUP(Egresados!$H$8:$H$705,Maestros!$D$4:$E$21,2,0)),\"\",VLOOKUP(Egresados!$H$8:$H$705,Maestros!$D$4:$E$21,2,0))","v":"1122"},{"$f":"IF(OR(UPPER(Egresados!$J$8:$J$705)=\"SI\",UPPER(Egresados!$J$8:$J$705)=\"SÍ\"),1,IF(UPPER(Egresados!$J$8:$J$705)=\"NO\",0,\"\"))","v":0},{"$f":"IF(OR(UPPER(Egresados!$R$8:$R$705)=\"SI\",UPPER(Egresados!$R$8:$R$705)=\"SÍ\"),1,IF(UPPER(Egresados!$R$8:$R$705)=\"NO\",0,\"\"))","v":""},{"$f":"IF(OR(UPPER(Egresados!$S$8:$S$705)=\"SI\",UPPER(Egresados!$S$8:$S$705)=\"SÍ\"),1,IF(UPPER(Egresados!$S$8:$S$705)=\"NO\",0,\"\"))","v":""},{"$f":"IF(ISERROR(VLOOKUP(Egresados!$T$8:$T$705,Maestros!$S$31:$T$530,2,0)),\"\",VLOOKUP(Egresados!$T$8:$T$705,Maestros!$S$31:$T$530,2,0))","v":"62"},{"$f":"IF(ISERROR(VLOOKUP(U551,Maestros!$S$31:$T$530,2,0)),\"\",VLOOKUP(U551,Maestros!$S$31:$T$530,2,0))","v":"62"},{"$f":"IF(ISERROR(VLOOKUP(Egresados!$K$8:$K$705,Maestros!$A$31:$B$130,2,0)),\"\",VLOOKUP(Egresados!$K$8:$K$705,Maestros!$A$31:$B$130,2,0))","v":""},{"$f":"IF(LEN(tablaEgresados[[#This Row],[Nota promedio]])>0,ROUND(tablaEgresados[[#This Row],[Nota promedio]],2),\"\")","v":16.420000000000002}]
[544,null,"DNI","08690440","ORTIZ","MINAYA","LUZ ROSARIO","FEMENINO",null,"NO",null,null,null,"2020-1","SEDE CENTRAL","LENGUA ESPAÑOLA-INGLES",12.94,null,null,"1982-1","1982-1","19823200@une.edu.pe","19823200@une.edu.pe",3133700,976486001,{"$f":"IF(ISERROR(VLOOKUP(Egresados!$N$8:$N$705,Maestros!$D$31:$E$530,2,0)),\"\",VLOOKUP(Egresados!$N$8:$N$705,Maestros!$D$31:$E$530,2,0))","v":"223"},{"$f":"IF(ISERROR(VLOOKUP(Egresados!$O552,Maestros!$G$31:$J$1030,2,0)),\"\",VLOOKUP(Egresados!$O552,Maestros!$G$31:$J$1030,2,0))","v":"8"},{"$f":"CONCATENATE(Egresados!$Z$8:$Z$705,\"a\",Egresados!$AA$8:$AA$705)","v":"223a8"},{"$f":"IF(ISERROR(VLOOKUP(Egresados!$P552,Maestros!$L$31:$Q$1030,2,0)),\"\",VLOOKUP(Egresados!$P552,Maestros!$L$31:$Q$1030,2,0))","v":"334"},{"$f":"CONCATENATE(Egresados!$Z$8:$Z$705,\"a\",Egresados!$AA$8:$AA$705,\"a\",Egresados!$AC$8:$AC$705)","v":"223a8a334"},{"$f":"IF(ISERROR(VLOOKUP(Egresados!$C$8:$C$705,Maestros!$A$4:$B$21,2,0)),\"\",VLOOKUP(Egresados!$C$8:$C$705,Maestros!$A$4:$B$21,2,0))","v":"1001"},{"$f":"IF(ISERROR(VLOOKUP(Egresados!$H$8:$H$705,Maestros!$D$4:$E$21,2,0)),\"\",VLOOKUP(Egresados!$H$8:$H$705,Maestros!$D$4:$E$21,2,0))","v":"1122"},{"$f":"IF(OR(UPPER(Egresados!$J$8:$J$705)=\"SI\",UPPER(Egresados!$J$8:$J$705)=\"SÍ\"),1,IF(UPPER(Egresados!$J$8:$J$705)=\"NO\",0,\"\"))","v":0},{"$f":"IF(OR(UPPER(Egresados!$R$8:$R$705)=\"SI\",UPPER(Egresados!$R$8:$R$705)=\"SÍ\"),1,IF(UPPER(Egresados!$R$8:$R$705)=\"NO\",0,\"\"))","v":""},{"$f":"IF(OR(UPPER(Egresados!$S$8:$S$705)=\"SI\",UPPER(Egresados!$S$8:$S$705)=\"SÍ\"),1,IF(UPPER(Egresados!$S$8:$S$705)=\"NO\",0,\"\"))","v":""},{"$f":"IF(ISERROR(VLOOKUP(Egresados!$T$8:$T$705,Maestros!$S$31:$T$530,2,0)),\"\",VLOOKUP(Egresados!$T$8:$T$705,Maestros!$S$31:$T$530,2,0))","v":"109"},{"$f":"IF(ISERROR(VLOOKUP(U552,Maestros!$S$31:$T$530,2,0)),\"\",VLOOKUP(U552,Maestros!$S$31:$T$530,2,0))","v":"109"},{"$f":"IF(ISERROR(VLOOKUP(Egresados!$K$8:$K$705,Maestros!$A$31:$B$130,2,0)),\"\",VLOOKUP(Egresados!$K$8:$K$705,Maestros!$A$31:$B$130,2,0))","v":""},{"$f":"IF(LEN(tablaEgresados[[#This Row],[Nota promedio]])>0,ROUND(tablaEgresados[[#This Row],[Nota promedio]],2),\"\")","v":12.94}]
[545,null,"DNI","73520431","NUÑEZ","NALVARTE","OLIVER HENRY","MASCULINO",null,"NO",null,null,null,"2020-1","SEDE CENTRAL","LENGUA ESPAÑOLA-LITERATURA",15.03,null,null,"2014-1","2014-1","20140536@une.edu.pe","tu-papi-20-olversitho@hotmail.com",3133700,"986070405",{"$f":"IF(ISERROR(VLOOKUP(Egresados!$N$8:$N$705,Maestros!$D$31:$E$530,2,0)),\"\",VLOOKUP(Egresados!$N$8:$N$705,Maestros!$D$31:$E$530,2,0))","v":"223"},{"$f":"IF(ISERROR(VLOOKUP(Egresados!$O553,Maestros!$G$31:$J$1030,2,0)),\"\",VLOOKUP(Egresados!$O553,Maestros!$G$31:$J$1030,2,0))","v":"8"},{"$f":"CONCATENATE(Egresados!$Z$8:$Z$705,\"a\",Egresados!$AA$8:$AA$705)","v":"223a8"},{"$f":"IF(ISERROR(VLOOKUP(Egresados!$P553,Maestros!$L$31:$Q$1030,2,0)),\"\",VLOOKUP(Egresados!$P553,Maestros!$L$31:$Q$1030,2,0))","v":"333"},{"$f":"CONCATENATE(Egresados!$Z$8:$Z$705,\"a\",Egresados!$AA$8:$AA$705,\"a\",Egresados!$AC$8:$AC$705)","v":"223a8a333"},{"$f":"IF(ISERROR(VLOOKUP(Egresados!$C$8:$C$705,Maestros!$A$4:$B$21,2,0)),\"\",VLOOKUP(Egresados!$C$8:$C$705,Maestros!$A$4:$B$21,2,0))","v":"1001"},{"$f":"IF(ISERROR(VLOOKUP(Egresados!$H$8:$H$705,Maestros!$D$4:$E$21,2,0)),\"\",VLOOKUP(Egresados!$H$8:$H$705,Maestros!$D$4:$E$21,2,0))","v":"1121"},{"$f":"IF(OR(UPPER(Egresados!$J$8:$J$705)=\"SI\",UPPER(Egresados!$J$8:$J$705)=\"SÍ\"),1,IF(UPPER(Egresados!$J$8:$J$705)=\"NO\",0,\"\"))","v":0},{"$f":"IF(OR(UPPER(Egresados!$R$8:$R$705)=\"SI\",UPPER(Egresados!$R$8:$R$705)=\"SÍ\"),1,IF(UPPER(Egresados!$R$8:$R$705)=\"NO\",0,\"\"))","v":""},{"$f":"IF(OR(UPPER(Egresados!$S$8:$S$705)=\"SI\",UPPER(Egresados!$S$8:$S$705)=\"SÍ\"),1,IF(UPPER(Egresados!$S$8:$S$705)=\"NO\",0,\"\"))","v":""},{"$f":"IF(ISERROR(VLOOKUP(Egresados!$T$8:$T$705,Maestros!$S$31:$T$530,2,0)),\"\",VLOOKUP(Egresados!$T$8:$T$705,Maestros!$S$31:$T$530,2,0))","v":"58"},{"$f":"IF(ISERROR(VLOOKUP(U553,Maestros!$S$31:$T$530,2,0)),\"\",VLOOKUP(U553,Maestros!$S$31:$T$530,2,0))","v":"58"},{"$f":"IF(ISERROR(VLOOKUP(Egresados!$K$8:$K$705,Maestros!$A$31:$B$130,2,0)),\"\",VLOOKUP(Egresados!$K$8:$K$705,Maestros!$A$31:$B$130,2,0))","v":""},{"$f":"IF(LEN(tablaEgresados[[#This Row],[Nota promedio]])>0,ROUND(tablaEgresados[[#This Row],[Nota promedio]],2),\"\")","v":15.03}]
[546,null,"DNI","46298351","CAJAVILCA","SERNA","ERICK ADRIAN","MASCULINO",null,"NO",null,null,null,"2020-1","SEDE CENTRAL","LENGUA ESPAÑOLA-LITERATURA",14.29,null,null,"2009-1","2009-1","20090321@une.edu.pe","erick_per_te@hotmail.com",3133700,"987635455",{"$f":"IF(ISERROR(VLOOKUP(Egresados!$N$8:$N$705,Maestros!$D$31:$E$530,2,0)),\"\",VLOOKUP(Egresados!$N$8:$N$705,Maestros!$D$31:$E$530,2,0))","v":"223"},{"$f":"IF(ISERROR(VLOOKUP(Egresados!$O554,Maestros!$G$31:$J$1030,2,0)),\"\",VLOOKUP(Egresados!$O554,Maestros!$G$31:$J$1030,2,0))","v":"8"},{"$f":"CONCATENATE(Egresados!$Z$8:$Z$705,\"a\",Egresados!$AA$8:$AA$705)","v":"223a8"},{"$f":"IF(ISERROR(VLOOKUP(Egresados!$P554,Maestros!$L$31:$Q$1030,2,0)),\"\",VLOOKUP(Egresados!$P554,Maestros!$L$31:$Q$1030,2,0))","v":"333"},{"$f":"CONCATENATE(Egresados!$Z$8:$Z$705,\"a\",Egresados!$AA$8:$AA$705,\"a\",Egresados!$AC$8:$AC$705)","v":"223a8a333"},{"$f":"IF(ISERROR(VLOOKUP(Egresados!$C$8:$C$705,Maestros!$A$4:$B$21,2,0)),\"\",VLOOKUP(Egresados!$C$8:$C$705,Maestros!$A$4:$B$21,2,0))","v":"1001"},{"$f":"IF(ISERROR(VLOOKUP(Egresados!$H$8:$H$705,Maestros!$D$4:$E$21,2,0)),\"\",VLOOKUP(Egresados!$H$8:$H$705,Maestros!$D$4:$E$21,2,0))","v":"1121"},{"$f":"IF(OR(UPPER(Egresados!$J$8:$J$705)=\"SI\",UPPER(Egresados!$J$8:$J$705)=\"SÍ\"),1,IF(UPPER(Egresados!$J$8:$J$705)=\"NO\",0,\"\"))","v":0},{"$f":"IF(OR(UPPER(Egresados!$R$8:$R$705)=\"SI\",UPPER(Egresados!$R$8:$R$705)=\"SÍ\"),1,IF(UPPER(Egresados!$R$8:$R$705)=\"NO\",0,\"\"))","v":""},{"$f":"IF(OR(UPPER(Egresados!$S$8:$S$705)=\"SI\",UPPER(Egresados!$S$8:$S$705)=\"SÍ\"),1,IF(UPPER(Egresados!$S$8:$S$705)=\"NO\",0,\"\"))","v":""},{"$f":"IF(ISERROR(VLOOKUP(Egresados!$T$8:$T$705,Maestros!$S$31:$T$530,2,0)),\"\",VLOOKUP(Egresados!$T$8:$T$705,Maestros!$S$31:$T$530,2,0))","v":"38"},{"$f":"IF(ISERROR(VLOOKUP(U554,Maestros!$S$31:$T$530,2,0)),\"\",VLOOKUP(U554,Maestros!$S$31:$T$530,2,0))","v":"38"},{"$f":"IF(ISERROR(VLOOKUP(Egresados!$K$8:$K$705,Maestros!$A$31:$B$130,2,0)),\"\",VLOOKUP(Egresados!$K$8:$K$705,Maestros!$A$31:$B$130,2,0))","v":""},{"$f":"IF(LEN(tablaEgresados[[#This Row],[Nota promedio]])>0,ROUND(tablaEgresados[[#This Row],[Nota promedio]],2),\"\")","v":14.29}]
[547,null,"DNI","23523971","FLORES","LEYVA","LUZ MIRIAN","FEMENINO",null,"NO",null,null,null,"2020-1","SEDE CENTRAL","LENGUA ESPAÑOLA-LITERATURA",13.29,null,null,"2013-1","2013-1","20136638@une.edu.pe","luz-07FL@hotmail.com",3133700,976486001,{"$f":"IF(ISERROR(VLOOKUP(Egresados!$N$8:$N$705,Maestros!$D$31:$E$530,2,0)),\"\",VLOOKUP(Egresados!$N$8:$N$705,Maestros!$D$31:$E$530,2,0))","v":"223"},{"$f":"IF(ISERROR(VLOOKUP(Egresados!$O555,Maestros!$G$31:$J$1030,2,0)),\"\",VLOOKUP(Egresados!$O555,Maestros!$G$31:$J$1030,2,0))","v":"8"},{"$f":"CONCATENATE(Egresados!$Z$8:$Z$705,\"a\",Egresados!$AA$8:$AA$705)","v":"223a8"},{"$f":"IF(ISERROR(VLOOKUP(Egresados!$P555,Maestros!$L$31:$Q$1030,2,0)),\"\",VLOOKUP(Egresados!$P555,Maestros!$L$31:$Q$1030,2,0))","v":"333"},{"$f":"CONCATENATE(Egresados!$Z$8:$Z$705,\"a\",Egresados!$AA$8:$AA$705,\"a\",Egresados!$AC$8:$AC$705)","v":"223a8a333"},{"$f":"IF(ISERROR(VLOOKUP(Egresados!$C$8:$C$705,Maestros!$A$4:$B$21,2,0)),\"\",VLOOKUP(Egresados!$C$8:$C$705,Maestros!$A$4:$B$21,2,0))","v":"1001"},{"$f":"IF(ISERROR(VLOOKUP(Egresados!$H$8:$H$705,Maestros!$D$4:$E$21,2,0)),\"\",VLOOKUP(Egresados!$H$8:$H$705,Maestros!$D$4:$E$21,2,0))","v":"1122"},{"$f":"IF(OR(UPPER(Egresados!$J$8:$J$705)=\"SI\",UPPER(Egresados!$J$8:$J$705)=\"SÍ\"),1,IF(UPPER(Egresados!$J$8:$J$705)=\"NO\",0,\"\"))","v":0},{"$f":"IF(OR(UPPER(Egresados!$R$8:$R$705)=\"SI\",UPPER(Egresados!$R$8:$R$705)=\"SÍ\"),1,IF(UPPER(Egresados!$R$8:$R$705)=\"NO\",0,\"\"))","v":""},{"$f":"IF(OR(UPPER(Egresados!$S$8:$S$705)=\"SI\",UPPER(Egresados!$S$8:$S$705)=\"SÍ\"),1,IF(UPPER(Egresados!$S$8:$S$705)=\"NO\",0,\"\"))","v":""},{"$f":"IF(ISERROR(VLOOKUP(Egresados!$T$8:$T$705,Maestros!$S$31:$T$530,2,0)),\"\",VLOOKUP(Egresados!$T$8:$T$705,Maestros!$S$31:$T$530,2,0))","v":"54"},{"$f":"IF(ISERROR(VLOOKUP(U555,Maestros!$S$31:$T$530,2,0)),\"\",VLOOKUP(U555,Maestros!$S$31:$T$530,2,0))","v":"54"},{"$f":"IF(ISERROR(VLOOKUP(Egresados!$K$8:$K$705,Maestros!$A$31:$B$130,2,0)),\"\",VLOOKUP(Egresados!$K$8:$K$705,Maestros!$A$31:$B$130,2,0))","v":""},{"$f":"IF(LEN(tablaEgresados[[#This Row],[Nota promedio]])>0,ROUND(tablaEgresados[[#This Row],[Nota promedio]],2),\"\")","v":13.29}]
[548,null,"DNI","77567575","DE LA CRUZ","VILCAS","FABIOLA ZOSIMA","FEMENINO",null,"NO",null,null,null,"2020-1","SEDE CENTRAL","LENGUA ESPAÑOLA-LITERATURA",15.88,null,null,"2015-1","2015-1","20150641@une.edu.pe","aby_forever_05@hotmail.com",3133700,"963071651",{"$f":"IF(ISERROR(VLOOKUP(Egresados!$N$8:$N$705,Maestros!$D$31:$E$530,2,0)),\"\",VLOOKUP(Egresados!$N$8:$N$705,Maestros!$D$31:$E$530,2,0))","v":"223"},{"$f":"IF(ISERROR(VLOOKUP(Egresados!$O556,Maestros!$G$31:$J$1030,2,0)),\"\",VLOOKUP(Egresados!$O556,Maestros!$G$31:$J$1030,2,0))","v":"8"},{"$f":"CONCATENATE(Egresados!$Z$8:$Z$705,\"a\",Egresados!$AA$8:$AA$705)","v":"223a8"},{"$f":"IF(ISERROR(VLOOKUP(Egresados!$P556,Maestros!$L$31:$Q$1030,2,0)),\"\",VLOOKUP(Egresados!$P556,Maestros!$L$31:$Q$1030,2,0))","v":"333"},{"$f":"CONCATENATE(Egresados!$Z$8:$Z$705,\"a\",Egresados!$AA$8:$AA$705,\"a\",Egresados!$AC$8:$AC$705)","v":"223a8a333"},{"$f":"IF(ISERROR(VLOOKUP(Egresados!$C$8:$C$705,Maestros!$A$4:$B$21,2,0)),\"\",VLOOKUP(Egresados!$C$8:$C$705,Maestros!$A$4:$B$21,2,0))","v":"1001"},{"$f":"IF(ISERROR(VLOOKUP(Egresados!$H$8:$H$705,Maestros!$D$4:$E$21,2,0)),\"\",VLOOKUP(Egresados!$H$8:$H$705,Maestros!$D$4:$E$21,2,0))","v":"1122"},{"$f":"IF(OR(UPPER(Egresados!$J$8:$J$705)=\"SI\",UPPER(Egresados!$J$8:$J$705)=\"SÍ\"),1,IF(UPPER(Egresados!$J$8:$J$705)=\"NO\",0,\"\"))","v":0},{"$f":"IF(OR(UPPER(Egresados!$R$8:$R$705)=\"SI\",UPPER(Egresados!$R$8:$R$705)=\"SÍ\"),1,IF(UPPER(Egresados!$R$8:$R$705)=\"NO\",0,\"\"))","v":""},{"$f":"IF(OR(UPPER(Egresados!$S$8:$S$705)=\"SI\",UPPER(Egresados!$S$8:$S$705)=\"SÍ\"),1,IF(UPPER(Egresados!$S$8:$S$705)=\"NO\",0,\"\"))","v":""},{"$f":"IF(ISERROR(VLOOKUP(Egresados!$T$8:$T$705,Maestros!$S$31:$T$530,2,0)),\"\",VLOOKUP(Egresados!$T$8:$T$705,Maestros!$S$31:$T$530,2,0))","v":"62"},{"$f":"IF(ISERROR(VLOOKUP(U556,Maestros!$S$31:$T$530,2,0)),\"\",VLOOKUP(U556,Maestros!$S$31:$T$530,2,0))","v":"62"},{"$f":"IF(ISERROR(VLOOKUP(Egresados!$K$8:$K$705,Maestros!$A$31:$B$130,2,0)),\"\",VLOOKUP(Egresados!$K$8:$K$705,Maestros!$A$31:$B$130,2,0))","v":""},{"$f":"IF(LEN(tablaEgresados[[#This Row],[Nota promedio]])>0,ROUND(tablaEgresados[[#This Row],[Nota promedio]],2),\"\")","v":15.88}]
[549,null,"DNI","70006076","ACUÑA","SOTELO","FELIX JHONATAN","MASCULINO",null,"NO",null,null,null,"2020-1","SEDE CENTRAL","LENGUA ESPAÑOLA-LITERATURA",15.79,null,null,"2013-1","2013-1","20134269@une.edu.pe","facusotelo@outlook.com",3133700,"970567269",{"$f":"IF(ISERROR(VLOOKUP(Egresados!$N$8:$N$705,Maestros!$D$31:$E$530,2,0)),\"\",VLOOKUP(Egresados!$N$8:$N$705,Maestros!$D$31:$E$530,2,0))","v":"223"},{"$f":"IF(ISERROR(VLOOKUP(Egresados!$O557,Maestros!$G$31:$J$1030,2,0)),\"\",VLOOKUP(Egresados!$O557,Maestros!$G$31:$J$1030,2,0))","v":"8"},{"$f":"CONCATENATE(Egresados!$Z$8:$Z$705,\"a\",Egresados!$AA$8:$AA$705)","v":"223a8"},{"$f":"IF(ISERROR(VLOOKUP(Egresados!$P557,Maestros!$L$31:$Q$1030,2,0)),\"\",VLOOKUP(Egresados!$P557,Maestros!$L$31:$Q$1030,2,0))","v":"333"},{"$f":"CONCATENATE(Egresados!$Z$8:$Z$705,\"a\",Egresados!$AA$8:$AA$705,\"a\",Egresados!$AC$8:$AC$705)","v":"223a8a333"},{"$f":"IF(ISERROR(VLOOKUP(Egresados!$C$8:$C$705,Maestros!$A$4:$B$21,2,0)),\"\",VLOOKUP(Egresados!$C$8:$C$705,Maestros!$A$4:$B$21,2,0))","v":"1001"},{"$f":"IF(ISERROR(VLOOKUP(Egresados!$H$8:$H$705,Maestros!$D$4:$E$21,2,0)),\"\",VLOOKUP(Egresados!$H$8:$H$705,Maestros!$D$4:$E$21,2,0))","v":"1121"},{"$f":"IF(OR(UPPER(Egresados!$J$8:$J$705)=\"SI\",UPPER(Egresados!$J$8:$J$705)=\"SÍ\"),1,IF(UPPER(Egresados!$J$8:$J$705)=\"NO\",0,\"\"))","v":0},{"$f":"IF(OR(UPPER(Egresados!$R$8:$R$705)=\"SI\",UPPER(Egresados!$R$8:$R$705)=\"SÍ\"),1,IF(UPPER(Egresados!$R$8:$R$705)=\"NO\",0,\"\"))","v":""},{"$f":"IF(OR(UPPER(Egresados!$S$8:$S$705)=\"SI\",UPPER(Egresados!$S$8:$S$705)=\"SÍ\"),1,IF(UPPER(Egresados!$S$8:$S$705)=\"NO\",0,\"\"))","v":""},{"$f":"IF(ISERROR(VLOOKUP(Egresados!$T$8:$T$705,Maestros!$S$31:$T$530,2,0)),\"\",VLOOKUP(Egresados!$T$8:$T$705,Maestros!$S$31:$T$530,2,0))","v":"54"},{"$f":"IF(ISERROR(VLOOKUP(U557,Maestros!$S$31:$T$530,2,0)),\"\",VLOOKUP(U557,Maestros!$S$31:$T$530,2,0))","v":"54"},{"$f":"IF(ISERROR(VLOOKUP(Egresados!$K$8:$K$705,Maestros!$A$31:$B$130,2,0)),\"\",VLOOKUP(Egresados!$K$8:$K$705,Maestros!$A$31:$B$130,2,0))","v":""},{"$f":"IF(LEN(tablaEgresados[[#This Row],[Nota promedio]])>0,ROUND(tablaEgresados[[#This Row],[Nota promedio]],2),\"\")","v":15.79}]
[550,null,"DNI","73780600","FLORES","QUISPE","ANDREA CAROLINA","FEMENINO",null,"NO",null,null,null,"2020-1","SEDE CENTRAL","LENGUA ESPAÑOLA-LITERATURA",14.55,null,null,"2015-1","2015-1","20150643@une.edu.pe","numero04y17@gmail.com",3133700,"977345422",{"$f":"IF(ISERROR(VLOOKUP(Egresados!$N$8:$N$705,Maestros!$D$31:$E$530,2,0)),\"\",VLOOKUP(Egresados!$N$8:$N$705,Maestros!$D$31:$E$530,2,0))","v":"223"},{"$f":"IF(ISERROR(VLOOKUP(Egresados!$O558,Maestros!$G$31:$J$1030,2,0)),\"\",VLOOKUP(Egresados!$O558,Maestros!$G$31:$J$1030,2,0))","v":"8"},{"$f":"CONCATENATE(Egresados!$Z$8:$Z$705,\"a\",Egresados!$AA$8:$AA$705)","v":"223a8"},{"$f":"IF(ISERROR(VLOOKUP(Egresados!$P558,Maestros!$L$31:$Q$1030,2,0)),\"\",VLOOKUP(Egresados!$P558,Maestros!$L$31:$Q$1030,2,0))","v":"333"},{"$f":"CONCATENATE(Egresados!$Z$8:$Z$705,\"a\",Egresados!$AA$8:$AA$705,\"a\",Egresados!$AC$8:$AC$705)","v":"223a8a333"},{"$f":"IF(ISERROR(VLOOKUP(Egresados!$C$8:$C$705,Maestros!$A$4:$B$21,2,0)),\"\",VLOOKUP(Egresados!$C$8:$C$705,Maestros!$A$4:$B$21,2,0))","v":"1001"},{"$f":"IF(ISERROR(VLOOKUP(Egresados!$H$8:$H$705,Maestros!$D$4:$E$21,2,0)),\"\",VLOOKUP(Egresados!$H$8:$H$705,Maestros!$D$4:$E$21,2,0))","v":"1122"},{"$f":"IF(OR(UPPER(Egresados!$J$8:$J$705)=\"SI\",UPPER(Egresados!$J$8:$J$705)=\"SÍ\"),1,IF(UPPER(Egresados!$J$8:$J$705)=\"NO\",0,\"\"))","v":0},{"$f":"IF(OR(UPPER(Egresados!$R$8:$R$705)=\"SI\",UPPER(Egresados!$R$8:$R$705)=\"SÍ\"),1,IF(UPPER(Egresados!$R$8:$R$705)=\"NO\",0,\"\"))","v":""},{"$f":"IF(OR(UPPER(Egresados!$S$8:$S$705)=\"SI\",UPPER(Egresados!$S$8:$S$705)=\"SÍ\"),1,IF(UPPER(Egresados!$S$8:$S$705)=\"NO\",0,\"\"))","v":""},{"$f":"IF(ISERROR(VLOOKUP(Egresados!$T$8:$T$705,Maestros!$S$31:$T$530,2,0)),\"\",VLOOKUP(Egresados!$T$8:$T$705,Maestros!$S$31:$T$530,2,0))","v":"62"},{"$f":"IF(ISERROR(VLOOKUP(U558,Maestros!$S$31:$T$530,2,0)),\"\",VLOOKUP(U558,Maestros!$S$31:$T$530,2,0))","v":"62"},{"$f":"IF(ISERROR(VLOOKUP(Egresados!$K$8:$K$705,Maestros!$A$31:$B$130,2,0)),\"\",VLOOKUP(Egresados!$K$8:$K$705,Maestros!$A$31:$B$130,2,0))","v":""},{"$f":"IF(LEN(tablaEgresados[[#This Row],[Nota promedio]])>0,ROUND(tablaEgresados[[#This Row],[Nota promedio]],2),\"\")","v":14.55}]
[551,null,"DNI",10092487,"CARRANZA","FERNANDEZ","CARMEN ROSA","FEMENINO",null,"NO",null,null,null,"2020-1","SEDE CENTRAL","LENGUA ESPAÑOLA-LITERATURA",14.81,null,null,"2009-1","2009-1","20094817@une.edu.pe","20094817@une.edu.pe",3133700,976486001,{"$f":"IF(ISERROR(VLOOKUP(Egresados!$N$8:$N$705,Maestros!$D$31:$E$530,2,0)),\"\",VLOOKUP(Egresados!$N$8:$N$705,Maestros!$D$31:$E$530,2,0))","v":"223"},{"$f":"IF(ISERROR(VLOOKUP(Egresados!$O559,Maestros!$G$31:$J$1030,2,0)),\"\",VLOOKUP(Egresados!$O559,Maestros!$G$31:$J$1030,2,0))","v":"8"},{"$f":"CONCATENATE(Egresados!$Z$8:$Z$705,\"a\",Egresados!$AA$8:$AA$705)","v":"223a8"},{"$f":"IF(ISERROR(VLOOKUP(Egresados!$P559,Maestros!$L$31:$Q$1030,2,0)),\"\",VLOOKUP(Egresados!$P559,Maestros!$L$31:$Q$1030,2,0))","v":"333"},{"$f":"CONCATENATE(Egresados!$Z$8:$Z$705,\"a\",Egresados!$AA$8:$AA$705,\"a\",Egresados!$AC$8:$AC$705)","v":"223a8a333"},{"$f":"IF(ISERROR(VLOOKUP(Egresados!$C$8:$C$705,Maestros!$A$4:$B$21,2,0)),\"\",VLOOKUP(Egresados!$C$8:$C$705,Maestros!$A$4:$B$21,2,0))","v":"1001"},{"$f":"IF(ISERROR(VLOOKUP(Egresados!$H$8:$H$705,Maestros!$D$4:$E$21,2,0)),\"\",VLOOKUP(Egresados!$H$8:$H$705,Maestros!$D$4:$E$21,2,0))","v":"1122"},{"$f":"IF(OR(UPPER(Egresados!$J$8:$J$705)=\"SI\",UPPER(Egresados!$J$8:$J$705)=\"SÍ\"),1,IF(UPPER(Egresados!$J$8:$J$705)=\"NO\",0,\"\"))","v":0},{"$f":"IF(OR(UPPER(Egresados!$R$8:$R$705)=\"SI\",UPPER(Egresados!$R$8:$R$705)=\"SÍ\"),1,IF(UPPER(Egresados!$R$8:$R$705)=\"NO\",0,\"\"))","v":""},{"$f":"IF(OR(UPPER(Egresados!$S$8:$S$705)=\"SI\",UPPER(Egresados!$S$8:$S$705)=\"SÍ\"),1,IF(UPPER(Egresados!$S$8:$S$705)=\"NO\",0,\"\"))","v":""},{"$f":"IF(ISERROR(VLOOKUP(Egresados!$T$8:$T$705,Maestros!$S$31:$T$530,2,0)),\"\",VLOOKUP(Egresados!$T$8:$T$705,Maestros!$S$31:$T$530,2,0))","v":"38"},{"$f":"IF(ISERROR(VLOOKUP(U559,Maestros!$S$31:$T$530,2,0)),\"\",VLOOKUP(U559,Maestros!$S$31:$T$530,2,0))","v":"38"},{"$f":"IF(ISERROR(VLOOKUP(Egresados!$K$8:$K$705,Maestros!$A$31:$B$130,2,0)),\"\",VLOOKUP(Egresados!$K$8:$K$705,Maestros!$A$31:$B$130,2,0))","v":""},{"$f":"IF(LEN(tablaEgresados[[#This Row],[Nota promedio]])>0,ROUND(tablaEgresados[[#This Row],[Nota promedio]],2),\"\")","v":14.81}]
[552,null,"DNI","16285991","BORDA","QUISPE","VIVIANA YOLANDA","FEMENINO",null,"NO",null,null,null,"2020-1","SEDE CENTRAL","LENGUA ESPAÑOLA-LITERATURA",13.75,null,null,"2005-1","2005-1","20058806@une.edu.pe","20058806@une.edu.pe",3133700,976486001,{"$f":"IF(ISERROR(VLOOKUP(Egresados!$N$8:$N$705,Maestros!$D$31:$E$530,2,0)),\"\",VLOOKUP(Egresados!$N$8:$N$705,Maestros!$D$31:$E$530,2,0))","v":"223"},{"$f":"IF(ISERROR(VLOOKUP(Egresados!$O560,Maestros!$G$31:$J$1030,2,0)),\"\",VLOOKUP(Egresados!$O560,Maestros!$G$31:$J$1030,2,0))","v":"8"},{"$f":"CONCATENATE(Egresados!$Z$8:$Z$705,\"a\",Egresados!$AA$8:$AA$705)","v":"223a8"},{"$f":"IF(ISERROR(VLOOKUP(Egresados!$P560,Maestros!$L$31:$Q$1030,2,0)),\"\",VLOOKUP(Egresados!$P560,Maestros!$L$31:$Q$1030,2,0))","v":"333"},{"$f":"CONCATENATE(Egresados!$Z$8:$Z$705,\"a\",Egresados!$AA$8:$AA$705,\"a\",Egresados!$AC$8:$AC$705)","v":"223a8a333"},{"$f":"IF(ISERROR(VLOOKUP(Egresados!$C$8:$C$705,Maestros!$A$4:$B$21,2,0)),\"\",VLOOKUP(Egresados!$C$8:$C$705,Maestros!$A$4:$B$21,2,0))","v":"1001"},{"$f":"IF(ISERROR(VLOOKUP(Egresados!$H$8:$H$705,Maestros!$D$4:$E$21,2,0)),\"\",VLOOKUP(Egresados!$H$8:$H$705,Maestros!$D$4:$E$21,2,0))","v":"1122"},{"$f":"IF(OR(UPPER(Egresados!$J$8:$J$705)=\"SI\",UPPER(Egresados!$J$8:$J$705)=\"SÍ\"),1,IF(UPPER(Egresados!$J$8:$J$705)=\"NO\",0,\"\"))","v":0},{"$f":"IF(OR(UPPER(Egresados!$R$8:$R$705)=\"SI\",UPPER(Egresados!$R$8:$R$705)=\"SÍ\"),1,IF(UPPER(Egresados!$R$8:$R$705)=\"NO\",0,\"\"))","v":""},{"$f":"IF(OR(UPPER(Egresados!$S$8:$S$705)=\"SI\",UPPER(Egresados!$S$8:$S$705)=\"SÍ\"),1,IF(UPPER(Egresados!$S$8:$S$705)=\"NO\",0,\"\"))","v":""},{"$f":"IF(ISERROR(VLOOKUP(Egresados!$T$8:$T$705,Maestros!$S$31:$T$530,2,0)),\"\",VLOOKUP(Egresados!$T$8:$T$705,Maestros!$S$31:$T$530,2,0))","v":"22"},{"$f":"IF(ISERROR(VLOOKUP(U560,Maestros!$S$31:$T$530,2,0)),\"\",VLOOKUP(U560,Maestros!$S$31:$T$530,2,0))","v":"22"},{"$f":"IF(ISERROR(VLOOKUP(Egresados!$K$8:$K$705,Maestros!$A$31:$B$130,2,0)),\"\",VLOOKUP(Egresados!$K$8:$K$705,Maestros!$A$31:$B$130,2,0))","v":""},{"$f":"IF(LEN(tablaEgresados[[#This Row],[Nota promedio]])>0,ROUND(tablaEgresados[[#This Row],[Nota promedio]],2),\"\")","v":13.75}]
[553,null,"DNI",31541484,"DE LA VEGA","CAITUIRO","EKE","MASCULINO",null,"NO",null,null,null,"2020-1","SEDE CENTRAL","LENGUA ESPAÑOLA-LITERATURA",14.08,null,null,"2006-1","2006-1","20063684@une.edu.pe","20063684@une.edu.pe",3133700,976486001,{"$f":"IF(ISERROR(VLOOKUP(Egresados!$N$8:$N$705,Maestros!$D$31:$E$530,2,0)),\"\",VLOOKUP(Egresados!$N$8:$N$705,Maestros!$D$31:$E$530,2,0))","v":"223"},{"$f":"IF(ISERROR(VLOOKUP(Egresados!$O561,Maestros!$G$31:$J$1030,2,0)),\"\",VLOOKUP(Egresados!$O561,Maestros!$G$31:$J$1030,2,0))","v":"8"},{"$f":"CONCATENATE(Egresados!$Z$8:$Z$705,\"a\",Egresados!$AA$8:$AA$705)","v":"223a8"},{"$f":"IF(ISERROR(VLOOKUP(Egresados!$P561,Maestros!$L$31:$Q$1030,2,0)),\"\",VLOOKUP(Egresados!$P561,Maestros!$L$31:$Q$1030,2,0))","v":"333"},{"$f":"CONCATENATE(Egresados!$Z$8:$Z$705,\"a\",Egresados!$AA$8:$AA$705,\"a\",Egresados!$AC$8:$AC$705)","v":"223a8a333"},{"$f":"IF(ISERROR(VLOOKUP(Egresados!$C$8:$C$705,Maestros!$A$4:$B$21,2,0)),\"\",VLOOKUP(Egresados!$C$8:$C$705,Maestros!$A$4:$B$21,2,0))","v":"1001"},{"$f":"IF(ISERROR(VLOOKUP(Egresados!$H$8:$H$705,Maestros!$D$4:$E$21,2,0)),\"\",VLOOKUP(Egresados!$H$8:$H$705,Maestros!$D$4:$E$21,2,0))","v":"1121"},{"$f":"IF(OR(UPPER(Egresados!$J$8:$J$705)=\"SI\",UPPER(Egresados!$J$8:$J$705)=\"SÍ\"),1,IF(UPPER(Egresados!$J$8:$J$705)=\"NO\",0,\"\"))","v":0},{"$f":"IF(OR(UPPER(Egresados!$R$8:$R$705)=\"SI\",UPPER(Egresados!$R$8:$R$705)=\"SÍ\"),1,IF(UPPER(Egresados!$R$8:$R$705)=\"NO\",0,\"\"))","v":""},{"$f":"IF(OR(UPPER(Egresados!$S$8:$S$705)=\"SI\",UPPER(Egresados!$S$8:$S$705)=\"SÍ\"),1,IF(UPPER(Egresados!$S$8:$S$705)=\"NO\",0,\"\"))","v":""},{"$f":"IF(ISERROR(VLOOKUP(Egresados!$T$8:$T$705,Maestros!$S$31:$T$530,2,0)),\"\",VLOOKUP(Egresados!$T$8:$T$705,Maestros!$S$31:$T$530,2,0))","v":"26"},{"$f":"IF(ISERROR(VLOOKUP(U561,Maestros!$S$31:$T$530,2,0)),\"\",VLOOKUP(U561,Maestros!$S$31:$T$530,2,0))","v":"26"},{"$f":"IF(ISERROR(VLOOKUP(Egresados!$K$8:$K$705,Maestros!$A$31:$B$130,2,0)),\"\",VLOOKUP(Egresados!$K$8:$K$705,Maestros!$A$31:$B$130,2,0))","v":""},{"$f":"IF(LEN(tablaEgresados[[#This Row],[Nota promedio]])>0,ROUND(tablaEgresados[[#This Row],[Nota promedio]],2),\"\")","v":14.08}]
[554,null,"DNI","09071160","AYLAS","VITERBO","BEATRIZ","FEMENINO",null,"NO",null,null,null,"2020-1","SEDE CENTRAL","LENGUA ESPAÑOLA-LITERATURA",14.57,null,null,"2015-1","2015-1","20152740@une.edu.pe","20152740@une.edu.pe",3133700,976486001,{"$f":"IF(ISERROR(VLOOKUP(Egresados!$N$8:$N$705,Maestros!$D$31:$E$530,2,0)),\"\",VLOOKUP(Egresados!$N$8:$N$705,Maestros!$D$31:$E$530,2,0))","v":"223"},{"$f":"IF(ISERROR(VLOOKUP(Egresados!$O562,Maestros!$G$31:$J$1030,2,0)),\"\",VLOOKUP(Egresados!$O562,Maestros!$G$31:$J$1030,2,0))","v":"8"},{"$f":"CONCATENATE(Egresados!$Z$8:$Z$705,\"a\",Egresados!$AA$8:$AA$705)","v":"223a8"},{"$f":"IF(ISERROR(VLOOKUP(Egresados!$P562,Maestros!$L$31:$Q$1030,2,0)),\"\",VLOOKUP(Egresados!$P562,Maestros!$L$31:$Q$1030,2,0))","v":"333"},{"$f":"CONCATENATE(Egresados!$Z$8:$Z$705,\"a\",Egresados!$AA$8:$AA$705,\"a\",Egresados!$AC$8:$AC$705)","v":"223a8a333"},{"$f":"IF(ISERROR(VLOOKUP(Egresados!$C$8:$C$705,Maestros!$A$4:$B$21,2,0)),\"\",VLOOKUP(Egresados!$C$8:$C$705,Maestros!$A$4:$B$21,2,0))","v":"1001"},{"$f":"IF(ISERROR(VLOOKUP(Egresados!$H$8:$H$705,Maestros!$D$4:$E$21,2,0)),\"\",VLOOKUP(Egresados!$H$8:$H$705,Maestros!$D$4:$E$21,2,0))","v":"1122"},{"$f":"IF(OR(UPPER(Egresados!$J$8:$J$705)=\"SI\",UPPER(Egresados!$J$8:$J$705)=\"SÍ\"),1,IF(UPPER(Egresados!$J$8:$J$705)=\"NO\",0,\"\"))","v":0},{"$f":"IF(OR(UPPER(Egresados!$R$8:$R$705)=\"SI\",UPPER(Egresados!$R$8:$R$705)=\"SÍ\"),1,IF(UPPER(Egresados!$R$8:$R$705)=\"NO\",0,\"\"))","v":""},{"$f":"IF(OR(UPPER(Egresados!$S$8:$S$705)=\"SI\",UPPER(Egresados!$S$8:$S$705)=\"SÍ\"),1,IF(UPPER(Egresados!$S$8:$S$705)=\"NO\",0,\"\"))","v":""},{"$f":"IF(ISERROR(VLOOKUP(Egresados!$T$8:$T$705,Maestros!$S$31:$T$530,2,0)),\"\",VLOOKUP(Egresados!$T$8:$T$705,Maestros!$S$31:$T$530,2,0))","v":"62"},{"$f":"IF(ISERROR(VLOOKUP(U562,Maestros!$S$31:$T$530,2,0)),\"\",VLOOKUP(U562,Maestros!$S$31:$T$530,2,0))","v":"62"},{"$f":"IF(ISERROR(VLOOKUP(Egresados!$K$8:$K$705,Maestros!$A$31:$B$130,2,0)),\"\",VLOOKUP(Egresados!$K$8:$K$705,Maestros!$A$31:$B$130,2,0))","v":""},{"$f":"IF(LEN(tablaEgresados[[#This Row],[Nota promedio]])>0,ROUND(tablaEgresados[[#This Row],[Nota promedio]],2),\"\")","v":14.57}]
[555,null,"DNI","08501649","GOMEZ","DELACRUZ","JOSE NATIVIDAD","MASCULINO",null,"NO",null,null,null,"2020-1","SEDE CENTRAL","LENGUA ESPAÑOLA-LITERATURA",14.88,null,null,"2009-1","2009-1","20094476@une.edu.pe","20094476@une.edu.pe",3133700,976486001,{"$f":"IF(ISERROR(VLOOKUP(Egresados!$N$8:$N$705,Maestros!$D$31:$E$530,2,0)),\"\",VLOOKUP(Egresados!$N$8:$N$705,Maestros!$D$31:$E$530,2,0))","v":"223"},{"$f":"IF(ISERROR(VLOOKUP(Egresados!$O563,Maestros!$G$31:$J$1030,2,0)),\"\",VLOOKUP(Egresados!$O563,Maestros!$G$31:$J$1030,2,0))","v":"8"},{"$f":"CONCATENATE(Egresados!$Z$8:$Z$705,\"a\",Egresados!$AA$8:$AA$705)","v":"223a8"},{"$f":"IF(ISERROR(VLOOKUP(Egresados!$P563,Maestros!$L$31:$Q$1030,2,0)),\"\",VLOOKUP(Egresados!$P563,Maestros!$L$31:$Q$1030,2,0))","v":"333"},{"$f":"CONCATENATE(Egresados!$Z$8:$Z$705,\"a\",Egresados!$AA$8:$AA$705,\"a\",Egresados!$AC$8:$AC$705)","v":"223a8a333"},{"$f":"IF(ISERROR(VLOOKUP(Egresados!$C$8:$C$705,Maestros!$A$4:$B$21,2,0)),\"\",VLOOKUP(Egresados!$C$8:$C$705,Maestros!$A$4:$B$21,2,0))","v":"1001"},{"$f":"IF(ISERROR(VLOOKUP(Egresados!$H$8:$H$705,Maestros!$D$4:$E$21,2,0)),\"\",VLOOKUP(Egresados!$H$8:$H$705,Maestros!$D$4:$E$21,2,0))","v":"1121"},{"$f":"IF(OR(UPPER(Egresados!$J$8:$J$705)=\"SI\",UPPER(Egresados!$J$8:$J$705)=\"SÍ\"),1,IF(UPPER(Egresados!$J$8:$J$705)=\"NO\",0,\"\"))","v":0},{"$f":"IF(OR(UPPER(Egresados!$R$8:$R$705)=\"SI\",UPPER(Egresados!$R$8:$R$705)=\"SÍ\"),1,IF(UPPER(Egresados!$R$8:$R$705)=\"NO\",0,\"\"))","v":""},{"$f":"IF(OR(UPPER(Egresados!$S$8:$S$705)=\"SI\",UPPER(Egresados!$S$8:$S$705)=\"SÍ\"),1,IF(UPPER(Egresados!$S$8:$S$705)=\"NO\",0,\"\"))","v":""},{"$f":"IF(ISERROR(VLOOKUP(Egresados!$T$8:$T$705,Maestros!$S$31:$T$530,2,0)),\"\",VLOOKUP(Egresados!$T$8:$T$705,Maestros!$S$31:$T$530,2,0))","v":"38"},{"$f":"IF(ISERROR(VLOOKUP(U563,Maestros!$S$31:$T$530,2,0)),\"\",VLOOKUP(U563,Maestros!$S$31:$T$530,2,0))","v":"38"},{"$f":"IF(ISERROR(VLOOKUP(Egresados!$K$8:$K$705,Maestros!$A$31:$B$130,2,0)),\"\",VLOOKUP(Egresados!$K$8:$K$705,Maestros!$A$31:$B$130,2,0))","v":""},{"$f":"IF(LEN(tablaEgresados[[#This Row],[Nota promedio]])>0,ROUND(tablaEgresados[[#This Row],[Nota promedio]],2),\"\")","v":14.88}]
[556,null,"DNI","46757235","HUARACA","CHULLUNCUY","SHARON","FEMENINO",null,"NO",null,null,null,"2020-1","SEDE CENTRAL","LITERATURA-LENGUA ESPAÑOLA",14.32,null,null,"2009-1","2009-1","20091647@une.edu.pe","sharon21huaraca@gmail.com",3133700,"965134176",{"$f":"IF(ISERROR(VLOOKUP(Egresados!$N$8:$N$705,Maestros!$D$31:$E$530,2,0)),\"\",VLOOKUP(Egresados!$N$8:$N$705,Maestros!$D$31:$E$530,2,0))","v":"223"},{"$f":"IF(ISERROR(VLOOKUP(Egresados!$O564,Maestros!$G$31:$J$1030,2,0)),\"\",VLOOKUP(Egresados!$O564,Maestros!$G$31:$J$1030,2,0))","v":"8"},{"$f":"CONCATENATE(Egresados!$Z$8:$Z$705,\"a\",Egresados!$AA$8:$AA$705)","v":"223a8"},{"$f":"IF(ISERROR(VLOOKUP(Egresados!$P564,Maestros!$L$31:$Q$1030,2,0)),\"\",VLOOKUP(Egresados!$P564,Maestros!$L$31:$Q$1030,2,0))","v":"305"},{"$f":"CONCATENATE(Egresados!$Z$8:$Z$705,\"a\",Egresados!$AA$8:$AA$705,\"a\",Egresados!$AC$8:$AC$705)","v":"223a8a305"},{"$f":"IF(ISERROR(VLOOKUP(Egresados!$C$8:$C$705,Maestros!$A$4:$B$21,2,0)),\"\",VLOOKUP(Egresados!$C$8:$C$705,Maestros!$A$4:$B$21,2,0))","v":"1001"},{"$f":"IF(ISERROR(VLOOKUP(Egresados!$H$8:$H$705,Maestros!$D$4:$E$21,2,0)),\"\",VLOOKUP(Egresados!$H$8:$H$705,Maestros!$D$4:$E$21,2,0))","v":"1122"},{"$f":"IF(OR(UPPER(Egresados!$J$8:$J$705)=\"SI\",UPPER(Egresados!$J$8:$J$705)=\"SÍ\"),1,IF(UPPER(Egresados!$J$8:$J$705)=\"NO\",0,\"\"))","v":0},{"$f":"IF(OR(UPPER(Egresados!$R$8:$R$705)=\"SI\",UPPER(Egresados!$R$8:$R$705)=\"SÍ\"),1,IF(UPPER(Egresados!$R$8:$R$705)=\"NO\",0,\"\"))","v":""},{"$f":"IF(OR(UPPER(Egresados!$S$8:$S$705)=\"SI\",UPPER(Egresados!$S$8:$S$705)=\"SÍ\"),1,IF(UPPER(Egresados!$S$8:$S$705)=\"NO\",0,\"\"))","v":""},{"$f":"IF(ISERROR(VLOOKUP(Egresados!$T$8:$T$705,Maestros!$S$31:$T$530,2,0)),\"\",VLOOKUP(Egresados!$T$8:$T$705,Maestros!$S$31:$T$530,2,0))","v":"38"},{"$f":"IF(ISERROR(VLOOKUP(U564,Maestros!$S$31:$T$530,2,0)),\"\",VLOOKUP(U564,Maestros!$S$31:$T$530,2,0))","v":"38"},{"$f":"IF(ISERROR(VLOOKUP(Egresados!$K$8:$K$705,Maestros!$A$31:$B$130,2,0)),\"\",VLOOKUP(Egresados!$K$8:$K$705,Maestros!$A$31:$B$130,2,0))","v":""},{"$f":"IF(LEN(tablaEgresados[[#This Row],[Nota promedio]])>0,ROUND(tablaEgresados[[#This Row],[Nota promedio]],2),\"\")","v":14.32}]
[557,null,"DNI","71551365","LARICO","QUISPE","VERONICA ESTHER","FEMENINO",null,"NO",null,null,null,"2020-1","SEDE CENTRAL","LITERATURA-LENGUA ESPAÑOLA",16.440000000000001,null,null,"2015-1","2015-1","20150330@une.edu.pe","estherlq2016@hotmail.com",3133700,976486001,{"$f":"IF(ISERROR(VLOOKUP(Egresados!$N$8:$N$705,Maestros!$D$31:$E$530,2,0)),\"\",VLOOKUP(Egresados!$N$8:$N$705,Maestros!$D$31:$E$530,2,0))","v":"223"},{"$f":"IF(ISERROR(VLOOKUP(Egresados!$O565,Maestros!$G$31:$J$1030,2,0)),\"\",VLOOKUP(Egresados!$O565,Maestros!$G$31:$J$1030,2,0))","v":"8"},{"$f":"CONCATENATE(Egresados!$Z$8:$Z$705,\"a\",Egresados!$AA$8:$AA$705)","v":"223a8"},{"$f":"IF(ISERROR(VLOOKUP(Egresados!$P565,Maestros!$L$31:$Q$1030,2,0)),\"\",VLOOKUP(Egresados!$P565,Maestros!$L$31:$Q$1030,2,0))","v":"305"},{"$f":"CONCATENATE(Egresados!$Z$8:$Z$705,\"a\",Egresados!$AA$8:$AA$705,\"a\",Egresados!$AC$8:$AC$705)","v":"223a8a305"},{"$f":"IF(ISERROR(VLOOKUP(Egresados!$C$8:$C$705,Maestros!$A$4:$B$21,2,0)),\"\",VLOOKUP(Egresados!$C$8:$C$705,Maestros!$A$4:$B$21,2,0))","v":"1001"},{"$f":"IF(ISERROR(VLOOKUP(Egresados!$H$8:$H$705,Maestros!$D$4:$E$21,2,0)),\"\",VLOOKUP(Egresados!$H$8:$H$705,Maestros!$D$4:$E$21,2,0))","v":"1122"},{"$f":"IF(OR(UPPER(Egresados!$J$8:$J$705)=\"SI\",UPPER(Egresados!$J$8:$J$705)=\"SÍ\"),1,IF(UPPER(Egresados!$J$8:$J$705)=\"NO\",0,\"\"))","v":0},{"$f":"IF(OR(UPPER(Egresados!$R$8:$R$705)=\"SI\",UPPER(Egresados!$R$8:$R$705)=\"SÍ\"),1,IF(UPPER(Egresados!$R$8:$R$705)=\"NO\",0,\"\"))","v":""},{"$f":"IF(OR(UPPER(Egresados!$S$8:$S$705)=\"SI\",UPPER(Egresados!$S$8:$S$705)=\"SÍ\"),1,IF(UPPER(Egresados!$S$8:$S$705)=\"NO\",0,\"\"))","v":""},{"$f":"IF(ISERROR(VLOOKUP(Egresados!$T$8:$T$705,Maestros!$S$31:$T$530,2,0)),\"\",VLOOKUP(Egresados!$T$8:$T$705,Maestros!$S$31:$T$530,2,0))","v":"62"},{"$f":"IF(ISERROR(VLOOKUP(U565,Maestros!$S$31:$T$530,2,0)),\"\",VLOOKUP(U565,Maestros!$S$31:$T$530,2,0))","v":"62"},{"$f":"IF(ISERROR(VLOOKUP(Egresados!$K$8:$K$705,Maestros!$A$31:$B$130,2,0)),\"\",VLOOKUP(Egresados!$K$8:$K$705,Maestros!$A$31:$B$130,2,0))","v":""},{"$f":"IF(LEN(tablaEgresados[[#This Row],[Nota promedio]])>0,ROUND(tablaEgresados[[#This Row],[Nota promedio]],2),\"\")","v":16.440000000000001}]
[558,null,"DNI","75962649","CURI","LLAMOCCA","MILAGROS PASCUALA","FEMENINO",null,"NO",null,null,null,"2020-1","SEDE CENTRAL","LITERATURA-LENGUA ESPAÑOLA",15.94,null,null,"2015-1","2015-1","20150320@une.edu.pe","milipok_20150320@outlook.com",3133700,"930554795",{"$f":"IF(ISERROR(VLOOKUP(Egresados!$N$8:$N$705,Maestros!$D$31:$E$530,2,0)),\"\",VLOOKUP(Egresados!$N$8:$N$705,Maestros!$D$31:$E$530,2,0))","v":"223"},{"$f":"IF(ISERROR(VLOOKUP(Egresados!$O566,Maestros!$G$31:$J$1030,2,0)),\"\",VLOOKUP(Egresados!$O566,Maestros!$G$31:$J$1030,2,0))","v":"8"},{"$f":"CONCATENATE(Egresados!$Z$8:$Z$705,\"a\",Egresados!$AA$8:$AA$705)","v":"223a8"},{"$f":"IF(ISERROR(VLOOKUP(Egresados!$P566,Maestros!$L$31:$Q$1030,2,0)),\"\",VLOOKUP(Egresados!$P566,Maestros!$L$31:$Q$1030,2,0))","v":"305"},{"$f":"CONCATENATE(Egresados!$Z$8:$Z$705,\"a\",Egresados!$AA$8:$AA$705,\"a\",Egresados!$AC$8:$AC$705)","v":"223a8a305"},{"$f":"IF(ISERROR(VLOOKUP(Egresados!$C$8:$C$705,Maestros!$A$4:$B$21,2,0)),\"\",VLOOKUP(Egresados!$C$8:$C$705,Maestros!$A$4:$B$21,2,0))","v":"1001"},{"$f":"IF(ISERROR(VLOOKUP(Egresados!$H$8:$H$705,Maestros!$D$4:$E$21,2,0)),\"\",VLOOKUP(Egresados!$H$8:$H$705,Maestros!$D$4:$E$21,2,0))","v":"1122"},{"$f":"IF(OR(UPPER(Egresados!$J$8:$J$705)=\"SI\",UPPER(Egresados!$J$8:$J$705)=\"SÍ\"),1,IF(UPPER(Egresados!$J$8:$J$705)=\"NO\",0,\"\"))","v":0},{"$f":"IF(OR(UPPER(Egresados!$R$8:$R$705)=\"SI\",UPPER(Egresados!$R$8:$R$705)=\"SÍ\"),1,IF(UPPER(Egresados!$R$8:$R$705)=\"NO\",0,\"\"))","v":""},{"$f":"IF(OR(UPPER(Egresados!$S$8:$S$705)=\"SI\",UPPER(Egresados!$S$8:$S$705)=\"SÍ\"),1,IF(UPPER(Egresados!$S$8:$S$705)=\"NO\",0,\"\"))","v":""},{"$f":"IF(ISERROR(VLOOKUP(Egresados!$T$8:$T$705,Maestros!$S$31:$T$530,2,0)),\"\",VLOOKUP(Egresados!$T$8:$T$705,Maestros!$S$31:$T$530,2,0))","v":"62"},{"$f":"IF(ISERROR(VLOOKUP(U566,Maestros!$S$31:$T$530,2,0)),\"\",VLOOKUP(U566,Maestros!$S$31:$T$530,2,0))","v":"62"},{"$f":"IF(ISERROR(VLOOKUP(Egresados!$K$8:$K$705,Maestros!$A$31:$B$130,2,0)),\"\",VLOOKUP(Egresados!$K$8:$K$705,Maestros!$A$31:$B$130,2,0))","v":""},{"$f":"IF(LEN(tablaEgresados[[#This Row],[Nota promedio]])>0,ROUND(tablaEgresados[[#This Row],[Nota promedio]],2),\"\")","v":15.94}]
[559,null,"DNI","73116261","QUISURUCO","GUTIERREZ","OBED EDGAR","MASCULINO",null,"NO",null,null,null,"2020-1","SEDE CENTRAL","LITERATURA-LENGUA ESPAÑOLA",14.78,null,null,"2015-1","2015-1","20150337@une.edu.pe","xxkyzurukko@hotmail.com",3133700,976486001,{"$f":"IF(ISERROR(VLOOKUP(Egresados!$N$8:$N$705,Maestros!$D$31:$E$530,2,0)),\"\",VLOOKUP(Egresados!$N$8:$N$705,Maestros!$D$31:$E$530,2,0))","v":"223"},{"$f":"IF(ISERROR(VLOOKUP(Egresados!$O567,Maestros!$G$31:$J$1030,2,0)),\"\",VLOOKUP(Egresados!$O567,Maestros!$G$31:$J$1030,2,0))","v":"8"},{"$f":"CONCATENATE(Egresados!$Z$8:$Z$705,\"a\",Egresados!$AA$8:$AA$705)","v":"223a8"},{"$f":"IF(ISERROR(VLOOKUP(Egresados!$P567,Maestros!$L$31:$Q$1030,2,0)),\"\",VLOOKUP(Egresados!$P567,Maestros!$L$31:$Q$1030,2,0))","v":"305"},{"$f":"CONCATENATE(Egresados!$Z$8:$Z$705,\"a\",Egresados!$AA$8:$AA$705,\"a\",Egresados!$AC$8:$AC$705)","v":"223a8a305"},{"$f":"IF(ISERROR(VLOOKUP(Egresados!$C$8:$C$705,Maestros!$A$4:$B$21,2,0)),\"\",VLOOKUP(Egresados!$C$8:$C$705,Maestros!$A$4:$B$21,2,0))","v":"1001"},{"$f":"IF(ISERROR(VLOOKUP(Egresados!$H$8:$H$705,Maestros!$D$4:$E$21,2,0)),\"\",VLOOKUP(Egresados!$H$8:$H$705,Maestros!$D$4:$E$21,2,0))","v":"1121"},{"$f":"IF(OR(UPPER(Egresados!$J$8:$J$705)=\"SI\",UPPER(Egresados!$J$8:$J$705)=\"SÍ\"),1,IF(UPPER(Egresados!$J$8:$J$705)=\"NO\",0,\"\"))","v":0},{"$f":"IF(OR(UPPER(Egresados!$R$8:$R$705)=\"SI\",UPPER(Egresados!$R$8:$R$705)=\"SÍ\"),1,IF(UPPER(Egresados!$R$8:$R$705)=\"NO\",0,\"\"))","v":""},{"$f":"IF(OR(UPPER(Egresados!$S$8:$S$705)=\"SI\",UPPER(Egresados!$S$8:$S$705)=\"SÍ\"),1,IF(UPPER(Egresados!$S$8:$S$705)=\"NO\",0,\"\"))","v":""},{"$f":"IF(ISERROR(VLOOKUP(Egresados!$T$8:$T$705,Maestros!$S$31:$T$530,2,0)),\"\",VLOOKUP(Egresados!$T$8:$T$705,Maestros!$S$31:$T$530,2,0))","v":"62"},{"$f":"IF(ISERROR(VLOOKUP(U567,Maestros!$S$31:$T$530,2,0)),\"\",VLOOKUP(U567,Maestros!$S$31:$T$530,2,0))","v":"62"},{"$f":"IF(ISERROR(VLOOKUP(Egresados!$K$8:$K$705,Maestros!$A$31:$B$130,2,0)),\"\",VLOOKUP(Egresados!$K$8:$K$705,Maestros!$A$31:$B$130,2,0))","v":""},{"$f":"IF(LEN(tablaEgresados[[#This Row],[Nota promedio]])>0,ROUND(tablaEgresados[[#This Row],[Nota promedio]],2),\"\")","v":14.78}]
[560,null,"DNI","73033615","TORIBIO","PILCO","CLAUDIA DALMA","FEMENINO",null,"NO",null,null,null,"2020-1","SEDE CENTRAL","LITERATURA-LENGUA ESPAÑOLA",15.35,null,null,"2015-1","2015-1","20150343@une.edu.pe","kavabm@gmail.com",3133700,976486001,{"$f":"IF(ISERROR(VLOOKUP(Egresados!$N$8:$N$705,Maestros!$D$31:$E$530,2,0)),\"\",VLOOKUP(Egresados!$N$8:$N$705,Maestros!$D$31:$E$530,2,0))","v":"223"},{"$f":"IF(ISERROR(VLOOKUP(Egresados!$O568,Maestros!$G$31:$J$1030,2,0)),\"\",VLOOKUP(Egresados!$O568,Maestros!$G$31:$J$1030,2,0))","v":"8"},{"$f":"CONCATENATE(Egresados!$Z$8:$Z$705,\"a\",Egresados!$AA$8:$AA$705)","v":"223a8"},{"$f":"IF(ISERROR(VLOOKUP(Egresados!$P568,Maestros!$L$31:$Q$1030,2,0)),\"\",VLOOKUP(Egresados!$P568,Maestros!$L$31:$Q$1030,2,0))","v":"305"},{"$f":"CONCATENATE(Egresados!$Z$8:$Z$705,\"a\",Egresados!$AA$8:$AA$705,\"a\",Egresados!$AC$8:$AC$705)","v":"223a8a305"},{"$f":"IF(ISERROR(VLOOKUP(Egresados!$C$8:$C$705,Maestros!$A$4:$B$21,2,0)),\"\",VLOOKUP(Egresados!$C$8:$C$705,Maestros!$A$4:$B$21,2,0))","v":"1001"},{"$f":"IF(ISERROR(VLOOKUP(Egresados!$H$8:$H$705,Maestros!$D$4:$E$21,2,0)),\"\",VLOOKUP(Egresados!$H$8:$H$705,Maestros!$D$4:$E$21,2,0))","v":"1122"},{"$f":"IF(OR(UPPER(Egresados!$J$8:$J$705)=\"SI\",UPPER(Egresados!$J$8:$J$705)=\"SÍ\"),1,IF(UPPER(Egresados!$J$8:$J$705)=\"NO\",0,\"\"))","v":0},{"$f":"IF(OR(UPPER(Egresados!$R$8:$R$705)=\"SI\",UPPER(Egresados!$R$8:$R$705)=\"SÍ\"),1,IF(UPPER(Egresados!$R$8:$R$705)=\"NO\",0,\"\"))","v":""},{"$f":"IF(OR(UPPER(Egresados!$S$8:$S$705)=\"SI\",UPPER(Egresados!$S$8:$S$705)=\"SÍ\"),1,IF(UPPER(Egresados!$S$8:$S$705)=\"NO\",0,\"\"))","v":""},{"$f":"IF(ISERROR(VLOOKUP(Egresados!$T$8:$T$705,Maestros!$S$31:$T$530,2,0)),\"\",VLOOKUP(Egresados!$T$8:$T$705,Maestros!$S$31:$T$530,2,0))","v":"62"},{"$f":"IF(ISERROR(VLOOKUP(U568,Maestros!$S$31:$T$530,2,0)),\"\",VLOOKUP(U568,Maestros!$S$31:$T$530,2,0))","v":"62"},{"$f":"IF(ISERROR(VLOOKUP(Egresados!$K$8:$K$705,Maestros!$A$31:$B$130,2,0)),\"\",VLOOKUP(Egresados!$K$8:$K$705,Maestros!$A$31:$B$130,2,0))","v":""},{"$f":"IF(LEN(tablaEgresados[[#This Row],[Nota promedio]])>0,ROUND(tablaEgresados[[#This Row],[Nota promedio]],2),\"\")","v":15.35}]
[561,null,"DNI","47676631","GARCIA","BARRIOS","ALEJANDRA","MASCULINO",null,"NO",null,null,null,"2020-1","SEDE CENTRAL","LITERATURA-LENGUA ESPAÑOLA",15,null,null,"2015-1","2015-1","20150325@une.edu.pe","mdca_suans26@hotmail.com",3133700,"933326004",{"$f":"IF(ISERROR(VLOOKUP(Egresados!$N$8:$N$705,Maestros!$D$31:$E$530,2,0)),\"\",VLOOKUP(Egresados!$N$8:$N$705,Maestros!$D$31:$E$530,2,0))","v":"223"},{"$f":"IF(ISERROR(VLOOKUP(Egresados!$O569,Maestros!$G$31:$J$1030,2,0)),\"\",VLOOKUP(Egresados!$O569,Maestros!$G$31:$J$1030,2,0))","v":"8"},{"$f":"CONCATENATE(Egresados!$Z$8:$Z$705,\"a\",Egresados!$AA$8:$AA$705)","v":"223a8"},{"$f":"IF(ISERROR(VLOOKUP(Egresados!$P569,Maestros!$L$31:$Q$1030,2,0)),\"\",VLOOKUP(Egresados!$P569,Maestros!$L$31:$Q$1030,2,0))","v":"305"},{"$f":"CONCATENATE(Egresados!$Z$8:$Z$705,\"a\",Egresados!$AA$8:$AA$705,\"a\",Egresados!$AC$8:$AC$705)","v":"223a8a305"},{"$f":"IF(ISERROR(VLOOKUP(Egresados!$C$8:$C$705,Maestros!$A$4:$B$21,2,0)),\"\",VLOOKUP(Egresados!$C$8:$C$705,Maestros!$A$4:$B$21,2,0))","v":"1001"},{"$f":"IF(ISERROR(VLOOKUP(Egresados!$H$8:$H$705,Maestros!$D$4:$E$21,2,0)),\"\",VLOOKUP(Egresados!$H$8:$H$705,Maestros!$D$4:$E$21,2,0))","v":"1121"},{"$f":"IF(OR(UPPER(Egresados!$J$8:$J$705)=\"SI\",UPPER(Egresados!$J$8:$J$705)=\"SÍ\"),1,IF(UPPER(Egresados!$J$8:$J$705)=\"NO\",0,\"\"))","v":0},{"$f":"IF(OR(UPPER(Egresados!$R$8:$R$705)=\"SI\",UPPER(Egresados!$R$8:$R$705)=\"SÍ\"),1,IF(UPPER(Egresados!$R$8:$R$705)=\"NO\",0,\"\"))","v":""},{"$f":"IF(OR(UPPER(Egresados!$S$8:$S$705)=\"SI\",UPPER(Egresados!$S$8:$S$705)=\"SÍ\"),1,IF(UPPER(Egresados!$S$8:$S$705)=\"NO\",0,\"\"))","v":""},{"$f":"IF(ISERROR(VLOOKUP(Egresados!$T$8:$T$705,Maestros!$S$31:$T$530,2,0)),\"\",VLOOKUP(Egresados!$T$8:$T$705,Maestros!$S$31:$T$530,2,0))","v":"62"},{"$f":"IF(ISERROR(VLOOKUP(U569,Maestros!$S$31:$T$530,2,0)),\"\",VLOOKUP(U569,Maestros!$S$31:$T$530,2,0))","v":"62"},{"$f":"IF(ISERROR(VLOOKUP(Egresados!$K$8:$K$705,Maestros!$A$31:$B$130,2,0)),\"\",VLOOKUP(Egresados!$K$8:$K$705,Maestros!$A$31:$B$130,2,0))","v":""},{"$f":"IF(LEN(tablaEgresados[[#This Row],[Nota promedio]])>0,ROUND(tablaEgresados[[#This Row],[Nota promedio]],2),\"\")","v":15}]
[562,null,"DNI","45847418","TICONA","ANCCO","RAUL","MASCULINO",null,"NO",null,null,null,"2020-1","SEDE CENTRAL","LITERATURA-LENGUA ESPAÑOLA",14.49,null,null,"2013-1","2013-1","20131502@une.edu.pe","r.tikona20@gmail.com",3133700,"955180888",{"$f":"IF(ISERROR(VLOOKUP(Egresados!$N$8:$N$705,Maestros!$D$31:$E$530,2,0)),\"\",VLOOKUP(Egresados!$N$8:$N$705,Maestros!$D$31:$E$530,2,0))","v":"223"},{"$f":"IF(ISERROR(VLOOKUP(Egresados!$O570,Maestros!$G$31:$J$1030,2,0)),\"\",VLOOKUP(Egresados!$O570,Maestros!$G$31:$J$1030,2,0))","v":"8"},{"$f":"CONCATENATE(Egresados!$Z$8:$Z$705,\"a\",Egresados!$AA$8:$AA$705)","v":"223a8"},{"$f":"IF(ISERROR(VLOOKUP(Egresados!$P570,Maestros!$L$31:$Q$1030,2,0)),\"\",VLOOKUP(Egresados!$P570,Maestros!$L$31:$Q$1030,2,0))","v":"305"},{"$f":"CONCATENATE(Egresados!$Z$8:$Z$705,\"a\",Egresados!$AA$8:$AA$705,\"a\",Egresados!$AC$8:$AC$705)","v":"223a8a305"},{"$f":"IF(ISERROR(VLOOKUP(Egresados!$C$8:$C$705,Maestros!$A$4:$B$21,2,0)),\"\",VLOOKUP(Egresados!$C$8:$C$705,Maestros!$A$4:$B$21,2,0))","v":"1001"},{"$f":"IF(ISERROR(VLOOKUP(Egresados!$H$8:$H$705,Maestros!$D$4:$E$21,2,0)),\"\",VLOOKUP(Egresados!$H$8:$H$705,Maestros!$D$4:$E$21,2,0))","v":"1121"},{"$f":"IF(OR(UPPER(Egresados!$J$8:$J$705)=\"SI\",UPPER(Egresados!$J$8:$J$705)=\"SÍ\"),1,IF(UPPER(Egresados!$J$8:$J$705)=\"NO\",0,\"\"))","v":0},{"$f":"IF(OR(UPPER(Egresados!$R$8:$R$705)=\"SI\",UPPER(Egresados!$R$8:$R$705)=\"SÍ\"),1,IF(UPPER(Egresados!$R$8:$R$705)=\"NO\",0,\"\"))","v":""},{"$f":"IF(OR(UPPER(Egresados!$S$8:$S$705)=\"SI\",UPPER(Egresados!$S$8:$S$705)=\"SÍ\"),1,IF(UPPER(Egresados!$S$8:$S$705)=\"NO\",0,\"\"))","v":""},{"$f":"IF(ISERROR(VLOOKUP(Egresados!$T$8:$T$705,Maestros!$S$31:$T$530,2,0)),\"\",VLOOKUP(Egresados!$T$8:$T$705,Maestros!$S$31:$T$530,2,0))","v":"54"},{"$f":"IF(ISERROR(VLOOKUP(U570,Maestros!$S$31:$T$530,2,0)),\"\",VLOOKUP(U570,Maestros!$S$31:$T$530,2,0))","v":"54"},{"$f":"IF(ISERROR(VLOOKUP(Egresados!$K$8:$K$705,Maestros!$A$31:$B$130,2,0)),\"\",VLOOKUP(Egresados!$K$8:$K$705,Maestros!$A$31:$B$130,2,0))","v":""},{"$f":"IF(LEN(tablaEgresados[[#This Row],[Nota promedio]])>0,ROUND(tablaEgresados[[#This Row],[Nota promedio]],2),\"\")","v":14.49}]
[563,null,"DNI","47200205","MENDOZA","CHARRE","JUAN VIRGILIO","MASCULINO",null,"NO",null,null,null,"2020-1","SEDE CENTRAL","LITERATURA-LENGUA ESPAÑOLA",14.33,null,null,"2012-1","2012-1","20121045@une.edu.pe","juan_05678@hotmail.com",3133700,976486001,{"$f":"IF(ISERROR(VLOOKUP(Egresados!$N$8:$N$705,Maestros!$D$31:$E$530,2,0)),\"\",VLOOKUP(Egresados!$N$8:$N$705,Maestros!$D$31:$E$530,2,0))","v":"223"},{"$f":"IF(ISERROR(VLOOKUP(Egresados!$O571,Maestros!$G$31:$J$1030,2,0)),\"\",VLOOKUP(Egresados!$O571,Maestros!$G$31:$J$1030,2,0))","v":"8"},{"$f":"CONCATENATE(Egresados!$Z$8:$Z$705,\"a\",Egresados!$AA$8:$AA$705)","v":"223a8"},{"$f":"IF(ISERROR(VLOOKUP(Egresados!$P571,Maestros!$L$31:$Q$1030,2,0)),\"\",VLOOKUP(Egresados!$P571,Maestros!$L$31:$Q$1030,2,0))","v":"305"},{"$f":"CONCATENATE(Egresados!$Z$8:$Z$705,\"a\",Egresados!$AA$8:$AA$705,\"a\",Egresados!$AC$8:$AC$705)","v":"223a8a305"},{"$f":"IF(ISERROR(VLOOKUP(Egresados!$C$8:$C$705,Maestros!$A$4:$B$21,2,0)),\"\",VLOOKUP(Egresados!$C$8:$C$705,Maestros!$A$4:$B$21,2,0))","v":"1001"},{"$f":"IF(ISERROR(VLOOKUP(Egresados!$H$8:$H$705,Maestros!$D$4:$E$21,2,0)),\"\",VLOOKUP(Egresados!$H$8:$H$705,Maestros!$D$4:$E$21,2,0))","v":"1121"},{"$f":"IF(OR(UPPER(Egresados!$J$8:$J$705)=\"SI\",UPPER(Egresados!$J$8:$J$705)=\"SÍ\"),1,IF(UPPER(Egresados!$J$8:$J$705)=\"NO\",0,\"\"))","v":0},{"$f":"IF(OR(UPPER(Egresados!$R$8:$R$705)=\"SI\",UPPER(Egresados!$R$8:$R$705)=\"SÍ\"),1,IF(UPPER(Egresados!$R$8:$R$705)=\"NO\",0,\"\"))","v":""},{"$f":"IF(OR(UPPER(Egresados!$S$8:$S$705)=\"SI\",UPPER(Egresados!$S$8:$S$705)=\"SÍ\"),1,IF(UPPER(Egresados!$S$8:$S$705)=\"NO\",0,\"\"))","v":""},{"$f":"IF(ISERROR(VLOOKUP(Egresados!$T$8:$T$705,Maestros!$S$31:$T$530,2,0)),\"\",VLOOKUP(Egresados!$T$8:$T$705,Maestros!$S$31:$T$530,2,0))","v":"50"},{"$f":"IF(ISERROR(VLOOKUP(U571,Maestros!$S$31:$T$530,2,0)),\"\",VLOOKUP(U571,Maestros!$S$31:$T$530,2,0))","v":"50"},{"$f":"IF(ISERROR(VLOOKUP(Egresados!$K$8:$K$705,Maestros!$A$31:$B$130,2,0)),\"\",VLOOKUP(Egresados!$K$8:$K$705,Maestros!$A$31:$B$130,2,0))","v":""},{"$f":"IF(LEN(tablaEgresados[[#This Row],[Nota promedio]])>0,ROUND(tablaEgresados[[#This Row],[Nota promedio]],2),\"\")","v":14.33}]
[564,null,"DNI","74179204","GONZALES","ALVARADO","CARMEN JULIA ADRIANA","FEMENINO",null,"NO",null,null,null,"2020-1","SEDE CENTRAL","LITERATURA-LENGUA ESPAÑOLA",15.86,null,null,"2015-1","2015-1","20150326@une.edu.pe","adriana_cj15@hotmail.com",3133700,"956813725",{"$f":"IF(ISERROR(VLOOKUP(Egresados!$N$8:$N$705,Maestros!$D$31:$E$530,2,0)),\"\",VLOOKUP(Egresados!$N$8:$N$705,Maestros!$D$31:$E$530,2,0))","v":"223"},{"$f":"IF(ISERROR(VLOOKUP(Egresados!$O572,Maestros!$G$31:$J$1030,2,0)),\"\",VLOOKUP(Egresados!$O572,Maestros!$G$31:$J$1030,2,0))","v":"8"},{"$f":"CONCATENATE(Egresados!$Z$8:$Z$705,\"a\",Egresados!$AA$8:$AA$705)","v":"223a8"},{"$f":"IF(ISERROR(VLOOKUP(Egresados!$P572,Maestros!$L$31:$Q$1030,2,0)),\"\",VLOOKUP(Egresados!$P572,Maestros!$L$31:$Q$1030,2,0))","v":"305"},{"$f":"CONCATENATE(Egresados!$Z$8:$Z$705,\"a\",Egresados!$AA$8:$AA$705,\"a\",Egresados!$AC$8:$AC$705)","v":"223a8a305"},{"$f":"IF(ISERROR(VLOOKUP(Egresados!$C$8:$C$705,Maestros!$A$4:$B$21,2,0)),\"\",VLOOKUP(Egresados!$C$8:$C$705,Maestros!$A$4:$B$21,2,0))","v":"1001"},{"$f":"IF(ISERROR(VLOOKUP(Egresados!$H$8:$H$705,Maestros!$D$4:$E$21,2,0)),\"\",VLOOKUP(Egresados!$H$8:$H$705,Maestros!$D$4:$E$21,2,0))","v":"1122"},{"$f":"IF(OR(UPPER(Egresados!$J$8:$J$705)=\"SI\",UPPER(Egresados!$J$8:$J$705)=\"SÍ\"),1,IF(UPPER(Egresados!$J$8:$J$705)=\"NO\",0,\"\"))","v":0},{"$f":"IF(OR(UPPER(Egresados!$R$8:$R$705)=\"SI\",UPPER(Egresados!$R$8:$R$705)=\"SÍ\"),1,IF(UPPER(Egresados!$R$8:$R$705)=\"NO\",0,\"\"))","v":""},{"$f":"IF(OR(UPPER(Egresados!$S$8:$S$705)=\"SI\",UPPER(Egresados!$S$8:$S$705)=\"SÍ\"),1,IF(UPPER(Egresados!$S$8:$S$705)=\"NO\",0,\"\"))","v":""},{"$f":"IF(ISERROR(VLOOKUP(Egresados!$T$8:$T$705,Maestros!$S$31:$T$530,2,0)),\"\",VLOOKUP(Egresados!$T$8:$T$705,Maestros!$S$31:$T$530,2,0))","v":"62"},{"$f":"IF(ISERROR(VLOOKUP(U572,Maestros!$S$31:$T$530,2,0)),\"\",VLOOKUP(U572,Maestros!$S$31:$T$530,2,0))","v":"62"},{"$f":"IF(ISERROR(VLOOKUP(Egresados!$K$8:$K$705,Maestros!$A$31:$B$130,2,0)),\"\",VLOOKUP(Egresados!$K$8:$K$705,Maestros!$A$31:$B$130,2,0))","v":""},{"$f":"IF(LEN(tablaEgresados[[#This Row],[Nota promedio]])>0,ROUND(tablaEgresados[[#This Row],[Nota promedio]],2),\"\")","v":15.86}]
[565,null,"DNI","72262083","VELASQUE","CHAVEZ","NOEMI MARESA","FEMENINO",null,"NO",null,null,null,"2020-1","SEDE CENTRAL","LITERATURA-LENGUA ESPAÑOLA",15.57,null,null,"2015-1","2015-1","20150346@une.edu.pe","maresa_michi_96@hotmail.com",3133700,"932375223",{"$f":"IF(ISERROR(VLOOKUP(Egresados!$N$8:$N$705,Maestros!$D$31:$E$530,2,0)),\"\",VLOOKUP(Egresados!$N$8:$N$705,Maestros!$D$31:$E$530,2,0))","v":"223"},{"$f":"IF(ISERROR(VLOOKUP(Egresados!$O573,Maestros!$G$31:$J$1030,2,0)),\"\",VLOOKUP(Egresados!$O573,Maestros!$G$31:$J$1030,2,0))","v":"8"},{"$f":"CONCATENATE(Egresados!$Z$8:$Z$705,\"a\",Egresados!$AA$8:$AA$705)","v":"223a8"},{"$f":"IF(ISERROR(VLOOKUP(Egresados!$P573,Maestros!$L$31:$Q$1030,2,0)),\"\",VLOOKUP(Egresados!$P573,Maestros!$L$31:$Q$1030,2,0))","v":"305"},{"$f":"CONCATENATE(Egresados!$Z$8:$Z$705,\"a\",Egresados!$AA$8:$AA$705,\"a\",Egresados!$AC$8:$AC$705)","v":"223a8a305"},{"$f":"IF(ISERROR(VLOOKUP(Egresados!$C$8:$C$705,Maestros!$A$4:$B$21,2,0)),\"\",VLOOKUP(Egresados!$C$8:$C$705,Maestros!$A$4:$B$21,2,0))","v":"1001"},{"$f":"IF(ISERROR(VLOOKUP(Egresados!$H$8:$H$705,Maestros!$D$4:$E$21,2,0)),\"\",VLOOKUP(Egresados!$H$8:$H$705,Maestros!$D$4:$E$21,2,0))","v":"1122"},{"$f":"IF(OR(UPPER(Egresados!$J$8:$J$705)=\"SI\",UPPER(Egresados!$J$8:$J$705)=\"SÍ\"),1,IF(UPPER(Egresados!$J$8:$J$705)=\"NO\",0,\"\"))","v":0},{"$f":"IF(OR(UPPER(Egresados!$R$8:$R$705)=\"SI\",UPPER(Egresados!$R$8:$R$705)=\"SÍ\"),1,IF(UPPER(Egresados!$R$8:$R$705)=\"NO\",0,\"\"))","v":""},{"$f":"IF(OR(UPPER(Egresados!$S$8:$S$705)=\"SI\",UPPER(Egresados!$S$8:$S$705)=\"SÍ\"),1,IF(UPPER(Egresados!$S$8:$S$705)=\"NO\",0,\"\"))","v":""},{"$f":"IF(ISERROR(VLOOKUP(Egresados!$T$8:$T$705,Maestros!$S$31:$T$530,2,0)),\"\",VLOOKUP(Egresados!$T$8:$T$705,Maestros!$S$31:$T$530,2,0))","v":"62"},{"$f":"IF(ISERROR(VLOOKUP(U573,Maestros!$S$31:$T$530,2,0)),\"\",VLOOKUP(U573,Maestros!$S$31:$T$530,2,0))","v":"62"},{"$f":"IF(ISERROR(VLOOKUP(Egresados!$K$8:$K$705,Maestros!$A$31:$B$130,2,0)),\"\",VLOOKUP(Egresados!$K$8:$K$705,Maestros!$A$31:$B$130,2,0))","v":""},{"$f":"IF(LEN(tablaEgresados[[#This Row],[Nota promedio]])>0,ROUND(tablaEgresados[[#This Row],[Nota promedio]],2),\"\")","v":15.57}]
[566,null,"DNI",44669443,"MARIN","BARDALES","PATRICIA MARIELLA","FEMENINO",null,"NO",null,null,null,"2020-1","SEDE CENTRAL","LITERATURA-LENGUA ESPAÑOLA",14.97,null,null,"2008-1","2008-1","20080391@une.edu.pe","20080391@une.edu.pe",3133700,976486001,{"$f":"IF(ISERROR(VLOOKUP(Egresados!$N$8:$N$705,Maestros!$D$31:$E$530,2,0)),\"\",VLOOKUP(Egresados!$N$8:$N$705,Maestros!$D$31:$E$530,2,0))","v":"223"},{"$f":"IF(ISERROR(VLOOKUP(Egresados!$O574,Maestros!$G$31:$J$1030,2,0)),\"\",VLOOKUP(Egresados!$O574,Maestros!$G$31:$J$1030,2,0))","v":"8"},{"$f":"CONCATENATE(Egresados!$Z$8:$Z$705,\"a\",Egresados!$AA$8:$AA$705)","v":"223a8"},{"$f":"IF(ISERROR(VLOOKUP(Egresados!$P574,Maestros!$L$31:$Q$1030,2,0)),\"\",VLOOKUP(Egresados!$P574,Maestros!$L$31:$Q$1030,2,0))","v":"305"},{"$f":"CONCATENATE(Egresados!$Z$8:$Z$705,\"a\",Egresados!$AA$8:$AA$705,\"a\",Egresados!$AC$8:$AC$705)","v":"223a8a305"},{"$f":"IF(ISERROR(VLOOKUP(Egresados!$C$8:$C$705,Maestros!$A$4:$B$21,2,0)),\"\",VLOOKUP(Egresados!$C$8:$C$705,Maestros!$A$4:$B$21,2,0))","v":"1001"},{"$f":"IF(ISERROR(VLOOKUP(Egresados!$H$8:$H$705,Maestros!$D$4:$E$21,2,0)),\"\",VLOOKUP(Egresados!$H$8:$H$705,Maestros!$D$4:$E$21,2,0))","v":"1122"},{"$f":"IF(OR(UPPER(Egresados!$J$8:$J$705)=\"SI\",UPPER(Egresados!$J$8:$J$705)=\"SÍ\"),1,IF(UPPER(Egresados!$J$8:$J$705)=\"NO\",0,\"\"))","v":0},{"$f":"IF(OR(UPPER(Egresados!$R$8:$R$705)=\"SI\",UPPER(Egresados!$R$8:$R$705)=\"SÍ\"),1,IF(UPPER(Egresados!$R$8:$R$705)=\"NO\",0,\"\"))","v":""},{"$f":"IF(OR(UPPER(Egresados!$S$8:$S$705)=\"SI\",UPPER(Egresados!$S$8:$S$705)=\"SÍ\"),1,IF(UPPER(Egresados!$S$8:$S$705)=\"NO\",0,\"\"))","v":""},{"$f":"IF(ISERROR(VLOOKUP(Egresados!$T$8:$T$705,Maestros!$S$31:$T$530,2,0)),\"\",VLOOKUP(Egresados!$T$8:$T$705,Maestros!$S$31:$T$530,2,0))","v":"34"},{"$f":"IF(ISERROR(VLOOKUP(U574,Maestros!$S$31:$T$530,2,0)),\"\",VLOOKUP(U574,Maestros!$S$31:$T$530,2,0))","v":"34"},{"$f":"IF(ISERROR(VLOOKUP(Egresados!$K$8:$K$705,Maestros!$A$31:$B$130,2,0)),\"\",VLOOKUP(Egresados!$K$8:$K$705,Maestros!$A$31:$B$130,2,0))","v":""},{"$f":"IF(LEN(tablaEgresados[[#This Row],[Nota promedio]])>0,ROUND(tablaEgresados[[#This Row],[Nota promedio]],2),\"\")","v":14.97}]
[567,null,"DNI","74720258","CHUQUI","SULCA","JUNIOR","MASCULINO",null,"NO",null,null,null,"2020-1","SEDE CENTRAL","MATEMATICA",14.47,null,null,"2015-1","2015-1","20151415@une.edu.pe","prof.mate.jr@gmail.com",3133700,"936469287",{"$f":"IF(ISERROR(VLOOKUP(Egresados!$N$8:$N$705,Maestros!$D$31:$E$530,2,0)),\"\",VLOOKUP(Egresados!$N$8:$N$705,Maestros!$D$31:$E$530,2,0))","v":"223"},{"$f":"IF(ISERROR(VLOOKUP(Egresados!$O575,Maestros!$G$31:$J$1030,2,0)),\"\",VLOOKUP(Egresados!$O575,Maestros!$G$31:$J$1030,2,0))","v":"8"},{"$f":"CONCATENATE(Egresados!$Z$8:$Z$705,\"a\",Egresados!$AA$8:$AA$705)","v":"223a8"},{"$f":"IF(ISERROR(VLOOKUP(Egresados!$P575,Maestros!$L$31:$Q$1030,2,0)),\"\",VLOOKUP(Egresados!$P575,Maestros!$L$31:$Q$1030,2,0))","v":"187"},{"$f":"CONCATENATE(Egresados!$Z$8:$Z$705,\"a\",Egresados!$AA$8:$AA$705,\"a\",Egresados!$AC$8:$AC$705)","v":"223a8a187"},{"$f":"IF(ISERROR(VLOOKUP(Egresados!$C$8:$C$705,Maestros!$A$4:$B$21,2,0)),\"\",VLOOKUP(Egresados!$C$8:$C$705,Maestros!$A$4:$B$21,2,0))","v":"1001"},{"$f":"IF(ISERROR(VLOOKUP(Egresados!$H$8:$H$705,Maestros!$D$4:$E$21,2,0)),\"\",VLOOKUP(Egresados!$H$8:$H$705,Maestros!$D$4:$E$21,2,0))","v":"1121"},{"$f":"IF(OR(UPPER(Egresados!$J$8:$J$705)=\"SI\",UPPER(Egresados!$J$8:$J$705)=\"SÍ\"),1,IF(UPPER(Egresados!$J$8:$J$705)=\"NO\",0,\"\"))","v":0},{"$f":"IF(OR(UPPER(Egresados!$R$8:$R$705)=\"SI\",UPPER(Egresados!$R$8:$R$705)=\"SÍ\"),1,IF(UPPER(Egresados!$R$8:$R$705)=\"NO\",0,\"\"))","v":""},{"$f":"IF(OR(UPPER(Egresados!$S$8:$S$705)=\"SI\",UPPER(Egresados!$S$8:$S$705)=\"SÍ\"),1,IF(UPPER(Egresados!$S$8:$S$705)=\"NO\",0,\"\"))","v":""},{"$f":"IF(ISERROR(VLOOKUP(Egresados!$T$8:$T$705,Maestros!$S$31:$T$530,2,0)),\"\",VLOOKUP(Egresados!$T$8:$T$705,Maestros!$S$31:$T$530,2,0))","v":"62"},{"$f":"IF(ISERROR(VLOOKUP(U575,Maestros!$S$31:$T$530,2,0)),\"\",VLOOKUP(U575,Maestros!$S$31:$T$530,2,0))","v":"62"},{"$f":"IF(ISERROR(VLOOKUP(Egresados!$K$8:$K$705,Maestros!$A$31:$B$130,2,0)),\"\",VLOOKUP(Egresados!$K$8:$K$705,Maestros!$A$31:$B$130,2,0))","v":""},{"$f":"IF(LEN(tablaEgresados[[#This Row],[Nota promedio]])>0,ROUND(tablaEgresados[[#This Row],[Nota promedio]],2),\"\")","v":14.47}]
[568,null,"DNI","72955151","PELINCO","RAMOS","CARMEN LIDIA","FEMENINO",null,"NO",null,null,null,"2020-1","SEDE CENTRAL","MATEMATICA",14.67,null,null,"2013-1","2013-1","20130143@une.edu.pe","lidia_13_95@hotmail.com",3133700,976486001,{"$f":"IF(ISERROR(VLOOKUP(Egresados!$N$8:$N$705,Maestros!$D$31:$E$530,2,0)),\"\",VLOOKUP(Egresados!$N$8:$N$705,Maestros!$D$31:$E$530,2,0))","v":"223"},{"$f":"IF(ISERROR(VLOOKUP(Egresados!$O576,Maestros!$G$31:$J$1030,2,0)),\"\",VLOOKUP(Egresados!$O576,Maestros!$G$31:$J$1030,2,0))","v":"8"},{"$f":"CONCATENATE(Egresados!$Z$8:$Z$705,\"a\",Egresados!$AA$8:$AA$705)","v":"223a8"},{"$f":"IF(ISERROR(VLOOKUP(Egresados!$P576,Maestros!$L$31:$Q$1030,2,0)),\"\",VLOOKUP(Egresados!$P576,Maestros!$L$31:$Q$1030,2,0))","v":"187"},{"$f":"CONCATENATE(Egresados!$Z$8:$Z$705,\"a\",Egresados!$AA$8:$AA$705,\"a\",Egresados!$AC$8:$AC$705)","v":"223a8a187"},{"$f":"IF(ISERROR(VLOOKUP(Egresados!$C$8:$C$705,Maestros!$A$4:$B$21,2,0)),\"\",VLOOKUP(Egresados!$C$8:$C$705,Maestros!$A$4:$B$21,2,0))","v":"1001"},{"$f":"IF(ISERROR(VLOOKUP(Egresados!$H$8:$H$705,Maestros!$D$4:$E$21,2,0)),\"\",VLOOKUP(Egresados!$H$8:$H$705,Maestros!$D$4:$E$21,2,0))","v":"1122"},{"$f":"IF(OR(UPPER(Egresados!$J$8:$J$705)=\"SI\",UPPER(Egresados!$J$8:$J$705)=\"SÍ\"),1,IF(UPPER(Egresados!$J$8:$J$705)=\"NO\",0,\"\"))","v":0},{"$f":"IF(OR(UPPER(Egresados!$R$8:$R$705)=\"SI\",UPPER(Egresados!$R$8:$R$705)=\"SÍ\"),1,IF(UPPER(Egresados!$R$8:$R$705)=\"NO\",0,\"\"))","v":""},{"$f":"IF(OR(UPPER(Egresados!$S$8:$S$705)=\"SI\",UPPER(Egresados!$S$8:$S$705)=\"SÍ\"),1,IF(UPPER(Egresados!$S$8:$S$705)=\"NO\",0,\"\"))","v":""},{"$f":"IF(ISERROR(VLOOKUP(Egresados!$T$8:$T$705,Maestros!$S$31:$T$530,2,0)),\"\",VLOOKUP(Egresados!$T$8:$T$705,Maestros!$S$31:$T$530,2,0))","v":"54"},{"$f":"IF(ISERROR(VLOOKUP(U576,Maestros!$S$31:$T$530,2,0)),\"\",VLOOKUP(U576,Maestros!$S$31:$T$530,2,0))","v":"54"},{"$f":"IF(ISERROR(VLOOKUP(Egresados!$K$8:$K$705,Maestros!$A$31:$B$130,2,0)),\"\",VLOOKUP(Egresados!$K$8:$K$705,Maestros!$A$31:$B$130,2,0))","v":""},{"$f":"IF(LEN(tablaEgresados[[#This Row],[Nota promedio]])>0,ROUND(tablaEgresados[[#This Row],[Nota promedio]],2),\"\")","v":14.67}]
[569,null,"DNI","70823914","UNSIHUAY","VIDAL","JOHAN","MASCULINO",null,"NO",null,null,null,"2020-1","SEDE CENTRAL","MATEMATICA",14.16,null,null,"2014-1","2014-1","20141123@une.edu.pe","johan_nc95@hotmail.com",3133700,976486001,{"$f":"IF(ISERROR(VLOOKUP(Egresados!$N$8:$N$705,Maestros!$D$31:$E$530,2,0)),\"\",VLOOKUP(Egresados!$N$8:$N$705,Maestros!$D$31:$E$530,2,0))","v":"223"},{"$f":"IF(ISERROR(VLOOKUP(Egresados!$O577,Maestros!$G$31:$J$1030,2,0)),\"\",VLOOKUP(Egresados!$O577,Maestros!$G$31:$J$1030,2,0))","v":"8"},{"$f":"CONCATENATE(Egresados!$Z$8:$Z$705,\"a\",Egresados!$AA$8:$AA$705)","v":"223a8"},{"$f":"IF(ISERROR(VLOOKUP(Egresados!$P577,Maestros!$L$31:$Q$1030,2,0)),\"\",VLOOKUP(Egresados!$P577,Maestros!$L$31:$Q$1030,2,0))","v":"187"},{"$f":"CONCATENATE(Egresados!$Z$8:$Z$705,\"a\",Egresados!$AA$8:$AA$705,\"a\",Egresados!$AC$8:$AC$705)","v":"223a8a187"},{"$f":"IF(ISERROR(VLOOKUP(Egresados!$C$8:$C$705,Maestros!$A$4:$B$21,2,0)),\"\",VLOOKUP(Egresados!$C$8:$C$705,Maestros!$A$4:$B$21,2,0))","v":"1001"},{"$f":"IF(ISERROR(VLOOKUP(Egresados!$H$8:$H$705,Maestros!$D$4:$E$21,2,0)),\"\",VLOOKUP(Egresados!$H$8:$H$705,Maestros!$D$4:$E$21,2,0))","v":"1121"},{"$f":"IF(OR(UPPER(Egresados!$J$8:$J$705)=\"SI\",UPPER(Egresados!$J$8:$J$705)=\"SÍ\"),1,IF(UPPER(Egresados!$J$8:$J$705)=\"NO\",0,\"\"))","v":0},{"$f":"IF(OR(UPPER(Egresados!$R$8:$R$705)=\"SI\",UPPER(Egresados!$R$8:$R$705)=\"SÍ\"),1,IF(UPPER(Egresados!$R$8:$R$705)=\"NO\",0,\"\"))","v":""},{"$f":"IF(OR(UPPER(Egresados!$S$8:$S$705)=\"SI\",UPPER(Egresados!$S$8:$S$705)=\"SÍ\"),1,IF(UPPER(Egresados!$S$8:$S$705)=\"NO\",0,\"\"))","v":""},{"$f":"IF(ISERROR(VLOOKUP(Egresados!$T$8:$T$705,Maestros!$S$31:$T$530,2,0)),\"\",VLOOKUP(Egresados!$T$8:$T$705,Maestros!$S$31:$T$530,2,0))","v":"58"},{"$f":"IF(ISERROR(VLOOKUP(U577,Maestros!$S$31:$T$530,2,0)),\"\",VLOOKUP(U577,Maestros!$S$31:$T$530,2,0))","v":"58"},{"$f":"IF(ISERROR(VLOOKUP(Egresados!$K$8:$K$705,Maestros!$A$31:$B$130,2,0)),\"\",VLOOKUP(Egresados!$K$8:$K$705,Maestros!$A$31:$B$130,2,0))","v":""},{"$f":"IF(LEN(tablaEgresados[[#This Row],[Nota promedio]])>0,ROUND(tablaEgresados[[#This Row],[Nota promedio]],2),\"\")","v":14.16}]
[570,null,"DNI","47157125","QUISPE","HUAMAN","DIANA KARLA","FEMENINO",null,"NO",null,null,null,"2020-1","SEDE CENTRAL","MATEMATICA",15.26,null,null,"2015-1","2015-1","20151430@une.edu.pe","tutty2892@hotmail.com",3133700,"988494908",{"$f":"IF(ISERROR(VLOOKUP(Egresados!$N$8:$N$705,Maestros!$D$31:$E$530,2,0)),\"\",VLOOKUP(Egresados!$N$8:$N$705,Maestros!$D$31:$E$530,2,0))","v":"223"},{"$f":"IF(ISERROR(VLOOKUP(Egresados!$O578,Maestros!$G$31:$J$1030,2,0)),\"\",VLOOKUP(Egresados!$O578,Maestros!$G$31:$J$1030,2,0))","v":"8"},{"$f":"CONCATENATE(Egresados!$Z$8:$Z$705,\"a\",Egresados!$AA$8:$AA$705)","v":"223a8"},{"$f":"IF(ISERROR(VLOOKUP(Egresados!$P578,Maestros!$L$31:$Q$1030,2,0)),\"\",VLOOKUP(Egresados!$P578,Maestros!$L$31:$Q$1030,2,0))","v":"187"},{"$f":"CONCATENATE(Egresados!$Z$8:$Z$705,\"a\",Egresados!$AA$8:$AA$705,\"a\",Egresados!$AC$8:$AC$705)","v":"223a8a187"},{"$f":"IF(ISERROR(VLOOKUP(Egresados!$C$8:$C$705,Maestros!$A$4:$B$21,2,0)),\"\",VLOOKUP(Egresados!$C$8:$C$705,Maestros!$A$4:$B$21,2,0))","v":"1001"},{"$f":"IF(ISERROR(VLOOKUP(Egresados!$H$8:$H$705,Maestros!$D$4:$E$21,2,0)),\"\",VLOOKUP(Egresados!$H$8:$H$705,Maestros!$D$4:$E$21,2,0))","v":"1122"},{"$f":"IF(OR(UPPER(Egresados!$J$8:$J$705)=\"SI\",UPPER(Egresados!$J$8:$J$705)=\"SÍ\"),1,IF(UPPER(Egresados!$J$8:$J$705)=\"NO\",0,\"\"))","v":0},{"$f":"IF(OR(UPPER(Egresados!$R$8:$R$705)=\"SI\",UPPER(Egresados!$R$8:$R$705)=\"SÍ\"),1,IF(UPPER(Egresados!$R$8:$R$705)=\"NO\",0,\"\"))","v":""},{"$f":"IF(OR(UPPER(Egresados!$S$8:$S$705)=\"SI\",UPPER(Egresados!$S$8:$S$705)=\"SÍ\"),1,IF(UPPER(Egresados!$S$8:$S$705)=\"NO\",0,\"\"))","v":""},{"$f":"IF(ISERROR(VLOOKUP(Egresados!$T$8:$T$705,Maestros!$S$31:$T$530,2,0)),\"\",VLOOKUP(Egresados!$T$8:$T$705,Maestros!$S$31:$T$530,2,0))","v":"62"},{"$f":"IF(ISERROR(VLOOKUP(U578,Maestros!$S$31:$T$530,2,0)),\"\",VLOOKUP(U578,Maestros!$S$31:$T$530,2,0))","v":"62"},{"$f":"IF(ISERROR(VLOOKUP(Egresados!$K$8:$K$705,Maestros!$A$31:$B$130,2,0)),\"\",VLOOKUP(Egresados!$K$8:$K$705,Maestros!$A$31:$B$130,2,0))","v":""},{"$f":"IF(LEN(tablaEgresados[[#This Row],[Nota promedio]])>0,ROUND(tablaEgresados[[#This Row],[Nota promedio]],2),\"\")","v":15.26}]
[571,null,"DNI","75757589","FLORES","MONTES","MARCO ALBERTO","MASCULINO",null,"NO",null,null,null,"2020-1","SEDE CENTRAL","MATEMATICA",15.61,null,null,"2015-1","2015-1","20151419@une.edu.pe","marco_9_1995@hotmail.com",3133700,"912237720",{"$f":"IF(ISERROR(VLOOKUP(Egresados!$N$8:$N$705,Maestros!$D$31:$E$530,2,0)),\"\",VLOOKUP(Egresados!$N$8:$N$705,Maestros!$D$31:$E$530,2,0))","v":"223"},{"$f":"IF(ISERROR(VLOOKUP(Egresados!$O579,Maestros!$G$31:$J$1030,2,0)),\"\",VLOOKUP(Egresados!$O579,Maestros!$G$31:$J$1030,2,0))","v":"8"},{"$f":"CONCATENATE(Egresados!$Z$8:$Z$705,\"a\",Egresados!$AA$8:$AA$705)","v":"223a8"},{"$f":"IF(ISERROR(VLOOKUP(Egresados!$P579,Maestros!$L$31:$Q$1030,2,0)),\"\",VLOOKUP(Egresados!$P579,Maestros!$L$31:$Q$1030,2,0))","v":"187"},{"$f":"CONCATENATE(Egresados!$Z$8:$Z$705,\"a\",Egresados!$AA$8:$AA$705,\"a\",Egresados!$AC$8:$AC$705)","v":"223a8a187"},{"$f":"IF(ISERROR(VLOOKUP(Egresados!$C$8:$C$705,Maestros!$A$4:$B$21,2,0)),\"\",VLOOKUP(Egresados!$C$8:$C$705,Maestros!$A$4:$B$21,2,0))","v":"1001"},{"$f":"IF(ISERROR(VLOOKUP(Egresados!$H$8:$H$705,Maestros!$D$4:$E$21,2,0)),\"\",VLOOKUP(Egresados!$H$8:$H$705,Maestros!$D$4:$E$21,2,0))","v":"1121"},{"$f":"IF(OR(UPPER(Egresados!$J$8:$J$705)=\"SI\",UPPER(Egresados!$J$8:$J$705)=\"SÍ\"),1,IF(UPPER(Egresados!$J$8:$J$705)=\"NO\",0,\"\"))","v":0},{"$f":"IF(OR(UPPER(Egresados!$R$8:$R$705)=\"SI\",UPPER(Egresados!$R$8:$R$705)=\"SÍ\"),1,IF(UPPER(Egresados!$R$8:$R$705)=\"NO\",0,\"\"))","v":""},{"$f":"IF(OR(UPPER(Egresados!$S$8:$S$705)=\"SI\",UPPER(Egresados!$S$8:$S$705)=\"SÍ\"),1,IF(UPPER(Egresados!$S$8:$S$705)=\"NO\",0,\"\"))","v":""},{"$f":"IF(ISERROR(VLOOKUP(Egresados!$T$8:$T$705,Maestros!$S$31:$T$530,2,0)),\"\",VLOOKUP(Egresados!$T$8:$T$705,Maestros!$S$31:$T$530,2,0))","v":"62"},{"$f":"IF(ISERROR(VLOOKUP(U579,Maestros!$S$31:$T$530,2,0)),\"\",VLOOKUP(U579,Maestros!$S$31:$T$530,2,0))","v":"62"},{"$f":"IF(ISERROR(VLOOKUP(Egresados!$K$8:$K$705,Maestros!$A$31:$B$130,2,0)),\"\",VLOOKUP(Egresados!$K$8:$K$705,Maestros!$A$31:$B$130,2,0))","v":""},{"$f":"IF(LEN(tablaEgresados[[#This Row],[Nota promedio]])>0,ROUND(tablaEgresados[[#This Row],[Nota promedio]],2),\"\")","v":15.61}]
[572,null,"DNI","09901990","VERA","ROJAS","EDWIN SANTIAGO","MASCULINO",null,"NO",null,null,null,"2020-1","SEDE CENTRAL","MATEMATICA E INFORMATICA",14.9,null,null,"2013-1","2013-1","20131961@une.edu.pe","dr_evr_08@hotmail.com",3133700,"999626766",{"$f":"IF(ISERROR(VLOOKUP(Egresados!$N$8:$N$705,Maestros!$D$31:$E$530,2,0)),\"\",VLOOKUP(Egresados!$N$8:$N$705,Maestros!$D$31:$E$530,2,0))","v":"223"},{"$f":"IF(ISERROR(VLOOKUP(Egresados!$O580,Maestros!$G$31:$J$1030,2,0)),\"\",VLOOKUP(Egresados!$O580,Maestros!$G$31:$J$1030,2,0))","v":"8"},{"$f":"CONCATENATE(Egresados!$Z$8:$Z$705,\"a\",Egresados!$AA$8:$AA$705)","v":"223a8"},{"$f":"IF(ISERROR(VLOOKUP(Egresados!$P580,Maestros!$L$31:$Q$1030,2,0)),\"\",VLOOKUP(Egresados!$P580,Maestros!$L$31:$Q$1030,2,0))","v":"61"},{"$f":"CONCATENATE(Egresados!$Z$8:$Z$705,\"a\",Egresados!$AA$8:$AA$705,\"a\",Egresados!$AC$8:$AC$705)","v":"223a8a61"},{"$f":"IF(ISERROR(VLOOKUP(Egresados!$C$8:$C$705,Maestros!$A$4:$B$21,2,0)),\"\",VLOOKUP(Egresados!$C$8:$C$705,Maestros!$A$4:$B$21,2,0))","v":"1001"},{"$f":"IF(ISERROR(VLOOKUP(Egresados!$H$8:$H$705,Maestros!$D$4:$E$21,2,0)),\"\",VLOOKUP(Egresados!$H$8:$H$705,Maestros!$D$4:$E$21,2,0))","v":"1121"},{"$f":"IF(OR(UPPER(Egresados!$J$8:$J$705)=\"SI\",UPPER(Egresados!$J$8:$J$705)=\"SÍ\"),1,IF(UPPER(Egresados!$J$8:$J$705)=\"NO\",0,\"\"))","v":0},{"$f":"IF(OR(UPPER(Egresados!$R$8:$R$705)=\"SI\",UPPER(Egresados!$R$8:$R$705)=\"SÍ\"),1,IF(UPPER(Egresados!$R$8:$R$705)=\"NO\",0,\"\"))","v":""},{"$f":"IF(OR(UPPER(Egresados!$S$8:$S$705)=\"SI\",UPPER(Egresados!$S$8:$S$705)=\"SÍ\"),1,IF(UPPER(Egresados!$S$8:$S$705)=\"NO\",0,\"\"))","v":""},{"$f":"IF(ISERROR(VLOOKUP(Egresados!$T$8:$T$705,Maestros!$S$31:$T$530,2,0)),\"\",VLOOKUP(Egresados!$T$8:$T$705,Maestros!$S$31:$T$530,2,0))","v":"54"},{"$f":"IF(ISERROR(VLOOKUP(U580,Maestros!$S$31:$T$530,2,0)),\"\",VLOOKUP(U580,Maestros!$S$31:$T$530,2,0))","v":"54"},{"$f":"IF(ISERROR(VLOOKUP(Egresados!$K$8:$K$705,Maestros!$A$31:$B$130,2,0)),\"\",VLOOKUP(Egresados!$K$8:$K$705,Maestros!$A$31:$B$130,2,0))","v":""},{"$f":"IF(LEN(tablaEgresados[[#This Row],[Nota promedio]])>0,ROUND(tablaEgresados[[#This Row],[Nota promedio]],2),\"\")","v":14.9}]
[573,null,"DNI","00494647","GUTIERREZ","MAMANI","WILSON","MASCULINO",null,"NO",null,null,null,"2020-1","SEDE CENTRAL","MATEMATICA E INFORMATICA",14.24,null,null,"2017-1","2017-1","20173623@une.edu.pe","wilsgtz@gmail.com",3133700,"942420005",{"$f":"IF(ISERROR(VLOOKUP(Egresados!$N$8:$N$705,Maestros!$D$31:$E$530,2,0)),\"\",VLOOKUP(Egresados!$N$8:$N$705,Maestros!$D$31:$E$530,2,0))","v":"223"},{"$f":"IF(ISERROR(VLOOKUP(Egresados!$O581,Maestros!$G$31:$J$1030,2,0)),\"\",VLOOKUP(Egresados!$O581,Maestros!$G$31:$J$1030,2,0))","v":"8"},{"$f":"CONCATENATE(Egresados!$Z$8:$Z$705,\"a\",Egresados!$AA$8:$AA$705)","v":"223a8"},{"$f":"IF(ISERROR(VLOOKUP(Egresados!$P581,Maestros!$L$31:$Q$1030,2,0)),\"\",VLOOKUP(Egresados!$P581,Maestros!$L$31:$Q$1030,2,0))","v":"61"},{"$f":"CONCATENATE(Egresados!$Z$8:$Z$705,\"a\",Egresados!$AA$8:$AA$705,\"a\",Egresados!$AC$8:$AC$705)","v":"223a8a61"},{"$f":"IF(ISERROR(VLOOKUP(Egresados!$C$8:$C$705,Maestros!$A$4:$B$21,2,0)),\"\",VLOOKUP(Egresados!$C$8:$C$705,Maestros!$A$4:$B$21,2,0))","v":"1001"},{"$f":"IF(ISERROR(VLOOKUP(Egresados!$H$8:$H$705,Maestros!$D$4:$E$21,2,0)),\"\",VLOOKUP(Egresados!$H$8:$H$705,Maestros!$D$4:$E$21,2,0))","v":"1121"},{"$f":"IF(OR(UPPER(Egresados!$J$8:$J$705)=\"SI\",UPPER(Egresados!$J$8:$J$705)=\"SÍ\"),1,IF(UPPER(Egresados!$J$8:$J$705)=\"NO\",0,\"\"))","v":0},{"$f":"IF(OR(UPPER(Egresados!$R$8:$R$705)=\"SI\",UPPER(Egresados!$R$8:$R$705)=\"SÍ\"),1,IF(UPPER(Egresados!$R$8:$R$705)=\"NO\",0,\"\"))","v":""},{"$f":"IF(OR(UPPER(Egresados!$S$8:$S$705)=\"SI\",UPPER(Egresados!$S$8:$S$705)=\"SÍ\"),1,IF(UPPER(Egresados!$S$8:$S$705)=\"NO\",0,\"\"))","v":""},{"$f":"IF(ISERROR(VLOOKUP(Egresados!$T$8:$T$705,Maestros!$S$31:$T$530,2,0)),\"\",VLOOKUP(Egresados!$T$8:$T$705,Maestros!$S$31:$T$530,2,0))","v":"70"},{"$f":"IF(ISERROR(VLOOKUP(U581,Maestros!$S$31:$T$530,2,0)),\"\",VLOOKUP(U581,Maestros!$S$31:$T$530,2,0))","v":"70"},{"$f":"IF(ISERROR(VLOOKUP(Egresados!$K$8:$K$705,Maestros!$A$31:$B$130,2,0)),\"\",VLOOKUP(Egresados!$K$8:$K$705,Maestros!$A$31:$B$130,2,0))","v":""},{"$f":"IF(LEN(tablaEgresados[[#This Row],[Nota promedio]])>0,ROUND(tablaEgresados[[#This Row],[Nota promedio]],2),\"\")","v":14.24}]
[574,null,"DNI","09805069","MATUTE","-","LUIS","MASCULINO",null,"NO",null,null,null,"2020-1","SEDE CENTRAL","MATEMATICA E INFORMATICA",14.89,null,null,"2012-1","2012-1","20122006@une.edu.pe","lumitma@hotmail.com",3133700,"951791242",{"$f":"IF(ISERROR(VLOOKUP(Egresados!$N$8:$N$705,Maestros!$D$31:$E$530,2,0)),\"\",VLOOKUP(Egresados!$N$8:$N$705,Maestros!$D$31:$E$530,2,0))","v":"223"},{"$f":"IF(ISERROR(VLOOKUP(Egresados!$O582,Maestros!$G$31:$J$1030,2,0)),\"\",VLOOKUP(Egresados!$O582,Maestros!$G$31:$J$1030,2,0))","v":"8"},{"$f":"CONCATENATE(Egresados!$Z$8:$Z$705,\"a\",Egresados!$AA$8:$AA$705)","v":"223a8"},{"$f":"IF(ISERROR(VLOOKUP(Egresados!$P582,Maestros!$L$31:$Q$1030,2,0)),\"\",VLOOKUP(Egresados!$P582,Maestros!$L$31:$Q$1030,2,0))","v":"61"},{"$f":"CONCATENATE(Egresados!$Z$8:$Z$705,\"a\",Egresados!$AA$8:$AA$705,\"a\",Egresados!$AC$8:$AC$705)","v":"223a8a61"},{"$f":"IF(ISERROR(VLOOKUP(Egresados!$C$8:$C$705,Maestros!$A$4:$B$21,2,0)),\"\",VLOOKUP(Egresados!$C$8:$C$705,Maestros!$A$4:$B$21,2,0))","v":"1001"},{"$f":"IF(ISERROR(VLOOKUP(Egresados!$H$8:$H$705,Maestros!$D$4:$E$21,2,0)),\"\",VLOOKUP(Egresados!$H$8:$H$705,Maestros!$D$4:$E$21,2,0))","v":"1121"},{"$f":"IF(OR(UPPER(Egresados!$J$8:$J$705)=\"SI\",UPPER(Egresados!$J$8:$J$705)=\"SÍ\"),1,IF(UPPER(Egresados!$J$8:$J$705)=\"NO\",0,\"\"))","v":0},{"$f":"IF(OR(UPPER(Egresados!$R$8:$R$705)=\"SI\",UPPER(Egresados!$R$8:$R$705)=\"SÍ\"),1,IF(UPPER(Egresados!$R$8:$R$705)=\"NO\",0,\"\"))","v":""},{"$f":"IF(OR(UPPER(Egresados!$S$8:$S$705)=\"SI\",UPPER(Egresados!$S$8:$S$705)=\"SÍ\"),1,IF(UPPER(Egresados!$S$8:$S$705)=\"NO\",0,\"\"))","v":""},{"$f":"IF(ISERROR(VLOOKUP(Egresados!$T$8:$T$705,Maestros!$S$31:$T$530,2,0)),\"\",VLOOKUP(Egresados!$T$8:$T$705,Maestros!$S$31:$T$530,2,0))","v":"50"},{"$f":"IF(ISERROR(VLOOKUP(U582,Maestros!$S$31:$T$530,2,0)),\"\",VLOOKUP(U582,Maestros!$S$31:$T$530,2,0))","v":"50"},{"$f":"IF(ISERROR(VLOOKUP(Egresados!$K$8:$K$705,Maestros!$A$31:$B$130,2,0)),\"\",VLOOKUP(Egresados!$K$8:$K$705,Maestros!$A$31:$B$130,2,0))","v":""},{"$f":"IF(LEN(tablaEgresados[[#This Row],[Nota promedio]])>0,ROUND(tablaEgresados[[#This Row],[Nota promedio]],2),\"\")","v":14.89}]
[{"$f":"ROW()-8","v":575},null,"DNI","73962627","AVILES","GUTIERREZ","LILIAN GEORGETTE","FEMENINO",null,"NO",null,null,null,"2020-1","SEDE CENTRAL","MATEMATICA E INFORMATICA",16.55,null,null,"2015-1","2015-1","20151487@une.edu.pe","georgette.18.04@gmail.com",3133700,"927521110",{"$f":"IF(ISERROR(VLOOKUP(Egresados!$N$8:$N$705,Maestros!$D$31:$E$530,2,0)),\"\",VLOOKUP(Egresados!$N$8:$N$705,Maestros!$D$31:$E$530,2,0))","v":"223"},{"$f":"IF(ISERROR(VLOOKUP(Egresados!$O583,Maestros!$G$31:$J$1030,2,0)),\"\",VLOOKUP(Egresados!$O583,Maestros!$G$31:$J$1030,2,0))","v":"8"},{"$f":"CONCATENATE(Egresados!$Z$8:$Z$705,\"a\",Egresados!$AA$8:$AA$705)","v":"223a8"},{"$f":"IF(ISERROR(VLOOKUP(Egresados!$P583,Maestros!$L$31:$Q$1030,2,0)),\"\",VLOOKUP(Egresados!$P583,Maestros!$L$31:$Q$1030,2,0))","v":"61"},{"$f":"CONCATENATE(Egresados!$Z$8:$Z$705,\"a\",Egresados!$AA$8:$AA$705,\"a\",Egresados!$AC$8:$AC$705)","v":"223a8a61"},{"$f":"IF(ISERROR(VLOOKUP(Egresados!$C$8:$C$705,Maestros!$A$4:$B$21,2,0)),\"\",VLOOKUP(Egresados!$C$8:$C$705,Maestros!$A$4:$B$21,2,0))","v":"1001"},{"$f":"IF(ISERROR(VLOOKUP(Egresados!$H$8:$H$705,Maestros!$D$4:$E$21,2,0)),\"\",VLOOKUP(Egresados!$H$8:$H$705,Maestros!$D$4:$E$21,2,0))","v":"1122"},{"$f":"IF(OR(UPPER(Egresados!$J$8:$J$705)=\"SI\",UPPER(Egresados!$J$8:$J$705)=\"SÍ\"),1,IF(UPPER(Egresados!$J$8:$J$705)=\"NO\",0,\"\"))","v":0},{"$f":"IF(OR(UPPER(Egresados!$R$8:$R$705)=\"SI\",UPPER(Egresados!$R$8:$R$705)=\"SÍ\"),1,IF(UPPER(Egresados!$R$8:$R$705)=\"NO\",0,\"\"))","v":""},{"$f":"IF(OR(UPPER(Egresados!$S$8:$S$705)=\"SI\",UPPER(Egresados!$S$8:$S$705)=\"SÍ\"),1,IF(UPPER(Egresados!$S$8:$S$705)=\"NO\",0,\"\"))","v":""},{"$f":"IF(ISERROR(VLOOKUP(Egresados!$T$8:$T$705,Maestros!$S$31:$T$530,2,0)),\"\",VLOOKUP(Egresados!$T$8:$T$705,Maestros!$S$31:$T$530,2,0))","v":"62"},{"$f":"IF(ISERROR(VLOOKUP(U583,Maestros!$S$31:$T$530,2,0)),\"\",VLOOKUP(U583,Maestros!$S$31:$T$530,2,0))","v":"62"},{"$f":"IF(ISERROR(VLOOKUP(Egresados!$K$8:$K$705,Maestros!$A$31:$B$130,2,0)),\"\",VLOOKUP(Egresados!$K$8:$K$705,Maestros!$A$31:$B$130,2,0))","v":""},{"$f":"IF(LEN(tablaEgresados[[#This Row],[Nota promedio]])>0,ROUND(tablaEgresados[[#This Row],[Nota promedio]],2),\"\")","v":16.55}]
[576,null,"DNI","07504925","HUAMBACHANO","HUAMAN","MARCO ANTONIO","MASCULINO",null,"NO",null,null,null,"2020-1","SEDE CENTRAL","MATEMATICA E INFORMATICA",14.99,null,null,"2017-1","2017-1","20173701@une.edu.pe","marzoesvida@yahoo.es",3133700,"971687157",{"$f":"IF(ISERROR(VLOOKUP(Egresados!$N$8:$N$705,Maestros!$D$31:$E$530,2,0)),\"\",VLOOKUP(Egresados!$N$8:$N$705,Maestros!$D$31:$E$530,2,0))","v":"223"},{"$f":"IF(ISERROR(VLOOKUP(Egresados!$O584,Maestros!$G$31:$J$1030,2,0)),\"\",VLOOKUP(Egresados!$O584,Maestros!$G$31:$J$1030,2,0))","v":"8"},{"$f":"CONCATENATE(Egresados!$Z$8:$Z$705,\"a\",Egresados!$AA$8:$AA$705)","v":"223a8"},{"$f":"IF(ISERROR(VLOOKUP(Egresados!$P584,Maestros!$L$31:$Q$1030,2,0)),\"\",VLOOKUP(Egresados!$P584,Maestros!$L$31:$Q$1030,2,0))","v":"61"},{"$f":"CONCATENATE(Egresados!$Z$8:$Z$705,\"a\",Egresados!$AA$8:$AA$705,\"a\",Egresados!$AC$8:$AC$705)","v":"223a8a61"},{"$f":"IF(ISERROR(VLOOKUP(Egresados!$C$8:$C$705,Maestros!$A$4:$B$21,2,0)),\"\",VLOOKUP(Egresados!$C$8:$C$705,Maestros!$A$4:$B$21,2,0))","v":"1001"},{"$f":"IF(ISERROR(VLOOKUP(Egresados!$H$8:$H$705,Maestros!$D$4:$E$21,2,0)),\"\",VLOOKUP(Egresados!$H$8:$H$705,Maestros!$D$4:$E$21,2,0))","v":"1121"},{"$f":"IF(OR(UPPER(Egresados!$J$8:$J$705)=\"SI\",UPPER(Egresados!$J$8:$J$705)=\"SÍ\"),1,IF(UPPER(Egresados!$J$8:$J$705)=\"NO\",0,\"\"))","v":0},{"$f":"IF(OR(UPPER(Egresados!$R$8:$R$705)=\"SI\",UPPER(Egresados!$R$8:$R$705)=\"SÍ\"),1,IF(UPPER(Egresados!$R$8:$R$705)=\"NO\",0,\"\"))","v":""},{"$f":"IF(OR(UPPER(Egresados!$S$8:$S$705)=\"SI\",UPPER(Egresados!$S$8:$S$705)=\"SÍ\"),1,IF(UPPER(Egresados!$S$8:$S$705)=\"NO\",0,\"\"))","v":""},{"$f":"IF(ISERROR(VLOOKUP(Egresados!$T$8:$T$705,Maestros!$S$31:$T$530,2,0)),\"\",VLOOKUP(Egresados!$T$8:$T$705,Maestros!$S$31:$T$530,2,0))","v":"70"},{"$f":"IF(ISERROR(VLOOKUP(U584,Maestros!$S$31:$T$530,2,0)),\"\",VLOOKUP(U584,Maestros!$S$31:$T$530,2,0))","v":"70"},{"$f":"IF(ISERROR(VLOOKUP(Egresados!$K$8:$K$705,Maestros!$A$31:$B$130,2,0)),\"\",VLOOKUP(Egresados!$K$8:$K$705,Maestros!$A$31:$B$130,2,0))","v":""},{"$f":"IF(LEN(tablaEgresados[[#This Row],[Nota promedio]])>0,ROUND(tablaEgresados[[#This Row],[Nota promedio]],2),\"\")","v":14.99}]
[577,null,"DNI","72758592","JIMENEZ","RIVAS","VICTOR ANGEL","MASCULINO",null,"NO",null,null,null,"2020-1","SEDE CENTRAL","MATEMATICA E INFORMATICA",14.65,null,null,"2012-1","2012-1","20120127@une.edu.pe","vicktorjimenez@live.com",3133700,"969015140",{"$f":"IF(ISERROR(VLOOKUP(Egresados!$N$8:$N$705,Maestros!$D$31:$E$530,2,0)),\"\",VLOOKUP(Egresados!$N$8:$N$705,Maestros!$D$31:$E$530,2,0))","v":"223"},{"$f":"IF(ISERROR(VLOOKUP(Egresados!$O585,Maestros!$G$31:$J$1030,2,0)),\"\",VLOOKUP(Egresados!$O585,Maestros!$G$31:$J$1030,2,0))","v":"8"},{"$f":"CONCATENATE(Egresados!$Z$8:$Z$705,\"a\",Egresados!$AA$8:$AA$705)","v":"223a8"},{"$f":"IF(ISERROR(VLOOKUP(Egresados!$P585,Maestros!$L$31:$Q$1030,2,0)),\"\",VLOOKUP(Egresados!$P585,Maestros!$L$31:$Q$1030,2,0))","v":"61"},{"$f":"CONCATENATE(Egresados!$Z$8:$Z$705,\"a\",Egresados!$AA$8:$AA$705,\"a\",Egresados!$AC$8:$AC$705)","v":"223a8a61"},{"$f":"IF(ISERROR(VLOOKUP(Egresados!$C$8:$C$705,Maestros!$A$4:$B$21,2,0)),\"\",VLOOKUP(Egresados!$C$8:$C$705,Maestros!$A$4:$B$21,2,0))","v":"1001"},{"$f":"IF(ISERROR(VLOOKUP(Egresados!$H$8:$H$705,Maestros!$D$4:$E$21,2,0)),\"\",VLOOKUP(Egresados!$H$8:$H$705,Maestros!$D$4:$E$21,2,0))","v":"1121"},{"$f":"IF(OR(UPPER(Egresados!$J$8:$J$705)=\"SI\",UPPER(Egresados!$J$8:$J$705)=\"SÍ\"),1,IF(UPPER(Egresados!$J$8:$J$705)=\"NO\",0,\"\"))","v":0},{"$f":"IF(OR(UPPER(Egresados!$R$8:$R$705)=\"SI\",UPPER(Egresados!$R$8:$R$705)=\"SÍ\"),1,IF(UPPER(Egresados!$R$8:$R$705)=\"NO\",0,\"\"))","v":""},{"$f":"IF(OR(UPPER(Egresados!$S$8:$S$705)=\"SI\",UPPER(Egresados!$S$8:$S$705)=\"SÍ\"),1,IF(UPPER(Egresados!$S$8:$S$705)=\"NO\",0,\"\"))","v":""},{"$f":"IF(ISERROR(VLOOKUP(Egresados!$T$8:$T$705,Maestros!$S$31:$T$530,2,0)),\"\",VLOOKUP(Egresados!$T$8:$T$705,Maestros!$S$31:$T$530,2,0))","v":"50"},{"$f":"IF(ISERROR(VLOOKUP(U585,Maestros!$S$31:$T$530,2,0)),\"\",VLOOKUP(U585,Maestros!$S$31:$T$530,2,0))","v":"50"},{"$f":"IF(ISERROR(VLOOKUP(Egresados!$K$8:$K$705,Maestros!$A$31:$B$130,2,0)),\"\",VLOOKUP(Egresados!$K$8:$K$705,Maestros!$A$31:$B$130,2,0))","v":""},{"$f":"IF(LEN(tablaEgresados[[#This Row],[Nota promedio]])>0,ROUND(tablaEgresados[[#This Row],[Nota promedio]],2),\"\")","v":14.65}]
[578,null,"DNI","40734617","VILLANUEVA","JARA","ANDREA","FEMENINO",null,"NO",null,null,null,"2020-1","SEDE CENTRAL","MATEMATICA E INFORMATICA",14.28,null,null,"2017-1","2017-1","20173538@une.edu.pe","sagitarioandrea@hotmail.com",3133700,"980903478",{"$f":"IF(ISERROR(VLOOKUP(Egresados!$N$8:$N$705,Maestros!$D$31:$E$530,2,0)),\"\",VLOOKUP(Egresados!$N$8:$N$705,Maestros!$D$31:$E$530,2,0))","v":"223"},{"$f":"IF(ISERROR(VLOOKUP(Egresados!$O586,Maestros!$G$31:$J$1030,2,0)),\"\",VLOOKUP(Egresados!$O586,Maestros!$G$31:$J$1030,2,0))","v":"8"},{"$f":"CONCATENATE(Egresados!$Z$8:$Z$705,\"a\",Egresados!$AA$8:$AA$705)","v":"223a8"},{"$f":"IF(ISERROR(VLOOKUP(Egresados!$P586,Maestros!$L$31:$Q$1030,2,0)),\"\",VLOOKUP(Egresados!$P586,Maestros!$L$31:$Q$1030,2,0))","v":"61"},{"$f":"CONCATENATE(Egresados!$Z$8:$Z$705,\"a\",Egresados!$AA$8:$AA$705,\"a\",Egresados!$AC$8:$AC$705)","v":"223a8a61"},{"$f":"IF(ISERROR(VLOOKUP(Egresados!$C$8:$C$705,Maestros!$A$4:$B$21,2,0)),\"\",VLOOKUP(Egresados!$C$8:$C$705,Maestros!$A$4:$B$21,2,0))","v":"1001"},{"$f":"IF(ISERROR(VLOOKUP(Egresados!$H$8:$H$705,Maestros!$D$4:$E$21,2,0)),\"\",VLOOKUP(Egresados!$H$8:$H$705,Maestros!$D$4:$E$21,2,0))","v":"1122"},{"$f":"IF(OR(UPPER(Egresados!$J$8:$J$705)=\"SI\",UPPER(Egresados!$J$8:$J$705)=\"SÍ\"),1,IF(UPPER(Egresados!$J$8:$J$705)=\"NO\",0,\"\"))","v":0},{"$f":"IF(OR(UPPER(Egresados!$R$8:$R$705)=\"SI\",UPPER(Egresados!$R$8:$R$705)=\"SÍ\"),1,IF(UPPER(Egresados!$R$8:$R$705)=\"NO\",0,\"\"))","v":""},{"$f":"IF(OR(UPPER(Egresados!$S$8:$S$705)=\"SI\",UPPER(Egresados!$S$8:$S$705)=\"SÍ\"),1,IF(UPPER(Egresados!$S$8:$S$705)=\"NO\",0,\"\"))","v":""},{"$f":"IF(ISERROR(VLOOKUP(Egresados!$T$8:$T$705,Maestros!$S$31:$T$530,2,0)),\"\",VLOOKUP(Egresados!$T$8:$T$705,Maestros!$S$31:$T$530,2,0))","v":"70"},{"$f":"IF(ISERROR(VLOOKUP(U586,Maestros!$S$31:$T$530,2,0)),\"\",VLOOKUP(U586,Maestros!$S$31:$T$530,2,0))","v":"70"},{"$f":"IF(ISERROR(VLOOKUP(Egresados!$K$8:$K$705,Maestros!$A$31:$B$130,2,0)),\"\",VLOOKUP(Egresados!$K$8:$K$705,Maestros!$A$31:$B$130,2,0))","v":""},{"$f":"IF(LEN(tablaEgresados[[#This Row],[Nota promedio]])>0,ROUND(tablaEgresados[[#This Row],[Nota promedio]],2),\"\")","v":14.28}]
[579,null,"DNI","73426248","LLOCLLA","ESPEJO","YAMELIT NAYSHA","FEMENINO",null,"NO",null,null,null,"2020-1","SEDE CENTRAL","MATEMATICA E INFORMATICA",16.93,null,null,"2015-1","2015-1","20151503@une.edu.pe","yamelit.lloclla20@gmail.com",3133700,"997276631",{"$f":"IF(ISERROR(VLOOKUP(Egresados!$N$8:$N$705,Maestros!$D$31:$E$530,2,0)),\"\",VLOOKUP(Egresados!$N$8:$N$705,Maestros!$D$31:$E$530,2,0))","v":"223"},{"$f":"IF(ISERROR(VLOOKUP(Egresados!$O587,Maestros!$G$31:$J$1030,2,0)),\"\",VLOOKUP(Egresados!$O587,Maestros!$G$31:$J$1030,2,0))","v":"8"},{"$f":"CONCATENATE(Egresados!$Z$8:$Z$705,\"a\",Egresados!$AA$8:$AA$705)","v":"223a8"},{"$f":"IF(ISERROR(VLOOKUP(Egresados!$P587,Maestros!$L$31:$Q$1030,2,0)),\"\",VLOOKUP(Egresados!$P587,Maestros!$L$31:$Q$1030,2,0))","v":"61"},{"$f":"CONCATENATE(Egresados!$Z$8:$Z$705,\"a\",Egresados!$AA$8:$AA$705,\"a\",Egresados!$AC$8:$AC$705)","v":"223a8a61"},{"$f":"IF(ISERROR(VLOOKUP(Egresados!$C$8:$C$705,Maestros!$A$4:$B$21,2,0)),\"\",VLOOKUP(Egresados!$C$8:$C$705,Maestros!$A$4:$B$21,2,0))","v":"1001"},{"$f":"IF(ISERROR(VLOOKUP(Egresados!$H$8:$H$705,Maestros!$D$4:$E$21,2,0)),\"\",VLOOKUP(Egresados!$H$8:$H$705,Maestros!$D$4:$E$21,2,0))","v":"1122"},{"$f":"IF(OR(UPPER(Egresados!$J$8:$J$705)=\"SI\",UPPER(Egresados!$J$8:$J$705)=\"SÍ\"),1,IF(UPPER(Egresados!$J$8:$J$705)=\"NO\",0,\"\"))","v":0},{"$f":"IF(OR(UPPER(Egresados!$R$8:$R$705)=\"SI\",UPPER(Egresados!$R$8:$R$705)=\"SÍ\"),1,IF(UPPER(Egresados!$R$8:$R$705)=\"NO\",0,\"\"))","v":""},{"$f":"IF(OR(UPPER(Egresados!$S$8:$S$705)=\"SI\",UPPER(Egresados!$S$8:$S$705)=\"SÍ\"),1,IF(UPPER(Egresados!$S$8:$S$705)=\"NO\",0,\"\"))","v":""},{"$f":"IF(ISERROR(VLOOKUP(Egresados!$T$8:$T$705,Maestros!$S$31:$T$530,2,0)),\"\",VLOOKUP(Egresados!$T$8:$T$705,Maestros!$S$31:$T$530,2,0))","v":"62"},{"$f":"IF(ISERROR(VLOOKUP(U587,Maestros!$S$31:$T$530,2,0)),\"\",VLOOKUP(U587,Maestros!$S$31:$T$530,2,0))","v":"62"},{"$f":"IF(ISERROR(VLOOKUP(Egresados!$K$8:$K$705,Maestros!$A$31:$B$130,2,0)),\"\",VLOOKUP(Egresados!$K$8:$K$705,Maestros!$A$31:$B$130,2,0))","v":""},{"$f":"IF(LEN(tablaEgresados[[#This Row],[Nota promedio]])>0,ROUND(tablaEgresados[[#This Row],[Nota promedio]],2),\"\")","v":16.93}]
[580,null,"DNI","40788017","TINTAYA","HUALLPA","PERCY","MASCULINO",null,"NO",null,null,null,"2020-1","SEDE CENTRAL","MATEMATICA E INFORMATICA",15.61,null,null,"2016-1","2016-1","20160092@une.edu.pe","tintayahuallpa@hotmail.com",3133700,"999901849",{"$f":"IF(ISERROR(VLOOKUP(Egresados!$N$8:$N$705,Maestros!$D$31:$E$530,2,0)),\"\",VLOOKUP(Egresados!$N$8:$N$705,Maestros!$D$31:$E$530,2,0))","v":"223"},{"$f":"IF(ISERROR(VLOOKUP(Egresados!$O588,Maestros!$G$31:$J$1030,2,0)),\"\",VLOOKUP(Egresados!$O588,Maestros!$G$31:$J$1030,2,0))","v":"8"},{"$f":"CONCATENATE(Egresados!$Z$8:$Z$705,\"a\",Egresados!$AA$8:$AA$705)","v":"223a8"},{"$f":"IF(ISERROR(VLOOKUP(Egresados!$P588,Maestros!$L$31:$Q$1030,2,0)),\"\",VLOOKUP(Egresados!$P588,Maestros!$L$31:$Q$1030,2,0))","v":"61"},{"$f":"CONCATENATE(Egresados!$Z$8:$Z$705,\"a\",Egresados!$AA$8:$AA$705,\"a\",Egresados!$AC$8:$AC$705)","v":"223a8a61"},{"$f":"IF(ISERROR(VLOOKUP(Egresados!$C$8:$C$705,Maestros!$A$4:$B$21,2,0)),\"\",VLOOKUP(Egresados!$C$8:$C$705,Maestros!$A$4:$B$21,2,0))","v":"1001"},{"$f":"IF(ISERROR(VLOOKUP(Egresados!$H$8:$H$705,Maestros!$D$4:$E$21,2,0)),\"\",VLOOKUP(Egresados!$H$8:$H$705,Maestros!$D$4:$E$21,2,0))","v":"1121"},{"$f":"IF(OR(UPPER(Egresados!$J$8:$J$705)=\"SI\",UPPER(Egresados!$J$8:$J$705)=\"SÍ\"),1,IF(UPPER(Egresados!$J$8:$J$705)=\"NO\",0,\"\"))","v":0},{"$f":"IF(OR(UPPER(Egresados!$R$8:$R$705)=\"SI\",UPPER(Egresados!$R$8:$R$705)=\"SÍ\"),1,IF(UPPER(Egresados!$R$8:$R$705)=\"NO\",0,\"\"))","v":""},{"$f":"IF(OR(UPPER(Egresados!$S$8:$S$705)=\"SI\",UPPER(Egresados!$S$8:$S$705)=\"SÍ\"),1,IF(UPPER(Egresados!$S$8:$S$705)=\"NO\",0,\"\"))","v":""},{"$f":"IF(ISERROR(VLOOKUP(Egresados!$T$8:$T$705,Maestros!$S$31:$T$530,2,0)),\"\",VLOOKUP(Egresados!$T$8:$T$705,Maestros!$S$31:$T$530,2,0))","v":"66"},{"$f":"IF(ISERROR(VLOOKUP(U588,Maestros!$S$31:$T$530,2,0)),\"\",VLOOKUP(U588,Maestros!$S$31:$T$530,2,0))","v":"66"},{"$f":"IF(ISERROR(VLOOKUP(Egresados!$K$8:$K$705,Maestros!$A$31:$B$130,2,0)),\"\",VLOOKUP(Egresados!$K$8:$K$705,Maestros!$A$31:$B$130,2,0))","v":""},{"$f":"IF(LEN(tablaEgresados[[#This Row],[Nota promedio]])>0,ROUND(tablaEgresados[[#This Row],[Nota promedio]],2),\"\")","v":15.61}]
[581,null,"DNI","70022853","JARA","QUISPE","ZENOBIA LAURA","MASCULINO",null,"NO",null,null,null,"2020-1","SEDE CENTRAL","MATEMATICA E INFORMATICA",14.38,null,null,"2009-1","2009-1","20091406@une.edu.pe","laura_15_16_4@hotmail.com",3133700,"940106061",{"$f":"IF(ISERROR(VLOOKUP(Egresados!$N$8:$N$705,Maestros!$D$31:$E$530,2,0)),\"\",VLOOKUP(Egresados!$N$8:$N$705,Maestros!$D$31:$E$530,2,0))","v":"223"},{"$f":"IF(ISERROR(VLOOKUP(Egresados!$O589,Maestros!$G$31:$J$1030,2,0)),\"\",VLOOKUP(Egresados!$O589,Maestros!$G$31:$J$1030,2,0))","v":"8"},{"$f":"CONCATENATE(Egresados!$Z$8:$Z$705,\"a\",Egresados!$AA$8:$AA$705)","v":"223a8"},{"$f":"IF(ISERROR(VLOOKUP(Egresados!$P589,Maestros!$L$31:$Q$1030,2,0)),\"\",VLOOKUP(Egresados!$P589,Maestros!$L$31:$Q$1030,2,0))","v":"61"},{"$f":"CONCATENATE(Egresados!$Z$8:$Z$705,\"a\",Egresados!$AA$8:$AA$705,\"a\",Egresados!$AC$8:$AC$705)","v":"223a8a61"},{"$f":"IF(ISERROR(VLOOKUP(Egresados!$C$8:$C$705,Maestros!$A$4:$B$21,2,0)),\"\",VLOOKUP(Egresados!$C$8:$C$705,Maestros!$A$4:$B$21,2,0))","v":"1001"},{"$f":"IF(ISERROR(VLOOKUP(Egresados!$H$8:$H$705,Maestros!$D$4:$E$21,2,0)),\"\",VLOOKUP(Egresados!$H$8:$H$705,Maestros!$D$4:$E$21,2,0))","v":"1121"},{"$f":"IF(OR(UPPER(Egresados!$J$8:$J$705)=\"SI\",UPPER(Egresados!$J$8:$J$705)=\"SÍ\"),1,IF(UPPER(Egresados!$J$8:$J$705)=\"NO\",0,\"\"))","v":0},{"$f":"IF(OR(UPPER(Egresados!$R$8:$R$705)=\"SI\",UPPER(Egresados!$R$8:$R$705)=\"SÍ\"),1,IF(UPPER(Egresados!$R$8:$R$705)=\"NO\",0,\"\"))","v":""},{"$f":"IF(OR(UPPER(Egresados!$S$8:$S$705)=\"SI\",UPPER(Egresados!$S$8:$S$705)=\"SÍ\"),1,IF(UPPER(Egresados!$S$8:$S$705)=\"NO\",0,\"\"))","v":""},{"$f":"IF(ISERROR(VLOOKUP(Egresados!$T$8:$T$705,Maestros!$S$31:$T$530,2,0)),\"\",VLOOKUP(Egresados!$T$8:$T$705,Maestros!$S$31:$T$530,2,0))","v":"38"},{"$f":"IF(ISERROR(VLOOKUP(U589,Maestros!$S$31:$T$530,2,0)),\"\",VLOOKUP(U589,Maestros!$S$31:$T$530,2,0))","v":"38"},{"$f":"IF(ISERROR(VLOOKUP(Egresados!$K$8:$K$705,Maestros!$A$31:$B$130,2,0)),\"\",VLOOKUP(Egresados!$K$8:$K$705,Maestros!$A$31:$B$130,2,0))","v":""},{"$f":"IF(LEN(tablaEgresados[[#This Row],[Nota promedio]])>0,ROUND(tablaEgresados[[#This Row],[Nota promedio]],2),\"\")","v":14.38}]
[582,null,"DNI","21556488","ZEA","RAMOS","RUTH FLOR","FEMENINO",null,"NO",null,null,null,"2020-1","SEDE CENTRAL","MATEMATICA E INFORMATICA",14.91,null,null,"2005-1","2005-1","20050405@une.edu.pe","ruzera@hotmail.com",3133700,"976727140",{"$f":"IF(ISERROR(VLOOKUP(Egresados!$N$8:$N$705,Maestros!$D$31:$E$530,2,0)),\"\",VLOOKUP(Egresados!$N$8:$N$705,Maestros!$D$31:$E$530,2,0))","v":"223"},{"$f":"IF(ISERROR(VLOOKUP(Egresados!$O590,Maestros!$G$31:$J$1030,2,0)),\"\",VLOOKUP(Egresados!$O590,Maestros!$G$31:$J$1030,2,0))","v":"8"},{"$f":"CONCATENATE(Egresados!$Z$8:$Z$705,\"a\",Egresados!$AA$8:$AA$705)","v":"223a8"},{"$f":"IF(ISERROR(VLOOKUP(Egresados!$P590,Maestros!$L$31:$Q$1030,2,0)),\"\",VLOOKUP(Egresados!$P590,Maestros!$L$31:$Q$1030,2,0))","v":"61"},{"$f":"CONCATENATE(Egresados!$Z$8:$Z$705,\"a\",Egresados!$AA$8:$AA$705,\"a\",Egresados!$AC$8:$AC$705)","v":"223a8a61"},{"$f":"IF(ISERROR(VLOOKUP(Egresados!$C$8:$C$705,Maestros!$A$4:$B$21,2,0)),\"\",VLOOKUP(Egresados!$C$8:$C$705,Maestros!$A$4:$B$21,2,0))","v":"1001"},{"$f":"IF(ISERROR(VLOOKUP(Egresados!$H$8:$H$705,Maestros!$D$4:$E$21,2,0)),\"\",VLOOKUP(Egresados!$H$8:$H$705,Maestros!$D$4:$E$21,2,0))","v":"1122"},{"$f":"IF(OR(UPPER(Egresados!$J$8:$J$705)=\"SI\",UPPER(Egresados!$J$8:$J$705)=\"SÍ\"),1,IF(UPPER(Egresados!$J$8:$J$705)=\"NO\",0,\"\"))","v":0},{"$f":"IF(OR(UPPER(Egresados!$R$8:$R$705)=\"SI\",UPPER(Egresados!$R$8:$R$705)=\"SÍ\"),1,IF(UPPER(Egresados!$R$8:$R$705)=\"NO\",0,\"\"))","v":""},{"$f":"IF(OR(UPPER(Egresados!$S$8:$S$705)=\"SI\",UPPER(Egresados!$S$8:$S$705)=\"SÍ\"),1,IF(UPPER(Egresados!$S$8:$S$705)=\"NO\",0,\"\"))","v":""},{"$f":"IF(ISERROR(VLOOKUP(Egresados!$T$8:$T$705,Maestros!$S$31:$T$530,2,0)),\"\",VLOOKUP(Egresados!$T$8:$T$705,Maestros!$S$31:$T$530,2,0))","v":"22"},{"$f":"IF(ISERROR(VLOOKUP(U590,Maestros!$S$31:$T$530,2,0)),\"\",VLOOKUP(U590,Maestros!$S$31:$T$530,2,0))","v":"22"},{"$f":"IF(ISERROR(VLOOKUP(Egresados!$K$8:$K$705,Maestros!$A$31:$B$130,2,0)),\"\",VLOOKUP(Egresados!$K$8:$K$705,Maestros!$A$31:$B$130,2,0))","v":""},{"$f":"IF(LEN(tablaEgresados[[#This Row],[Nota promedio]])>0,ROUND(tablaEgresados[[#This Row],[Nota promedio]],2),\"\")","v":14.91}]
[583,null,"DNI","72682263","SOTELO","LINARES","YEISON ARTURO","MASCULINO",null,"NO",null,null,null,"2020-1","SEDE CENTRAL","MATEMATICA E INFORMATICA",18.23,null,null,"2015-1","2015-1","20151514@une.edu.pe","arturo.sotelo@outlook.com",3133700,"941143875",{"$f":"IF(ISERROR(VLOOKUP(Egresados!$N$8:$N$705,Maestros!$D$31:$E$530,2,0)),\"\",VLOOKUP(Egresados!$N$8:$N$705,Maestros!$D$31:$E$530,2,0))","v":"223"},{"$f":"IF(ISERROR(VLOOKUP(Egresados!$O591,Maestros!$G$31:$J$1030,2,0)),\"\",VLOOKUP(Egresados!$O591,Maestros!$G$31:$J$1030,2,0))","v":"8"},{"$f":"CONCATENATE(Egresados!$Z$8:$Z$705,\"a\",Egresados!$AA$8:$AA$705)","v":"223a8"},{"$f":"IF(ISERROR(VLOOKUP(Egresados!$P591,Maestros!$L$31:$Q$1030,2,0)),\"\",VLOOKUP(Egresados!$P591,Maestros!$L$31:$Q$1030,2,0))","v":"61"},{"$f":"CONCATENATE(Egresados!$Z$8:$Z$705,\"a\",Egresados!$AA$8:$AA$705,\"a\",Egresados!$AC$8:$AC$705)","v":"223a8a61"},{"$f":"IF(ISERROR(VLOOKUP(Egresados!$C$8:$C$705,Maestros!$A$4:$B$21,2,0)),\"\",VLOOKUP(Egresados!$C$8:$C$705,Maestros!$A$4:$B$21,2,0))","v":"1001"},{"$f":"IF(ISERROR(VLOOKUP(Egresados!$H$8:$H$705,Maestros!$D$4:$E$21,2,0)),\"\",VLOOKUP(Egresados!$H$8:$H$705,Maestros!$D$4:$E$21,2,0))","v":"1121"},{"$f":"IF(OR(UPPER(Egresados!$J$8:$J$705)=\"SI\",UPPER(Egresados!$J$8:$J$705)=\"SÍ\"),1,IF(UPPER(Egresados!$J$8:$J$705)=\"NO\",0,\"\"))","v":0},{"$f":"IF(OR(UPPER(Egresados!$R$8:$R$705)=\"SI\",UPPER(Egresados!$R$8:$R$705)=\"SÍ\"),1,IF(UPPER(Egresados!$R$8:$R$705)=\"NO\",0,\"\"))","v":""},{"$f":"IF(OR(UPPER(Egresados!$S$8:$S$705)=\"SI\",UPPER(Egresados!$S$8:$S$705)=\"SÍ\"),1,IF(UPPER(Egresados!$S$8:$S$705)=\"NO\",0,\"\"))","v":""},{"$f":"IF(ISERROR(VLOOKUP(Egresados!$T$8:$T$705,Maestros!$S$31:$T$530,2,0)),\"\",VLOOKUP(Egresados!$T$8:$T$705,Maestros!$S$31:$T$530,2,0))","v":"62"},{"$f":"IF(ISERROR(VLOOKUP(U591,Maestros!$S$31:$T$530,2,0)),\"\",VLOOKUP(U591,Maestros!$S$31:$T$530,2,0))","v":"62"},{"$f":"IF(ISERROR(VLOOKUP(Egresados!$K$8:$K$705,Maestros!$A$31:$B$130,2,0)),\"\",VLOOKUP(Egresados!$K$8:$K$705,Maestros!$A$31:$B$130,2,0))","v":""},{"$f":"IF(LEN(tablaEgresados[[#This Row],[Nota promedio]])>0,ROUND(tablaEgresados[[#This Row],[Nota promedio]],2),\"\")","v":18.23}]
[584,null,"DNI","73061639","RODRIGUEZ","ESTELA","RENZO HENDERSON","MASCULINO",null,"NO",null,null,null,"2020-1","SEDE CENTRAL","MATEMATICA E INFORMATICA",13.46,null,null,"2015-1","2015-1","20151511@une.edu.pe","rodriguez_07_97@hotmail.com",3133700,"924899251",{"$f":"IF(ISERROR(VLOOKUP(Egresados!$N$8:$N$705,Maestros!$D$31:$E$530,2,0)),\"\",VLOOKUP(Egresados!$N$8:$N$705,Maestros!$D$31:$E$530,2,0))","v":"223"},{"$f":"IF(ISERROR(VLOOKUP(Egresados!$O592,Maestros!$G$31:$J$1030,2,0)),\"\",VLOOKUP(Egresados!$O592,Maestros!$G$31:$J$1030,2,0))","v":"8"},{"$f":"CONCATENATE(Egresados!$Z$8:$Z$705,\"a\",Egresados!$AA$8:$AA$705)","v":"223a8"},{"$f":"IF(ISERROR(VLOOKUP(Egresados!$P592,Maestros!$L$31:$Q$1030,2,0)),\"\",VLOOKUP(Egresados!$P592,Maestros!$L$31:$Q$1030,2,0))","v":"61"},{"$f":"CONCATENATE(Egresados!$Z$8:$Z$705,\"a\",Egresados!$AA$8:$AA$705,\"a\",Egresados!$AC$8:$AC$705)","v":"223a8a61"},{"$f":"IF(ISERROR(VLOOKUP(Egresados!$C$8:$C$705,Maestros!$A$4:$B$21,2,0)),\"\",VLOOKUP(Egresados!$C$8:$C$705,Maestros!$A$4:$B$21,2,0))","v":"1001"},{"$f":"IF(ISERROR(VLOOKUP(Egresados!$H$8:$H$705,Maestros!$D$4:$E$21,2,0)),\"\",VLOOKUP(Egresados!$H$8:$H$705,Maestros!$D$4:$E$21,2,0))","v":"1121"},{"$f":"IF(OR(UPPER(Egresados!$J$8:$J$705)=\"SI\",UPPER(Egresados!$J$8:$J$705)=\"SÍ\"),1,IF(UPPER(Egresados!$J$8:$J$705)=\"NO\",0,\"\"))","v":0},{"$f":"IF(OR(UPPER(Egresados!$R$8:$R$705)=\"SI\",UPPER(Egresados!$R$8:$R$705)=\"SÍ\"),1,IF(UPPER(Egresados!$R$8:$R$705)=\"NO\",0,\"\"))","v":""},{"$f":"IF(OR(UPPER(Egresados!$S$8:$S$705)=\"SI\",UPPER(Egresados!$S$8:$S$705)=\"SÍ\"),1,IF(UPPER(Egresados!$S$8:$S$705)=\"NO\",0,\"\"))","v":""},{"$f":"IF(ISERROR(VLOOKUP(Egresados!$T$8:$T$705,Maestros!$S$31:$T$530,2,0)),\"\",VLOOKUP(Egresados!$T$8:$T$705,Maestros!$S$31:$T$530,2,0))","v":"62"},{"$f":"IF(ISERROR(VLOOKUP(U592,Maestros!$S$31:$T$530,2,0)),\"\",VLOOKUP(U592,Maestros!$S$31:$T$530,2,0))","v":"62"},{"$f":"IF(ISERROR(VLOOKUP(Egresados!$K$8:$K$705,Maestros!$A$31:$B$130,2,0)),\"\",VLOOKUP(Egresados!$K$8:$K$705,Maestros!$A$31:$B$130,2,0))","v":""},{"$f":"IF(LEN(tablaEgresados[[#This Row],[Nota promedio]])>0,ROUND(tablaEgresados[[#This Row],[Nota promedio]],2),\"\")","v":13.46}]
[585,null,"DNI","07251378","CARRASCO","QUISPE","ROBERT FERNANDO","MASCULINO",null,"NO",null,null,null,"2020-1","SEDE CENTRAL","MATEMATICA E INFORMATICA",13.93,null,null,"2010-1","2010-1","20104635@une.edu.pe","robertcarrasco.fq@hotmail.com",3133700,976486001,{"$f":"IF(ISERROR(VLOOKUP(Egresados!$N$8:$N$705,Maestros!$D$31:$E$530,2,0)),\"\",VLOOKUP(Egresados!$N$8:$N$705,Maestros!$D$31:$E$530,2,0))","v":"223"},{"$f":"IF(ISERROR(VLOOKUP(Egresados!$O593,Maestros!$G$31:$J$1030,2,0)),\"\",VLOOKUP(Egresados!$O593,Maestros!$G$31:$J$1030,2,0))","v":"8"},{"$f":"CONCATENATE(Egresados!$Z$8:$Z$705,\"a\",Egresados!$AA$8:$AA$705)","v":"223a8"},{"$f":"IF(ISERROR(VLOOKUP(Egresados!$P593,Maestros!$L$31:$Q$1030,2,0)),\"\",VLOOKUP(Egresados!$P593,Maestros!$L$31:$Q$1030,2,0))","v":"61"},{"$f":"CONCATENATE(Egresados!$Z$8:$Z$705,\"a\",Egresados!$AA$8:$AA$705,\"a\",Egresados!$AC$8:$AC$705)","v":"223a8a61"},{"$f":"IF(ISERROR(VLOOKUP(Egresados!$C$8:$C$705,Maestros!$A$4:$B$21,2,0)),\"\",VLOOKUP(Egresados!$C$8:$C$705,Maestros!$A$4:$B$21,2,0))","v":"1001"},{"$f":"IF(ISERROR(VLOOKUP(Egresados!$H$8:$H$705,Maestros!$D$4:$E$21,2,0)),\"\",VLOOKUP(Egresados!$H$8:$H$705,Maestros!$D$4:$E$21,2,0))","v":"1121"},{"$f":"IF(OR(UPPER(Egresados!$J$8:$J$705)=\"SI\",UPPER(Egresados!$J$8:$J$705)=\"SÍ\"),1,IF(UPPER(Egresados!$J$8:$J$705)=\"NO\",0,\"\"))","v":0},{"$f":"IF(OR(UPPER(Egresados!$R$8:$R$705)=\"SI\",UPPER(Egresados!$R$8:$R$705)=\"SÍ\"),1,IF(UPPER(Egresados!$R$8:$R$705)=\"NO\",0,\"\"))","v":""},{"$f":"IF(OR(UPPER(Egresados!$S$8:$S$705)=\"SI\",UPPER(Egresados!$S$8:$S$705)=\"SÍ\"),1,IF(UPPER(Egresados!$S$8:$S$705)=\"NO\",0,\"\"))","v":""},{"$f":"IF(ISERROR(VLOOKUP(Egresados!$T$8:$T$705,Maestros!$S$31:$T$530,2,0)),\"\",VLOOKUP(Egresados!$T$8:$T$705,Maestros!$S$31:$T$530,2,0))","v":"42"},{"$f":"IF(ISERROR(VLOOKUP(U593,Maestros!$S$31:$T$530,2,0)),\"\",VLOOKUP(U593,Maestros!$S$31:$T$530,2,0))","v":"42"},{"$f":"IF(ISERROR(VLOOKUP(Egresados!$K$8:$K$705,Maestros!$A$31:$B$130,2,0)),\"\",VLOOKUP(Egresados!$K$8:$K$705,Maestros!$A$31:$B$130,2,0))","v":""},{"$f":"IF(LEN(tablaEgresados[[#This Row],[Nota promedio]])>0,ROUND(tablaEgresados[[#This Row],[Nota promedio]],2),\"\")","v":13.93}]
[586,null,"DNI","42374613","VELITA","VEGA","WALTER DAVID","MASCULINO",null,"NO",null,null,null,"2020-1","SEDE CENTRAL","MATEMATICA E INFORMATICA",15.31,null,null,"2017-1","2017-1","20172428@une.edu.pe","velveg@outlook.com",3133700,"991294529",{"$f":"IF(ISERROR(VLOOKUP(Egresados!$N$8:$N$705,Maestros!$D$31:$E$530,2,0)),\"\",VLOOKUP(Egresados!$N$8:$N$705,Maestros!$D$31:$E$530,2,0))","v":"223"},{"$f":"IF(ISERROR(VLOOKUP(Egresados!$O594,Maestros!$G$31:$J$1030,2,0)),\"\",VLOOKUP(Egresados!$O594,Maestros!$G$31:$J$1030,2,0))","v":"8"},{"$f":"CONCATENATE(Egresados!$Z$8:$Z$705,\"a\",Egresados!$AA$8:$AA$705)","v":"223a8"},{"$f":"IF(ISERROR(VLOOKUP(Egresados!$P594,Maestros!$L$31:$Q$1030,2,0)),\"\",VLOOKUP(Egresados!$P594,Maestros!$L$31:$Q$1030,2,0))","v":"61"},{"$f":"CONCATENATE(Egresados!$Z$8:$Z$705,\"a\",Egresados!$AA$8:$AA$705,\"a\",Egresados!$AC$8:$AC$705)","v":"223a8a61"},{"$f":"IF(ISERROR(VLOOKUP(Egresados!$C$8:$C$705,Maestros!$A$4:$B$21,2,0)),\"\",VLOOKUP(Egresados!$C$8:$C$705,Maestros!$A$4:$B$21,2,0))","v":"1001"},{"$f":"IF(ISERROR(VLOOKUP(Egresados!$H$8:$H$705,Maestros!$D$4:$E$21,2,0)),\"\",VLOOKUP(Egresados!$H$8:$H$705,Maestros!$D$4:$E$21,2,0))","v":"1121"},{"$f":"IF(OR(UPPER(Egresados!$J$8:$J$705)=\"SI\",UPPER(Egresados!$J$8:$J$705)=\"SÍ\"),1,IF(UPPER(Egresados!$J$8:$J$705)=\"NO\",0,\"\"))","v":0},{"$f":"IF(OR(UPPER(Egresados!$R$8:$R$705)=\"SI\",UPPER(Egresados!$R$8:$R$705)=\"SÍ\"),1,IF(UPPER(Egresados!$R$8:$R$705)=\"NO\",0,\"\"))","v":""},{"$f":"IF(OR(UPPER(Egresados!$S$8:$S$705)=\"SI\",UPPER(Egresados!$S$8:$S$705)=\"SÍ\"),1,IF(UPPER(Egresados!$S$8:$S$705)=\"NO\",0,\"\"))","v":""},{"$f":"IF(ISERROR(VLOOKUP(Egresados!$T$8:$T$705,Maestros!$S$31:$T$530,2,0)),\"\",VLOOKUP(Egresados!$T$8:$T$705,Maestros!$S$31:$T$530,2,0))","v":"70"},{"$f":"IF(ISERROR(VLOOKUP(U594,Maestros!$S$31:$T$530,2,0)),\"\",VLOOKUP(U594,Maestros!$S$31:$T$530,2,0))","v":"70"},{"$f":"IF(ISERROR(VLOOKUP(Egresados!$K$8:$K$705,Maestros!$A$31:$B$130,2,0)),\"\",VLOOKUP(Egresados!$K$8:$K$705,Maestros!$A$31:$B$130,2,0))","v":""},{"$f":"IF(LEN(tablaEgresados[[#This Row],[Nota promedio]])>0,ROUND(tablaEgresados[[#This Row],[Nota promedio]],2),\"\")","v":15.31}]
[587,null,"CE","000938869","NOBILE","-","STEFANO","MASCULINO",null,"NO",null,null,null,"2020-1","SEDE CENTRAL","MATEMATICA E INFORMATICA",15.79,null,null,"2016-1","2016-1","20163794@une.edu.pe","stefanobile@gmail.com",3133700,"967654463",{"$f":"IF(ISERROR(VLOOKUP(Egresados!$N$8:$N$705,Maestros!$D$31:$E$530,2,0)),\"\",VLOOKUP(Egresados!$N$8:$N$705,Maestros!$D$31:$E$530,2,0))","v":"223"},{"$f":"IF(ISERROR(VLOOKUP(Egresados!$O595,Maestros!$G$31:$J$1030,2,0)),\"\",VLOOKUP(Egresados!$O595,Maestros!$G$31:$J$1030,2,0))","v":"8"},{"$f":"CONCATENATE(Egresados!$Z$8:$Z$705,\"a\",Egresados!$AA$8:$AA$705)","v":"223a8"},{"$f":"IF(ISERROR(VLOOKUP(Egresados!$P595,Maestros!$L$31:$Q$1030,2,0)),\"\",VLOOKUP(Egresados!$P595,Maestros!$L$31:$Q$1030,2,0))","v":"61"},{"$f":"CONCATENATE(Egresados!$Z$8:$Z$705,\"a\",Egresados!$AA$8:$AA$705,\"a\",Egresados!$AC$8:$AC$705)","v":"223a8a61"},{"$f":"IF(ISERROR(VLOOKUP(Egresados!$C$8:$C$705,Maestros!$A$4:$B$21,2,0)),\"\",VLOOKUP(Egresados!$C$8:$C$705,Maestros!$A$4:$B$21,2,0))","v":"1002"},{"$f":"IF(ISERROR(VLOOKUP(Egresados!$H$8:$H$705,Maestros!$D$4:$E$21,2,0)),\"\",VLOOKUP(Egresados!$H$8:$H$705,Maestros!$D$4:$E$21,2,0))","v":"1121"},{"$f":"IF(OR(UPPER(Egresados!$J$8:$J$705)=\"SI\",UPPER(Egresados!$J$8:$J$705)=\"SÍ\"),1,IF(UPPER(Egresados!$J$8:$J$705)=\"NO\",0,\"\"))","v":0},{"$f":"IF(OR(UPPER(Egresados!$R$8:$R$705)=\"SI\",UPPER(Egresados!$R$8:$R$705)=\"SÍ\"),1,IF(UPPER(Egresados!$R$8:$R$705)=\"NO\",0,\"\"))","v":""},{"$f":"IF(OR(UPPER(Egresados!$S$8:$S$705)=\"SI\",UPPER(Egresados!$S$8:$S$705)=\"SÍ\"),1,IF(UPPER(Egresados!$S$8:$S$705)=\"NO\",0,\"\"))","v":""},{"$f":"IF(ISERROR(VLOOKUP(Egresados!$T$8:$T$705,Maestros!$S$31:$T$530,2,0)),\"\",VLOOKUP(Egresados!$T$8:$T$705,Maestros!$S$31:$T$530,2,0))","v":"66"},{"$f":"IF(ISERROR(VLOOKUP(U595,Maestros!$S$31:$T$530,2,0)),\"\",VLOOKUP(U595,Maestros!$S$31:$T$530,2,0))","v":"66"},{"$f":"IF(ISERROR(VLOOKUP(Egresados!$K$8:$K$705,Maestros!$A$31:$B$130,2,0)),\"\",VLOOKUP(Egresados!$K$8:$K$705,Maestros!$A$31:$B$130,2,0))","v":""},{"$f":"IF(LEN(tablaEgresados[[#This Row],[Nota promedio]])>0,ROUND(tablaEgresados[[#This Row],[Nota promedio]],2),\"\")","v":15.79}]
[588,null,"DNI","76295391","SAMBRANO","ATAHUAMAN","GABRIELA KARLA","FEMENINO",null,"NO",null,null,null,"2020-1","SEDE CENTRAL","MATEMATICA E INFORMATICA",14.82,null,null,"2012-1","2012-1","20120134@une.edu.pe","karlaatahuaman@gmail.com",3133700,"958909747",{"$f":"IF(ISERROR(VLOOKUP(Egresados!$N$8:$N$705,Maestros!$D$31:$E$530,2,0)),\"\",VLOOKUP(Egresados!$N$8:$N$705,Maestros!$D$31:$E$530,2,0))","v":"223"},{"$f":"IF(ISERROR(VLOOKUP(Egresados!$O596,Maestros!$G$31:$J$1030,2,0)),\"\",VLOOKUP(Egresados!$O596,Maestros!$G$31:$J$1030,2,0))","v":"8"},{"$f":"CONCATENATE(Egresados!$Z$8:$Z$705,\"a\",Egresados!$AA$8:$AA$705)","v":"223a8"},{"$f":"IF(ISERROR(VLOOKUP(Egresados!$P596,Maestros!$L$31:$Q$1030,2,0)),\"\",VLOOKUP(Egresados!$P596,Maestros!$L$31:$Q$1030,2,0))","v":"61"},{"$f":"CONCATENATE(Egresados!$Z$8:$Z$705,\"a\",Egresados!$AA$8:$AA$705,\"a\",Egresados!$AC$8:$AC$705)","v":"223a8a61"},{"$f":"IF(ISERROR(VLOOKUP(Egresados!$C$8:$C$705,Maestros!$A$4:$B$21,2,0)),\"\",VLOOKUP(Egresados!$C$8:$C$705,Maestros!$A$4:$B$21,2,0))","v":"1001"},{"$f":"IF(ISERROR(VLOOKUP(Egresados!$H$8:$H$705,Maestros!$D$4:$E$21,2,0)),\"\",VLOOKUP(Egresados!$H$8:$H$705,Maestros!$D$4:$E$21,2,0))","v":"1122"},{"$f":"IF(OR(UPPER(Egresados!$J$8:$J$705)=\"SI\",UPPER(Egresados!$J$8:$J$705)=\"SÍ\"),1,IF(UPPER(Egresados!$J$8:$J$705)=\"NO\",0,\"\"))","v":0},{"$f":"IF(OR(UPPER(Egresados!$R$8:$R$705)=\"SI\",UPPER(Egresados!$R$8:$R$705)=\"SÍ\"),1,IF(UPPER(Egresados!$R$8:$R$705)=\"NO\",0,\"\"))","v":""},{"$f":"IF(OR(UPPER(Egresados!$S$8:$S$705)=\"SI\",UPPER(Egresados!$S$8:$S$705)=\"SÍ\"),1,IF(UPPER(Egresados!$S$8:$S$705)=\"NO\",0,\"\"))","v":""},{"$f":"IF(ISERROR(VLOOKUP(Egresados!$T$8:$T$705,Maestros!$S$31:$T$530,2,0)),\"\",VLOOKUP(Egresados!$T$8:$T$705,Maestros!$S$31:$T$530,2,0))","v":"50"},{"$f":"IF(ISERROR(VLOOKUP(U596,Maestros!$S$31:$T$530,2,0)),\"\",VLOOKUP(U596,Maestros!$S$31:$T$530,2,0))","v":"50"},{"$f":"IF(ISERROR(VLOOKUP(Egresados!$K$8:$K$705,Maestros!$A$31:$B$130,2,0)),\"\",VLOOKUP(Egresados!$K$8:$K$705,Maestros!$A$31:$B$130,2,0))","v":""},{"$f":"IF(LEN(tablaEgresados[[#This Row],[Nota promedio]])>0,ROUND(tablaEgresados[[#This Row],[Nota promedio]],2),\"\")","v":14.82}]
[589,null,"DNI","40281716","QUISPE","AUQUI","JANET SONIA","FEMENINO",null,"NO",null,null,null,"2020-1","SEDE CENTRAL","MATEMATICA E INFORMATICA",14.65,null,null,"2017-1","2017-1","20173702@une.edu.pe","soniajqa@hotmail.com",3133700,"941382905",{"$f":"IF(ISERROR(VLOOKUP(Egresados!$N$8:$N$705,Maestros!$D$31:$E$530,2,0)),\"\",VLOOKUP(Egresados!$N$8:$N$705,Maestros!$D$31:$E$530,2,0))","v":"223"},{"$f":"IF(ISERROR(VLOOKUP(Egresados!$O597,Maestros!$G$31:$J$1030,2,0)),\"\",VLOOKUP(Egresados!$O597,Maestros!$G$31:$J$1030,2,0))","v":"8"},{"$f":"CONCATENATE(Egresados!$Z$8:$Z$705,\"a\",Egresados!$AA$8:$AA$705)","v":"223a8"},{"$f":"IF(ISERROR(VLOOKUP(Egresados!$P597,Maestros!$L$31:$Q$1030,2,0)),\"\",VLOOKUP(Egresados!$P597,Maestros!$L$31:$Q$1030,2,0))","v":"61"},{"$f":"CONCATENATE(Egresados!$Z$8:$Z$705,\"a\",Egresados!$AA$8:$AA$705,\"a\",Egresados!$AC$8:$AC$705)","v":"223a8a61"},{"$f":"IF(ISERROR(VLOOKUP(Egresados!$C$8:$C$705,Maestros!$A$4:$B$21,2,0)),\"\",VLOOKUP(Egresados!$C$8:$C$705,Maestros!$A$4:$B$21,2,0))","v":"1001"},{"$f":"IF(ISERROR(VLOOKUP(Egresados!$H$8:$H$705,Maestros!$D$4:$E$21,2,0)),\"\",VLOOKUP(Egresados!$H$8:$H$705,Maestros!$D$4:$E$21,2,0))","v":"1122"},{"$f":"IF(OR(UPPER(Egresados!$J$8:$J$705)=\"SI\",UPPER(Egresados!$J$8:$J$705)=\"SÍ\"),1,IF(UPPER(Egresados!$J$8:$J$705)=\"NO\",0,\"\"))","v":0},{"$f":"IF(OR(UPPER(Egresados!$R$8:$R$705)=\"SI\",UPPER(Egresados!$R$8:$R$705)=\"SÍ\"),1,IF(UPPER(Egresados!$R$8:$R$705)=\"NO\",0,\"\"))","v":""},{"$f":"IF(OR(UPPER(Egresados!$S$8:$S$705)=\"SI\",UPPER(Egresados!$S$8:$S$705)=\"SÍ\"),1,IF(UPPER(Egresados!$S$8:$S$705)=\"NO\",0,\"\"))","v":""},{"$f":"IF(ISERROR(VLOOKUP(Egresados!$T$8:$T$705,Maestros!$S$31:$T$530,2,0)),\"\",VLOOKUP(Egresados!$T$8:$T$705,Maestros!$S$31:$T$530,2,0))","v":"70"},{"$f":"IF(ISERROR(VLOOKUP(U597,Maestros!$S$31:$T$530,2,0)),\"\",VLOOKUP(U597,Maestros!$S$31:$T$530,2,0))","v":"70"},{"$f":"IF(ISERROR(VLOOKUP(Egresados!$K$8:$K$705,Maestros!$A$31:$B$130,2,0)),\"\",VLOOKUP(Egresados!$K$8:$K$705,Maestros!$A$31:$B$130,2,0))","v":""},{"$f":"IF(LEN(tablaEgresados[[#This Row],[Nota promedio]])>0,ROUND(tablaEgresados[[#This Row],[Nota promedio]],2),\"\")","v":14.65}]
[590,null,"DNI","08137762","HUAMANI","POLO","JAIME JAVIER","MASCULINO",null,"NO",null,null,null,"2020-1","SEDE CENTRAL","MATEMATICA E INFORMATICA",15.89,null,null,"2014-1","2014-1","20142745@une.edu.pe","jaimepolo1970@hotmail.com",3133700,"999417618",{"$f":"IF(ISERROR(VLOOKUP(Egresados!$N$8:$N$705,Maestros!$D$31:$E$530,2,0)),\"\",VLOOKUP(Egresados!$N$8:$N$705,Maestros!$D$31:$E$530,2,0))","v":"223"},{"$f":"IF(ISERROR(VLOOKUP(Egresados!$O598,Maestros!$G$31:$J$1030,2,0)),\"\",VLOOKUP(Egresados!$O598,Maestros!$G$31:$J$1030,2,0))","v":"8"},{"$f":"CONCATENATE(Egresados!$Z$8:$Z$705,\"a\",Egresados!$AA$8:$AA$705)","v":"223a8"},{"$f":"IF(ISERROR(VLOOKUP(Egresados!$P598,Maestros!$L$31:$Q$1030,2,0)),\"\",VLOOKUP(Egresados!$P598,Maestros!$L$31:$Q$1030,2,0))","v":"61"},{"$f":"CONCATENATE(Egresados!$Z$8:$Z$705,\"a\",Egresados!$AA$8:$AA$705,\"a\",Egresados!$AC$8:$AC$705)","v":"223a8a61"},{"$f":"IF(ISERROR(VLOOKUP(Egresados!$C$8:$C$705,Maestros!$A$4:$B$21,2,0)),\"\",VLOOKUP(Egresados!$C$8:$C$705,Maestros!$A$4:$B$21,2,0))","v":"1001"},{"$f":"IF(ISERROR(VLOOKUP(Egresados!$H$8:$H$705,Maestros!$D$4:$E$21,2,0)),\"\",VLOOKUP(Egresados!$H$8:$H$705,Maestros!$D$4:$E$21,2,0))","v":"1121"},{"$f":"IF(OR(UPPER(Egresados!$J$8:$J$705)=\"SI\",UPPER(Egresados!$J$8:$J$705)=\"SÍ\"),1,IF(UPPER(Egresados!$J$8:$J$705)=\"NO\",0,\"\"))","v":0},{"$f":"IF(OR(UPPER(Egresados!$R$8:$R$705)=\"SI\",UPPER(Egresados!$R$8:$R$705)=\"SÍ\"),1,IF(UPPER(Egresados!$R$8:$R$705)=\"NO\",0,\"\"))","v":""},{"$f":"IF(OR(UPPER(Egresados!$S$8:$S$705)=\"SI\",UPPER(Egresados!$S$8:$S$705)=\"SÍ\"),1,IF(UPPER(Egresados!$S$8:$S$705)=\"NO\",0,\"\"))","v":""},{"$f":"IF(ISERROR(VLOOKUP(Egresados!$T$8:$T$705,Maestros!$S$31:$T$530,2,0)),\"\",VLOOKUP(Egresados!$T$8:$T$705,Maestros!$S$31:$T$530,2,0))","v":"58"},{"$f":"IF(ISERROR(VLOOKUP(U598,Maestros!$S$31:$T$530,2,0)),\"\",VLOOKUP(U598,Maestros!$S$31:$T$530,2,0))","v":"58"},{"$f":"IF(ISERROR(VLOOKUP(Egresados!$K$8:$K$705,Maestros!$A$31:$B$130,2,0)),\"\",VLOOKUP(Egresados!$K$8:$K$705,Maestros!$A$31:$B$130,2,0))","v":""},{"$f":"IF(LEN(tablaEgresados[[#This Row],[Nota promedio]])>0,ROUND(tablaEgresados[[#This Row],[Nota promedio]],2),\"\")","v":15.89}]
[591,null,"DNI","72955334","AUQUE","RENTERIA","SARAI ESTHER","FEMENINO",null,"NO",null,null,null,"2020-1","SEDE CENTRAL","MATEMATICA E INFORMATICA",15.91,null,null,"2015-1","2015-1","20151486@une.edu.pe","gata0362@gmail.com",3133700,"940004006",{"$f":"IF(ISERROR(VLOOKUP(Egresados!$N$8:$N$705,Maestros!$D$31:$E$530,2,0)),\"\",VLOOKUP(Egresados!$N$8:$N$705,Maestros!$D$31:$E$530,2,0))","v":"223"},{"$f":"IF(ISERROR(VLOOKUP(Egresados!$O599,Maestros!$G$31:$J$1030,2,0)),\"\",VLOOKUP(Egresados!$O599,Maestros!$G$31:$J$1030,2,0))","v":"8"},{"$f":"CONCATENATE(Egresados!$Z$8:$Z$705,\"a\",Egresados!$AA$8:$AA$705)","v":"223a8"},{"$f":"IF(ISERROR(VLOOKUP(Egresados!$P599,Maestros!$L$31:$Q$1030,2,0)),\"\",VLOOKUP(Egresados!$P599,Maestros!$L$31:$Q$1030,2,0))","v":"61"},{"$f":"CONCATENATE(Egresados!$Z$8:$Z$705,\"a\",Egresados!$AA$8:$AA$705,\"a\",Egresados!$AC$8:$AC$705)","v":"223a8a61"},{"$f":"IF(ISERROR(VLOOKUP(Egresados!$C$8:$C$705,Maestros!$A$4:$B$21,2,0)),\"\",VLOOKUP(Egresados!$C$8:$C$705,Maestros!$A$4:$B$21,2,0))","v":"1001"},{"$f":"IF(ISERROR(VLOOKUP(Egresados!$H$8:$H$705,Maestros!$D$4:$E$21,2,0)),\"\",VLOOKUP(Egresados!$H$8:$H$705,Maestros!$D$4:$E$21,2,0))","v":"1122"},{"$f":"IF(OR(UPPER(Egresados!$J$8:$J$705)=\"SI\",UPPER(Egresados!$J$8:$J$705)=\"SÍ\"),1,IF(UPPER(Egresados!$J$8:$J$705)=\"NO\",0,\"\"))","v":0},{"$f":"IF(OR(UPPER(Egresados!$R$8:$R$705)=\"SI\",UPPER(Egresados!$R$8:$R$705)=\"SÍ\"),1,IF(UPPER(Egresados!$R$8:$R$705)=\"NO\",0,\"\"))","v":""},{"$f":"IF(OR(UPPER(Egresados!$S$8:$S$705)=\"SI\",UPPER(Egresados!$S$8:$S$705)=\"SÍ\"),1,IF(UPPER(Egresados!$S$8:$S$705)=\"NO\",0,\"\"))","v":""},{"$f":"IF(ISERROR(VLOOKUP(Egresados!$T$8:$T$705,Maestros!$S$31:$T$530,2,0)),\"\",VLOOKUP(Egresados!$T$8:$T$705,Maestros!$S$31:$T$530,2,0))","v":"62"},{"$f":"IF(ISERROR(VLOOKUP(U599,Maestros!$S$31:$T$530,2,0)),\"\",VLOOKUP(U599,Maestros!$S$31:$T$530,2,0))","v":"62"},{"$f":"IF(ISERROR(VLOOKUP(Egresados!$K$8:$K$705,Maestros!$A$31:$B$130,2,0)),\"\",VLOOKUP(Egresados!$K$8:$K$705,Maestros!$A$31:$B$130,2,0))","v":""},{"$f":"IF(LEN(tablaEgresados[[#This Row],[Nota promedio]])>0,ROUND(tablaEgresados[[#This Row],[Nota promedio]],2),\"\")","v":15.91}]
[592,null,"DNI","10578178","FLORES","PACHECO","MERCEDES LUISA","FEMENINO",null,"NO",null,null,null,"2020-1","SEDE CENTRAL","MATEMATICA E INFORMATICA",15.13,null,null,"2013-1","2013-1","20131966@une.edu.pe","mercedesfloresp@hotmail.com",3133700,"947363862",{"$f":"IF(ISERROR(VLOOKUP(Egresados!$N$8:$N$705,Maestros!$D$31:$E$530,2,0)),\"\",VLOOKUP(Egresados!$N$8:$N$705,Maestros!$D$31:$E$530,2,0))","v":"223"},{"$f":"IF(ISERROR(VLOOKUP(Egresados!$O600,Maestros!$G$31:$J$1030,2,0)),\"\",VLOOKUP(Egresados!$O600,Maestros!$G$31:$J$1030,2,0))","v":"8"},{"$f":"CONCATENATE(Egresados!$Z$8:$Z$705,\"a\",Egresados!$AA$8:$AA$705)","v":"223a8"},{"$f":"IF(ISERROR(VLOOKUP(Egresados!$P600,Maestros!$L$31:$Q$1030,2,0)),\"\",VLOOKUP(Egresados!$P600,Maestros!$L$31:$Q$1030,2,0))","v":"61"},{"$f":"CONCATENATE(Egresados!$Z$8:$Z$705,\"a\",Egresados!$AA$8:$AA$705,\"a\",Egresados!$AC$8:$AC$705)","v":"223a8a61"},{"$f":"IF(ISERROR(VLOOKUP(Egresados!$C$8:$C$705,Maestros!$A$4:$B$21,2,0)),\"\",VLOOKUP(Egresados!$C$8:$C$705,Maestros!$A$4:$B$21,2,0))","v":"1001"},{"$f":"IF(ISERROR(VLOOKUP(Egresados!$H$8:$H$705,Maestros!$D$4:$E$21,2,0)),\"\",VLOOKUP(Egresados!$H$8:$H$705,Maestros!$D$4:$E$21,2,0))","v":"1122"},{"$f":"IF(OR(UPPER(Egresados!$J$8:$J$705)=\"SI\",UPPER(Egresados!$J$8:$J$705)=\"SÍ\"),1,IF(UPPER(Egresados!$J$8:$J$705)=\"NO\",0,\"\"))","v":0},{"$f":"IF(OR(UPPER(Egresados!$R$8:$R$705)=\"SI\",UPPER(Egresados!$R$8:$R$705)=\"SÍ\"),1,IF(UPPER(Egresados!$R$8:$R$705)=\"NO\",0,\"\"))","v":""},{"$f":"IF(OR(UPPER(Egresados!$S$8:$S$705)=\"SI\",UPPER(Egresados!$S$8:$S$705)=\"SÍ\"),1,IF(UPPER(Egresados!$S$8:$S$705)=\"NO\",0,\"\"))","v":""},{"$f":"IF(ISERROR(VLOOKUP(Egresados!$T$8:$T$705,Maestros!$S$31:$T$530,2,0)),\"\",VLOOKUP(Egresados!$T$8:$T$705,Maestros!$S$31:$T$530,2,0))","v":"54"},{"$f":"IF(ISERROR(VLOOKUP(U600,Maestros!$S$31:$T$530,2,0)),\"\",VLOOKUP(U600,Maestros!$S$31:$T$530,2,0))","v":"54"},{"$f":"IF(ISERROR(VLOOKUP(Egresados!$K$8:$K$705,Maestros!$A$31:$B$130,2,0)),\"\",VLOOKUP(Egresados!$K$8:$K$705,Maestros!$A$31:$B$130,2,0))","v":""},{"$f":"IF(LEN(tablaEgresados[[#This Row],[Nota promedio]])>0,ROUND(tablaEgresados[[#This Row],[Nota promedio]],2),\"\")","v":15.13}]
[593,null,"DNI","06961876","DIAZ","ESPINOZA","ROBERTO MANUEL","MASCULINO",null,"NO",null,null,null,"2020-1","SEDE CENTRAL","MATEMATICA E INFORMATICA",14.16,null,null,"2006-1","2006-1","20061239@une.edu.pe","romade04@hotmail.com",3133700,"969293817",{"$f":"IF(ISERROR(VLOOKUP(Egresados!$N$8:$N$705,Maestros!$D$31:$E$530,2,0)),\"\",VLOOKUP(Egresados!$N$8:$N$705,Maestros!$D$31:$E$530,2,0))","v":"223"},{"$f":"IF(ISERROR(VLOOKUP(Egresados!$O601,Maestros!$G$31:$J$1030,2,0)),\"\",VLOOKUP(Egresados!$O601,Maestros!$G$31:$J$1030,2,0))","v":"8"},{"$f":"CONCATENATE(Egresados!$Z$8:$Z$705,\"a\",Egresados!$AA$8:$AA$705)","v":"223a8"},{"$f":"IF(ISERROR(VLOOKUP(Egresados!$P601,Maestros!$L$31:$Q$1030,2,0)),\"\",VLOOKUP(Egresados!$P601,Maestros!$L$31:$Q$1030,2,0))","v":"61"},{"$f":"CONCATENATE(Egresados!$Z$8:$Z$705,\"a\",Egresados!$AA$8:$AA$705,\"a\",Egresados!$AC$8:$AC$705)","v":"223a8a61"},{"$f":"IF(ISERROR(VLOOKUP(Egresados!$C$8:$C$705,Maestros!$A$4:$B$21,2,0)),\"\",VLOOKUP(Egresados!$C$8:$C$705,Maestros!$A$4:$B$21,2,0))","v":"1001"},{"$f":"IF(ISERROR(VLOOKUP(Egresados!$H$8:$H$705,Maestros!$D$4:$E$21,2,0)),\"\",VLOOKUP(Egresados!$H$8:$H$705,Maestros!$D$4:$E$21,2,0))","v":"1121"},{"$f":"IF(OR(UPPER(Egresados!$J$8:$J$705)=\"SI\",UPPER(Egresados!$J$8:$J$705)=\"SÍ\"),1,IF(UPPER(Egresados!$J$8:$J$705)=\"NO\",0,\"\"))","v":0},{"$f":"IF(OR(UPPER(Egresados!$R$8:$R$705)=\"SI\",UPPER(Egresados!$R$8:$R$705)=\"SÍ\"),1,IF(UPPER(Egresados!$R$8:$R$705)=\"NO\",0,\"\"))","v":""},{"$f":"IF(OR(UPPER(Egresados!$S$8:$S$705)=\"SI\",UPPER(Egresados!$S$8:$S$705)=\"SÍ\"),1,IF(UPPER(Egresados!$S$8:$S$705)=\"NO\",0,\"\"))","v":""},{"$f":"IF(ISERROR(VLOOKUP(Egresados!$T$8:$T$705,Maestros!$S$31:$T$530,2,0)),\"\",VLOOKUP(Egresados!$T$8:$T$705,Maestros!$S$31:$T$530,2,0))","v":"26"},{"$f":"IF(ISERROR(VLOOKUP(U601,Maestros!$S$31:$T$530,2,0)),\"\",VLOOKUP(U601,Maestros!$S$31:$T$530,2,0))","v":"26"},{"$f":"IF(ISERROR(VLOOKUP(Egresados!$K$8:$K$705,Maestros!$A$31:$B$130,2,0)),\"\",VLOOKUP(Egresados!$K$8:$K$705,Maestros!$A$31:$B$130,2,0))","v":""},{"$f":"IF(LEN(tablaEgresados[[#This Row],[Nota promedio]])>0,ROUND(tablaEgresados[[#This Row],[Nota promedio]],2),\"\")","v":14.16}]
[594,null,"DNI","72259771","OSCANOA","MEZA","MADAI SOLEDAD","FEMENINO",null,"NO",null,null,null,"2020-1","SEDE CENTRAL","MATEMATICA E INFORMATICA",16.239999999999998,null,null,"2016-1","2016-1","20163120@une.edu.pe","sole1395_om@hotmail.com",3133700,"992173185",{"$f":"IF(ISERROR(VLOOKUP(Egresados!$N$8:$N$705,Maestros!$D$31:$E$530,2,0)),\"\",VLOOKUP(Egresados!$N$8:$N$705,Maestros!$D$31:$E$530,2,0))","v":"223"},{"$f":"IF(ISERROR(VLOOKUP(Egresados!$O602,Maestros!$G$31:$J$1030,2,0)),\"\",VLOOKUP(Egresados!$O602,Maestros!$G$31:$J$1030,2,0))","v":"8"},{"$f":"CONCATENATE(Egresados!$Z$8:$Z$705,\"a\",Egresados!$AA$8:$AA$705)","v":"223a8"},{"$f":"IF(ISERROR(VLOOKUP(Egresados!$P602,Maestros!$L$31:$Q$1030,2,0)),\"\",VLOOKUP(Egresados!$P602,Maestros!$L$31:$Q$1030,2,0))","v":"61"},{"$f":"CONCATENATE(Egresados!$Z$8:$Z$705,\"a\",Egresados!$AA$8:$AA$705,\"a\",Egresados!$AC$8:$AC$705)","v":"223a8a61"},{"$f":"IF(ISERROR(VLOOKUP(Egresados!$C$8:$C$705,Maestros!$A$4:$B$21,2,0)),\"\",VLOOKUP(Egresados!$C$8:$C$705,Maestros!$A$4:$B$21,2,0))","v":"1001"},{"$f":"IF(ISERROR(VLOOKUP(Egresados!$H$8:$H$705,Maestros!$D$4:$E$21,2,0)),\"\",VLOOKUP(Egresados!$H$8:$H$705,Maestros!$D$4:$E$21,2,0))","v":"1122"},{"$f":"IF(OR(UPPER(Egresados!$J$8:$J$705)=\"SI\",UPPER(Egresados!$J$8:$J$705)=\"SÍ\"),1,IF(UPPER(Egresados!$J$8:$J$705)=\"NO\",0,\"\"))","v":0},{"$f":"IF(OR(UPPER(Egresados!$R$8:$R$705)=\"SI\",UPPER(Egresados!$R$8:$R$705)=\"SÍ\"),1,IF(UPPER(Egresados!$R$8:$R$705)=\"NO\",0,\"\"))","v":""},{"$f":"IF(OR(UPPER(Egresados!$S$8:$S$705)=\"SI\",UPPER(Egresados!$S$8:$S$705)=\"SÍ\"),1,IF(UPPER(Egresados!$S$8:$S$705)=\"NO\",0,\"\"))","v":""},{"$f":"IF(ISERROR(VLOOKUP(Egresados!$T$8:$T$705,Maestros!$S$31:$T$530,2,0)),\"\",VLOOKUP(Egresados!$T$8:$T$705,Maestros!$S$31:$T$530,2,0))","v":"66"},{"$f":"IF(ISERROR(VLOOKUP(U602,Maestros!$S$31:$T$530,2,0)),\"\",VLOOKUP(U602,Maestros!$S$31:$T$530,2,0))","v":"66"},{"$f":"IF(ISERROR(VLOOKUP(Egresados!$K$8:$K$705,Maestros!$A$31:$B$130,2,0)),\"\",VLOOKUP(Egresados!$K$8:$K$705,Maestros!$A$31:$B$130,2,0))","v":""},{"$f":"IF(LEN(tablaEgresados[[#This Row],[Nota promedio]])>0,ROUND(tablaEgresados[[#This Row],[Nota promedio]],2),\"\")","v":16.239999999999998}]
[595,null,"DNI","74316270","LOPEZ","ROJAS","MARCO ANTONIO","MASCULINO",null,"NO",null,null,null,"2020-1","SEDE CENTRAL","MATEMATICA E INFORMATICA",15.69,null,null,"2015-1","2015-1","20151502@une.edu.pe","marco_c5_c1@outlook.com",3133700,"984733954",{"$f":"IF(ISERROR(VLOOKUP(Egresados!$N$8:$N$705,Maestros!$D$31:$E$530,2,0)),\"\",VLOOKUP(Egresados!$N$8:$N$705,Maestros!$D$31:$E$530,2,0))","v":"223"},{"$f":"IF(ISERROR(VLOOKUP(Egresados!$O603,Maestros!$G$31:$J$1030,2,0)),\"\",VLOOKUP(Egresados!$O603,Maestros!$G$31:$J$1030,2,0))","v":"8"},{"$f":"CONCATENATE(Egresados!$Z$8:$Z$705,\"a\",Egresados!$AA$8:$AA$705)","v":"223a8"},{"$f":"IF(ISERROR(VLOOKUP(Egresados!$P603,Maestros!$L$31:$Q$1030,2,0)),\"\",VLOOKUP(Egresados!$P603,Maestros!$L$31:$Q$1030,2,0))","v":"61"},{"$f":"CONCATENATE(Egresados!$Z$8:$Z$705,\"a\",Egresados!$AA$8:$AA$705,\"a\",Egresados!$AC$8:$AC$705)","v":"223a8a61"},{"$f":"IF(ISERROR(VLOOKUP(Egresados!$C$8:$C$705,Maestros!$A$4:$B$21,2,0)),\"\",VLOOKUP(Egresados!$C$8:$C$705,Maestros!$A$4:$B$21,2,0))","v":"1001"},{"$f":"IF(ISERROR(VLOOKUP(Egresados!$H$8:$H$705,Maestros!$D$4:$E$21,2,0)),\"\",VLOOKUP(Egresados!$H$8:$H$705,Maestros!$D$4:$E$21,2,0))","v":"1121"},{"$f":"IF(OR(UPPER(Egresados!$J$8:$J$705)=\"SI\",UPPER(Egresados!$J$8:$J$705)=\"SÍ\"),1,IF(UPPER(Egresados!$J$8:$J$705)=\"NO\",0,\"\"))","v":0},{"$f":"IF(OR(UPPER(Egresados!$R$8:$R$705)=\"SI\",UPPER(Egresados!$R$8:$R$705)=\"SÍ\"),1,IF(UPPER(Egresados!$R$8:$R$705)=\"NO\",0,\"\"))","v":""},{"$f":"IF(OR(UPPER(Egresados!$S$8:$S$705)=\"SI\",UPPER(Egresados!$S$8:$S$705)=\"SÍ\"),1,IF(UPPER(Egresados!$S$8:$S$705)=\"NO\",0,\"\"))","v":""},{"$f":"IF(ISERROR(VLOOKUP(Egresados!$T$8:$T$705,Maestros!$S$31:$T$530,2,0)),\"\",VLOOKUP(Egresados!$T$8:$T$705,Maestros!$S$31:$T$530,2,0))","v":"62"},{"$f":"IF(ISERROR(VLOOKUP(U603,Maestros!$S$31:$T$530,2,0)),\"\",VLOOKUP(U603,Maestros!$S$31:$T$530,2,0))","v":"62"},{"$f":"IF(ISERROR(VLOOKUP(Egresados!$K$8:$K$705,Maestros!$A$31:$B$130,2,0)),\"\",VLOOKUP(Egresados!$K$8:$K$705,Maestros!$A$31:$B$130,2,0))","v":""},{"$f":"IF(LEN(tablaEgresados[[#This Row],[Nota promedio]])>0,ROUND(tablaEgresados[[#This Row],[Nota promedio]],2),\"\")","v":15.69}]
[596,null,"DNI","33408466","CASTRO","REAÑO DE RIVAS PLATA","LIEZBETH GIOVANNA","FEMENINO",null,"NO",null,null,null,"2020-1","SEDE CENTRAL","MATEMATICA E INFORMATICA",14.94,null,null,"2016-1","2016-1","20163181@une.edu.pe","liezbethgio@hotmail.com",3133700,"967702801",{"$f":"IF(ISERROR(VLOOKUP(Egresados!$N$8:$N$705,Maestros!$D$31:$E$530,2,0)),\"\",VLOOKUP(Egresados!$N$8:$N$705,Maestros!$D$31:$E$530,2,0))","v":"223"},{"$f":"IF(ISERROR(VLOOKUP(Egresados!$O604,Maestros!$G$31:$J$1030,2,0)),\"\",VLOOKUP(Egresados!$O604,Maestros!$G$31:$J$1030,2,0))","v":"8"},{"$f":"CONCATENATE(Egresados!$Z$8:$Z$705,\"a\",Egresados!$AA$8:$AA$705)","v":"223a8"},{"$f":"IF(ISERROR(VLOOKUP(Egresados!$P604,Maestros!$L$31:$Q$1030,2,0)),\"\",VLOOKUP(Egresados!$P604,Maestros!$L$31:$Q$1030,2,0))","v":"61"},{"$f":"CONCATENATE(Egresados!$Z$8:$Z$705,\"a\",Egresados!$AA$8:$AA$705,\"a\",Egresados!$AC$8:$AC$705)","v":"223a8a61"},{"$f":"IF(ISERROR(VLOOKUP(Egresados!$C$8:$C$705,Maestros!$A$4:$B$21,2,0)),\"\",VLOOKUP(Egresados!$C$8:$C$705,Maestros!$A$4:$B$21,2,0))","v":"1001"},{"$f":"IF(ISERROR(VLOOKUP(Egresados!$H$8:$H$705,Maestros!$D$4:$E$21,2,0)),\"\",VLOOKUP(Egresados!$H$8:$H$705,Maestros!$D$4:$E$21,2,0))","v":"1122"},{"$f":"IF(OR(UPPER(Egresados!$J$8:$J$705)=\"SI\",UPPER(Egresados!$J$8:$J$705)=\"SÍ\"),1,IF(UPPER(Egresados!$J$8:$J$705)=\"NO\",0,\"\"))","v":0},{"$f":"IF(OR(UPPER(Egresados!$R$8:$R$705)=\"SI\",UPPER(Egresados!$R$8:$R$705)=\"SÍ\"),1,IF(UPPER(Egresados!$R$8:$R$705)=\"NO\",0,\"\"))","v":""},{"$f":"IF(OR(UPPER(Egresados!$S$8:$S$705)=\"SI\",UPPER(Egresados!$S$8:$S$705)=\"SÍ\"),1,IF(UPPER(Egresados!$S$8:$S$705)=\"NO\",0,\"\"))","v":""},{"$f":"IF(ISERROR(VLOOKUP(Egresados!$T$8:$T$705,Maestros!$S$31:$T$530,2,0)),\"\",VLOOKUP(Egresados!$T$8:$T$705,Maestros!$S$31:$T$530,2,0))","v":"66"},{"$f":"IF(ISERROR(VLOOKUP(U604,Maestros!$S$31:$T$530,2,0)),\"\",VLOOKUP(U604,Maestros!$S$31:$T$530,2,0))","v":"66"},{"$f":"IF(ISERROR(VLOOKUP(Egresados!$K$8:$K$705,Maestros!$A$31:$B$130,2,0)),\"\",VLOOKUP(Egresados!$K$8:$K$705,Maestros!$A$31:$B$130,2,0))","v":""},{"$f":"IF(LEN(tablaEgresados[[#This Row],[Nota promedio]])>0,ROUND(tablaEgresados[[#This Row],[Nota promedio]],2),\"\")","v":14.94}]
[597,null,"DNI","74050566","GUTIERREZ","HUAMANI","SHIRLEY LINDA","FEMENINO",null,"NO",null,null,null,"2020-1","SEDE CENTRAL","MATEMATICA E INFORMATICA",16.36,null,null,"2015-1","2015-1","20151493@une.edu.pe","shirley_1007@hotmail.com",3133700,"949287618",{"$f":"IF(ISERROR(VLOOKUP(Egresados!$N$8:$N$705,Maestros!$D$31:$E$530,2,0)),\"\",VLOOKUP(Egresados!$N$8:$N$705,Maestros!$D$31:$E$530,2,0))","v":"223"},{"$f":"IF(ISERROR(VLOOKUP(Egresados!$O605,Maestros!$G$31:$J$1030,2,0)),\"\",VLOOKUP(Egresados!$O605,Maestros!$G$31:$J$1030,2,0))","v":"8"},{"$f":"CONCATENATE(Egresados!$Z$8:$Z$705,\"a\",Egresados!$AA$8:$AA$705)","v":"223a8"},{"$f":"IF(ISERROR(VLOOKUP(Egresados!$P605,Maestros!$L$31:$Q$1030,2,0)),\"\",VLOOKUP(Egresados!$P605,Maestros!$L$31:$Q$1030,2,0))","v":"61"},{"$f":"CONCATENATE(Egresados!$Z$8:$Z$705,\"a\",Egresados!$AA$8:$AA$705,\"a\",Egresados!$AC$8:$AC$705)","v":"223a8a61"},{"$f":"IF(ISERROR(VLOOKUP(Egresados!$C$8:$C$705,Maestros!$A$4:$B$21,2,0)),\"\",VLOOKUP(Egresados!$C$8:$C$705,Maestros!$A$4:$B$21,2,0))","v":"1001"},{"$f":"IF(ISERROR(VLOOKUP(Egresados!$H$8:$H$705,Maestros!$D$4:$E$21,2,0)),\"\",VLOOKUP(Egresados!$H$8:$H$705,Maestros!$D$4:$E$21,2,0))","v":"1122"},{"$f":"IF(OR(UPPER(Egresados!$J$8:$J$705)=\"SI\",UPPER(Egresados!$J$8:$J$705)=\"SÍ\"),1,IF(UPPER(Egresados!$J$8:$J$705)=\"NO\",0,\"\"))","v":0},{"$f":"IF(OR(UPPER(Egresados!$R$8:$R$705)=\"SI\",UPPER(Egresados!$R$8:$R$705)=\"SÍ\"),1,IF(UPPER(Egresados!$R$8:$R$705)=\"NO\",0,\"\"))","v":""},{"$f":"IF(OR(UPPER(Egresados!$S$8:$S$705)=\"SI\",UPPER(Egresados!$S$8:$S$705)=\"SÍ\"),1,IF(UPPER(Egresados!$S$8:$S$705)=\"NO\",0,\"\"))","v":""},{"$f":"IF(ISERROR(VLOOKUP(Egresados!$T$8:$T$705,Maestros!$S$31:$T$530,2,0)),\"\",VLOOKUP(Egresados!$T$8:$T$705,Maestros!$S$31:$T$530,2,0))","v":"62"},{"$f":"IF(ISERROR(VLOOKUP(U605,Maestros!$S$31:$T$530,2,0)),\"\",VLOOKUP(U605,Maestros!$S$31:$T$530,2,0))","v":"62"},{"$f":"IF(ISERROR(VLOOKUP(Egresados!$K$8:$K$705,Maestros!$A$31:$B$130,2,0)),\"\",VLOOKUP(Egresados!$K$8:$K$705,Maestros!$A$31:$B$130,2,0))","v":""},{"$f":"IF(LEN(tablaEgresados[[#This Row],[Nota promedio]])>0,ROUND(tablaEgresados[[#This Row],[Nota promedio]],2),\"\")","v":16.36}]
[598,null,"DNI","22081483","MOREYRA","DIAZ","WILLIAMS SABINO","MASCULINO",null,"NO",null,null,null,"2020-1","SEDE CENTRAL","MATEMATICA E INFORMATICA",13.89,null,null,"2009-1","2009-1","20094813@une.edu.pe","20094813@une.edu.pe",3133700,976486001,{"$f":"IF(ISERROR(VLOOKUP(Egresados!$N$8:$N$705,Maestros!$D$31:$E$530,2,0)),\"\",VLOOKUP(Egresados!$N$8:$N$705,Maestros!$D$31:$E$530,2,0))","v":"223"},{"$f":"IF(ISERROR(VLOOKUP(Egresados!$O606,Maestros!$G$31:$J$1030,2,0)),\"\",VLOOKUP(Egresados!$O606,Maestros!$G$31:$J$1030,2,0))","v":"8"},{"$f":"CONCATENATE(Egresados!$Z$8:$Z$705,\"a\",Egresados!$AA$8:$AA$705)","v":"223a8"},{"$f":"IF(ISERROR(VLOOKUP(Egresados!$P606,Maestros!$L$31:$Q$1030,2,0)),\"\",VLOOKUP(Egresados!$P606,Maestros!$L$31:$Q$1030,2,0))","v":"61"},{"$f":"CONCATENATE(Egresados!$Z$8:$Z$705,\"a\",Egresados!$AA$8:$AA$705,\"a\",Egresados!$AC$8:$AC$705)","v":"223a8a61"},{"$f":"IF(ISERROR(VLOOKUP(Egresados!$C$8:$C$705,Maestros!$A$4:$B$21,2,0)),\"\",VLOOKUP(Egresados!$C$8:$C$705,Maestros!$A$4:$B$21,2,0))","v":"1001"},{"$f":"IF(ISERROR(VLOOKUP(Egresados!$H$8:$H$705,Maestros!$D$4:$E$21,2,0)),\"\",VLOOKUP(Egresados!$H$8:$H$705,Maestros!$D$4:$E$21,2,0))","v":"1121"},{"$f":"IF(OR(UPPER(Egresados!$J$8:$J$705)=\"SI\",UPPER(Egresados!$J$8:$J$705)=\"SÍ\"),1,IF(UPPER(Egresados!$J$8:$J$705)=\"NO\",0,\"\"))","v":0},{"$f":"IF(OR(UPPER(Egresados!$R$8:$R$705)=\"SI\",UPPER(Egresados!$R$8:$R$705)=\"SÍ\"),1,IF(UPPER(Egresados!$R$8:$R$705)=\"NO\",0,\"\"))","v":""},{"$f":"IF(OR(UPPER(Egresados!$S$8:$S$705)=\"SI\",UPPER(Egresados!$S$8:$S$705)=\"SÍ\"),1,IF(UPPER(Egresados!$S$8:$S$705)=\"NO\",0,\"\"))","v":""},{"$f":"IF(ISERROR(VLOOKUP(Egresados!$T$8:$T$705,Maestros!$S$31:$T$530,2,0)),\"\",VLOOKUP(Egresados!$T$8:$T$705,Maestros!$S$31:$T$530,2,0))","v":"38"},{"$f":"IF(ISERROR(VLOOKUP(U606,Maestros!$S$31:$T$530,2,0)),\"\",VLOOKUP(U606,Maestros!$S$31:$T$530,2,0))","v":"38"},{"$f":"IF(ISERROR(VLOOKUP(Egresados!$K$8:$K$705,Maestros!$A$31:$B$130,2,0)),\"\",VLOOKUP(Egresados!$K$8:$K$705,Maestros!$A$31:$B$130,2,0))","v":""},{"$f":"IF(LEN(tablaEgresados[[#This Row],[Nota promedio]])>0,ROUND(tablaEgresados[[#This Row],[Nota promedio]],2),\"\")","v":13.89}]
[599,null,"DNI",19428661,"DOMINGUEZ","SOPAN","SILVERIO ALEJANDRO","MASCULINO",null,"NO",null,null,null,"2020-1","SEDE CENTRAL","MATEMATICA E INFORMATICA",14.33,null,null,"2004-1","2004-1","20040772@une.edu.pe","20040772@une.edu.pe",3133700,976486001,{"$f":"IF(ISERROR(VLOOKUP(Egresados!$N$8:$N$705,Maestros!$D$31:$E$530,2,0)),\"\",VLOOKUP(Egresados!$N$8:$N$705,Maestros!$D$31:$E$530,2,0))","v":"223"},{"$f":"IF(ISERROR(VLOOKUP(Egresados!$O607,Maestros!$G$31:$J$1030,2,0)),\"\",VLOOKUP(Egresados!$O607,Maestros!$G$31:$J$1030,2,0))","v":"8"},{"$f":"CONCATENATE(Egresados!$Z$8:$Z$705,\"a\",Egresados!$AA$8:$AA$705)","v":"223a8"},{"$f":"IF(ISERROR(VLOOKUP(Egresados!$P607,Maestros!$L$31:$Q$1030,2,0)),\"\",VLOOKUP(Egresados!$P607,Maestros!$L$31:$Q$1030,2,0))","v":"61"},{"$f":"CONCATENATE(Egresados!$Z$8:$Z$705,\"a\",Egresados!$AA$8:$AA$705,\"a\",Egresados!$AC$8:$AC$705)","v":"223a8a61"},{"$f":"IF(ISERROR(VLOOKUP(Egresados!$C$8:$C$705,Maestros!$A$4:$B$21,2,0)),\"\",VLOOKUP(Egresados!$C$8:$C$705,Maestros!$A$4:$B$21,2,0))","v":"1001"},{"$f":"IF(ISERROR(VLOOKUP(Egresados!$H$8:$H$705,Maestros!$D$4:$E$21,2,0)),\"\",VLOOKUP(Egresados!$H$8:$H$705,Maestros!$D$4:$E$21,2,0))","v":"1121"},{"$f":"IF(OR(UPPER(Egresados!$J$8:$J$705)=\"SI\",UPPER(Egresados!$J$8:$J$705)=\"SÍ\"),1,IF(UPPER(Egresados!$J$8:$J$705)=\"NO\",0,\"\"))","v":0},{"$f":"IF(OR(UPPER(Egresados!$R$8:$R$705)=\"SI\",UPPER(Egresados!$R$8:$R$705)=\"SÍ\"),1,IF(UPPER(Egresados!$R$8:$R$705)=\"NO\",0,\"\"))","v":""},{"$f":"IF(OR(UPPER(Egresados!$S$8:$S$705)=\"SI\",UPPER(Egresados!$S$8:$S$705)=\"SÍ\"),1,IF(UPPER(Egresados!$S$8:$S$705)=\"NO\",0,\"\"))","v":""},{"$f":"IF(ISERROR(VLOOKUP(Egresados!$T$8:$T$705,Maestros!$S$31:$T$530,2,0)),\"\",VLOOKUP(Egresados!$T$8:$T$705,Maestros!$S$31:$T$530,2,0))","v":"18"},{"$f":"IF(ISERROR(VLOOKUP(U607,Maestros!$S$31:$T$530,2,0)),\"\",VLOOKUP(U607,Maestros!$S$31:$T$530,2,0))","v":"18"},{"$f":"IF(ISERROR(VLOOKUP(Egresados!$K$8:$K$705,Maestros!$A$31:$B$130,2,0)),\"\",VLOOKUP(Egresados!$K$8:$K$705,Maestros!$A$31:$B$130,2,0))","v":""},{"$f":"IF(LEN(tablaEgresados[[#This Row],[Nota promedio]])>0,ROUND(tablaEgresados[[#This Row],[Nota promedio]],2),\"\")","v":14.33}]
[600,null,"DNI","42186951","ZANABRIA","PARI","IRIS","FEMENINO",null,"NO",null,null,null,"2020-1","SEDE CENTRAL","MATEMATICA E INFORMATICA",13.51,null,null,"2012-1","2012-1","20123598@une.edu.pe","20123598@une.edu.pe",3133700,976486001,{"$f":"IF(ISERROR(VLOOKUP(Egresados!$N$8:$N$705,Maestros!$D$31:$E$530,2,0)),\"\",VLOOKUP(Egresados!$N$8:$N$705,Maestros!$D$31:$E$530,2,0))","v":"223"},{"$f":"IF(ISERROR(VLOOKUP(Egresados!$O608,Maestros!$G$31:$J$1030,2,0)),\"\",VLOOKUP(Egresados!$O608,Maestros!$G$31:$J$1030,2,0))","v":"8"},{"$f":"CONCATENATE(Egresados!$Z$8:$Z$705,\"a\",Egresados!$AA$8:$AA$705)","v":"223a8"},{"$f":"IF(ISERROR(VLOOKUP(Egresados!$P608,Maestros!$L$31:$Q$1030,2,0)),\"\",VLOOKUP(Egresados!$P608,Maestros!$L$31:$Q$1030,2,0))","v":"61"},{"$f":"CONCATENATE(Egresados!$Z$8:$Z$705,\"a\",Egresados!$AA$8:$AA$705,\"a\",Egresados!$AC$8:$AC$705)","v":"223a8a61"},{"$f":"IF(ISERROR(VLOOKUP(Egresados!$C$8:$C$705,Maestros!$A$4:$B$21,2,0)),\"\",VLOOKUP(Egresados!$C$8:$C$705,Maestros!$A$4:$B$21,2,0))","v":"1001"},{"$f":"IF(ISERROR(VLOOKUP(Egresados!$H$8:$H$705,Maestros!$D$4:$E$21,2,0)),\"\",VLOOKUP(Egresados!$H$8:$H$705,Maestros!$D$4:$E$21,2,0))","v":"1122"},{"$f":"IF(OR(UPPER(Egresados!$J$8:$J$705)=\"SI\",UPPER(Egresados!$J$8:$J$705)=\"SÍ\"),1,IF(UPPER(Egresados!$J$8:$J$705)=\"NO\",0,\"\"))","v":0},{"$f":"IF(OR(UPPER(Egresados!$R$8:$R$705)=\"SI\",UPPER(Egresados!$R$8:$R$705)=\"SÍ\"),1,IF(UPPER(Egresados!$R$8:$R$705)=\"NO\",0,\"\"))","v":""},{"$f":"IF(OR(UPPER(Egresados!$S$8:$S$705)=\"SI\",UPPER(Egresados!$S$8:$S$705)=\"SÍ\"),1,IF(UPPER(Egresados!$S$8:$S$705)=\"NO\",0,\"\"))","v":""},{"$f":"IF(ISERROR(VLOOKUP(Egresados!$T$8:$T$705,Maestros!$S$31:$T$530,2,0)),\"\",VLOOKUP(Egresados!$T$8:$T$705,Maestros!$S$31:$T$530,2,0))","v":"50"},{"$f":"IF(ISERROR(VLOOKUP(U608,Maestros!$S$31:$T$530,2,0)),\"\",VLOOKUP(U608,Maestros!$S$31:$T$530,2,0))","v":"50"},{"$f":"IF(ISERROR(VLOOKUP(Egresados!$K$8:$K$705,Maestros!$A$31:$B$130,2,0)),\"\",VLOOKUP(Egresados!$K$8:$K$705,Maestros!$A$31:$B$130,2,0))","v":""},{"$f":"IF(LEN(tablaEgresados[[#This Row],[Nota promedio]])>0,ROUND(tablaEgresados[[#This Row],[Nota promedio]],2),\"\")","v":13.51}]
[601,null,"DNI",43803842,"ALATA","CASTRO","EDGAR OSMAN","MASCULINO",null,"NO",null,null,null,"2020-1","SEDE CENTRAL","MATEMATICA E INFORMATICA",13.41,null,null,"2007-1","2007-1","20071800@une.edu.pe","20071800@une.edu.pe",3133700,976486001,{"$f":"IF(ISERROR(VLOOKUP(Egresados!$N$8:$N$705,Maestros!$D$31:$E$530,2,0)),\"\",VLOOKUP(Egresados!$N$8:$N$705,Maestros!$D$31:$E$530,2,0))","v":"223"},{"$f":"IF(ISERROR(VLOOKUP(Egresados!$O609,Maestros!$G$31:$J$1030,2,0)),\"\",VLOOKUP(Egresados!$O609,Maestros!$G$31:$J$1030,2,0))","v":"8"},{"$f":"CONCATENATE(Egresados!$Z$8:$Z$705,\"a\",Egresados!$AA$8:$AA$705)","v":"223a8"},{"$f":"IF(ISERROR(VLOOKUP(Egresados!$P609,Maestros!$L$31:$Q$1030,2,0)),\"\",VLOOKUP(Egresados!$P609,Maestros!$L$31:$Q$1030,2,0))","v":"61"},{"$f":"CONCATENATE(Egresados!$Z$8:$Z$705,\"a\",Egresados!$AA$8:$AA$705,\"a\",Egresados!$AC$8:$AC$705)","v":"223a8a61"},{"$f":"IF(ISERROR(VLOOKUP(Egresados!$C$8:$C$705,Maestros!$A$4:$B$21,2,0)),\"\",VLOOKUP(Egresados!$C$8:$C$705,Maestros!$A$4:$B$21,2,0))","v":"1001"},{"$f":"IF(ISERROR(VLOOKUP(Egresados!$H$8:$H$705,Maestros!$D$4:$E$21,2,0)),\"\",VLOOKUP(Egresados!$H$8:$H$705,Maestros!$D$4:$E$21,2,0))","v":"1121"},{"$f":"IF(OR(UPPER(Egresados!$J$8:$J$705)=\"SI\",UPPER(Egresados!$J$8:$J$705)=\"SÍ\"),1,IF(UPPER(Egresados!$J$8:$J$705)=\"NO\",0,\"\"))","v":0},{"$f":"IF(OR(UPPER(Egresados!$R$8:$R$705)=\"SI\",UPPER(Egresados!$R$8:$R$705)=\"SÍ\"),1,IF(UPPER(Egresados!$R$8:$R$705)=\"NO\",0,\"\"))","v":""},{"$f":"IF(OR(UPPER(Egresados!$S$8:$S$705)=\"SI\",UPPER(Egresados!$S$8:$S$705)=\"SÍ\"),1,IF(UPPER(Egresados!$S$8:$S$705)=\"NO\",0,\"\"))","v":""},{"$f":"IF(ISERROR(VLOOKUP(Egresados!$T$8:$T$705,Maestros!$S$31:$T$530,2,0)),\"\",VLOOKUP(Egresados!$T$8:$T$705,Maestros!$S$31:$T$530,2,0))","v":"30"},{"$f":"IF(ISERROR(VLOOKUP(U609,Maestros!$S$31:$T$530,2,0)),\"\",VLOOKUP(U609,Maestros!$S$31:$T$530,2,0))","v":"30"},{"$f":"IF(ISERROR(VLOOKUP(Egresados!$K$8:$K$705,Maestros!$A$31:$B$130,2,0)),\"\",VLOOKUP(Egresados!$K$8:$K$705,Maestros!$A$31:$B$130,2,0))","v":""},{"$f":"IF(LEN(tablaEgresados[[#This Row],[Nota promedio]])>0,ROUND(tablaEgresados[[#This Row],[Nota promedio]],2),\"\")","v":13.41}]
[602,null,"DNI","40796701","TICONA","CONDORI","ELOY","MASCULINO",null,"NO",null,null,null,"2020-1","SEDE CENTRAL","MATEMATICA E INFORMATICA",14.3,null,null,"2007-1","2007-1","20074315@une.edu.pe","20074315@une.edu.pe",3133700,976486001,{"$f":"IF(ISERROR(VLOOKUP(Egresados!$N$8:$N$705,Maestros!$D$31:$E$530,2,0)),\"\",VLOOKUP(Egresados!$N$8:$N$705,Maestros!$D$31:$E$530,2,0))","v":"223"},{"$f":"IF(ISERROR(VLOOKUP(Egresados!$O610,Maestros!$G$31:$J$1030,2,0)),\"\",VLOOKUP(Egresados!$O610,Maestros!$G$31:$J$1030,2,0))","v":"8"},{"$f":"CONCATENATE(Egresados!$Z$8:$Z$705,\"a\",Egresados!$AA$8:$AA$705)","v":"223a8"},{"$f":"IF(ISERROR(VLOOKUP(Egresados!$P610,Maestros!$L$31:$Q$1030,2,0)),\"\",VLOOKUP(Egresados!$P610,Maestros!$L$31:$Q$1030,2,0))","v":"61"},{"$f":"CONCATENATE(Egresados!$Z$8:$Z$705,\"a\",Egresados!$AA$8:$AA$705,\"a\",Egresados!$AC$8:$AC$705)","v":"223a8a61"},{"$f":"IF(ISERROR(VLOOKUP(Egresados!$C$8:$C$705,Maestros!$A$4:$B$21,2,0)),\"\",VLOOKUP(Egresados!$C$8:$C$705,Maestros!$A$4:$B$21,2,0))","v":"1001"},{"$f":"IF(ISERROR(VLOOKUP(Egresados!$H$8:$H$705,Maestros!$D$4:$E$21,2,0)),\"\",VLOOKUP(Egresados!$H$8:$H$705,Maestros!$D$4:$E$21,2,0))","v":"1121"},{"$f":"IF(OR(UPPER(Egresados!$J$8:$J$705)=\"SI\",UPPER(Egresados!$J$8:$J$705)=\"SÍ\"),1,IF(UPPER(Egresados!$J$8:$J$705)=\"NO\",0,\"\"))","v":0},{"$f":"IF(OR(UPPER(Egresados!$R$8:$R$705)=\"SI\",UPPER(Egresados!$R$8:$R$705)=\"SÍ\"),1,IF(UPPER(Egresados!$R$8:$R$705)=\"NO\",0,\"\"))","v":""},{"$f":"IF(OR(UPPER(Egresados!$S$8:$S$705)=\"SI\",UPPER(Egresados!$S$8:$S$705)=\"SÍ\"),1,IF(UPPER(Egresados!$S$8:$S$705)=\"NO\",0,\"\"))","v":""},{"$f":"IF(ISERROR(VLOOKUP(Egresados!$T$8:$T$705,Maestros!$S$31:$T$530,2,0)),\"\",VLOOKUP(Egresados!$T$8:$T$705,Maestros!$S$31:$T$530,2,0))","v":"30"},{"$f":"IF(ISERROR(VLOOKUP(U610,Maestros!$S$31:$T$530,2,0)),\"\",VLOOKUP(U610,Maestros!$S$31:$T$530,2,0))","v":"30"},{"$f":"IF(ISERROR(VLOOKUP(Egresados!$K$8:$K$705,Maestros!$A$31:$B$130,2,0)),\"\",VLOOKUP(Egresados!$K$8:$K$705,Maestros!$A$31:$B$130,2,0))","v":""},{"$f":"IF(LEN(tablaEgresados[[#This Row],[Nota promedio]])>0,ROUND(tablaEgresados[[#This Row],[Nota promedio]],2),\"\")","v":14.3}]
[603,null,"DNI","45076718","ALVARADO","LEON","ISAAC NEOWTON","MASCULINO",null,"NO",null,null,null,"2020-1","SEDE CENTRAL","MATEMATICA E INFORMATICA",14.42,null,null,"2014-1","2014-1","20142953@une.edu.pe","20142953@une.edu.pe",3133700,976486001,{"$f":"IF(ISERROR(VLOOKUP(Egresados!$N$8:$N$705,Maestros!$D$31:$E$530,2,0)),\"\",VLOOKUP(Egresados!$N$8:$N$705,Maestros!$D$31:$E$530,2,0))","v":"223"},{"$f":"IF(ISERROR(VLOOKUP(Egresados!$O611,Maestros!$G$31:$J$1030,2,0)),\"\",VLOOKUP(Egresados!$O611,Maestros!$G$31:$J$1030,2,0))","v":"8"},{"$f":"CONCATENATE(Egresados!$Z$8:$Z$705,\"a\",Egresados!$AA$8:$AA$705)","v":"223a8"},{"$f":"IF(ISERROR(VLOOKUP(Egresados!$P611,Maestros!$L$31:$Q$1030,2,0)),\"\",VLOOKUP(Egresados!$P611,Maestros!$L$31:$Q$1030,2,0))","v":"61"},{"$f":"CONCATENATE(Egresados!$Z$8:$Z$705,\"a\",Egresados!$AA$8:$AA$705,\"a\",Egresados!$AC$8:$AC$705)","v":"223a8a61"},{"$f":"IF(ISERROR(VLOOKUP(Egresados!$C$8:$C$705,Maestros!$A$4:$B$21,2,0)),\"\",VLOOKUP(Egresados!$C$8:$C$705,Maestros!$A$4:$B$21,2,0))","v":"1001"},{"$f":"IF(ISERROR(VLOOKUP(Egresados!$H$8:$H$705,Maestros!$D$4:$E$21,2,0)),\"\",VLOOKUP(Egresados!$H$8:$H$705,Maestros!$D$4:$E$21,2,0))","v":"1121"},{"$f":"IF(OR(UPPER(Egresados!$J$8:$J$705)=\"SI\",UPPER(Egresados!$J$8:$J$705)=\"SÍ\"),1,IF(UPPER(Egresados!$J$8:$J$705)=\"NO\",0,\"\"))","v":0},{"$f":"IF(OR(UPPER(Egresados!$R$8:$R$705)=\"SI\",UPPER(Egresados!$R$8:$R$705)=\"SÍ\"),1,IF(UPPER(Egresados!$R$8:$R$705)=\"NO\",0,\"\"))","v":""},{"$f":"IF(OR(UPPER(Egresados!$S$8:$S$705)=\"SI\",UPPER(Egresados!$S$8:$S$705)=\"SÍ\"),1,IF(UPPER(Egresados!$S$8:$S$705)=\"NO\",0,\"\"))","v":""},{"$f":"IF(ISERROR(VLOOKUP(Egresados!$T$8:$T$705,Maestros!$S$31:$T$530,2,0)),\"\",VLOOKUP(Egresados!$T$8:$T$705,Maestros!$S$31:$T$530,2,0))","v":"58"},{"$f":"IF(ISERROR(VLOOKUP(U611,Maestros!$S$31:$T$530,2,0)),\"\",VLOOKUP(U611,Maestros!$S$31:$T$530,2,0))","v":"58"},{"$f":"IF(ISERROR(VLOOKUP(Egresados!$K$8:$K$705,Maestros!$A$31:$B$130,2,0)),\"\",VLOOKUP(Egresados!$K$8:$K$705,Maestros!$A$31:$B$130,2,0))","v":""},{"$f":"IF(LEN(tablaEgresados[[#This Row],[Nota promedio]])>0,ROUND(tablaEgresados[[#This Row],[Nota promedio]],2),\"\")","v":14.42}]
[604,null,"DNI",40640083,"HUANCA","AIMA","JENNY JANET","FEMENINO",null,"NO",null,null,null,"2020-1","SEDE CENTRAL","MATEMATICA E INFORMATICA",13.5,null,null,"2007-1","2007-1","20074089@une.edu.pe","20074089@une.edu.pe",3133700,976486001,{"$f":"IF(ISERROR(VLOOKUP(Egresados!$N$8:$N$705,Maestros!$D$31:$E$530,2,0)),\"\",VLOOKUP(Egresados!$N$8:$N$705,Maestros!$D$31:$E$530,2,0))","v":"223"},{"$f":"IF(ISERROR(VLOOKUP(Egresados!$O612,Maestros!$G$31:$J$1030,2,0)),\"\",VLOOKUP(Egresados!$O612,Maestros!$G$31:$J$1030,2,0))","v":"8"},{"$f":"CONCATENATE(Egresados!$Z$8:$Z$705,\"a\",Egresados!$AA$8:$AA$705)","v":"223a8"},{"$f":"IF(ISERROR(VLOOKUP(Egresados!$P612,Maestros!$L$31:$Q$1030,2,0)),\"\",VLOOKUP(Egresados!$P612,Maestros!$L$31:$Q$1030,2,0))","v":"61"},{"$f":"CONCATENATE(Egresados!$Z$8:$Z$705,\"a\",Egresados!$AA$8:$AA$705,\"a\",Egresados!$AC$8:$AC$705)","v":"223a8a61"},{"$f":"IF(ISERROR(VLOOKUP(Egresados!$C$8:$C$705,Maestros!$A$4:$B$21,2,0)),\"\",VLOOKUP(Egresados!$C$8:$C$705,Maestros!$A$4:$B$21,2,0))","v":"1001"},{"$f":"IF(ISERROR(VLOOKUP(Egresados!$H$8:$H$705,Maestros!$D$4:$E$21,2,0)),\"\",VLOOKUP(Egresados!$H$8:$H$705,Maestros!$D$4:$E$21,2,0))","v":"1122"},{"$f":"IF(OR(UPPER(Egresados!$J$8:$J$705)=\"SI\",UPPER(Egresados!$J$8:$J$705)=\"SÍ\"),1,IF(UPPER(Egresados!$J$8:$J$705)=\"NO\",0,\"\"))","v":0},{"$f":"IF(OR(UPPER(Egresados!$R$8:$R$705)=\"SI\",UPPER(Egresados!$R$8:$R$705)=\"SÍ\"),1,IF(UPPER(Egresados!$R$8:$R$705)=\"NO\",0,\"\"))","v":""},{"$f":"IF(OR(UPPER(Egresados!$S$8:$S$705)=\"SI\",UPPER(Egresados!$S$8:$S$705)=\"SÍ\"),1,IF(UPPER(Egresados!$S$8:$S$705)=\"NO\",0,\"\"))","v":""},{"$f":"IF(ISERROR(VLOOKUP(Egresados!$T$8:$T$705,Maestros!$S$31:$T$530,2,0)),\"\",VLOOKUP(Egresados!$T$8:$T$705,Maestros!$S$31:$T$530,2,0))","v":"30"},{"$f":"IF(ISERROR(VLOOKUP(U612,Maestros!$S$31:$T$530,2,0)),\"\",VLOOKUP(U612,Maestros!$S$31:$T$530,2,0))","v":"30"},{"$f":"IF(ISERROR(VLOOKUP(Egresados!$K$8:$K$705,Maestros!$A$31:$B$130,2,0)),\"\",VLOOKUP(Egresados!$K$8:$K$705,Maestros!$A$31:$B$130,2,0))","v":""},{"$f":"IF(LEN(tablaEgresados[[#This Row],[Nota promedio]])>0,ROUND(tablaEgresados[[#This Row],[Nota promedio]],2),\"\")","v":13.5}]
[605,null,"DNI","06789674","TORRES","LLANOS","EDWAR ESTEBAN","MASCULINO",null,"NO",null,null,null,"2020-1","SEDE CENTRAL","MATEMATICA E INFORMATICA",14.75,null,null,"2006-1","2006-1","20060416@une.edu.pe","20060416@une.edu.pe",3133700,976486001,{"$f":"IF(ISERROR(VLOOKUP(Egresados!$N$8:$N$705,Maestros!$D$31:$E$530,2,0)),\"\",VLOOKUP(Egresados!$N$8:$N$705,Maestros!$D$31:$E$530,2,0))","v":"223"},{"$f":"IF(ISERROR(VLOOKUP(Egresados!$O613,Maestros!$G$31:$J$1030,2,0)),\"\",VLOOKUP(Egresados!$O613,Maestros!$G$31:$J$1030,2,0))","v":"8"},{"$f":"CONCATENATE(Egresados!$Z$8:$Z$705,\"a\",Egresados!$AA$8:$AA$705)","v":"223a8"},{"$f":"IF(ISERROR(VLOOKUP(Egresados!$P613,Maestros!$L$31:$Q$1030,2,0)),\"\",VLOOKUP(Egresados!$P613,Maestros!$L$31:$Q$1030,2,0))","v":"61"},{"$f":"CONCATENATE(Egresados!$Z$8:$Z$705,\"a\",Egresados!$AA$8:$AA$705,\"a\",Egresados!$AC$8:$AC$705)","v":"223a8a61"},{"$f":"IF(ISERROR(VLOOKUP(Egresados!$C$8:$C$705,Maestros!$A$4:$B$21,2,0)),\"\",VLOOKUP(Egresados!$C$8:$C$705,Maestros!$A$4:$B$21,2,0))","v":"1001"},{"$f":"IF(ISERROR(VLOOKUP(Egresados!$H$8:$H$705,Maestros!$D$4:$E$21,2,0)),\"\",VLOOKUP(Egresados!$H$8:$H$705,Maestros!$D$4:$E$21,2,0))","v":"1121"},{"$f":"IF(OR(UPPER(Egresados!$J$8:$J$705)=\"SI\",UPPER(Egresados!$J$8:$J$705)=\"SÍ\"),1,IF(UPPER(Egresados!$J$8:$J$705)=\"NO\",0,\"\"))","v":0},{"$f":"IF(OR(UPPER(Egresados!$R$8:$R$705)=\"SI\",UPPER(Egresados!$R$8:$R$705)=\"SÍ\"),1,IF(UPPER(Egresados!$R$8:$R$705)=\"NO\",0,\"\"))","v":""},{"$f":"IF(OR(UPPER(Egresados!$S$8:$S$705)=\"SI\",UPPER(Egresados!$S$8:$S$705)=\"SÍ\"),1,IF(UPPER(Egresados!$S$8:$S$705)=\"NO\",0,\"\"))","v":""},{"$f":"IF(ISERROR(VLOOKUP(Egresados!$T$8:$T$705,Maestros!$S$31:$T$530,2,0)),\"\",VLOOKUP(Egresados!$T$8:$T$705,Maestros!$S$31:$T$530,2,0))","v":"26"},{"$f":"IF(ISERROR(VLOOKUP(U613,Maestros!$S$31:$T$530,2,0)),\"\",VLOOKUP(U613,Maestros!$S$31:$T$530,2,0))","v":"26"},{"$f":"IF(ISERROR(VLOOKUP(Egresados!$K$8:$K$705,Maestros!$A$31:$B$130,2,0)),\"\",VLOOKUP(Egresados!$K$8:$K$705,Maestros!$A$31:$B$130,2,0))","v":""},{"$f":"IF(LEN(tablaEgresados[[#This Row],[Nota promedio]])>0,ROUND(tablaEgresados[[#This Row],[Nota promedio]],2),\"\")","v":14.75}]
[606,null,"DNI","01265956","DELGADO","TITO","ALEX RONALD","MASCULINO",null,"NO",null,null,null,"2020-1","SEDE CENTRAL","MATEMATICA E INFORMATICA",0,null,null,"2003-1","2003-1","20031185@une.edu.pe","20031185@une.edu.pe",3133700,976486001,{"$f":"IF(ISERROR(VLOOKUP(Egresados!$N$8:$N$705,Maestros!$D$31:$E$530,2,0)),\"\",VLOOKUP(Egresados!$N$8:$N$705,Maestros!$D$31:$E$530,2,0))","v":"223"},{"$f":"IF(ISERROR(VLOOKUP(Egresados!$O614,Maestros!$G$31:$J$1030,2,0)),\"\",VLOOKUP(Egresados!$O614,Maestros!$G$31:$J$1030,2,0))","v":"8"},{"$f":"CONCATENATE(Egresados!$Z$8:$Z$705,\"a\",Egresados!$AA$8:$AA$705)","v":"223a8"},{"$f":"IF(ISERROR(VLOOKUP(Egresados!$P614,Maestros!$L$31:$Q$1030,2,0)),\"\",VLOOKUP(Egresados!$P614,Maestros!$L$31:$Q$1030,2,0))","v":"61"},{"$f":"CONCATENATE(Egresados!$Z$8:$Z$705,\"a\",Egresados!$AA$8:$AA$705,\"a\",Egresados!$AC$8:$AC$705)","v":"223a8a61"},{"$f":"IF(ISERROR(VLOOKUP(Egresados!$C$8:$C$705,Maestros!$A$4:$B$21,2,0)),\"\",VLOOKUP(Egresados!$C$8:$C$705,Maestros!$A$4:$B$21,2,0))","v":"1001"},{"$f":"IF(ISERROR(VLOOKUP(Egresados!$H$8:$H$705,Maestros!$D$4:$E$21,2,0)),\"\",VLOOKUP(Egresados!$H$8:$H$705,Maestros!$D$4:$E$21,2,0))","v":"1121"},{"$f":"IF(OR(UPPER(Egresados!$J$8:$J$705)=\"SI\",UPPER(Egresados!$J$8:$J$705)=\"SÍ\"),1,IF(UPPER(Egresados!$J$8:$J$705)=\"NO\",0,\"\"))","v":0},{"$f":"IF(OR(UPPER(Egresados!$R$8:$R$705)=\"SI\",UPPER(Egresados!$R$8:$R$705)=\"SÍ\"),1,IF(UPPER(Egresados!$R$8:$R$705)=\"NO\",0,\"\"))","v":""},{"$f":"IF(OR(UPPER(Egresados!$S$8:$S$705)=\"SI\",UPPER(Egresados!$S$8:$S$705)=\"SÍ\"),1,IF(UPPER(Egresados!$S$8:$S$705)=\"NO\",0,\"\"))","v":""},{"$f":"IF(ISERROR(VLOOKUP(Egresados!$T$8:$T$705,Maestros!$S$31:$T$530,2,0)),\"\",VLOOKUP(Egresados!$T$8:$T$705,Maestros!$S$31:$T$530,2,0))","v":"14"},{"$f":"IF(ISERROR(VLOOKUP(U614,Maestros!$S$31:$T$530,2,0)),\"\",VLOOKUP(U614,Maestros!$S$31:$T$530,2,0))","v":"14"},{"$f":"IF(ISERROR(VLOOKUP(Egresados!$K$8:$K$705,Maestros!$A$31:$B$130,2,0)),\"\",VLOOKUP(Egresados!$K$8:$K$705,Maestros!$A$31:$B$130,2,0))","v":""},{"$f":"IF(LEN(tablaEgresados[[#This Row],[Nota promedio]])>0,ROUND(tablaEgresados[[#This Row],[Nota promedio]],2),\"\")","v":0}]
[607,null,"DNI","71499422","MALLMA","OSORES","VINCEND DEILSON","MASCULINO",null,"NO",null,null,null,"2020-1","SEDE CENTRAL","MECANICA DE PRODUCCION",16.13,null,null,"2015-1","2015-1","20150801@une.edu.pe","nagato_rennigan@hotmail.com",3133700,"963277946",{"$f":"IF(ISERROR(VLOOKUP(Egresados!$N$8:$N$705,Maestros!$D$31:$E$530,2,0)),\"\",VLOOKUP(Egresados!$N$8:$N$705,Maestros!$D$31:$E$530,2,0))","v":"223"},{"$f":"IF(ISERROR(VLOOKUP(Egresados!$O615,Maestros!$G$31:$J$1030,2,0)),\"\",VLOOKUP(Egresados!$O615,Maestros!$G$31:$J$1030,2,0))","v":"8"},{"$f":"CONCATENATE(Egresados!$Z$8:$Z$705,\"a\",Egresados!$AA$8:$AA$705)","v":"223a8"},{"$f":"IF(ISERROR(VLOOKUP(Egresados!$P615,Maestros!$L$31:$Q$1030,2,0)),\"\",VLOOKUP(Egresados!$P615,Maestros!$L$31:$Q$1030,2,0))","v":"312"},{"$f":"CONCATENATE(Egresados!$Z$8:$Z$705,\"a\",Egresados!$AA$8:$AA$705,\"a\",Egresados!$AC$8:$AC$705)","v":"223a8a312"},{"$f":"IF(ISERROR(VLOOKUP(Egresados!$C$8:$C$705,Maestros!$A$4:$B$21,2,0)),\"\",VLOOKUP(Egresados!$C$8:$C$705,Maestros!$A$4:$B$21,2,0))","v":"1001"},{"$f":"IF(ISERROR(VLOOKUP(Egresados!$H$8:$H$705,Maestros!$D$4:$E$21,2,0)),\"\",VLOOKUP(Egresados!$H$8:$H$705,Maestros!$D$4:$E$21,2,0))","v":"1121"},{"$f":"IF(OR(UPPER(Egresados!$J$8:$J$705)=\"SI\",UPPER(Egresados!$J$8:$J$705)=\"SÍ\"),1,IF(UPPER(Egresados!$J$8:$J$705)=\"NO\",0,\"\"))","v":0},{"$f":"IF(OR(UPPER(Egresados!$R$8:$R$705)=\"SI\",UPPER(Egresados!$R$8:$R$705)=\"SÍ\"),1,IF(UPPER(Egresados!$R$8:$R$705)=\"NO\",0,\"\"))","v":""},{"$f":"IF(OR(UPPER(Egresados!$S$8:$S$705)=\"SI\",UPPER(Egresados!$S$8:$S$705)=\"SÍ\"),1,IF(UPPER(Egresados!$S$8:$S$705)=\"NO\",0,\"\"))","v":""},{"$f":"IF(ISERROR(VLOOKUP(Egresados!$T$8:$T$705,Maestros!$S$31:$T$530,2,0)),\"\",VLOOKUP(Egresados!$T$8:$T$705,Maestros!$S$31:$T$530,2,0))","v":"62"},{"$f":"IF(ISERROR(VLOOKUP(U615,Maestros!$S$31:$T$530,2,0)),\"\",VLOOKUP(U615,Maestros!$S$31:$T$530,2,0))","v":"62"},{"$f":"IF(ISERROR(VLOOKUP(Egresados!$K$8:$K$705,Maestros!$A$31:$B$130,2,0)),\"\",VLOOKUP(Egresados!$K$8:$K$705,Maestros!$A$31:$B$130,2,0))","v":""},{"$f":"IF(LEN(tablaEgresados[[#This Row],[Nota promedio]])>0,ROUND(tablaEgresados[[#This Row],[Nota promedio]],2),\"\")","v":16.13}]
[608,null,"DNI","74419687","SANCHEZ","ATAYPOMA","JOSE GABRIEL","MASCULINO",null,"NO",null,null,null,"2020-1","SEDE CENTRAL","MECANICA DE PRODUCCION",15.33,null,null,"2015-1","2015-1","20150807@une.edu.pe","josesanchezataypoma@gmail.com",3133700,"962734102",{"$f":"IF(ISERROR(VLOOKUP(Egresados!$N$8:$N$705,Maestros!$D$31:$E$530,2,0)),\"\",VLOOKUP(Egresados!$N$8:$N$705,Maestros!$D$31:$E$530,2,0))","v":"223"},{"$f":"IF(ISERROR(VLOOKUP(Egresados!$O616,Maestros!$G$31:$J$1030,2,0)),\"\",VLOOKUP(Egresados!$O616,Maestros!$G$31:$J$1030,2,0))","v":"8"},{"$f":"CONCATENATE(Egresados!$Z$8:$Z$705,\"a\",Egresados!$AA$8:$AA$705)","v":"223a8"},{"$f":"IF(ISERROR(VLOOKUP(Egresados!$P616,Maestros!$L$31:$Q$1030,2,0)),\"\",VLOOKUP(Egresados!$P616,Maestros!$L$31:$Q$1030,2,0))","v":"312"},{"$f":"CONCATENATE(Egresados!$Z$8:$Z$705,\"a\",Egresados!$AA$8:$AA$705,\"a\",Egresados!$AC$8:$AC$705)","v":"223a8a312"},{"$f":"IF(ISERROR(VLOOKUP(Egresados!$C$8:$C$705,Maestros!$A$4:$B$21,2,0)),\"\",VLOOKUP(Egresados!$C$8:$C$705,Maestros!$A$4:$B$21,2,0))","v":"1001"},{"$f":"IF(ISERROR(VLOOKUP(Egresados!$H$8:$H$705,Maestros!$D$4:$E$21,2,0)),\"\",VLOOKUP(Egresados!$H$8:$H$705,Maestros!$D$4:$E$21,2,0))","v":"1121"},{"$f":"IF(OR(UPPER(Egresados!$J$8:$J$705)=\"SI\",UPPER(Egresados!$J$8:$J$705)=\"SÍ\"),1,IF(UPPER(Egresados!$J$8:$J$705)=\"NO\",0,\"\"))","v":0},{"$f":"IF(OR(UPPER(Egresados!$R$8:$R$705)=\"SI\",UPPER(Egresados!$R$8:$R$705)=\"SÍ\"),1,IF(UPPER(Egresados!$R$8:$R$705)=\"NO\",0,\"\"))","v":""},{"$f":"IF(OR(UPPER(Egresados!$S$8:$S$705)=\"SI\",UPPER(Egresados!$S$8:$S$705)=\"SÍ\"),1,IF(UPPER(Egresados!$S$8:$S$705)=\"NO\",0,\"\"))","v":""},{"$f":"IF(ISERROR(VLOOKUP(Egresados!$T$8:$T$705,Maestros!$S$31:$T$530,2,0)),\"\",VLOOKUP(Egresados!$T$8:$T$705,Maestros!$S$31:$T$530,2,0))","v":"62"},{"$f":"IF(ISERROR(VLOOKUP(U616,Maestros!$S$31:$T$530,2,0)),\"\",VLOOKUP(U616,Maestros!$S$31:$T$530,2,0))","v":"62"},{"$f":"IF(ISERROR(VLOOKUP(Egresados!$K$8:$K$705,Maestros!$A$31:$B$130,2,0)),\"\",VLOOKUP(Egresados!$K$8:$K$705,Maestros!$A$31:$B$130,2,0))","v":""},{"$f":"IF(LEN(tablaEgresados[[#This Row],[Nota promedio]])>0,ROUND(tablaEgresados[[#This Row],[Nota promedio]],2),\"\")","v":15.33}]
[609,null,"DNI",20053029,"RUTTI","SURICHAQUI","ARMANDO ANTONIO","MASCULINO",null,"NO",null,null,null,"2020-1","SEDE CENTRAL","MECANICA DE PRODUCCION",13.09,null,null,"2005-1","2005-1","20050887@une.edu.pe","20050887@une.edu.pe",3133700,976486001,{"$f":"IF(ISERROR(VLOOKUP(Egresados!$N$8:$N$705,Maestros!$D$31:$E$530,2,0)),\"\",VLOOKUP(Egresados!$N$8:$N$705,Maestros!$D$31:$E$530,2,0))","v":"223"},{"$f":"IF(ISERROR(VLOOKUP(Egresados!$O617,Maestros!$G$31:$J$1030,2,0)),\"\",VLOOKUP(Egresados!$O617,Maestros!$G$31:$J$1030,2,0))","v":"8"},{"$f":"CONCATENATE(Egresados!$Z$8:$Z$705,\"a\",Egresados!$AA$8:$AA$705)","v":"223a8"},{"$f":"IF(ISERROR(VLOOKUP(Egresados!$P617,Maestros!$L$31:$Q$1030,2,0)),\"\",VLOOKUP(Egresados!$P617,Maestros!$L$31:$Q$1030,2,0))","v":"312"},{"$f":"CONCATENATE(Egresados!$Z$8:$Z$705,\"a\",Egresados!$AA$8:$AA$705,\"a\",Egresados!$AC$8:$AC$705)","v":"223a8a312"},{"$f":"IF(ISERROR(VLOOKUP(Egresados!$C$8:$C$705,Maestros!$A$4:$B$21,2,0)),\"\",VLOOKUP(Egresados!$C$8:$C$705,Maestros!$A$4:$B$21,2,0))","v":"1001"},{"$f":"IF(ISERROR(VLOOKUP(Egresados!$H$8:$H$705,Maestros!$D$4:$E$21,2,0)),\"\",VLOOKUP(Egresados!$H$8:$H$705,Maestros!$D$4:$E$21,2,0))","v":"1121"},{"$f":"IF(OR(UPPER(Egresados!$J$8:$J$705)=\"SI\",UPPER(Egresados!$J$8:$J$705)=\"SÍ\"),1,IF(UPPER(Egresados!$J$8:$J$705)=\"NO\",0,\"\"))","v":0},{"$f":"IF(OR(UPPER(Egresados!$R$8:$R$705)=\"SI\",UPPER(Egresados!$R$8:$R$705)=\"SÍ\"),1,IF(UPPER(Egresados!$R$8:$R$705)=\"NO\",0,\"\"))","v":""},{"$f":"IF(OR(UPPER(Egresados!$S$8:$S$705)=\"SI\",UPPER(Egresados!$S$8:$S$705)=\"SÍ\"),1,IF(UPPER(Egresados!$S$8:$S$705)=\"NO\",0,\"\"))","v":""},{"$f":"IF(ISERROR(VLOOKUP(Egresados!$T$8:$T$705,Maestros!$S$31:$T$530,2,0)),\"\",VLOOKUP(Egresados!$T$8:$T$705,Maestros!$S$31:$T$530,2,0))","v":"22"},{"$f":"IF(ISERROR(VLOOKUP(U617,Maestros!$S$31:$T$530,2,0)),\"\",VLOOKUP(U617,Maestros!$S$31:$T$530,2,0))","v":"22"},{"$f":"IF(ISERROR(VLOOKUP(Egresados!$K$8:$K$705,Maestros!$A$31:$B$130,2,0)),\"\",VLOOKUP(Egresados!$K$8:$K$705,Maestros!$A$31:$B$130,2,0))","v":""},{"$f":"IF(LEN(tablaEgresados[[#This Row],[Nota promedio]])>0,ROUND(tablaEgresados[[#This Row],[Nota promedio]],2),\"\")","v":13.09}]
[610,null,"DNI","45472114","MAITA","TOVAR","MIRIAM ROSARIO","FEMENINO",null,"NO",null,null,null,"2020-1","SEDE CENTRAL","METALURGIA-JOYERIA",16.600000000000001,null,null,"2015-1","2015-1","20150787@une.edu.pe","amrimipaz@hotmail.com",3133700,"982549137",{"$f":"IF(ISERROR(VLOOKUP(Egresados!$N$8:$N$705,Maestros!$D$31:$E$530,2,0)),\"\",VLOOKUP(Egresados!$N$8:$N$705,Maestros!$D$31:$E$530,2,0))","v":"223"},{"$f":"IF(ISERROR(VLOOKUP(Egresados!$O618,Maestros!$G$31:$J$1030,2,0)),\"\",VLOOKUP(Egresados!$O618,Maestros!$G$31:$J$1030,2,0))","v":"8"},{"$f":"CONCATENATE(Egresados!$Z$8:$Z$705,\"a\",Egresados!$AA$8:$AA$705)","v":"223a8"},{"$f":"IF(ISERROR(VLOOKUP(Egresados!$P618,Maestros!$L$31:$Q$1030,2,0)),\"\",VLOOKUP(Egresados!$P618,Maestros!$L$31:$Q$1030,2,0))","v":"311"},{"$f":"CONCATENATE(Egresados!$Z$8:$Z$705,\"a\",Egresados!$AA$8:$AA$705,\"a\",Egresados!$AC$8:$AC$705)","v":"223a8a311"},{"$f":"IF(ISERROR(VLOOKUP(Egresados!$C$8:$C$705,Maestros!$A$4:$B$21,2,0)),\"\",VLOOKUP(Egresados!$C$8:$C$705,Maestros!$A$4:$B$21,2,0))","v":"1001"},{"$f":"IF(ISERROR(VLOOKUP(Egresados!$H$8:$H$705,Maestros!$D$4:$E$21,2,0)),\"\",VLOOKUP(Egresados!$H$8:$H$705,Maestros!$D$4:$E$21,2,0))","v":"1122"},{"$f":"IF(OR(UPPER(Egresados!$J$8:$J$705)=\"SI\",UPPER(Egresados!$J$8:$J$705)=\"SÍ\"),1,IF(UPPER(Egresados!$J$8:$J$705)=\"NO\",0,\"\"))","v":0},{"$f":"IF(OR(UPPER(Egresados!$R$8:$R$705)=\"SI\",UPPER(Egresados!$R$8:$R$705)=\"SÍ\"),1,IF(UPPER(Egresados!$R$8:$R$705)=\"NO\",0,\"\"))","v":""},{"$f":"IF(OR(UPPER(Egresados!$S$8:$S$705)=\"SI\",UPPER(Egresados!$S$8:$S$705)=\"SÍ\"),1,IF(UPPER(Egresados!$S$8:$S$705)=\"NO\",0,\"\"))","v":""},{"$f":"IF(ISERROR(VLOOKUP(Egresados!$T$8:$T$705,Maestros!$S$31:$T$530,2,0)),\"\",VLOOKUP(Egresados!$T$8:$T$705,Maestros!$S$31:$T$530,2,0))","v":"62"},{"$f":"IF(ISERROR(VLOOKUP(U618,Maestros!$S$31:$T$530,2,0)),\"\",VLOOKUP(U618,Maestros!$S$31:$T$530,2,0))","v":"62"},{"$f":"IF(ISERROR(VLOOKUP(Egresados!$K$8:$K$705,Maestros!$A$31:$B$130,2,0)),\"\",VLOOKUP(Egresados!$K$8:$K$705,Maestros!$A$31:$B$130,2,0))","v":""},{"$f":"IF(LEN(tablaEgresados[[#This Row],[Nota promedio]])>0,ROUND(tablaEgresados[[#This Row],[Nota promedio]],2),\"\")","v":16.600000000000001}]
[611,null,"DNI","48496053","NAVARRO","MORALES","EDWIN","MASCULINO",null,"NO",null,null,null,"2020-1","SEDE CENTRAL","METALURGIA-JOYERIA",15.4,null,null,"2012-1","2012-1","20121566@une.edu.pe","edwibn_26_15@hotmail.com",3133700,"996956555",{"$f":"IF(ISERROR(VLOOKUP(Egresados!$N$8:$N$705,Maestros!$D$31:$E$530,2,0)),\"\",VLOOKUP(Egresados!$N$8:$N$705,Maestros!$D$31:$E$530,2,0))","v":"223"},{"$f":"IF(ISERROR(VLOOKUP(Egresados!$O619,Maestros!$G$31:$J$1030,2,0)),\"\",VLOOKUP(Egresados!$O619,Maestros!$G$31:$J$1030,2,0))","v":"8"},{"$f":"CONCATENATE(Egresados!$Z$8:$Z$705,\"a\",Egresados!$AA$8:$AA$705)","v":"223a8"},{"$f":"IF(ISERROR(VLOOKUP(Egresados!$P619,Maestros!$L$31:$Q$1030,2,0)),\"\",VLOOKUP(Egresados!$P619,Maestros!$L$31:$Q$1030,2,0))","v":"311"},{"$f":"CONCATENATE(Egresados!$Z$8:$Z$705,\"a\",Egresados!$AA$8:$AA$705,\"a\",Egresados!$AC$8:$AC$705)","v":"223a8a311"},{"$f":"IF(ISERROR(VLOOKUP(Egresados!$C$8:$C$705,Maestros!$A$4:$B$21,2,0)),\"\",VLOOKUP(Egresados!$C$8:$C$705,Maestros!$A$4:$B$21,2,0))","v":"1001"},{"$f":"IF(ISERROR(VLOOKUP(Egresados!$H$8:$H$705,Maestros!$D$4:$E$21,2,0)),\"\",VLOOKUP(Egresados!$H$8:$H$705,Maestros!$D$4:$E$21,2,0))","v":"1121"},{"$f":"IF(OR(UPPER(Egresados!$J$8:$J$705)=\"SI\",UPPER(Egresados!$J$8:$J$705)=\"SÍ\"),1,IF(UPPER(Egresados!$J$8:$J$705)=\"NO\",0,\"\"))","v":0},{"$f":"IF(OR(UPPER(Egresados!$R$8:$R$705)=\"SI\",UPPER(Egresados!$R$8:$R$705)=\"SÍ\"),1,IF(UPPER(Egresados!$R$8:$R$705)=\"NO\",0,\"\"))","v":""},{"$f":"IF(OR(UPPER(Egresados!$S$8:$S$705)=\"SI\",UPPER(Egresados!$S$8:$S$705)=\"SÍ\"),1,IF(UPPER(Egresados!$S$8:$S$705)=\"NO\",0,\"\"))","v":""},{"$f":"IF(ISERROR(VLOOKUP(Egresados!$T$8:$T$705,Maestros!$S$31:$T$530,2,0)),\"\",VLOOKUP(Egresados!$T$8:$T$705,Maestros!$S$31:$T$530,2,0))","v":"50"},{"$f":"IF(ISERROR(VLOOKUP(U619,Maestros!$S$31:$T$530,2,0)),\"\",VLOOKUP(U619,Maestros!$S$31:$T$530,2,0))","v":"50"},{"$f":"IF(ISERROR(VLOOKUP(Egresados!$K$8:$K$705,Maestros!$A$31:$B$130,2,0)),\"\",VLOOKUP(Egresados!$K$8:$K$705,Maestros!$A$31:$B$130,2,0))","v":""},{"$f":"IF(LEN(tablaEgresados[[#This Row],[Nota promedio]])>0,ROUND(tablaEgresados[[#This Row],[Nota promedio]],2),\"\")","v":15.4}]
[612,null,"DNI","75211957","CAIPO","SANCHEZ","LUCERO ANDREINA","FEMENINO",null,"NO",null,null,null,"2020-1","SEDE CENTRAL","NUTRICION HUMANA",14.56,null,null,"2013-1","2013-1","20130241@une.edu.pe","andreina.caipo@outlook.com",3133700,"933162401",{"$f":"IF(ISERROR(VLOOKUP(Egresados!$N$8:$N$705,Maestros!$D$31:$E$530,2,0)),\"\",VLOOKUP(Egresados!$N$8:$N$705,Maestros!$D$31:$E$530,2,0))","v":"223"},{"$f":"IF(ISERROR(VLOOKUP(Egresados!$O620,Maestros!$G$31:$J$1030,2,0)),\"\",VLOOKUP(Egresados!$O620,Maestros!$G$31:$J$1030,2,0))","v":"8"},{"$f":"CONCATENATE(Egresados!$Z$8:$Z$705,\"a\",Egresados!$AA$8:$AA$705)","v":"223a8"},{"$f":"IF(ISERROR(VLOOKUP(Egresados!$P620,Maestros!$L$31:$Q$1030,2,0)),\"\",VLOOKUP(Egresados!$P620,Maestros!$L$31:$Q$1030,2,0))","v":"220"},{"$f":"CONCATENATE(Egresados!$Z$8:$Z$705,\"a\",Egresados!$AA$8:$AA$705,\"a\",Egresados!$AC$8:$AC$705)","v":"223a8a220"},{"$f":"IF(ISERROR(VLOOKUP(Egresados!$C$8:$C$705,Maestros!$A$4:$B$21,2,0)),\"\",VLOOKUP(Egresados!$C$8:$C$705,Maestros!$A$4:$B$21,2,0))","v":"1001"},{"$f":"IF(ISERROR(VLOOKUP(Egresados!$H$8:$H$705,Maestros!$D$4:$E$21,2,0)),\"\",VLOOKUP(Egresados!$H$8:$H$705,Maestros!$D$4:$E$21,2,0))","v":"1122"},{"$f":"IF(OR(UPPER(Egresados!$J$8:$J$705)=\"SI\",UPPER(Egresados!$J$8:$J$705)=\"SÍ\"),1,IF(UPPER(Egresados!$J$8:$J$705)=\"NO\",0,\"\"))","v":0},{"$f":"IF(OR(UPPER(Egresados!$R$8:$R$705)=\"SI\",UPPER(Egresados!$R$8:$R$705)=\"SÍ\"),1,IF(UPPER(Egresados!$R$8:$R$705)=\"NO\",0,\"\"))","v":""},{"$f":"IF(OR(UPPER(Egresados!$S$8:$S$705)=\"SI\",UPPER(Egresados!$S$8:$S$705)=\"SÍ\"),1,IF(UPPER(Egresados!$S$8:$S$705)=\"NO\",0,\"\"))","v":""},{"$f":"IF(ISERROR(VLOOKUP(Egresados!$T$8:$T$705,Maestros!$S$31:$T$530,2,0)),\"\",VLOOKUP(Egresados!$T$8:$T$705,Maestros!$S$31:$T$530,2,0))","v":"54"},{"$f":"IF(ISERROR(VLOOKUP(U620,Maestros!$S$31:$T$530,2,0)),\"\",VLOOKUP(U620,Maestros!$S$31:$T$530,2,0))","v":"54"},{"$f":"IF(ISERROR(VLOOKUP(Egresados!$K$8:$K$705,Maestros!$A$31:$B$130,2,0)),\"\",VLOOKUP(Egresados!$K$8:$K$705,Maestros!$A$31:$B$130,2,0))","v":""},{"$f":"IF(LEN(tablaEgresados[[#This Row],[Nota promedio]])>0,ROUND(tablaEgresados[[#This Row],[Nota promedio]],2),\"\")","v":14.56}]
[613,null,"DNI","74137263","MONSALVE","VILCARROMERO","BRANDON MANUEL","MASCULINO",null,"NO",null,null,null,"2020-1","SEDE CENTRAL","NUTRICION HUMANA",14.78,null,null,"2015-1","2015-1","20151072@une.edu.pe","brandonmonsalve19@gmail.com",3133700,976486001,{"$f":"IF(ISERROR(VLOOKUP(Egresados!$N$8:$N$705,Maestros!$D$31:$E$530,2,0)),\"\",VLOOKUP(Egresados!$N$8:$N$705,Maestros!$D$31:$E$530,2,0))","v":"223"},{"$f":"IF(ISERROR(VLOOKUP(Egresados!$O621,Maestros!$G$31:$J$1030,2,0)),\"\",VLOOKUP(Egresados!$O621,Maestros!$G$31:$J$1030,2,0))","v":"8"},{"$f":"CONCATENATE(Egresados!$Z$8:$Z$705,\"a\",Egresados!$AA$8:$AA$705)","v":"223a8"},{"$f":"IF(ISERROR(VLOOKUP(Egresados!$P621,Maestros!$L$31:$Q$1030,2,0)),\"\",VLOOKUP(Egresados!$P621,Maestros!$L$31:$Q$1030,2,0))","v":"220"},{"$f":"CONCATENATE(Egresados!$Z$8:$Z$705,\"a\",Egresados!$AA$8:$AA$705,\"a\",Egresados!$AC$8:$AC$705)","v":"223a8a220"},{"$f":"IF(ISERROR(VLOOKUP(Egresados!$C$8:$C$705,Maestros!$A$4:$B$21,2,0)),\"\",VLOOKUP(Egresados!$C$8:$C$705,Maestros!$A$4:$B$21,2,0))","v":"1001"},{"$f":"IF(ISERROR(VLOOKUP(Egresados!$H$8:$H$705,Maestros!$D$4:$E$21,2,0)),\"\",VLOOKUP(Egresados!$H$8:$H$705,Maestros!$D$4:$E$21,2,0))","v":"1121"},{"$f":"IF(OR(UPPER(Egresados!$J$8:$J$705)=\"SI\",UPPER(Egresados!$J$8:$J$705)=\"SÍ\"),1,IF(UPPER(Egresados!$J$8:$J$705)=\"NO\",0,\"\"))","v":0},{"$f":"IF(OR(UPPER(Egresados!$R$8:$R$705)=\"SI\",UPPER(Egresados!$R$8:$R$705)=\"SÍ\"),1,IF(UPPER(Egresados!$R$8:$R$705)=\"NO\",0,\"\"))","v":""},{"$f":"IF(OR(UPPER(Egresados!$S$8:$S$705)=\"SI\",UPPER(Egresados!$S$8:$S$705)=\"SÍ\"),1,IF(UPPER(Egresados!$S$8:$S$705)=\"NO\",0,\"\"))","v":""},{"$f":"IF(ISERROR(VLOOKUP(Egresados!$T$8:$T$705,Maestros!$S$31:$T$530,2,0)),\"\",VLOOKUP(Egresados!$T$8:$T$705,Maestros!$S$31:$T$530,2,0))","v":"62"},{"$f":"IF(ISERROR(VLOOKUP(U621,Maestros!$S$31:$T$530,2,0)),\"\",VLOOKUP(U621,Maestros!$S$31:$T$530,2,0))","v":"62"},{"$f":"IF(ISERROR(VLOOKUP(Egresados!$K$8:$K$705,Maestros!$A$31:$B$130,2,0)),\"\",VLOOKUP(Egresados!$K$8:$K$705,Maestros!$A$31:$B$130,2,0))","v":""},{"$f":"IF(LEN(tablaEgresados[[#This Row],[Nota promedio]])>0,ROUND(tablaEgresados[[#This Row],[Nota promedio]],2),\"\")","v":14.78}]
[614,null,"DNI","45802357","TORRES","NAVARRO","ROE","MASCULINO",null,"NO",null,null,null,"2020-1","SEDE CENTRAL","NUTRICION HUMANA",13.73,null,null,"2015-1","2015-1","20151083@une.edu.pe","rtorresn9@gmail.com",3133700,"986511330",{"$f":"IF(ISERROR(VLOOKUP(Egresados!$N$8:$N$705,Maestros!$D$31:$E$530,2,0)),\"\",VLOOKUP(Egresados!$N$8:$N$705,Maestros!$D$31:$E$530,2,0))","v":"223"},{"$f":"IF(ISERROR(VLOOKUP(Egresados!$O622,Maestros!$G$31:$J$1030,2,0)),\"\",VLOOKUP(Egresados!$O622,Maestros!$G$31:$J$1030,2,0))","v":"8"},{"$f":"CONCATENATE(Egresados!$Z$8:$Z$705,\"a\",Egresados!$AA$8:$AA$705)","v":"223a8"},{"$f":"IF(ISERROR(VLOOKUP(Egresados!$P622,Maestros!$L$31:$Q$1030,2,0)),\"\",VLOOKUP(Egresados!$P622,Maestros!$L$31:$Q$1030,2,0))","v":"220"},{"$f":"CONCATENATE(Egresados!$Z$8:$Z$705,\"a\",Egresados!$AA$8:$AA$705,\"a\",Egresados!$AC$8:$AC$705)","v":"223a8a220"},{"$f":"IF(ISERROR(VLOOKUP(Egresados!$C$8:$C$705,Maestros!$A$4:$B$21,2,0)),\"\",VLOOKUP(Egresados!$C$8:$C$705,Maestros!$A$4:$B$21,2,0))","v":"1001"},{"$f":"IF(ISERROR(VLOOKUP(Egresados!$H$8:$H$705,Maestros!$D$4:$E$21,2,0)),\"\",VLOOKUP(Egresados!$H$8:$H$705,Maestros!$D$4:$E$21,2,0))","v":"1121"},{"$f":"IF(OR(UPPER(Egresados!$J$8:$J$705)=\"SI\",UPPER(Egresados!$J$8:$J$705)=\"SÍ\"),1,IF(UPPER(Egresados!$J$8:$J$705)=\"NO\",0,\"\"))","v":0},{"$f":"IF(OR(UPPER(Egresados!$R$8:$R$705)=\"SI\",UPPER(Egresados!$R$8:$R$705)=\"SÍ\"),1,IF(UPPER(Egresados!$R$8:$R$705)=\"NO\",0,\"\"))","v":""},{"$f":"IF(OR(UPPER(Egresados!$S$8:$S$705)=\"SI\",UPPER(Egresados!$S$8:$S$705)=\"SÍ\"),1,IF(UPPER(Egresados!$S$8:$S$705)=\"NO\",0,\"\"))","v":""},{"$f":"IF(ISERROR(VLOOKUP(Egresados!$T$8:$T$705,Maestros!$S$31:$T$530,2,0)),\"\",VLOOKUP(Egresados!$T$8:$T$705,Maestros!$S$31:$T$530,2,0))","v":"62"},{"$f":"IF(ISERROR(VLOOKUP(U622,Maestros!$S$31:$T$530,2,0)),\"\",VLOOKUP(U622,Maestros!$S$31:$T$530,2,0))","v":"62"},{"$f":"IF(ISERROR(VLOOKUP(Egresados!$K$8:$K$705,Maestros!$A$31:$B$130,2,0)),\"\",VLOOKUP(Egresados!$K$8:$K$705,Maestros!$A$31:$B$130,2,0))","v":""},{"$f":"IF(LEN(tablaEgresados[[#This Row],[Nota promedio]])>0,ROUND(tablaEgresados[[#This Row],[Nota promedio]],2),\"\")","v":13.73}]
[615,null,"DNI","44761183","TOCAS","MENDOZA","JIMM HECTOR","MASCULINO",null,"NO",null,null,null,"2020-1","SEDE CENTRAL","NUTRICION HUMANA",15.3,null,null,"2014-1","2014-1","20140997@une.edu.pe","piotokaz@yahoo.com",3133700,"954768731",{"$f":"IF(ISERROR(VLOOKUP(Egresados!$N$8:$N$705,Maestros!$D$31:$E$530,2,0)),\"\",VLOOKUP(Egresados!$N$8:$N$705,Maestros!$D$31:$E$530,2,0))","v":"223"},{"$f":"IF(ISERROR(VLOOKUP(Egresados!$O623,Maestros!$G$31:$J$1030,2,0)),\"\",VLOOKUP(Egresados!$O623,Maestros!$G$31:$J$1030,2,0))","v":"8"},{"$f":"CONCATENATE(Egresados!$Z$8:$Z$705,\"a\",Egresados!$AA$8:$AA$705)","v":"223a8"},{"$f":"IF(ISERROR(VLOOKUP(Egresados!$P623,Maestros!$L$31:$Q$1030,2,0)),\"\",VLOOKUP(Egresados!$P623,Maestros!$L$31:$Q$1030,2,0))","v":"220"},{"$f":"CONCATENATE(Egresados!$Z$8:$Z$705,\"a\",Egresados!$AA$8:$AA$705,\"a\",Egresados!$AC$8:$AC$705)","v":"223a8a220"},{"$f":"IF(ISERROR(VLOOKUP(Egresados!$C$8:$C$705,Maestros!$A$4:$B$21,2,0)),\"\",VLOOKUP(Egresados!$C$8:$C$705,Maestros!$A$4:$B$21,2,0))","v":"1001"},{"$f":"IF(ISERROR(VLOOKUP(Egresados!$H$8:$H$705,Maestros!$D$4:$E$21,2,0)),\"\",VLOOKUP(Egresados!$H$8:$H$705,Maestros!$D$4:$E$21,2,0))","v":"1121"},{"$f":"IF(OR(UPPER(Egresados!$J$8:$J$705)=\"SI\",UPPER(Egresados!$J$8:$J$705)=\"SÍ\"),1,IF(UPPER(Egresados!$J$8:$J$705)=\"NO\",0,\"\"))","v":0},{"$f":"IF(OR(UPPER(Egresados!$R$8:$R$705)=\"SI\",UPPER(Egresados!$R$8:$R$705)=\"SÍ\"),1,IF(UPPER(Egresados!$R$8:$R$705)=\"NO\",0,\"\"))","v":""},{"$f":"IF(OR(UPPER(Egresados!$S$8:$S$705)=\"SI\",UPPER(Egresados!$S$8:$S$705)=\"SÍ\"),1,IF(UPPER(Egresados!$S$8:$S$705)=\"NO\",0,\"\"))","v":""},{"$f":"IF(ISERROR(VLOOKUP(Egresados!$T$8:$T$705,Maestros!$S$31:$T$530,2,0)),\"\",VLOOKUP(Egresados!$T$8:$T$705,Maestros!$S$31:$T$530,2,0))","v":"58"},{"$f":"IF(ISERROR(VLOOKUP(U623,Maestros!$S$31:$T$530,2,0)),\"\",VLOOKUP(U623,Maestros!$S$31:$T$530,2,0))","v":"58"},{"$f":"IF(ISERROR(VLOOKUP(Egresados!$K$8:$K$705,Maestros!$A$31:$B$130,2,0)),\"\",VLOOKUP(Egresados!$K$8:$K$705,Maestros!$A$31:$B$130,2,0))","v":""},{"$f":"IF(LEN(tablaEgresados[[#This Row],[Nota promedio]])>0,ROUND(tablaEgresados[[#This Row],[Nota promedio]],2),\"\")","v":15.3}]
[616,null,"DNI","75170176","MUÑOZ","DURAND","CECIBEL","MASCULINO",null,"NO",null,null,null,"2020-1","SEDE CENTRAL","NUTRICION HUMANA",15.47,null,null,"2015-1","2015-1","20151074@une.edu.pe","ceci_love_girl_14@hotmail.com",3133700,"947589211",{"$f":"IF(ISERROR(VLOOKUP(Egresados!$N$8:$N$705,Maestros!$D$31:$E$530,2,0)),\"\",VLOOKUP(Egresados!$N$8:$N$705,Maestros!$D$31:$E$530,2,0))","v":"223"},{"$f":"IF(ISERROR(VLOOKUP(Egresados!$O624,Maestros!$G$31:$J$1030,2,0)),\"\",VLOOKUP(Egresados!$O624,Maestros!$G$31:$J$1030,2,0))","v":"8"},{"$f":"CONCATENATE(Egresados!$Z$8:$Z$705,\"a\",Egresados!$AA$8:$AA$705)","v":"223a8"},{"$f":"IF(ISERROR(VLOOKUP(Egresados!$P624,Maestros!$L$31:$Q$1030,2,0)),\"\",VLOOKUP(Egresados!$P624,Maestros!$L$31:$Q$1030,2,0))","v":"220"},{"$f":"CONCATENATE(Egresados!$Z$8:$Z$705,\"a\",Egresados!$AA$8:$AA$705,\"a\",Egresados!$AC$8:$AC$705)","v":"223a8a220"},{"$f":"IF(ISERROR(VLOOKUP(Egresados!$C$8:$C$705,Maestros!$A$4:$B$21,2,0)),\"\",VLOOKUP(Egresados!$C$8:$C$705,Maestros!$A$4:$B$21,2,0))","v":"1001"},{"$f":"IF(ISERROR(VLOOKUP(Egresados!$H$8:$H$705,Maestros!$D$4:$E$21,2,0)),\"\",VLOOKUP(Egresados!$H$8:$H$705,Maestros!$D$4:$E$21,2,0))","v":"1121"},{"$f":"IF(OR(UPPER(Egresados!$J$8:$J$705)=\"SI\",UPPER(Egresados!$J$8:$J$705)=\"SÍ\"),1,IF(UPPER(Egresados!$J$8:$J$705)=\"NO\",0,\"\"))","v":0},{"$f":"IF(OR(UPPER(Egresados!$R$8:$R$705)=\"SI\",UPPER(Egresados!$R$8:$R$705)=\"SÍ\"),1,IF(UPPER(Egresados!$R$8:$R$705)=\"NO\",0,\"\"))","v":""},{"$f":"IF(OR(UPPER(Egresados!$S$8:$S$705)=\"SI\",UPPER(Egresados!$S$8:$S$705)=\"SÍ\"),1,IF(UPPER(Egresados!$S$8:$S$705)=\"NO\",0,\"\"))","v":""},{"$f":"IF(ISERROR(VLOOKUP(Egresados!$T$8:$T$705,Maestros!$S$31:$T$530,2,0)),\"\",VLOOKUP(Egresados!$T$8:$T$705,Maestros!$S$31:$T$530,2,0))","v":"62"},{"$f":"IF(ISERROR(VLOOKUP(U624,Maestros!$S$31:$T$530,2,0)),\"\",VLOOKUP(U624,Maestros!$S$31:$T$530,2,0))","v":"62"},{"$f":"IF(ISERROR(VLOOKUP(Egresados!$K$8:$K$705,Maestros!$A$31:$B$130,2,0)),\"\",VLOOKUP(Egresados!$K$8:$K$705,Maestros!$A$31:$B$130,2,0))","v":""},{"$f":"IF(LEN(tablaEgresados[[#This Row],[Nota promedio]])>0,ROUND(tablaEgresados[[#This Row],[Nota promedio]],2),\"\")","v":15.47}]
[617,null,"DNI","72955147","CARHUALLANQUI","PECHO","FABIANA LAURA","FEMENINO",null,"NO",null,null,null,"2020-1","SEDE CENTRAL","NUTRICION HUMANA",15.42,null,null,"2015-1","2015-1","20151049@une.edu.pe","faby_tuyyo_rose@hotmail.com",3133700,"951478665",{"$f":"IF(ISERROR(VLOOKUP(Egresados!$N$8:$N$705,Maestros!$D$31:$E$530,2,0)),\"\",VLOOKUP(Egresados!$N$8:$N$705,Maestros!$D$31:$E$530,2,0))","v":"223"},{"$f":"IF(ISERROR(VLOOKUP(Egresados!$O625,Maestros!$G$31:$J$1030,2,0)),\"\",VLOOKUP(Egresados!$O625,Maestros!$G$31:$J$1030,2,0))","v":"8"},{"$f":"CONCATENATE(Egresados!$Z$8:$Z$705,\"a\",Egresados!$AA$8:$AA$705)","v":"223a8"},{"$f":"IF(ISERROR(VLOOKUP(Egresados!$P625,Maestros!$L$31:$Q$1030,2,0)),\"\",VLOOKUP(Egresados!$P625,Maestros!$L$31:$Q$1030,2,0))","v":"220"},{"$f":"CONCATENATE(Egresados!$Z$8:$Z$705,\"a\",Egresados!$AA$8:$AA$705,\"a\",Egresados!$AC$8:$AC$705)","v":"223a8a220"},{"$f":"IF(ISERROR(VLOOKUP(Egresados!$C$8:$C$705,Maestros!$A$4:$B$21,2,0)),\"\",VLOOKUP(Egresados!$C$8:$C$705,Maestros!$A$4:$B$21,2,0))","v":"1001"},{"$f":"IF(ISERROR(VLOOKUP(Egresados!$H$8:$H$705,Maestros!$D$4:$E$21,2,0)),\"\",VLOOKUP(Egresados!$H$8:$H$705,Maestros!$D$4:$E$21,2,0))","v":"1122"},{"$f":"IF(OR(UPPER(Egresados!$J$8:$J$705)=\"SI\",UPPER(Egresados!$J$8:$J$705)=\"SÍ\"),1,IF(UPPER(Egresados!$J$8:$J$705)=\"NO\",0,\"\"))","v":0},{"$f":"IF(OR(UPPER(Egresados!$R$8:$R$705)=\"SI\",UPPER(Egresados!$R$8:$R$705)=\"SÍ\"),1,IF(UPPER(Egresados!$R$8:$R$705)=\"NO\",0,\"\"))","v":""},{"$f":"IF(OR(UPPER(Egresados!$S$8:$S$705)=\"SI\",UPPER(Egresados!$S$8:$S$705)=\"SÍ\"),1,IF(UPPER(Egresados!$S$8:$S$705)=\"NO\",0,\"\"))","v":""},{"$f":"IF(ISERROR(VLOOKUP(Egresados!$T$8:$T$705,Maestros!$S$31:$T$530,2,0)),\"\",VLOOKUP(Egresados!$T$8:$T$705,Maestros!$S$31:$T$530,2,0))","v":"62"},{"$f":"IF(ISERROR(VLOOKUP(U625,Maestros!$S$31:$T$530,2,0)),\"\",VLOOKUP(U625,Maestros!$S$31:$T$530,2,0))","v":"62"},{"$f":"IF(ISERROR(VLOOKUP(Egresados!$K$8:$K$705,Maestros!$A$31:$B$130,2,0)),\"\",VLOOKUP(Egresados!$K$8:$K$705,Maestros!$A$31:$B$130,2,0))","v":""},{"$f":"IF(LEN(tablaEgresados[[#This Row],[Nota promedio]])>0,ROUND(tablaEgresados[[#This Row],[Nota promedio]],2),\"\")","v":15.42}]
[618,null,"DNI","72662006","VELASQUEZ","OSCCO","KATWAN","MASCULINO",null,"NO",null,null,null,"2020-1","SEDE CENTRAL","NUTRICION HUMANA",15,null,null,"2015-1","2015-1","20151086@une.edu.pe","katwan-03@hotmail.com",3133700,"965127913",{"$f":"IF(ISERROR(VLOOKUP(Egresados!$N$8:$N$705,Maestros!$D$31:$E$530,2,0)),\"\",VLOOKUP(Egresados!$N$8:$N$705,Maestros!$D$31:$E$530,2,0))","v":"223"},{"$f":"IF(ISERROR(VLOOKUP(Egresados!$O626,Maestros!$G$31:$J$1030,2,0)),\"\",VLOOKUP(Egresados!$O626,Maestros!$G$31:$J$1030,2,0))","v":"8"},{"$f":"CONCATENATE(Egresados!$Z$8:$Z$705,\"a\",Egresados!$AA$8:$AA$705)","v":"223a8"},{"$f":"IF(ISERROR(VLOOKUP(Egresados!$P626,Maestros!$L$31:$Q$1030,2,0)),\"\",VLOOKUP(Egresados!$P626,Maestros!$L$31:$Q$1030,2,0))","v":"220"},{"$f":"CONCATENATE(Egresados!$Z$8:$Z$705,\"a\",Egresados!$AA$8:$AA$705,\"a\",Egresados!$AC$8:$AC$705)","v":"223a8a220"},{"$f":"IF(ISERROR(VLOOKUP(Egresados!$C$8:$C$705,Maestros!$A$4:$B$21,2,0)),\"\",VLOOKUP(Egresados!$C$8:$C$705,Maestros!$A$4:$B$21,2,0))","v":"1001"},{"$f":"IF(ISERROR(VLOOKUP(Egresados!$H$8:$H$705,Maestros!$D$4:$E$21,2,0)),\"\",VLOOKUP(Egresados!$H$8:$H$705,Maestros!$D$4:$E$21,2,0))","v":"1121"},{"$f":"IF(OR(UPPER(Egresados!$J$8:$J$705)=\"SI\",UPPER(Egresados!$J$8:$J$705)=\"SÍ\"),1,IF(UPPER(Egresados!$J$8:$J$705)=\"NO\",0,\"\"))","v":0},{"$f":"IF(OR(UPPER(Egresados!$R$8:$R$705)=\"SI\",UPPER(Egresados!$R$8:$R$705)=\"SÍ\"),1,IF(UPPER(Egresados!$R$8:$R$705)=\"NO\",0,\"\"))","v":""},{"$f":"IF(OR(UPPER(Egresados!$S$8:$S$705)=\"SI\",UPPER(Egresados!$S$8:$S$705)=\"SÍ\"),1,IF(UPPER(Egresados!$S$8:$S$705)=\"NO\",0,\"\"))","v":""},{"$f":"IF(ISERROR(VLOOKUP(Egresados!$T$8:$T$705,Maestros!$S$31:$T$530,2,0)),\"\",VLOOKUP(Egresados!$T$8:$T$705,Maestros!$S$31:$T$530,2,0))","v":"62"},{"$f":"IF(ISERROR(VLOOKUP(U626,Maestros!$S$31:$T$530,2,0)),\"\",VLOOKUP(U626,Maestros!$S$31:$T$530,2,0))","v":"62"},{"$f":"IF(ISERROR(VLOOKUP(Egresados!$K$8:$K$705,Maestros!$A$31:$B$130,2,0)),\"\",VLOOKUP(Egresados!$K$8:$K$705,Maestros!$A$31:$B$130,2,0))","v":""},{"$f":"IF(LEN(tablaEgresados[[#This Row],[Nota promedio]])>0,ROUND(tablaEgresados[[#This Row],[Nota promedio]],2),\"\")","v":15}]
[619,null,"DNI","46187123","LEON","MOYA","PAMELA EMMA","FEMENINO",null,"NO",null,null,null,"2020-1","SEDE CENTRAL","NUTRICION HUMANA",15.31,null,null,"2015-1","2015-1","20151065@une.edu.pe","pamelalm1028@hotmail.com",3133700,"948852028",{"$f":"IF(ISERROR(VLOOKUP(Egresados!$N$8:$N$705,Maestros!$D$31:$E$530,2,0)),\"\",VLOOKUP(Egresados!$N$8:$N$705,Maestros!$D$31:$E$530,2,0))","v":"223"},{"$f":"IF(ISERROR(VLOOKUP(Egresados!$O627,Maestros!$G$31:$J$1030,2,0)),\"\",VLOOKUP(Egresados!$O627,Maestros!$G$31:$J$1030,2,0))","v":"8"},{"$f":"CONCATENATE(Egresados!$Z$8:$Z$705,\"a\",Egresados!$AA$8:$AA$705)","v":"223a8"},{"$f":"IF(ISERROR(VLOOKUP(Egresados!$P627,Maestros!$L$31:$Q$1030,2,0)),\"\",VLOOKUP(Egresados!$P627,Maestros!$L$31:$Q$1030,2,0))","v":"220"},{"$f":"CONCATENATE(Egresados!$Z$8:$Z$705,\"a\",Egresados!$AA$8:$AA$705,\"a\",Egresados!$AC$8:$AC$705)","v":"223a8a220"},{"$f":"IF(ISERROR(VLOOKUP(Egresados!$C$8:$C$705,Maestros!$A$4:$B$21,2,0)),\"\",VLOOKUP(Egresados!$C$8:$C$705,Maestros!$A$4:$B$21,2,0))","v":"1001"},{"$f":"IF(ISERROR(VLOOKUP(Egresados!$H$8:$H$705,Maestros!$D$4:$E$21,2,0)),\"\",VLOOKUP(Egresados!$H$8:$H$705,Maestros!$D$4:$E$21,2,0))","v":"1122"},{"$f":"IF(OR(UPPER(Egresados!$J$8:$J$705)=\"SI\",UPPER(Egresados!$J$8:$J$705)=\"SÍ\"),1,IF(UPPER(Egresados!$J$8:$J$705)=\"NO\",0,\"\"))","v":0},{"$f":"IF(OR(UPPER(Egresados!$R$8:$R$705)=\"SI\",UPPER(Egresados!$R$8:$R$705)=\"SÍ\"),1,IF(UPPER(Egresados!$R$8:$R$705)=\"NO\",0,\"\"))","v":""},{"$f":"IF(OR(UPPER(Egresados!$S$8:$S$705)=\"SI\",UPPER(Egresados!$S$8:$S$705)=\"SÍ\"),1,IF(UPPER(Egresados!$S$8:$S$705)=\"NO\",0,\"\"))","v":""},{"$f":"IF(ISERROR(VLOOKUP(Egresados!$T$8:$T$705,Maestros!$S$31:$T$530,2,0)),\"\",VLOOKUP(Egresados!$T$8:$T$705,Maestros!$S$31:$T$530,2,0))","v":"62"},{"$f":"IF(ISERROR(VLOOKUP(U627,Maestros!$S$31:$T$530,2,0)),\"\",VLOOKUP(U627,Maestros!$S$31:$T$530,2,0))","v":"62"},{"$f":"IF(ISERROR(VLOOKUP(Egresados!$K$8:$K$705,Maestros!$A$31:$B$130,2,0)),\"\",VLOOKUP(Egresados!$K$8:$K$705,Maestros!$A$31:$B$130,2,0))","v":""},{"$f":"IF(LEN(tablaEgresados[[#This Row],[Nota promedio]])>0,ROUND(tablaEgresados[[#This Row],[Nota promedio]],2),\"\")","v":15.31}]
[620,null,"DNI","76179091","BALDEON","BAEZ","ERIKA","FEMENINO",null,"NO",null,null,null,"2020-1","SEDE CENTRAL","NUTRICION HUMANA",15.4,null,null,"2013-1","2013-1","20130268@une.edu.pe","erinut47@gmail.com",3133700,"981279746",{"$f":"IF(ISERROR(VLOOKUP(Egresados!$N$8:$N$705,Maestros!$D$31:$E$530,2,0)),\"\",VLOOKUP(Egresados!$N$8:$N$705,Maestros!$D$31:$E$530,2,0))","v":"223"},{"$f":"IF(ISERROR(VLOOKUP(Egresados!$O628,Maestros!$G$31:$J$1030,2,0)),\"\",VLOOKUP(Egresados!$O628,Maestros!$G$31:$J$1030,2,0))","v":"8"},{"$f":"CONCATENATE(Egresados!$Z$8:$Z$705,\"a\",Egresados!$AA$8:$AA$705)","v":"223a8"},{"$f":"IF(ISERROR(VLOOKUP(Egresados!$P628,Maestros!$L$31:$Q$1030,2,0)),\"\",VLOOKUP(Egresados!$P628,Maestros!$L$31:$Q$1030,2,0))","v":"220"},{"$f":"CONCATENATE(Egresados!$Z$8:$Z$705,\"a\",Egresados!$AA$8:$AA$705,\"a\",Egresados!$AC$8:$AC$705)","v":"223a8a220"},{"$f":"IF(ISERROR(VLOOKUP(Egresados!$C$8:$C$705,Maestros!$A$4:$B$21,2,0)),\"\",VLOOKUP(Egresados!$C$8:$C$705,Maestros!$A$4:$B$21,2,0))","v":"1001"},{"$f":"IF(ISERROR(VLOOKUP(Egresados!$H$8:$H$705,Maestros!$D$4:$E$21,2,0)),\"\",VLOOKUP(Egresados!$H$8:$H$705,Maestros!$D$4:$E$21,2,0))","v":"1122"},{"$f":"IF(OR(UPPER(Egresados!$J$8:$J$705)=\"SI\",UPPER(Egresados!$J$8:$J$705)=\"SÍ\"),1,IF(UPPER(Egresados!$J$8:$J$705)=\"NO\",0,\"\"))","v":0},{"$f":"IF(OR(UPPER(Egresados!$R$8:$R$705)=\"SI\",UPPER(Egresados!$R$8:$R$705)=\"SÍ\"),1,IF(UPPER(Egresados!$R$8:$R$705)=\"NO\",0,\"\"))","v":""},{"$f":"IF(OR(UPPER(Egresados!$S$8:$S$705)=\"SI\",UPPER(Egresados!$S$8:$S$705)=\"SÍ\"),1,IF(UPPER(Egresados!$S$8:$S$705)=\"NO\",0,\"\"))","v":""},{"$f":"IF(ISERROR(VLOOKUP(Egresados!$T$8:$T$705,Maestros!$S$31:$T$530,2,0)),\"\",VLOOKUP(Egresados!$T$8:$T$705,Maestros!$S$31:$T$530,2,0))","v":"54"},{"$f":"IF(ISERROR(VLOOKUP(U628,Maestros!$S$31:$T$530,2,0)),\"\",VLOOKUP(U628,Maestros!$S$31:$T$530,2,0))","v":"54"},{"$f":"IF(ISERROR(VLOOKUP(Egresados!$K$8:$K$705,Maestros!$A$31:$B$130,2,0)),\"\",VLOOKUP(Egresados!$K$8:$K$705,Maestros!$A$31:$B$130,2,0))","v":""},{"$f":"IF(LEN(tablaEgresados[[#This Row],[Nota promedio]])>0,ROUND(tablaEgresados[[#This Row],[Nota promedio]],2),\"\")","v":15.4}]
[621,null,"DNI","76412604","LUJAN","VALERA","NOELY YANIRA","FEMENINO",null,"NO",null,null,null,"2020-1","SEDE CENTRAL","NUTRICION HUMANA",16.21,null,null,"2015-1","2015-1","20151069@une.edu.pe","ylujanv@gmail.com",3133700,"991128468",{"$f":"IF(ISERROR(VLOOKUP(Egresados!$N$8:$N$705,Maestros!$D$31:$E$530,2,0)),\"\",VLOOKUP(Egresados!$N$8:$N$705,Maestros!$D$31:$E$530,2,0))","v":"223"},{"$f":"IF(ISERROR(VLOOKUP(Egresados!$O629,Maestros!$G$31:$J$1030,2,0)),\"\",VLOOKUP(Egresados!$O629,Maestros!$G$31:$J$1030,2,0))","v":"8"},{"$f":"CONCATENATE(Egresados!$Z$8:$Z$705,\"a\",Egresados!$AA$8:$AA$705)","v":"223a8"},{"$f":"IF(ISERROR(VLOOKUP(Egresados!$P629,Maestros!$L$31:$Q$1030,2,0)),\"\",VLOOKUP(Egresados!$P629,Maestros!$L$31:$Q$1030,2,0))","v":"220"},{"$f":"CONCATENATE(Egresados!$Z$8:$Z$705,\"a\",Egresados!$AA$8:$AA$705,\"a\",Egresados!$AC$8:$AC$705)","v":"223a8a220"},{"$f":"IF(ISERROR(VLOOKUP(Egresados!$C$8:$C$705,Maestros!$A$4:$B$21,2,0)),\"\",VLOOKUP(Egresados!$C$8:$C$705,Maestros!$A$4:$B$21,2,0))","v":"1001"},{"$f":"IF(ISERROR(VLOOKUP(Egresados!$H$8:$H$705,Maestros!$D$4:$E$21,2,0)),\"\",VLOOKUP(Egresados!$H$8:$H$705,Maestros!$D$4:$E$21,2,0))","v":"1122"},{"$f":"IF(OR(UPPER(Egresados!$J$8:$J$705)=\"SI\",UPPER(Egresados!$J$8:$J$705)=\"SÍ\"),1,IF(UPPER(Egresados!$J$8:$J$705)=\"NO\",0,\"\"))","v":0},{"$f":"IF(OR(UPPER(Egresados!$R$8:$R$705)=\"SI\",UPPER(Egresados!$R$8:$R$705)=\"SÍ\"),1,IF(UPPER(Egresados!$R$8:$R$705)=\"NO\",0,\"\"))","v":""},{"$f":"IF(OR(UPPER(Egresados!$S$8:$S$705)=\"SI\",UPPER(Egresados!$S$8:$S$705)=\"SÍ\"),1,IF(UPPER(Egresados!$S$8:$S$705)=\"NO\",0,\"\"))","v":""},{"$f":"IF(ISERROR(VLOOKUP(Egresados!$T$8:$T$705,Maestros!$S$31:$T$530,2,0)),\"\",VLOOKUP(Egresados!$T$8:$T$705,Maestros!$S$31:$T$530,2,0))","v":"62"},{"$f":"IF(ISERROR(VLOOKUP(U629,Maestros!$S$31:$T$530,2,0)),\"\",VLOOKUP(U629,Maestros!$S$31:$T$530,2,0))","v":"62"},{"$f":"IF(ISERROR(VLOOKUP(Egresados!$K$8:$K$705,Maestros!$A$31:$B$130,2,0)),\"\",VLOOKUP(Egresados!$K$8:$K$705,Maestros!$A$31:$B$130,2,0))","v":""},{"$f":"IF(LEN(tablaEgresados[[#This Row],[Nota promedio]])>0,ROUND(tablaEgresados[[#This Row],[Nota promedio]],2),\"\")","v":16.21}]
[622,null,"DNI","72195009","HUAMAN","CURAS","LUZ CLARITA","FEMENINO",null,"NO",null,null,null,"2020-1","SEDE CENTRAL","NUTRICION HUMANA",16.61,null,null,"2015-1","2015-1","20151062@une.edu.pe","luz_claritahc@hotmail.com",3133700,"948957428",{"$f":"IF(ISERROR(VLOOKUP(Egresados!$N$8:$N$705,Maestros!$D$31:$E$530,2,0)),\"\",VLOOKUP(Egresados!$N$8:$N$705,Maestros!$D$31:$E$530,2,0))","v":"223"},{"$f":"IF(ISERROR(VLOOKUP(Egresados!$O630,Maestros!$G$31:$J$1030,2,0)),\"\",VLOOKUP(Egresados!$O630,Maestros!$G$31:$J$1030,2,0))","v":"8"},{"$f":"CONCATENATE(Egresados!$Z$8:$Z$705,\"a\",Egresados!$AA$8:$AA$705)","v":"223a8"},{"$f":"IF(ISERROR(VLOOKUP(Egresados!$P630,Maestros!$L$31:$Q$1030,2,0)),\"\",VLOOKUP(Egresados!$P630,Maestros!$L$31:$Q$1030,2,0))","v":"220"},{"$f":"CONCATENATE(Egresados!$Z$8:$Z$705,\"a\",Egresados!$AA$8:$AA$705,\"a\",Egresados!$AC$8:$AC$705)","v":"223a8a220"},{"$f":"IF(ISERROR(VLOOKUP(Egresados!$C$8:$C$705,Maestros!$A$4:$B$21,2,0)),\"\",VLOOKUP(Egresados!$C$8:$C$705,Maestros!$A$4:$B$21,2,0))","v":"1001"},{"$f":"IF(ISERROR(VLOOKUP(Egresados!$H$8:$H$705,Maestros!$D$4:$E$21,2,0)),\"\",VLOOKUP(Egresados!$H$8:$H$705,Maestros!$D$4:$E$21,2,0))","v":"1122"},{"$f":"IF(OR(UPPER(Egresados!$J$8:$J$705)=\"SI\",UPPER(Egresados!$J$8:$J$705)=\"SÍ\"),1,IF(UPPER(Egresados!$J$8:$J$705)=\"NO\",0,\"\"))","v":0},{"$f":"IF(OR(UPPER(Egresados!$R$8:$R$705)=\"SI\",UPPER(Egresados!$R$8:$R$705)=\"SÍ\"),1,IF(UPPER(Egresados!$R$8:$R$705)=\"NO\",0,\"\"))","v":""},{"$f":"IF(OR(UPPER(Egresados!$S$8:$S$705)=\"SI\",UPPER(Egresados!$S$8:$S$705)=\"SÍ\"),1,IF(UPPER(Egresados!$S$8:$S$705)=\"NO\",0,\"\"))","v":""},{"$f":"IF(ISERROR(VLOOKUP(Egresados!$T$8:$T$705,Maestros!$S$31:$T$530,2,0)),\"\",VLOOKUP(Egresados!$T$8:$T$705,Maestros!$S$31:$T$530,2,0))","v":"62"},{"$f":"IF(ISERROR(VLOOKUP(U630,Maestros!$S$31:$T$530,2,0)),\"\",VLOOKUP(U630,Maestros!$S$31:$T$530,2,0))","v":"62"},{"$f":"IF(ISERROR(VLOOKUP(Egresados!$K$8:$K$705,Maestros!$A$31:$B$130,2,0)),\"\",VLOOKUP(Egresados!$K$8:$K$705,Maestros!$A$31:$B$130,2,0))","v":""},{"$f":"IF(LEN(tablaEgresados[[#This Row],[Nota promedio]])>0,ROUND(tablaEgresados[[#This Row],[Nota promedio]],2),\"\")","v":16.61}]
[623,null,"DNI","45516088","CHAHUAYA","SULLCA","VICTOR RAUL","MASCULINO",null,"NO",null,null,null,"2020-1","SEDE CENTRAL","NUTRICION HUMANA",15.28,null,null,"2016-1","2016-1","20161051@une.edu.pe","victoraulcygnus@gmail.com",3133700,"912726601",{"$f":"IF(ISERROR(VLOOKUP(Egresados!$N$8:$N$705,Maestros!$D$31:$E$530,2,0)),\"\",VLOOKUP(Egresados!$N$8:$N$705,Maestros!$D$31:$E$530,2,0))","v":"223"},{"$f":"IF(ISERROR(VLOOKUP(Egresados!$O631,Maestros!$G$31:$J$1030,2,0)),\"\",VLOOKUP(Egresados!$O631,Maestros!$G$31:$J$1030,2,0))","v":"8"},{"$f":"CONCATENATE(Egresados!$Z$8:$Z$705,\"a\",Egresados!$AA$8:$AA$705)","v":"223a8"},{"$f":"IF(ISERROR(VLOOKUP(Egresados!$P631,Maestros!$L$31:$Q$1030,2,0)),\"\",VLOOKUP(Egresados!$P631,Maestros!$L$31:$Q$1030,2,0))","v":"220"},{"$f":"CONCATENATE(Egresados!$Z$8:$Z$705,\"a\",Egresados!$AA$8:$AA$705,\"a\",Egresados!$AC$8:$AC$705)","v":"223a8a220"},{"$f":"IF(ISERROR(VLOOKUP(Egresados!$C$8:$C$705,Maestros!$A$4:$B$21,2,0)),\"\",VLOOKUP(Egresados!$C$8:$C$705,Maestros!$A$4:$B$21,2,0))","v":"1001"},{"$f":"IF(ISERROR(VLOOKUP(Egresados!$H$8:$H$705,Maestros!$D$4:$E$21,2,0)),\"\",VLOOKUP(Egresados!$H$8:$H$705,Maestros!$D$4:$E$21,2,0))","v":"1121"},{"$f":"IF(OR(UPPER(Egresados!$J$8:$J$705)=\"SI\",UPPER(Egresados!$J$8:$J$705)=\"SÍ\"),1,IF(UPPER(Egresados!$J$8:$J$705)=\"NO\",0,\"\"))","v":0},{"$f":"IF(OR(UPPER(Egresados!$R$8:$R$705)=\"SI\",UPPER(Egresados!$R$8:$R$705)=\"SÍ\"),1,IF(UPPER(Egresados!$R$8:$R$705)=\"NO\",0,\"\"))","v":""},{"$f":"IF(OR(UPPER(Egresados!$S$8:$S$705)=\"SI\",UPPER(Egresados!$S$8:$S$705)=\"SÍ\"),1,IF(UPPER(Egresados!$S$8:$S$705)=\"NO\",0,\"\"))","v":""},{"$f":"IF(ISERROR(VLOOKUP(Egresados!$T$8:$T$705,Maestros!$S$31:$T$530,2,0)),\"\",VLOOKUP(Egresados!$T$8:$T$705,Maestros!$S$31:$T$530,2,0))","v":"66"},{"$f":"IF(ISERROR(VLOOKUP(U631,Maestros!$S$31:$T$530,2,0)),\"\",VLOOKUP(U631,Maestros!$S$31:$T$530,2,0))","v":"66"},{"$f":"IF(ISERROR(VLOOKUP(Egresados!$K$8:$K$705,Maestros!$A$31:$B$130,2,0)),\"\",VLOOKUP(Egresados!$K$8:$K$705,Maestros!$A$31:$B$130,2,0))","v":""},{"$f":"IF(LEN(tablaEgresados[[#This Row],[Nota promedio]])>0,ROUND(tablaEgresados[[#This Row],[Nota promedio]],2),\"\")","v":15.28}]
[624,null,"DNI","47847601","DURAND","CASTILLO","DEOFINES","MASCULINO",null,"NO",null,null,null,"2020-1","SEDE CENTRAL","NUTRICION HUMANA",14.28,null,null,"2015-1","2015-1","20151054@une.edu.pe","deofinesdurancastillo@gmailo.com",3133700,"964899268",{"$f":"IF(ISERROR(VLOOKUP(Egresados!$N$8:$N$705,Maestros!$D$31:$E$530,2,0)),\"\",VLOOKUP(Egresados!$N$8:$N$705,Maestros!$D$31:$E$530,2,0))","v":"223"},{"$f":"IF(ISERROR(VLOOKUP(Egresados!$O632,Maestros!$G$31:$J$1030,2,0)),\"\",VLOOKUP(Egresados!$O632,Maestros!$G$31:$J$1030,2,0))","v":"8"},{"$f":"CONCATENATE(Egresados!$Z$8:$Z$705,\"a\",Egresados!$AA$8:$AA$705)","v":"223a8"},{"$f":"IF(ISERROR(VLOOKUP(Egresados!$P632,Maestros!$L$31:$Q$1030,2,0)),\"\",VLOOKUP(Egresados!$P632,Maestros!$L$31:$Q$1030,2,0))","v":"220"},{"$f":"CONCATENATE(Egresados!$Z$8:$Z$705,\"a\",Egresados!$AA$8:$AA$705,\"a\",Egresados!$AC$8:$AC$705)","v":"223a8a220"},{"$f":"IF(ISERROR(VLOOKUP(Egresados!$C$8:$C$705,Maestros!$A$4:$B$21,2,0)),\"\",VLOOKUP(Egresados!$C$8:$C$705,Maestros!$A$4:$B$21,2,0))","v":"1001"},{"$f":"IF(ISERROR(VLOOKUP(Egresados!$H$8:$H$705,Maestros!$D$4:$E$21,2,0)),\"\",VLOOKUP(Egresados!$H$8:$H$705,Maestros!$D$4:$E$21,2,0))","v":"1121"},{"$f":"IF(OR(UPPER(Egresados!$J$8:$J$705)=\"SI\",UPPER(Egresados!$J$8:$J$705)=\"SÍ\"),1,IF(UPPER(Egresados!$J$8:$J$705)=\"NO\",0,\"\"))","v":0},{"$f":"IF(OR(UPPER(Egresados!$R$8:$R$705)=\"SI\",UPPER(Egresados!$R$8:$R$705)=\"SÍ\"),1,IF(UPPER(Egresados!$R$8:$R$705)=\"NO\",0,\"\"))","v":""},{"$f":"IF(OR(UPPER(Egresados!$S$8:$S$705)=\"SI\",UPPER(Egresados!$S$8:$S$705)=\"SÍ\"),1,IF(UPPER(Egresados!$S$8:$S$705)=\"NO\",0,\"\"))","v":""},{"$f":"IF(ISERROR(VLOOKUP(Egresados!$T$8:$T$705,Maestros!$S$31:$T$530,2,0)),\"\",VLOOKUP(Egresados!$T$8:$T$705,Maestros!$S$31:$T$530,2,0))","v":"62"},{"$f":"IF(ISERROR(VLOOKUP(U632,Maestros!$S$31:$T$530,2,0)),\"\",VLOOKUP(U632,Maestros!$S$31:$T$530,2,0))","v":"62"},{"$f":"IF(ISERROR(VLOOKUP(Egresados!$K$8:$K$705,Maestros!$A$31:$B$130,2,0)),\"\",VLOOKUP(Egresados!$K$8:$K$705,Maestros!$A$31:$B$130,2,0))","v":""},{"$f":"IF(LEN(tablaEgresados[[#This Row],[Nota promedio]])>0,ROUND(tablaEgresados[[#This Row],[Nota promedio]],2),\"\")","v":14.28}]
[625,null,"DNI","72559551","SALCEDO","ANTAURCO","WENDOLI CONCEPCION","FEMENINO",null,"NO",null,null,null,"2020-1","SEDE CENTRAL","NUTRICION HUMANA",14.32,null,null,"2013-1","2013-1","20131424@une.edu.pe","wen_sal@outlook.com",3133700,"960496223",{"$f":"IF(ISERROR(VLOOKUP(Egresados!$N$8:$N$705,Maestros!$D$31:$E$530,2,0)),\"\",VLOOKUP(Egresados!$N$8:$N$705,Maestros!$D$31:$E$530,2,0))","v":"223"},{"$f":"IF(ISERROR(VLOOKUP(Egresados!$O633,Maestros!$G$31:$J$1030,2,0)),\"\",VLOOKUP(Egresados!$O633,Maestros!$G$31:$J$1030,2,0))","v":"8"},{"$f":"CONCATENATE(Egresados!$Z$8:$Z$705,\"a\",Egresados!$AA$8:$AA$705)","v":"223a8"},{"$f":"IF(ISERROR(VLOOKUP(Egresados!$P633,Maestros!$L$31:$Q$1030,2,0)),\"\",VLOOKUP(Egresados!$P633,Maestros!$L$31:$Q$1030,2,0))","v":"220"},{"$f":"CONCATENATE(Egresados!$Z$8:$Z$705,\"a\",Egresados!$AA$8:$AA$705,\"a\",Egresados!$AC$8:$AC$705)","v":"223a8a220"},{"$f":"IF(ISERROR(VLOOKUP(Egresados!$C$8:$C$705,Maestros!$A$4:$B$21,2,0)),\"\",VLOOKUP(Egresados!$C$8:$C$705,Maestros!$A$4:$B$21,2,0))","v":"1001"},{"$f":"IF(ISERROR(VLOOKUP(Egresados!$H$8:$H$705,Maestros!$D$4:$E$21,2,0)),\"\",VLOOKUP(Egresados!$H$8:$H$705,Maestros!$D$4:$E$21,2,0))","v":"1122"},{"$f":"IF(OR(UPPER(Egresados!$J$8:$J$705)=\"SI\",UPPER(Egresados!$J$8:$J$705)=\"SÍ\"),1,IF(UPPER(Egresados!$J$8:$J$705)=\"NO\",0,\"\"))","v":0},{"$f":"IF(OR(UPPER(Egresados!$R$8:$R$705)=\"SI\",UPPER(Egresados!$R$8:$R$705)=\"SÍ\"),1,IF(UPPER(Egresados!$R$8:$R$705)=\"NO\",0,\"\"))","v":""},{"$f":"IF(OR(UPPER(Egresados!$S$8:$S$705)=\"SI\",UPPER(Egresados!$S$8:$S$705)=\"SÍ\"),1,IF(UPPER(Egresados!$S$8:$S$705)=\"NO\",0,\"\"))","v":""},{"$f":"IF(ISERROR(VLOOKUP(Egresados!$T$8:$T$705,Maestros!$S$31:$T$530,2,0)),\"\",VLOOKUP(Egresados!$T$8:$T$705,Maestros!$S$31:$T$530,2,0))","v":"54"},{"$f":"IF(ISERROR(VLOOKUP(U633,Maestros!$S$31:$T$530,2,0)),\"\",VLOOKUP(U633,Maestros!$S$31:$T$530,2,0))","v":"54"},{"$f":"IF(ISERROR(VLOOKUP(Egresados!$K$8:$K$705,Maestros!$A$31:$B$130,2,0)),\"\",VLOOKUP(Egresados!$K$8:$K$705,Maestros!$A$31:$B$130,2,0))","v":""},{"$f":"IF(LEN(tablaEgresados[[#This Row],[Nota promedio]])>0,ROUND(tablaEgresados[[#This Row],[Nota promedio]],2),\"\")","v":14.32}]
[626,null,"DNI","48513122","CLAUDIO","RAMIREZ","ELIZABETH","FEMENINO",null,"NO",null,null,null,"2020-1","SEDE CENTRAL","NUTRICION HUMANA",15.75,null,null,"2015-1","2015-1","20151050@une.edu.pe","ely_17_456@hotmail.com",3133700,"987490780",{"$f":"IF(ISERROR(VLOOKUP(Egresados!$N$8:$N$705,Maestros!$D$31:$E$530,2,0)),\"\",VLOOKUP(Egresados!$N$8:$N$705,Maestros!$D$31:$E$530,2,0))","v":"223"},{"$f":"IF(ISERROR(VLOOKUP(Egresados!$O634,Maestros!$G$31:$J$1030,2,0)),\"\",VLOOKUP(Egresados!$O634,Maestros!$G$31:$J$1030,2,0))","v":"8"},{"$f":"CONCATENATE(Egresados!$Z$8:$Z$705,\"a\",Egresados!$AA$8:$AA$705)","v":"223a8"},{"$f":"IF(ISERROR(VLOOKUP(Egresados!$P634,Maestros!$L$31:$Q$1030,2,0)),\"\",VLOOKUP(Egresados!$P634,Maestros!$L$31:$Q$1030,2,0))","v":"220"},{"$f":"CONCATENATE(Egresados!$Z$8:$Z$705,\"a\",Egresados!$AA$8:$AA$705,\"a\",Egresados!$AC$8:$AC$705)","v":"223a8a220"},{"$f":"IF(ISERROR(VLOOKUP(Egresados!$C$8:$C$705,Maestros!$A$4:$B$21,2,0)),\"\",VLOOKUP(Egresados!$C$8:$C$705,Maestros!$A$4:$B$21,2,0))","v":"1001"},{"$f":"IF(ISERROR(VLOOKUP(Egresados!$H$8:$H$705,Maestros!$D$4:$E$21,2,0)),\"\",VLOOKUP(Egresados!$H$8:$H$705,Maestros!$D$4:$E$21,2,0))","v":"1122"},{"$f":"IF(OR(UPPER(Egresados!$J$8:$J$705)=\"SI\",UPPER(Egresados!$J$8:$J$705)=\"SÍ\"),1,IF(UPPER(Egresados!$J$8:$J$705)=\"NO\",0,\"\"))","v":0},{"$f":"IF(OR(UPPER(Egresados!$R$8:$R$705)=\"SI\",UPPER(Egresados!$R$8:$R$705)=\"SÍ\"),1,IF(UPPER(Egresados!$R$8:$R$705)=\"NO\",0,\"\"))","v":""},{"$f":"IF(OR(UPPER(Egresados!$S$8:$S$705)=\"SI\",UPPER(Egresados!$S$8:$S$705)=\"SÍ\"),1,IF(UPPER(Egresados!$S$8:$S$705)=\"NO\",0,\"\"))","v":""},{"$f":"IF(ISERROR(VLOOKUP(Egresados!$T$8:$T$705,Maestros!$S$31:$T$530,2,0)),\"\",VLOOKUP(Egresados!$T$8:$T$705,Maestros!$S$31:$T$530,2,0))","v":"62"},{"$f":"IF(ISERROR(VLOOKUP(U634,Maestros!$S$31:$T$530,2,0)),\"\",VLOOKUP(U634,Maestros!$S$31:$T$530,2,0))","v":"62"},{"$f":"IF(ISERROR(VLOOKUP(Egresados!$K$8:$K$705,Maestros!$A$31:$B$130,2,0)),\"\",VLOOKUP(Egresados!$K$8:$K$705,Maestros!$A$31:$B$130,2,0))","v":""},{"$f":"IF(LEN(tablaEgresados[[#This Row],[Nota promedio]])>0,ROUND(tablaEgresados[[#This Row],[Nota promedio]],2),\"\")","v":15.75}]
[627,null,"DNI","46403335","ESPEJO","RAMOS","ELIZABETH MARIA","FEMENINO",null,"NO",null,null,null,"2020-1","SEDE CENTRAL","NUTRICION HUMANA",15.28,null,null,"2015-1","2015-1","20151055@une.edu.pe","emespejr@gmaill.com",3133700,976486001,{"$f":"IF(ISERROR(VLOOKUP(Egresados!$N$8:$N$705,Maestros!$D$31:$E$530,2,0)),\"\",VLOOKUP(Egresados!$N$8:$N$705,Maestros!$D$31:$E$530,2,0))","v":"223"},{"$f":"IF(ISERROR(VLOOKUP(Egresados!$O635,Maestros!$G$31:$J$1030,2,0)),\"\",VLOOKUP(Egresados!$O635,Maestros!$G$31:$J$1030,2,0))","v":"8"},{"$f":"CONCATENATE(Egresados!$Z$8:$Z$705,\"a\",Egresados!$AA$8:$AA$705)","v":"223a8"},{"$f":"IF(ISERROR(VLOOKUP(Egresados!$P635,Maestros!$L$31:$Q$1030,2,0)),\"\",VLOOKUP(Egresados!$P635,Maestros!$L$31:$Q$1030,2,0))","v":"220"},{"$f":"CONCATENATE(Egresados!$Z$8:$Z$705,\"a\",Egresados!$AA$8:$AA$705,\"a\",Egresados!$AC$8:$AC$705)","v":"223a8a220"},{"$f":"IF(ISERROR(VLOOKUP(Egresados!$C$8:$C$705,Maestros!$A$4:$B$21,2,0)),\"\",VLOOKUP(Egresados!$C$8:$C$705,Maestros!$A$4:$B$21,2,0))","v":"1001"},{"$f":"IF(ISERROR(VLOOKUP(Egresados!$H$8:$H$705,Maestros!$D$4:$E$21,2,0)),\"\",VLOOKUP(Egresados!$H$8:$H$705,Maestros!$D$4:$E$21,2,0))","v":"1122"},{"$f":"IF(OR(UPPER(Egresados!$J$8:$J$705)=\"SI\",UPPER(Egresados!$J$8:$J$705)=\"SÍ\"),1,IF(UPPER(Egresados!$J$8:$J$705)=\"NO\",0,\"\"))","v":0},{"$f":"IF(OR(UPPER(Egresados!$R$8:$R$705)=\"SI\",UPPER(Egresados!$R$8:$R$705)=\"SÍ\"),1,IF(UPPER(Egresados!$R$8:$R$705)=\"NO\",0,\"\"))","v":""},{"$f":"IF(OR(UPPER(Egresados!$S$8:$S$705)=\"SI\",UPPER(Egresados!$S$8:$S$705)=\"SÍ\"),1,IF(UPPER(Egresados!$S$8:$S$705)=\"NO\",0,\"\"))","v":""},{"$f":"IF(ISERROR(VLOOKUP(Egresados!$T$8:$T$705,Maestros!$S$31:$T$530,2,0)),\"\",VLOOKUP(Egresados!$T$8:$T$705,Maestros!$S$31:$T$530,2,0))","v":"62"},{"$f":"IF(ISERROR(VLOOKUP(U635,Maestros!$S$31:$T$530,2,0)),\"\",VLOOKUP(U635,Maestros!$S$31:$T$530,2,0))","v":"62"},{"$f":"IF(ISERROR(VLOOKUP(Egresados!$K$8:$K$705,Maestros!$A$31:$B$130,2,0)),\"\",VLOOKUP(Egresados!$K$8:$K$705,Maestros!$A$31:$B$130,2,0))","v":""},{"$f":"IF(LEN(tablaEgresados[[#This Row],[Nota promedio]])>0,ROUND(tablaEgresados[[#This Row],[Nota promedio]],2),\"\")","v":15.28}]
[628,null,"DNI","76040592","LUCAS","LASTRA","CINDY","FEMENINO",null,"NO",null,null,null,"2020-1","SEDE CENTRAL","NUTRICION HUMANA",15.1,null,null,"2015-1","2015-1","20151068@une.edu.pe","cind.yalu2015@gmail.com",3133700,976486001,{"$f":"IF(ISERROR(VLOOKUP(Egresados!$N$8:$N$705,Maestros!$D$31:$E$530,2,0)),\"\",VLOOKUP(Egresados!$N$8:$N$705,Maestros!$D$31:$E$530,2,0))","v":"223"},{"$f":"IF(ISERROR(VLOOKUP(Egresados!$O636,Maestros!$G$31:$J$1030,2,0)),\"\",VLOOKUP(Egresados!$O636,Maestros!$G$31:$J$1030,2,0))","v":"8"},{"$f":"CONCATENATE(Egresados!$Z$8:$Z$705,\"a\",Egresados!$AA$8:$AA$705)","v":"223a8"},{"$f":"IF(ISERROR(VLOOKUP(Egresados!$P636,Maestros!$L$31:$Q$1030,2,0)),\"\",VLOOKUP(Egresados!$P636,Maestros!$L$31:$Q$1030,2,0))","v":"220"},{"$f":"CONCATENATE(Egresados!$Z$8:$Z$705,\"a\",Egresados!$AA$8:$AA$705,\"a\",Egresados!$AC$8:$AC$705)","v":"223a8a220"},{"$f":"IF(ISERROR(VLOOKUP(Egresados!$C$8:$C$705,Maestros!$A$4:$B$21,2,0)),\"\",VLOOKUP(Egresados!$C$8:$C$705,Maestros!$A$4:$B$21,2,0))","v":"1001"},{"$f":"IF(ISERROR(VLOOKUP(Egresados!$H$8:$H$705,Maestros!$D$4:$E$21,2,0)),\"\",VLOOKUP(Egresados!$H$8:$H$705,Maestros!$D$4:$E$21,2,0))","v":"1122"},{"$f":"IF(OR(UPPER(Egresados!$J$8:$J$705)=\"SI\",UPPER(Egresados!$J$8:$J$705)=\"SÍ\"),1,IF(UPPER(Egresados!$J$8:$J$705)=\"NO\",0,\"\"))","v":0},{"$f":"IF(OR(UPPER(Egresados!$R$8:$R$705)=\"SI\",UPPER(Egresados!$R$8:$R$705)=\"SÍ\"),1,IF(UPPER(Egresados!$R$8:$R$705)=\"NO\",0,\"\"))","v":""},{"$f":"IF(OR(UPPER(Egresados!$S$8:$S$705)=\"SI\",UPPER(Egresados!$S$8:$S$705)=\"SÍ\"),1,IF(UPPER(Egresados!$S$8:$S$705)=\"NO\",0,\"\"))","v":""},{"$f":"IF(ISERROR(VLOOKUP(Egresados!$T$8:$T$705,Maestros!$S$31:$T$530,2,0)),\"\",VLOOKUP(Egresados!$T$8:$T$705,Maestros!$S$31:$T$530,2,0))","v":"62"},{"$f":"IF(ISERROR(VLOOKUP(U636,Maestros!$S$31:$T$530,2,0)),\"\",VLOOKUP(U636,Maestros!$S$31:$T$530,2,0))","v":"62"},{"$f":"IF(ISERROR(VLOOKUP(Egresados!$K$8:$K$705,Maestros!$A$31:$B$130,2,0)),\"\",VLOOKUP(Egresados!$K$8:$K$705,Maestros!$A$31:$B$130,2,0))","v":""},{"$f":"IF(LEN(tablaEgresados[[#This Row],[Nota promedio]])>0,ROUND(tablaEgresados[[#This Row],[Nota promedio]],2),\"\")","v":15.1}]
[629,null,"DNI","47011902","QUISPE","VALDEZ","LEYDI VANESSA","FEMENINO",null,"NO",null,null,null,"2020-1","SEDE CENTRAL","NUTRICION HUMANA",15.8,null,null,"2015-1","2015-1","20151079@une.edu.pe","leydi.qsp182@gmail.com",3133700,"941660737",{"$f":"IF(ISERROR(VLOOKUP(Egresados!$N$8:$N$705,Maestros!$D$31:$E$530,2,0)),\"\",VLOOKUP(Egresados!$N$8:$N$705,Maestros!$D$31:$E$530,2,0))","v":"223"},{"$f":"IF(ISERROR(VLOOKUP(Egresados!$O637,Maestros!$G$31:$J$1030,2,0)),\"\",VLOOKUP(Egresados!$O637,Maestros!$G$31:$J$1030,2,0))","v":"8"},{"$f":"CONCATENATE(Egresados!$Z$8:$Z$705,\"a\",Egresados!$AA$8:$AA$705)","v":"223a8"},{"$f":"IF(ISERROR(VLOOKUP(Egresados!$P637,Maestros!$L$31:$Q$1030,2,0)),\"\",VLOOKUP(Egresados!$P637,Maestros!$L$31:$Q$1030,2,0))","v":"220"},{"$f":"CONCATENATE(Egresados!$Z$8:$Z$705,\"a\",Egresados!$AA$8:$AA$705,\"a\",Egresados!$AC$8:$AC$705)","v":"223a8a220"},{"$f":"IF(ISERROR(VLOOKUP(Egresados!$C$8:$C$705,Maestros!$A$4:$B$21,2,0)),\"\",VLOOKUP(Egresados!$C$8:$C$705,Maestros!$A$4:$B$21,2,0))","v":"1001"},{"$f":"IF(ISERROR(VLOOKUP(Egresados!$H$8:$H$705,Maestros!$D$4:$E$21,2,0)),\"\",VLOOKUP(Egresados!$H$8:$H$705,Maestros!$D$4:$E$21,2,0))","v":"1122"},{"$f":"IF(OR(UPPER(Egresados!$J$8:$J$705)=\"SI\",UPPER(Egresados!$J$8:$J$705)=\"SÍ\"),1,IF(UPPER(Egresados!$J$8:$J$705)=\"NO\",0,\"\"))","v":0},{"$f":"IF(OR(UPPER(Egresados!$R$8:$R$705)=\"SI\",UPPER(Egresados!$R$8:$R$705)=\"SÍ\"),1,IF(UPPER(Egresados!$R$8:$R$705)=\"NO\",0,\"\"))","v":""},{"$f":"IF(OR(UPPER(Egresados!$S$8:$S$705)=\"SI\",UPPER(Egresados!$S$8:$S$705)=\"SÍ\"),1,IF(UPPER(Egresados!$S$8:$S$705)=\"NO\",0,\"\"))","v":""},{"$f":"IF(ISERROR(VLOOKUP(Egresados!$T$8:$T$705,Maestros!$S$31:$T$530,2,0)),\"\",VLOOKUP(Egresados!$T$8:$T$705,Maestros!$S$31:$T$530,2,0))","v":"62"},{"$f":"IF(ISERROR(VLOOKUP(U637,Maestros!$S$31:$T$530,2,0)),\"\",VLOOKUP(U637,Maestros!$S$31:$T$530,2,0))","v":"62"},{"$f":"IF(ISERROR(VLOOKUP(Egresados!$K$8:$K$705,Maestros!$A$31:$B$130,2,0)),\"\",VLOOKUP(Egresados!$K$8:$K$705,Maestros!$A$31:$B$130,2,0))","v":""},{"$f":"IF(LEN(tablaEgresados[[#This Row],[Nota promedio]])>0,ROUND(tablaEgresados[[#This Row],[Nota promedio]],2),\"\")","v":15.8}]
[630,null,"DNI","71975060","CARDENAS","OLIVA","GABRIELA ELIZABETH","FEMENINO",null,"NO",null,null,null,"2020-1","SEDE CENTRAL","NUTRICION HUMANA",15.14,null,null,"2014-1","2014-1","20141350@une.edu.pe","gabriela19co@gmail.com",3133700,"955776552",{"$f":"IF(ISERROR(VLOOKUP(Egresados!$N$8:$N$705,Maestros!$D$31:$E$530,2,0)),\"\",VLOOKUP(Egresados!$N$8:$N$705,Maestros!$D$31:$E$530,2,0))","v":"223"},{"$f":"IF(ISERROR(VLOOKUP(Egresados!$O638,Maestros!$G$31:$J$1030,2,0)),\"\",VLOOKUP(Egresados!$O638,Maestros!$G$31:$J$1030,2,0))","v":"8"},{"$f":"CONCATENATE(Egresados!$Z$8:$Z$705,\"a\",Egresados!$AA$8:$AA$705)","v":"223a8"},{"$f":"IF(ISERROR(VLOOKUP(Egresados!$P638,Maestros!$L$31:$Q$1030,2,0)),\"\",VLOOKUP(Egresados!$P638,Maestros!$L$31:$Q$1030,2,0))","v":"220"},{"$f":"CONCATENATE(Egresados!$Z$8:$Z$705,\"a\",Egresados!$AA$8:$AA$705,\"a\",Egresados!$AC$8:$AC$705)","v":"223a8a220"},{"$f":"IF(ISERROR(VLOOKUP(Egresados!$C$8:$C$705,Maestros!$A$4:$B$21,2,0)),\"\",VLOOKUP(Egresados!$C$8:$C$705,Maestros!$A$4:$B$21,2,0))","v":"1001"},{"$f":"IF(ISERROR(VLOOKUP(Egresados!$H$8:$H$705,Maestros!$D$4:$E$21,2,0)),\"\",VLOOKUP(Egresados!$H$8:$H$705,Maestros!$D$4:$E$21,2,0))","v":"1122"},{"$f":"IF(OR(UPPER(Egresados!$J$8:$J$705)=\"SI\",UPPER(Egresados!$J$8:$J$705)=\"SÍ\"),1,IF(UPPER(Egresados!$J$8:$J$705)=\"NO\",0,\"\"))","v":0},{"$f":"IF(OR(UPPER(Egresados!$R$8:$R$705)=\"SI\",UPPER(Egresados!$R$8:$R$705)=\"SÍ\"),1,IF(UPPER(Egresados!$R$8:$R$705)=\"NO\",0,\"\"))","v":""},{"$f":"IF(OR(UPPER(Egresados!$S$8:$S$705)=\"SI\",UPPER(Egresados!$S$8:$S$705)=\"SÍ\"),1,IF(UPPER(Egresados!$S$8:$S$705)=\"NO\",0,\"\"))","v":""},{"$f":"IF(ISERROR(VLOOKUP(Egresados!$T$8:$T$705,Maestros!$S$31:$T$530,2,0)),\"\",VLOOKUP(Egresados!$T$8:$T$705,Maestros!$S$31:$T$530,2,0))","v":"58"},{"$f":"IF(ISERROR(VLOOKUP(U638,Maestros!$S$31:$T$530,2,0)),\"\",VLOOKUP(U638,Maestros!$S$31:$T$530,2,0))","v":"58"},{"$f":"IF(ISERROR(VLOOKUP(Egresados!$K$8:$K$705,Maestros!$A$31:$B$130,2,0)),\"\",VLOOKUP(Egresados!$K$8:$K$705,Maestros!$A$31:$B$130,2,0))","v":""},{"$f":"IF(LEN(tablaEgresados[[#This Row],[Nota promedio]])>0,ROUND(tablaEgresados[[#This Row],[Nota promedio]],2),\"\")","v":15.14}]
[631,null,"DNI","71137382","ARONI","MORILLO","GABRIELA","FEMENINO",null,"NO",null,null,null,"2020-1","SEDE CENTRAL","NUTRICION HUMANA",15.69,null,null,"2015-1","2015-1","20151043@une.edu.pe","gabi_5_25@hotmail.com",3133700,"950157859",{"$f":"IF(ISERROR(VLOOKUP(Egresados!$N$8:$N$705,Maestros!$D$31:$E$530,2,0)),\"\",VLOOKUP(Egresados!$N$8:$N$705,Maestros!$D$31:$E$530,2,0))","v":"223"},{"$f":"IF(ISERROR(VLOOKUP(Egresados!$O639,Maestros!$G$31:$J$1030,2,0)),\"\",VLOOKUP(Egresados!$O639,Maestros!$G$31:$J$1030,2,0))","v":"8"},{"$f":"CONCATENATE(Egresados!$Z$8:$Z$705,\"a\",Egresados!$AA$8:$AA$705)","v":"223a8"},{"$f":"IF(ISERROR(VLOOKUP(Egresados!$P639,Maestros!$L$31:$Q$1030,2,0)),\"\",VLOOKUP(Egresados!$P639,Maestros!$L$31:$Q$1030,2,0))","v":"220"},{"$f":"CONCATENATE(Egresados!$Z$8:$Z$705,\"a\",Egresados!$AA$8:$AA$705,\"a\",Egresados!$AC$8:$AC$705)","v":"223a8a220"},{"$f":"IF(ISERROR(VLOOKUP(Egresados!$C$8:$C$705,Maestros!$A$4:$B$21,2,0)),\"\",VLOOKUP(Egresados!$C$8:$C$705,Maestros!$A$4:$B$21,2,0))","v":"1001"},{"$f":"IF(ISERROR(VLOOKUP(Egresados!$H$8:$H$705,Maestros!$D$4:$E$21,2,0)),\"\",VLOOKUP(Egresados!$H$8:$H$705,Maestros!$D$4:$E$21,2,0))","v":"1122"},{"$f":"IF(OR(UPPER(Egresados!$J$8:$J$705)=\"SI\",UPPER(Egresados!$J$8:$J$705)=\"SÍ\"),1,IF(UPPER(Egresados!$J$8:$J$705)=\"NO\",0,\"\"))","v":0},{"$f":"IF(OR(UPPER(Egresados!$R$8:$R$705)=\"SI\",UPPER(Egresados!$R$8:$R$705)=\"SÍ\"),1,IF(UPPER(Egresados!$R$8:$R$705)=\"NO\",0,\"\"))","v":""},{"$f":"IF(OR(UPPER(Egresados!$S$8:$S$705)=\"SI\",UPPER(Egresados!$S$8:$S$705)=\"SÍ\"),1,IF(UPPER(Egresados!$S$8:$S$705)=\"NO\",0,\"\"))","v":""},{"$f":"IF(ISERROR(VLOOKUP(Egresados!$T$8:$T$705,Maestros!$S$31:$T$530,2,0)),\"\",VLOOKUP(Egresados!$T$8:$T$705,Maestros!$S$31:$T$530,2,0))","v":"62"},{"$f":"IF(ISERROR(VLOOKUP(U639,Maestros!$S$31:$T$530,2,0)),\"\",VLOOKUP(U639,Maestros!$S$31:$T$530,2,0))","v":"62"},{"$f":"IF(ISERROR(VLOOKUP(Egresados!$K$8:$K$705,Maestros!$A$31:$B$130,2,0)),\"\",VLOOKUP(Egresados!$K$8:$K$705,Maestros!$A$31:$B$130,2,0))","v":""},{"$f":"IF(LEN(tablaEgresados[[#This Row],[Nota promedio]])>0,ROUND(tablaEgresados[[#This Row],[Nota promedio]],2),\"\")","v":15.69}]
[632,null,"DNI","74904014","ESPIRITU","ALVARADO","LUZ NICOL","FEMENINO",null,"NO",null,null,null,"2020-1","SEDE CENTRAL","NUTRICION HUMANA",15.96,null,null,"2015-1","2015-1","20151058@une.edu.pe","lnicolea1@gmail.com",3133700,976486001,{"$f":"IF(ISERROR(VLOOKUP(Egresados!$N$8:$N$705,Maestros!$D$31:$E$530,2,0)),\"\",VLOOKUP(Egresados!$N$8:$N$705,Maestros!$D$31:$E$530,2,0))","v":"223"},{"$f":"IF(ISERROR(VLOOKUP(Egresados!$O640,Maestros!$G$31:$J$1030,2,0)),\"\",VLOOKUP(Egresados!$O640,Maestros!$G$31:$J$1030,2,0))","v":"8"},{"$f":"CONCATENATE(Egresados!$Z$8:$Z$705,\"a\",Egresados!$AA$8:$AA$705)","v":"223a8"},{"$f":"IF(ISERROR(VLOOKUP(Egresados!$P640,Maestros!$L$31:$Q$1030,2,0)),\"\",VLOOKUP(Egresados!$P640,Maestros!$L$31:$Q$1030,2,0))","v":"220"},{"$f":"CONCATENATE(Egresados!$Z$8:$Z$705,\"a\",Egresados!$AA$8:$AA$705,\"a\",Egresados!$AC$8:$AC$705)","v":"223a8a220"},{"$f":"IF(ISERROR(VLOOKUP(Egresados!$C$8:$C$705,Maestros!$A$4:$B$21,2,0)),\"\",VLOOKUP(Egresados!$C$8:$C$705,Maestros!$A$4:$B$21,2,0))","v":"1001"},{"$f":"IF(ISERROR(VLOOKUP(Egresados!$H$8:$H$705,Maestros!$D$4:$E$21,2,0)),\"\",VLOOKUP(Egresados!$H$8:$H$705,Maestros!$D$4:$E$21,2,0))","v":"1122"},{"$f":"IF(OR(UPPER(Egresados!$J$8:$J$705)=\"SI\",UPPER(Egresados!$J$8:$J$705)=\"SÍ\"),1,IF(UPPER(Egresados!$J$8:$J$705)=\"NO\",0,\"\"))","v":0},{"$f":"IF(OR(UPPER(Egresados!$R$8:$R$705)=\"SI\",UPPER(Egresados!$R$8:$R$705)=\"SÍ\"),1,IF(UPPER(Egresados!$R$8:$R$705)=\"NO\",0,\"\"))","v":""},{"$f":"IF(OR(UPPER(Egresados!$S$8:$S$705)=\"SI\",UPPER(Egresados!$S$8:$S$705)=\"SÍ\"),1,IF(UPPER(Egresados!$S$8:$S$705)=\"NO\",0,\"\"))","v":""},{"$f":"IF(ISERROR(VLOOKUP(Egresados!$T$8:$T$705,Maestros!$S$31:$T$530,2,0)),\"\",VLOOKUP(Egresados!$T$8:$T$705,Maestros!$S$31:$T$530,2,0))","v":"62"},{"$f":"IF(ISERROR(VLOOKUP(U640,Maestros!$S$31:$T$530,2,0)),\"\",VLOOKUP(U640,Maestros!$S$31:$T$530,2,0))","v":"62"},{"$f":"IF(ISERROR(VLOOKUP(Egresados!$K$8:$K$705,Maestros!$A$31:$B$130,2,0)),\"\",VLOOKUP(Egresados!$K$8:$K$705,Maestros!$A$31:$B$130,2,0))","v":""},{"$f":"IF(LEN(tablaEgresados[[#This Row],[Nota promedio]])>0,ROUND(tablaEgresados[[#This Row],[Nota promedio]],2),\"\")","v":15.96}]
[633,null,"DNI","71908457","GUERRERO","DONAYRE","ALBA KARINA","FEMENINO",null,"NO",null,null,null,"2020-1","SEDE CENTRAL","NUTRICION HUMANA",14.94,null,null,"2015-1","2015-1","20151061@une.edu.pe","kariina12.02.97@gmail.com",3133700,"991855544",{"$f":"IF(ISERROR(VLOOKUP(Egresados!$N$8:$N$705,Maestros!$D$31:$E$530,2,0)),\"\",VLOOKUP(Egresados!$N$8:$N$705,Maestros!$D$31:$E$530,2,0))","v":"223"},{"$f":"IF(ISERROR(VLOOKUP(Egresados!$O641,Maestros!$G$31:$J$1030,2,0)),\"\",VLOOKUP(Egresados!$O641,Maestros!$G$31:$J$1030,2,0))","v":"8"},{"$f":"CONCATENATE(Egresados!$Z$8:$Z$705,\"a\",Egresados!$AA$8:$AA$705)","v":"223a8"},{"$f":"IF(ISERROR(VLOOKUP(Egresados!$P641,Maestros!$L$31:$Q$1030,2,0)),\"\",VLOOKUP(Egresados!$P641,Maestros!$L$31:$Q$1030,2,0))","v":"220"},{"$f":"CONCATENATE(Egresados!$Z$8:$Z$705,\"a\",Egresados!$AA$8:$AA$705,\"a\",Egresados!$AC$8:$AC$705)","v":"223a8a220"},{"$f":"IF(ISERROR(VLOOKUP(Egresados!$C$8:$C$705,Maestros!$A$4:$B$21,2,0)),\"\",VLOOKUP(Egresados!$C$8:$C$705,Maestros!$A$4:$B$21,2,0))","v":"1001"},{"$f":"IF(ISERROR(VLOOKUP(Egresados!$H$8:$H$705,Maestros!$D$4:$E$21,2,0)),\"\",VLOOKUP(Egresados!$H$8:$H$705,Maestros!$D$4:$E$21,2,0))","v":"1122"},{"$f":"IF(OR(UPPER(Egresados!$J$8:$J$705)=\"SI\",UPPER(Egresados!$J$8:$J$705)=\"SÍ\"),1,IF(UPPER(Egresados!$J$8:$J$705)=\"NO\",0,\"\"))","v":0},{"$f":"IF(OR(UPPER(Egresados!$R$8:$R$705)=\"SI\",UPPER(Egresados!$R$8:$R$705)=\"SÍ\"),1,IF(UPPER(Egresados!$R$8:$R$705)=\"NO\",0,\"\"))","v":""},{"$f":"IF(OR(UPPER(Egresados!$S$8:$S$705)=\"SI\",UPPER(Egresados!$S$8:$S$705)=\"SÍ\"),1,IF(UPPER(Egresados!$S$8:$S$705)=\"NO\",0,\"\"))","v":""},{"$f":"IF(ISERROR(VLOOKUP(Egresados!$T$8:$T$705,Maestros!$S$31:$T$530,2,0)),\"\",VLOOKUP(Egresados!$T$8:$T$705,Maestros!$S$31:$T$530,2,0))","v":"62"},{"$f":"IF(ISERROR(VLOOKUP(U641,Maestros!$S$31:$T$530,2,0)),\"\",VLOOKUP(U641,Maestros!$S$31:$T$530,2,0))","v":"62"},{"$f":"IF(ISERROR(VLOOKUP(Egresados!$K$8:$K$705,Maestros!$A$31:$B$130,2,0)),\"\",VLOOKUP(Egresados!$K$8:$K$705,Maestros!$A$31:$B$130,2,0))","v":""},{"$f":"IF(LEN(tablaEgresados[[#This Row],[Nota promedio]])>0,ROUND(tablaEgresados[[#This Row],[Nota promedio]],2),\"\")","v":14.94}]
[634,null,"DNI","75652710","PECHO","FRANCO","JORGE LUIS","MASCULINO",null,"NO",null,null,null,"2020-1","SEDE CENTRAL","QUIMICA - CIENCIAS NATURALES",15.21,null,null,"2015-1","2015-1","20151550@une.edu.pe","75652710@pronabec.edu.pe",3133700,"960047970",{"$f":"IF(ISERROR(VLOOKUP(Egresados!$N$8:$N$705,Maestros!$D$31:$E$530,2,0)),\"\",VLOOKUP(Egresados!$N$8:$N$705,Maestros!$D$31:$E$530,2,0))","v":"223"},{"$f":"IF(ISERROR(VLOOKUP(Egresados!$O642,Maestros!$G$31:$J$1030,2,0)),\"\",VLOOKUP(Egresados!$O642,Maestros!$G$31:$J$1030,2,0))","v":"8"},{"$f":"CONCATENATE(Egresados!$Z$8:$Z$705,\"a\",Egresados!$AA$8:$AA$705)","v":"223a8"},{"$f":"IF(ISERROR(VLOOKUP(Egresados!$P642,Maestros!$L$31:$Q$1030,2,0)),\"\",VLOOKUP(Egresados!$P642,Maestros!$L$31:$Q$1030,2,0))","v":"303"},{"$f":"CONCATENATE(Egresados!$Z$8:$Z$705,\"a\",Egresados!$AA$8:$AA$705,\"a\",Egresados!$AC$8:$AC$705)","v":"223a8a303"},{"$f":"IF(ISERROR(VLOOKUP(Egresados!$C$8:$C$705,Maestros!$A$4:$B$21,2,0)),\"\",VLOOKUP(Egresados!$C$8:$C$705,Maestros!$A$4:$B$21,2,0))","v":"1001"},{"$f":"IF(ISERROR(VLOOKUP(Egresados!$H$8:$H$705,Maestros!$D$4:$E$21,2,0)),\"\",VLOOKUP(Egresados!$H$8:$H$705,Maestros!$D$4:$E$21,2,0))","v":"1121"},{"$f":"IF(OR(UPPER(Egresados!$J$8:$J$705)=\"SI\",UPPER(Egresados!$J$8:$J$705)=\"SÍ\"),1,IF(UPPER(Egresados!$J$8:$J$705)=\"NO\",0,\"\"))","v":0},{"$f":"IF(OR(UPPER(Egresados!$R$8:$R$705)=\"SI\",UPPER(Egresados!$R$8:$R$705)=\"SÍ\"),1,IF(UPPER(Egresados!$R$8:$R$705)=\"NO\",0,\"\"))","v":""},{"$f":"IF(OR(UPPER(Egresados!$S$8:$S$705)=\"SI\",UPPER(Egresados!$S$8:$S$705)=\"SÍ\"),1,IF(UPPER(Egresados!$S$8:$S$705)=\"NO\",0,\"\"))","v":""},{"$f":"IF(ISERROR(VLOOKUP(Egresados!$T$8:$T$705,Maestros!$S$31:$T$530,2,0)),\"\",VLOOKUP(Egresados!$T$8:$T$705,Maestros!$S$31:$T$530,2,0))","v":"62"},{"$f":"IF(ISERROR(VLOOKUP(U642,Maestros!$S$31:$T$530,2,0)),\"\",VLOOKUP(U642,Maestros!$S$31:$T$530,2,0))","v":"62"},{"$f":"IF(ISERROR(VLOOKUP(Egresados!$K$8:$K$705,Maestros!$A$31:$B$130,2,0)),\"\",VLOOKUP(Egresados!$K$8:$K$705,Maestros!$A$31:$B$130,2,0))","v":""},{"$f":"IF(LEN(tablaEgresados[[#This Row],[Nota promedio]])>0,ROUND(tablaEgresados[[#This Row],[Nota promedio]],2),\"\")","v":15.21}]
[635,null,"DNI","77488663","MAGALLANES","MENDOZA","FERNANDO JESUS","MASCULINO",null,"NO",null,null,null,"2020-1","SEDE CENTRAL","QUIMICA - CIENCIAS NATURALES",16.03,null,null,"2015-1","2015-1","20151546@une.edu.pe","fmmagallanes9@gmail.com",3133700,"946557263",{"$f":"IF(ISERROR(VLOOKUP(Egresados!$N$8:$N$705,Maestros!$D$31:$E$530,2,0)),\"\",VLOOKUP(Egresados!$N$8:$N$705,Maestros!$D$31:$E$530,2,0))","v":"223"},{"$f":"IF(ISERROR(VLOOKUP(Egresados!$O643,Maestros!$G$31:$J$1030,2,0)),\"\",VLOOKUP(Egresados!$O643,Maestros!$G$31:$J$1030,2,0))","v":"8"},{"$f":"CONCATENATE(Egresados!$Z$8:$Z$705,\"a\",Egresados!$AA$8:$AA$705)","v":"223a8"},{"$f":"IF(ISERROR(VLOOKUP(Egresados!$P643,Maestros!$L$31:$Q$1030,2,0)),\"\",VLOOKUP(Egresados!$P643,Maestros!$L$31:$Q$1030,2,0))","v":"303"},{"$f":"CONCATENATE(Egresados!$Z$8:$Z$705,\"a\",Egresados!$AA$8:$AA$705,\"a\",Egresados!$AC$8:$AC$705)","v":"223a8a303"},{"$f":"IF(ISERROR(VLOOKUP(Egresados!$C$8:$C$705,Maestros!$A$4:$B$21,2,0)),\"\",VLOOKUP(Egresados!$C$8:$C$705,Maestros!$A$4:$B$21,2,0))","v":"1001"},{"$f":"IF(ISERROR(VLOOKUP(Egresados!$H$8:$H$705,Maestros!$D$4:$E$21,2,0)),\"\",VLOOKUP(Egresados!$H$8:$H$705,Maestros!$D$4:$E$21,2,0))","v":"1121"},{"$f":"IF(OR(UPPER(Egresados!$J$8:$J$705)=\"SI\",UPPER(Egresados!$J$8:$J$705)=\"SÍ\"),1,IF(UPPER(Egresados!$J$8:$J$705)=\"NO\",0,\"\"))","v":0},{"$f":"IF(OR(UPPER(Egresados!$R$8:$R$705)=\"SI\",UPPER(Egresados!$R$8:$R$705)=\"SÍ\"),1,IF(UPPER(Egresados!$R$8:$R$705)=\"NO\",0,\"\"))","v":""},{"$f":"IF(OR(UPPER(Egresados!$S$8:$S$705)=\"SI\",UPPER(Egresados!$S$8:$S$705)=\"SÍ\"),1,IF(UPPER(Egresados!$S$8:$S$705)=\"NO\",0,\"\"))","v":""},{"$f":"IF(ISERROR(VLOOKUP(Egresados!$T$8:$T$705,Maestros!$S$31:$T$530,2,0)),\"\",VLOOKUP(Egresados!$T$8:$T$705,Maestros!$S$31:$T$530,2,0))","v":"62"},{"$f":"IF(ISERROR(VLOOKUP(U643,Maestros!$S$31:$T$530,2,0)),\"\",VLOOKUP(U643,Maestros!$S$31:$T$530,2,0))","v":"62"},{"$f":"IF(ISERROR(VLOOKUP(Egresados!$K$8:$K$705,Maestros!$A$31:$B$130,2,0)),\"\",VLOOKUP(Egresados!$K$8:$K$705,Maestros!$A$31:$B$130,2,0))","v":""},{"$f":"IF(LEN(tablaEgresados[[#This Row],[Nota promedio]])>0,ROUND(tablaEgresados[[#This Row],[Nota promedio]],2),\"\")","v":16.03}]
[636,null,"DNI",42300829,"DE LA CRUZ","PALOMINO","ELOY","MASCULINO",null,"NO",null,null,null,"2020-1","SEDE CENTRAL","QUIMICA - CIENCIAS NATURALES",14.05,null,null,"2011-1","2011-1","20115979@une.edu.pe","20115979@une.edu.pe",3133700,976486001,{"$f":"IF(ISERROR(VLOOKUP(Egresados!$N$8:$N$705,Maestros!$D$31:$E$530,2,0)),\"\",VLOOKUP(Egresados!$N$8:$N$705,Maestros!$D$31:$E$530,2,0))","v":"223"},{"$f":"IF(ISERROR(VLOOKUP(Egresados!$O644,Maestros!$G$31:$J$1030,2,0)),\"\",VLOOKUP(Egresados!$O644,Maestros!$G$31:$J$1030,2,0))","v":"8"},{"$f":"CONCATENATE(Egresados!$Z$8:$Z$705,\"a\",Egresados!$AA$8:$AA$705)","v":"223a8"},{"$f":"IF(ISERROR(VLOOKUP(Egresados!$P644,Maestros!$L$31:$Q$1030,2,0)),\"\",VLOOKUP(Egresados!$P644,Maestros!$L$31:$Q$1030,2,0))","v":"303"},{"$f":"CONCATENATE(Egresados!$Z$8:$Z$705,\"a\",Egresados!$AA$8:$AA$705,\"a\",Egresados!$AC$8:$AC$705)","v":"223a8a303"},{"$f":"IF(ISERROR(VLOOKUP(Egresados!$C$8:$C$705,Maestros!$A$4:$B$21,2,0)),\"\",VLOOKUP(Egresados!$C$8:$C$705,Maestros!$A$4:$B$21,2,0))","v":"1001"},{"$f":"IF(ISERROR(VLOOKUP(Egresados!$H$8:$H$705,Maestros!$D$4:$E$21,2,0)),\"\",VLOOKUP(Egresados!$H$8:$H$705,Maestros!$D$4:$E$21,2,0))","v":"1121"},{"$f":"IF(OR(UPPER(Egresados!$J$8:$J$705)=\"SI\",UPPER(Egresados!$J$8:$J$705)=\"SÍ\"),1,IF(UPPER(Egresados!$J$8:$J$705)=\"NO\",0,\"\"))","v":0},{"$f":"IF(OR(UPPER(Egresados!$R$8:$R$705)=\"SI\",UPPER(Egresados!$R$8:$R$705)=\"SÍ\"),1,IF(UPPER(Egresados!$R$8:$R$705)=\"NO\",0,\"\"))","v":""},{"$f":"IF(OR(UPPER(Egresados!$S$8:$S$705)=\"SI\",UPPER(Egresados!$S$8:$S$705)=\"SÍ\"),1,IF(UPPER(Egresados!$S$8:$S$705)=\"NO\",0,\"\"))","v":""},{"$f":"IF(ISERROR(VLOOKUP(Egresados!$T$8:$T$705,Maestros!$S$31:$T$530,2,0)),\"\",VLOOKUP(Egresados!$T$8:$T$705,Maestros!$S$31:$T$530,2,0))","v":"46"},{"$f":"IF(ISERROR(VLOOKUP(U644,Maestros!$S$31:$T$530,2,0)),\"\",VLOOKUP(U644,Maestros!$S$31:$T$530,2,0))","v":"46"},{"$f":"IF(ISERROR(VLOOKUP(Egresados!$K$8:$K$705,Maestros!$A$31:$B$130,2,0)),\"\",VLOOKUP(Egresados!$K$8:$K$705,Maestros!$A$31:$B$130,2,0))","v":""},{"$f":"IF(LEN(tablaEgresados[[#This Row],[Nota promedio]])>0,ROUND(tablaEgresados[[#This Row],[Nota promedio]],2),\"\")","v":14.05}]
[637,null,"DNI",28597926,"TAIPE","ROMANI","FERMIN","MASCULINO",null,"NO",null,null,null,"2020-1","SEDE CENTRAL","QUIMICA - CIENCIAS NATURALES",13.59,null,null,"2012-1","2012-1","20127424@une.edu.pe","20127424@une.edu.pe",3133700,976486001,{"$f":"IF(ISERROR(VLOOKUP(Egresados!$N$8:$N$705,Maestros!$D$31:$E$530,2,0)),\"\",VLOOKUP(Egresados!$N$8:$N$705,Maestros!$D$31:$E$530,2,0))","v":"223"},{"$f":"IF(ISERROR(VLOOKUP(Egresados!$O645,Maestros!$G$31:$J$1030,2,0)),\"\",VLOOKUP(Egresados!$O645,Maestros!$G$31:$J$1030,2,0))","v":"8"},{"$f":"CONCATENATE(Egresados!$Z$8:$Z$705,\"a\",Egresados!$AA$8:$AA$705)","v":"223a8"},{"$f":"IF(ISERROR(VLOOKUP(Egresados!$P645,Maestros!$L$31:$Q$1030,2,0)),\"\",VLOOKUP(Egresados!$P645,Maestros!$L$31:$Q$1030,2,0))","v":"303"},{"$f":"CONCATENATE(Egresados!$Z$8:$Z$705,\"a\",Egresados!$AA$8:$AA$705,\"a\",Egresados!$AC$8:$AC$705)","v":"223a8a303"},{"$f":"IF(ISERROR(VLOOKUP(Egresados!$C$8:$C$705,Maestros!$A$4:$B$21,2,0)),\"\",VLOOKUP(Egresados!$C$8:$C$705,Maestros!$A$4:$B$21,2,0))","v":"1001"},{"$f":"IF(ISERROR(VLOOKUP(Egresados!$H$8:$H$705,Maestros!$D$4:$E$21,2,0)),\"\",VLOOKUP(Egresados!$H$8:$H$705,Maestros!$D$4:$E$21,2,0))","v":"1121"},{"$f":"IF(OR(UPPER(Egresados!$J$8:$J$705)=\"SI\",UPPER(Egresados!$J$8:$J$705)=\"SÍ\"),1,IF(UPPER(Egresados!$J$8:$J$705)=\"NO\",0,\"\"))","v":0},{"$f":"IF(OR(UPPER(Egresados!$R$8:$R$705)=\"SI\",UPPER(Egresados!$R$8:$R$705)=\"SÍ\"),1,IF(UPPER(Egresados!$R$8:$R$705)=\"NO\",0,\"\"))","v":""},{"$f":"IF(OR(UPPER(Egresados!$S$8:$S$705)=\"SI\",UPPER(Egresados!$S$8:$S$705)=\"SÍ\"),1,IF(UPPER(Egresados!$S$8:$S$705)=\"NO\",0,\"\"))","v":""},{"$f":"IF(ISERROR(VLOOKUP(Egresados!$T$8:$T$705,Maestros!$S$31:$T$530,2,0)),\"\",VLOOKUP(Egresados!$T$8:$T$705,Maestros!$S$31:$T$530,2,0))","v":"50"},{"$f":"IF(ISERROR(VLOOKUP(U645,Maestros!$S$31:$T$530,2,0)),\"\",VLOOKUP(U645,Maestros!$S$31:$T$530,2,0))","v":"50"},{"$f":"IF(ISERROR(VLOOKUP(Egresados!$K$8:$K$705,Maestros!$A$31:$B$130,2,0)),\"\",VLOOKUP(Egresados!$K$8:$K$705,Maestros!$A$31:$B$130,2,0))","v":""},{"$f":"IF(LEN(tablaEgresados[[#This Row],[Nota promedio]])>0,ROUND(tablaEgresados[[#This Row],[Nota promedio]],2),\"\")","v":13.59}]
[638,null,"DNI","21449702","RIVERO","SALINAS","VICTOR ANTONIO","MASCULINO",null,"NO",null,null,null,"2020-1","SEDE CENTRAL","QUIMICA - CIENCIAS NATURALES",13.63,null,null,"2014-1","2014-1","20142699@une.edu.pe","20142699@une.edu.pe",3133700,976486001,{"$f":"IF(ISERROR(VLOOKUP(Egresados!$N$8:$N$705,Maestros!$D$31:$E$530,2,0)),\"\",VLOOKUP(Egresados!$N$8:$N$705,Maestros!$D$31:$E$530,2,0))","v":"223"},{"$f":"IF(ISERROR(VLOOKUP(Egresados!$O646,Maestros!$G$31:$J$1030,2,0)),\"\",VLOOKUP(Egresados!$O646,Maestros!$G$31:$J$1030,2,0))","v":"8"},{"$f":"CONCATENATE(Egresados!$Z$8:$Z$705,\"a\",Egresados!$AA$8:$AA$705)","v":"223a8"},{"$f":"IF(ISERROR(VLOOKUP(Egresados!$P646,Maestros!$L$31:$Q$1030,2,0)),\"\",VLOOKUP(Egresados!$P646,Maestros!$L$31:$Q$1030,2,0))","v":"303"},{"$f":"CONCATENATE(Egresados!$Z$8:$Z$705,\"a\",Egresados!$AA$8:$AA$705,\"a\",Egresados!$AC$8:$AC$705)","v":"223a8a303"},{"$f":"IF(ISERROR(VLOOKUP(Egresados!$C$8:$C$705,Maestros!$A$4:$B$21,2,0)),\"\",VLOOKUP(Egresados!$C$8:$C$705,Maestros!$A$4:$B$21,2,0))","v":"1001"},{"$f":"IF(ISERROR(VLOOKUP(Egresados!$H$8:$H$705,Maestros!$D$4:$E$21,2,0)),\"\",VLOOKUP(Egresados!$H$8:$H$705,Maestros!$D$4:$E$21,2,0))","v":"1121"},{"$f":"IF(OR(UPPER(Egresados!$J$8:$J$705)=\"SI\",UPPER(Egresados!$J$8:$J$705)=\"SÍ\"),1,IF(UPPER(Egresados!$J$8:$J$705)=\"NO\",0,\"\"))","v":0},{"$f":"IF(OR(UPPER(Egresados!$R$8:$R$705)=\"SI\",UPPER(Egresados!$R$8:$R$705)=\"SÍ\"),1,IF(UPPER(Egresados!$R$8:$R$705)=\"NO\",0,\"\"))","v":""},{"$f":"IF(OR(UPPER(Egresados!$S$8:$S$705)=\"SI\",UPPER(Egresados!$S$8:$S$705)=\"SÍ\"),1,IF(UPPER(Egresados!$S$8:$S$705)=\"NO\",0,\"\"))","v":""},{"$f":"IF(ISERROR(VLOOKUP(Egresados!$T$8:$T$705,Maestros!$S$31:$T$530,2,0)),\"\",VLOOKUP(Egresados!$T$8:$T$705,Maestros!$S$31:$T$530,2,0))","v":"58"},{"$f":"IF(ISERROR(VLOOKUP(U646,Maestros!$S$31:$T$530,2,0)),\"\",VLOOKUP(U646,Maestros!$S$31:$T$530,2,0))","v":"58"},{"$f":"IF(ISERROR(VLOOKUP(Egresados!$K$8:$K$705,Maestros!$A$31:$B$130,2,0)),\"\",VLOOKUP(Egresados!$K$8:$K$705,Maestros!$A$31:$B$130,2,0))","v":""},{"$f":"IF(LEN(tablaEgresados[[#This Row],[Nota promedio]])>0,ROUND(tablaEgresados[[#This Row],[Nota promedio]],2),\"\")","v":13.63}]
[{"$f":"ROW()-8","v":639},null,"DNI","18117886","SILVA","CUENCA","NORMA ESTHER","FEMENINO",null,"NO",null,null,null,"2020-1","SEDE CENTRAL","QUIMICA - CIENCIAS NATURALES",14.65,null,null,"2009-1","2009-1","20094271@une.edu.pe","20094271@une.edu.pe",3133700,976486001,{"$f":"IF(ISERROR(VLOOKUP(Egresados!$N$8:$N$705,Maestros!$D$31:$E$530,2,0)),\"\",VLOOKUP(Egresados!$N$8:$N$705,Maestros!$D$31:$E$530,2,0))","v":"223"},{"$f":"IF(ISERROR(VLOOKUP(Egresados!$O647,Maestros!$G$31:$J$1030,2,0)),\"\",VLOOKUP(Egresados!$O647,Maestros!$G$31:$J$1030,2,0))","v":"8"},{"$f":"CONCATENATE(Egresados!$Z$8:$Z$705,\"a\",Egresados!$AA$8:$AA$705)","v":"223a8"},{"$f":"IF(ISERROR(VLOOKUP(Egresados!$P647,Maestros!$L$31:$Q$1030,2,0)),\"\",VLOOKUP(Egresados!$P647,Maestros!$L$31:$Q$1030,2,0))","v":"303"},{"$f":"CONCATENATE(Egresados!$Z$8:$Z$705,\"a\",Egresados!$AA$8:$AA$705,\"a\",Egresados!$AC$8:$AC$705)","v":"223a8a303"},{"$f":"IF(ISERROR(VLOOKUP(Egresados!$C$8:$C$705,Maestros!$A$4:$B$21,2,0)),\"\",VLOOKUP(Egresados!$C$8:$C$705,Maestros!$A$4:$B$21,2,0))","v":"1001"},{"$f":"IF(ISERROR(VLOOKUP(Egresados!$H$8:$H$705,Maestros!$D$4:$E$21,2,0)),\"\",VLOOKUP(Egresados!$H$8:$H$705,Maestros!$D$4:$E$21,2,0))","v":"1122"},{"$f":"IF(OR(UPPER(Egresados!$J$8:$J$705)=\"SI\",UPPER(Egresados!$J$8:$J$705)=\"SÍ\"),1,IF(UPPER(Egresados!$J$8:$J$705)=\"NO\",0,\"\"))","v":0},{"$f":"IF(OR(UPPER(Egresados!$R$8:$R$705)=\"SI\",UPPER(Egresados!$R$8:$R$705)=\"SÍ\"),1,IF(UPPER(Egresados!$R$8:$R$705)=\"NO\",0,\"\"))","v":""},{"$f":"IF(OR(UPPER(Egresados!$S$8:$S$705)=\"SI\",UPPER(Egresados!$S$8:$S$705)=\"SÍ\"),1,IF(UPPER(Egresados!$S$8:$S$705)=\"NO\",0,\"\"))","v":""},{"$f":"IF(ISERROR(VLOOKUP(Egresados!$T$8:$T$705,Maestros!$S$31:$T$530,2,0)),\"\",VLOOKUP(Egresados!$T$8:$T$705,Maestros!$S$31:$T$530,2,0))","v":"38"},{"$f":"IF(ISERROR(VLOOKUP(U647,Maestros!$S$31:$T$530,2,0)),\"\",VLOOKUP(U647,Maestros!$S$31:$T$530,2,0))","v":"38"},{"$f":"IF(ISERROR(VLOOKUP(Egresados!$K$8:$K$705,Maestros!$A$31:$B$130,2,0)),\"\",VLOOKUP(Egresados!$K$8:$K$705,Maestros!$A$31:$B$130,2,0))","v":""},{"$f":"IF(LEN(tablaEgresados[[#This Row],[Nota promedio]])>0,ROUND(tablaEgresados[[#This Row],[Nota promedio]],2),\"\")","v":14.65}]
[640,null,"DNI","21468572","CALDERON","PALOMINO","DOMINGA MARCELINA","FEMENINO",null,"NO",null,null,null,"2020-1","SEDE CENTRAL","QUIMICA - CIENCIAS NATURALES",13.93,null,null,"2014-1","2014-1","20142695@une.edu.pe","20142695@une.edu.pe",3133700,976486001,{"$f":"IF(ISERROR(VLOOKUP(Egresados!$N$8:$N$705,Maestros!$D$31:$E$530,2,0)),\"\",VLOOKUP(Egresados!$N$8:$N$705,Maestros!$D$31:$E$530,2,0))","v":"223"},{"$f":"IF(ISERROR(VLOOKUP(Egresados!$O648,Maestros!$G$31:$J$1030,2,0)),\"\",VLOOKUP(Egresados!$O648,Maestros!$G$31:$J$1030,2,0))","v":"8"},{"$f":"CONCATENATE(Egresados!$Z$8:$Z$705,\"a\",Egresados!$AA$8:$AA$705)","v":"223a8"},{"$f":"IF(ISERROR(VLOOKUP(Egresados!$P648,Maestros!$L$31:$Q$1030,2,0)),\"\",VLOOKUP(Egresados!$P648,Maestros!$L$31:$Q$1030,2,0))","v":"303"},{"$f":"CONCATENATE(Egresados!$Z$8:$Z$705,\"a\",Egresados!$AA$8:$AA$705,\"a\",Egresados!$AC$8:$AC$705)","v":"223a8a303"},{"$f":"IF(ISERROR(VLOOKUP(Egresados!$C$8:$C$705,Maestros!$A$4:$B$21,2,0)),\"\",VLOOKUP(Egresados!$C$8:$C$705,Maestros!$A$4:$B$21,2,0))","v":"1001"},{"$f":"IF(ISERROR(VLOOKUP(Egresados!$H$8:$H$705,Maestros!$D$4:$E$21,2,0)),\"\",VLOOKUP(Egresados!$H$8:$H$705,Maestros!$D$4:$E$21,2,0))","v":"1122"},{"$f":"IF(OR(UPPER(Egresados!$J$8:$J$705)=\"SI\",UPPER(Egresados!$J$8:$J$705)=\"SÍ\"),1,IF(UPPER(Egresados!$J$8:$J$705)=\"NO\",0,\"\"))","v":0},{"$f":"IF(OR(UPPER(Egresados!$R$8:$R$705)=\"SI\",UPPER(Egresados!$R$8:$R$705)=\"SÍ\"),1,IF(UPPER(Egresados!$R$8:$R$705)=\"NO\",0,\"\"))","v":""},{"$f":"IF(OR(UPPER(Egresados!$S$8:$S$705)=\"SI\",UPPER(Egresados!$S$8:$S$705)=\"SÍ\"),1,IF(UPPER(Egresados!$S$8:$S$705)=\"NO\",0,\"\"))","v":""},{"$f":"IF(ISERROR(VLOOKUP(Egresados!$T$8:$T$705,Maestros!$S$31:$T$530,2,0)),\"\",VLOOKUP(Egresados!$T$8:$T$705,Maestros!$S$31:$T$530,2,0))","v":"58"},{"$f":"IF(ISERROR(VLOOKUP(U648,Maestros!$S$31:$T$530,2,0)),\"\",VLOOKUP(U648,Maestros!$S$31:$T$530,2,0))","v":"58"},{"$f":"IF(ISERROR(VLOOKUP(Egresados!$K$8:$K$705,Maestros!$A$31:$B$130,2,0)),\"\",VLOOKUP(Egresados!$K$8:$K$705,Maestros!$A$31:$B$130,2,0))","v":""},{"$f":"IF(LEN(tablaEgresados[[#This Row],[Nota promedio]])>0,ROUND(tablaEgresados[[#This Row],[Nota promedio]],2),\"\")","v":13.93}]
[641,null,"DNI","10085453","ALARCON","ALVAREZ","SELENE LILY","FEMENINO",null,"NO",null,null,null,"2020-1","SEDE CENTRAL","QUIMICA - CIENCIAS NATURALES",14.18,null,null,"2013-1","2013-1","20132169@une.edu.pe","20132169@une.edu.pe",3133700,976486001,{"$f":"IF(ISERROR(VLOOKUP(Egresados!$N$8:$N$705,Maestros!$D$31:$E$530,2,0)),\"\",VLOOKUP(Egresados!$N$8:$N$705,Maestros!$D$31:$E$530,2,0))","v":"223"},{"$f":"IF(ISERROR(VLOOKUP(Egresados!$O649,Maestros!$G$31:$J$1030,2,0)),\"\",VLOOKUP(Egresados!$O649,Maestros!$G$31:$J$1030,2,0))","v":"8"},{"$f":"CONCATENATE(Egresados!$Z$8:$Z$705,\"a\",Egresados!$AA$8:$AA$705)","v":"223a8"},{"$f":"IF(ISERROR(VLOOKUP(Egresados!$P649,Maestros!$L$31:$Q$1030,2,0)),\"\",VLOOKUP(Egresados!$P649,Maestros!$L$31:$Q$1030,2,0))","v":"303"},{"$f":"CONCATENATE(Egresados!$Z$8:$Z$705,\"a\",Egresados!$AA$8:$AA$705,\"a\",Egresados!$AC$8:$AC$705)","v":"223a8a303"},{"$f":"IF(ISERROR(VLOOKUP(Egresados!$C$8:$C$705,Maestros!$A$4:$B$21,2,0)),\"\",VLOOKUP(Egresados!$C$8:$C$705,Maestros!$A$4:$B$21,2,0))","v":"1001"},{"$f":"IF(ISERROR(VLOOKUP(Egresados!$H$8:$H$705,Maestros!$D$4:$E$21,2,0)),\"\",VLOOKUP(Egresados!$H$8:$H$705,Maestros!$D$4:$E$21,2,0))","v":"1122"},{"$f":"IF(OR(UPPER(Egresados!$J$8:$J$705)=\"SI\",UPPER(Egresados!$J$8:$J$705)=\"SÍ\"),1,IF(UPPER(Egresados!$J$8:$J$705)=\"NO\",0,\"\"))","v":0},{"$f":"IF(OR(UPPER(Egresados!$R$8:$R$705)=\"SI\",UPPER(Egresados!$R$8:$R$705)=\"SÍ\"),1,IF(UPPER(Egresados!$R$8:$R$705)=\"NO\",0,\"\"))","v":""},{"$f":"IF(OR(UPPER(Egresados!$S$8:$S$705)=\"SI\",UPPER(Egresados!$S$8:$S$705)=\"SÍ\"),1,IF(UPPER(Egresados!$S$8:$S$705)=\"NO\",0,\"\"))","v":""},{"$f":"IF(ISERROR(VLOOKUP(Egresados!$T$8:$T$705,Maestros!$S$31:$T$530,2,0)),\"\",VLOOKUP(Egresados!$T$8:$T$705,Maestros!$S$31:$T$530,2,0))","v":"54"},{"$f":"IF(ISERROR(VLOOKUP(U649,Maestros!$S$31:$T$530,2,0)),\"\",VLOOKUP(U649,Maestros!$S$31:$T$530,2,0))","v":"54"},{"$f":"IF(ISERROR(VLOOKUP(Egresados!$K$8:$K$705,Maestros!$A$31:$B$130,2,0)),\"\",VLOOKUP(Egresados!$K$8:$K$705,Maestros!$A$31:$B$130,2,0))","v":""},{"$f":"IF(LEN(tablaEgresados[[#This Row],[Nota promedio]])>0,ROUND(tablaEgresados[[#This Row],[Nota promedio]],2),\"\")","v":14.18}]
[642,null,"DNI","70075132","RIVERA","GONZALES","SANDRA XIMENA ADRIANA","FEMENINO",null,"NO",null,null,null,"2020-1","SEDE CENTRAL","QUIMICA FISICA Y BIOLOGIA",15.88,null,null,"2015-1","2015-1","20151569@une.edu.pe","sanxime102@gmail.com",3133700,"996140949",{"$f":"IF(ISERROR(VLOOKUP(Egresados!$N$8:$N$705,Maestros!$D$31:$E$530,2,0)),\"\",VLOOKUP(Egresados!$N$8:$N$705,Maestros!$D$31:$E$530,2,0))","v":"223"},{"$f":"IF(ISERROR(VLOOKUP(Egresados!$O650,Maestros!$G$31:$J$1030,2,0)),\"\",VLOOKUP(Egresados!$O650,Maestros!$G$31:$J$1030,2,0))","v":"8"},{"$f":"CONCATENATE(Egresados!$Z$8:$Z$705,\"a\",Egresados!$AA$8:$AA$705)","v":"223a8"},{"$f":"IF(ISERROR(VLOOKUP(Egresados!$P650,Maestros!$L$31:$Q$1030,2,0)),\"\",VLOOKUP(Egresados!$P650,Maestros!$L$31:$Q$1030,2,0))","v":"304"},{"$f":"CONCATENATE(Egresados!$Z$8:$Z$705,\"a\",Egresados!$AA$8:$AA$705,\"a\",Egresados!$AC$8:$AC$705)","v":"223a8a304"},{"$f":"IF(ISERROR(VLOOKUP(Egresados!$C$8:$C$705,Maestros!$A$4:$B$21,2,0)),\"\",VLOOKUP(Egresados!$C$8:$C$705,Maestros!$A$4:$B$21,2,0))","v":"1001"},{"$f":"IF(ISERROR(VLOOKUP(Egresados!$H$8:$H$705,Maestros!$D$4:$E$21,2,0)),\"\",VLOOKUP(Egresados!$H$8:$H$705,Maestros!$D$4:$E$21,2,0))","v":"1122"},{"$f":"IF(OR(UPPER(Egresados!$J$8:$J$705)=\"SI\",UPPER(Egresados!$J$8:$J$705)=\"SÍ\"),1,IF(UPPER(Egresados!$J$8:$J$705)=\"NO\",0,\"\"))","v":0},{"$f":"IF(OR(UPPER(Egresados!$R$8:$R$705)=\"SI\",UPPER(Egresados!$R$8:$R$705)=\"SÍ\"),1,IF(UPPER(Egresados!$R$8:$R$705)=\"NO\",0,\"\"))","v":""},{"$f":"IF(OR(UPPER(Egresados!$S$8:$S$705)=\"SI\",UPPER(Egresados!$S$8:$S$705)=\"SÍ\"),1,IF(UPPER(Egresados!$S$8:$S$705)=\"NO\",0,\"\"))","v":""},{"$f":"IF(ISERROR(VLOOKUP(Egresados!$T$8:$T$705,Maestros!$S$31:$T$530,2,0)),\"\",VLOOKUP(Egresados!$T$8:$T$705,Maestros!$S$31:$T$530,2,0))","v":"62"},{"$f":"IF(ISERROR(VLOOKUP(U650,Maestros!$S$31:$T$530,2,0)),\"\",VLOOKUP(U650,Maestros!$S$31:$T$530,2,0))","v":"62"},{"$f":"IF(ISERROR(VLOOKUP(Egresados!$K$8:$K$705,Maestros!$A$31:$B$130,2,0)),\"\",VLOOKUP(Egresados!$K$8:$K$705,Maestros!$A$31:$B$130,2,0))","v":""},{"$f":"IF(LEN(tablaEgresados[[#This Row],[Nota promedio]])>0,ROUND(tablaEgresados[[#This Row],[Nota promedio]],2),\"\")","v":15.88}]
[643,null,"DNI","76333825","ARONES","LOYOLA","JHENNYFER JAZMIN","FEMENINO",null,"NO",null,null,null,"2020-1","SEDE CENTRAL","QUIMICA FISICA Y BIOLOGIA",15.13,null,null,"2015-1","2015-1","20151554@une.edu.pe","qfb_cantuta_2015@yahoo.es",3133700,"925484905",{"$f":"IF(ISERROR(VLOOKUP(Egresados!$N$8:$N$705,Maestros!$D$31:$E$530,2,0)),\"\",VLOOKUP(Egresados!$N$8:$N$705,Maestros!$D$31:$E$530,2,0))","v":"223"},{"$f":"IF(ISERROR(VLOOKUP(Egresados!$O651,Maestros!$G$31:$J$1030,2,0)),\"\",VLOOKUP(Egresados!$O651,Maestros!$G$31:$J$1030,2,0))","v":"8"},{"$f":"CONCATENATE(Egresados!$Z$8:$Z$705,\"a\",Egresados!$AA$8:$AA$705)","v":"223a8"},{"$f":"IF(ISERROR(VLOOKUP(Egresados!$P651,Maestros!$L$31:$Q$1030,2,0)),\"\",VLOOKUP(Egresados!$P651,Maestros!$L$31:$Q$1030,2,0))","v":"304"},{"$f":"CONCATENATE(Egresados!$Z$8:$Z$705,\"a\",Egresados!$AA$8:$AA$705,\"a\",Egresados!$AC$8:$AC$705)","v":"223a8a304"},{"$f":"IF(ISERROR(VLOOKUP(Egresados!$C$8:$C$705,Maestros!$A$4:$B$21,2,0)),\"\",VLOOKUP(Egresados!$C$8:$C$705,Maestros!$A$4:$B$21,2,0))","v":"1001"},{"$f":"IF(ISERROR(VLOOKUP(Egresados!$H$8:$H$705,Maestros!$D$4:$E$21,2,0)),\"\",VLOOKUP(Egresados!$H$8:$H$705,Maestros!$D$4:$E$21,2,0))","v":"1122"},{"$f":"IF(OR(UPPER(Egresados!$J$8:$J$705)=\"SI\",UPPER(Egresados!$J$8:$J$705)=\"SÍ\"),1,IF(UPPER(Egresados!$J$8:$J$705)=\"NO\",0,\"\"))","v":0},{"$f":"IF(OR(UPPER(Egresados!$R$8:$R$705)=\"SI\",UPPER(Egresados!$R$8:$R$705)=\"SÍ\"),1,IF(UPPER(Egresados!$R$8:$R$705)=\"NO\",0,\"\"))","v":""},{"$f":"IF(OR(UPPER(Egresados!$S$8:$S$705)=\"SI\",UPPER(Egresados!$S$8:$S$705)=\"SÍ\"),1,IF(UPPER(Egresados!$S$8:$S$705)=\"NO\",0,\"\"))","v":""},{"$f":"IF(ISERROR(VLOOKUP(Egresados!$T$8:$T$705,Maestros!$S$31:$T$530,2,0)),\"\",VLOOKUP(Egresados!$T$8:$T$705,Maestros!$S$31:$T$530,2,0))","v":"62"},{"$f":"IF(ISERROR(VLOOKUP(U651,Maestros!$S$31:$T$530,2,0)),\"\",VLOOKUP(U651,Maestros!$S$31:$T$530,2,0))","v":"62"},{"$f":"IF(ISERROR(VLOOKUP(Egresados!$K$8:$K$705,Maestros!$A$31:$B$130,2,0)),\"\",VLOOKUP(Egresados!$K$8:$K$705,Maestros!$A$31:$B$130,2,0))","v":""},{"$f":"IF(LEN(tablaEgresados[[#This Row],[Nota promedio]])>0,ROUND(tablaEgresados[[#This Row],[Nota promedio]],2),\"\")","v":15.13}]
[644,null,"DNI","44343256","VENTURA","TELLO","ANA LUCIA","FEMENINO",null,"NO",null,null,null,"2020-1","SEDE CENTRAL","QUIMICA FISICA Y BIOLOGIA",15.46,null,null,"2015-1","2015-1","20151573@une.edu.pe","a-n-a-l-u-c-@hotmail.com",3133700,"980758925",{"$f":"IF(ISERROR(VLOOKUP(Egresados!$N$8:$N$705,Maestros!$D$31:$E$530,2,0)),\"\",VLOOKUP(Egresados!$N$8:$N$705,Maestros!$D$31:$E$530,2,0))","v":"223"},{"$f":"IF(ISERROR(VLOOKUP(Egresados!$O652,Maestros!$G$31:$J$1030,2,0)),\"\",VLOOKUP(Egresados!$O652,Maestros!$G$31:$J$1030,2,0))","v":"8"},{"$f":"CONCATENATE(Egresados!$Z$8:$Z$705,\"a\",Egresados!$AA$8:$AA$705)","v":"223a8"},{"$f":"IF(ISERROR(VLOOKUP(Egresados!$P652,Maestros!$L$31:$Q$1030,2,0)),\"\",VLOOKUP(Egresados!$P652,Maestros!$L$31:$Q$1030,2,0))","v":"304"},{"$f":"CONCATENATE(Egresados!$Z$8:$Z$705,\"a\",Egresados!$AA$8:$AA$705,\"a\",Egresados!$AC$8:$AC$705)","v":"223a8a304"},{"$f":"IF(ISERROR(VLOOKUP(Egresados!$C$8:$C$705,Maestros!$A$4:$B$21,2,0)),\"\",VLOOKUP(Egresados!$C$8:$C$705,Maestros!$A$4:$B$21,2,0))","v":"1001"},{"$f":"IF(ISERROR(VLOOKUP(Egresados!$H$8:$H$705,Maestros!$D$4:$E$21,2,0)),\"\",VLOOKUP(Egresados!$H$8:$H$705,Maestros!$D$4:$E$21,2,0))","v":"1122"},{"$f":"IF(OR(UPPER(Egresados!$J$8:$J$705)=\"SI\",UPPER(Egresados!$J$8:$J$705)=\"SÍ\"),1,IF(UPPER(Egresados!$J$8:$J$705)=\"NO\",0,\"\"))","v":0},{"$f":"IF(OR(UPPER(Egresados!$R$8:$R$705)=\"SI\",UPPER(Egresados!$R$8:$R$705)=\"SÍ\"),1,IF(UPPER(Egresados!$R$8:$R$705)=\"NO\",0,\"\"))","v":""},{"$f":"IF(OR(UPPER(Egresados!$S$8:$S$705)=\"SI\",UPPER(Egresados!$S$8:$S$705)=\"SÍ\"),1,IF(UPPER(Egresados!$S$8:$S$705)=\"NO\",0,\"\"))","v":""},{"$f":"IF(ISERROR(VLOOKUP(Egresados!$T$8:$T$705,Maestros!$S$31:$T$530,2,0)),\"\",VLOOKUP(Egresados!$T$8:$T$705,Maestros!$S$31:$T$530,2,0))","v":"62"},{"$f":"IF(ISERROR(VLOOKUP(U652,Maestros!$S$31:$T$530,2,0)),\"\",VLOOKUP(U652,Maestros!$S$31:$T$530,2,0))","v":"62"},{"$f":"IF(ISERROR(VLOOKUP(Egresados!$K$8:$K$705,Maestros!$A$31:$B$130,2,0)),\"\",VLOOKUP(Egresados!$K$8:$K$705,Maestros!$A$31:$B$130,2,0))","v":""},{"$f":"IF(LEN(tablaEgresados[[#This Row],[Nota promedio]])>0,ROUND(tablaEgresados[[#This Row],[Nota promedio]],2),\"\")","v":15.46}]
[645,null,"DNI","48329426","FLORES","PUENTE","GABRIELA DEL PILAR","FEMENINO",null,"NO",null,null,null,"2020-1","SEDE CENTRAL","QUIMICA FISICA Y BIOLOGIA",15.07,null,null,"2015-1","2015-1","20151559@une.edu.pe","Gabydelpilar1408@gmail.com",3133700,976486001,{"$f":"IF(ISERROR(VLOOKUP(Egresados!$N$8:$N$705,Maestros!$D$31:$E$530,2,0)),\"\",VLOOKUP(Egresados!$N$8:$N$705,Maestros!$D$31:$E$530,2,0))","v":"223"},{"$f":"IF(ISERROR(VLOOKUP(Egresados!$O653,Maestros!$G$31:$J$1030,2,0)),\"\",VLOOKUP(Egresados!$O653,Maestros!$G$31:$J$1030,2,0))","v":"8"},{"$f":"CONCATENATE(Egresados!$Z$8:$Z$705,\"a\",Egresados!$AA$8:$AA$705)","v":"223a8"},{"$f":"IF(ISERROR(VLOOKUP(Egresados!$P653,Maestros!$L$31:$Q$1030,2,0)),\"\",VLOOKUP(Egresados!$P653,Maestros!$L$31:$Q$1030,2,0))","v":"304"},{"$f":"CONCATENATE(Egresados!$Z$8:$Z$705,\"a\",Egresados!$AA$8:$AA$705,\"a\",Egresados!$AC$8:$AC$705)","v":"223a8a304"},{"$f":"IF(ISERROR(VLOOKUP(Egresados!$C$8:$C$705,Maestros!$A$4:$B$21,2,0)),\"\",VLOOKUP(Egresados!$C$8:$C$705,Maestros!$A$4:$B$21,2,0))","v":"1001"},{"$f":"IF(ISERROR(VLOOKUP(Egresados!$H$8:$H$705,Maestros!$D$4:$E$21,2,0)),\"\",VLOOKUP(Egresados!$H$8:$H$705,Maestros!$D$4:$E$21,2,0))","v":"1122"},{"$f":"IF(OR(UPPER(Egresados!$J$8:$J$705)=\"SI\",UPPER(Egresados!$J$8:$J$705)=\"SÍ\"),1,IF(UPPER(Egresados!$J$8:$J$705)=\"NO\",0,\"\"))","v":0},{"$f":"IF(OR(UPPER(Egresados!$R$8:$R$705)=\"SI\",UPPER(Egresados!$R$8:$R$705)=\"SÍ\"),1,IF(UPPER(Egresados!$R$8:$R$705)=\"NO\",0,\"\"))","v":""},{"$f":"IF(OR(UPPER(Egresados!$S$8:$S$705)=\"SI\",UPPER(Egresados!$S$8:$S$705)=\"SÍ\"),1,IF(UPPER(Egresados!$S$8:$S$705)=\"NO\",0,\"\"))","v":""},{"$f":"IF(ISERROR(VLOOKUP(Egresados!$T$8:$T$705,Maestros!$S$31:$T$530,2,0)),\"\",VLOOKUP(Egresados!$T$8:$T$705,Maestros!$S$31:$T$530,2,0))","v":"62"},{"$f":"IF(ISERROR(VLOOKUP(U653,Maestros!$S$31:$T$530,2,0)),\"\",VLOOKUP(U653,Maestros!$S$31:$T$530,2,0))","v":"62"},{"$f":"IF(ISERROR(VLOOKUP(Egresados!$K$8:$K$705,Maestros!$A$31:$B$130,2,0)),\"\",VLOOKUP(Egresados!$K$8:$K$705,Maestros!$A$31:$B$130,2,0))","v":""},{"$f":"IF(LEN(tablaEgresados[[#This Row],[Nota promedio]])>0,ROUND(tablaEgresados[[#This Row],[Nota promedio]],2),\"\")","v":15.07}]
[646,null,"DNI","70573036","LEON","MELGAREJO","GABRIELA VERTILA","FEMENINO",null,"NO",null,null,null,"2020-1","SEDE CENTRAL","QUIMICA FISICA Y BIOLOGIA",13.81,null,null,"2014-1","2014-1","20141271@une.edu.pe","belen_acuario_12@hotmail.com",3133700,"940327257",{"$f":"IF(ISERROR(VLOOKUP(Egresados!$N$8:$N$705,Maestros!$D$31:$E$530,2,0)),\"\",VLOOKUP(Egresados!$N$8:$N$705,Maestros!$D$31:$E$530,2,0))","v":"223"},{"$f":"IF(ISERROR(VLOOKUP(Egresados!$O654,Maestros!$G$31:$J$1030,2,0)),\"\",VLOOKUP(Egresados!$O654,Maestros!$G$31:$J$1030,2,0))","v":"8"},{"$f":"CONCATENATE(Egresados!$Z$8:$Z$705,\"a\",Egresados!$AA$8:$AA$705)","v":"223a8"},{"$f":"IF(ISERROR(VLOOKUP(Egresados!$P654,Maestros!$L$31:$Q$1030,2,0)),\"\",VLOOKUP(Egresados!$P654,Maestros!$L$31:$Q$1030,2,0))","v":"304"},{"$f":"CONCATENATE(Egresados!$Z$8:$Z$705,\"a\",Egresados!$AA$8:$AA$705,\"a\",Egresados!$AC$8:$AC$705)","v":"223a8a304"},{"$f":"IF(ISERROR(VLOOKUP(Egresados!$C$8:$C$705,Maestros!$A$4:$B$21,2,0)),\"\",VLOOKUP(Egresados!$C$8:$C$705,Maestros!$A$4:$B$21,2,0))","v":"1001"},{"$f":"IF(ISERROR(VLOOKUP(Egresados!$H$8:$H$705,Maestros!$D$4:$E$21,2,0)),\"\",VLOOKUP(Egresados!$H$8:$H$705,Maestros!$D$4:$E$21,2,0))","v":"1122"},{"$f":"IF(OR(UPPER(Egresados!$J$8:$J$705)=\"SI\",UPPER(Egresados!$J$8:$J$705)=\"SÍ\"),1,IF(UPPER(Egresados!$J$8:$J$705)=\"NO\",0,\"\"))","v":0},{"$f":"IF(OR(UPPER(Egresados!$R$8:$R$705)=\"SI\",UPPER(Egresados!$R$8:$R$705)=\"SÍ\"),1,IF(UPPER(Egresados!$R$8:$R$705)=\"NO\",0,\"\"))","v":""},{"$f":"IF(OR(UPPER(Egresados!$S$8:$S$705)=\"SI\",UPPER(Egresados!$S$8:$S$705)=\"SÍ\"),1,IF(UPPER(Egresados!$S$8:$S$705)=\"NO\",0,\"\"))","v":""},{"$f":"IF(ISERROR(VLOOKUP(Egresados!$T$8:$T$705,Maestros!$S$31:$T$530,2,0)),\"\",VLOOKUP(Egresados!$T$8:$T$705,Maestros!$S$31:$T$530,2,0))","v":"58"},{"$f":"IF(ISERROR(VLOOKUP(U654,Maestros!$S$31:$T$530,2,0)),\"\",VLOOKUP(U654,Maestros!$S$31:$T$530,2,0))","v":"58"},{"$f":"IF(ISERROR(VLOOKUP(Egresados!$K$8:$K$705,Maestros!$A$31:$B$130,2,0)),\"\",VLOOKUP(Egresados!$K$8:$K$705,Maestros!$A$31:$B$130,2,0))","v":""},{"$f":"IF(LEN(tablaEgresados[[#This Row],[Nota promedio]])>0,ROUND(tablaEgresados[[#This Row],[Nota promedio]],2),\"\")","v":13.81}]
[647,null,"DNI","44858949","MEZA","MENDOZA","ZOCIMO RAUL","MASCULINO",null,"NO",null,null,null,"2020-1","SEDE CENTRAL","QUIMICA FISICA Y BIOLOGIA",13.73,null,null,"2007-1","2007-1","20071136@une.edu.pe","raulmeza_mendoza@hotmail.com",3133700,"927428693",{"$f":"IF(ISERROR(VLOOKUP(Egresados!$N$8:$N$705,Maestros!$D$31:$E$530,2,0)),\"\",VLOOKUP(Egresados!$N$8:$N$705,Maestros!$D$31:$E$530,2,0))","v":"223"},{"$f":"IF(ISERROR(VLOOKUP(Egresados!$O655,Maestros!$G$31:$J$1030,2,0)),\"\",VLOOKUP(Egresados!$O655,Maestros!$G$31:$J$1030,2,0))","v":"8"},{"$f":"CONCATENATE(Egresados!$Z$8:$Z$705,\"a\",Egresados!$AA$8:$AA$705)","v":"223a8"},{"$f":"IF(ISERROR(VLOOKUP(Egresados!$P655,Maestros!$L$31:$Q$1030,2,0)),\"\",VLOOKUP(Egresados!$P655,Maestros!$L$31:$Q$1030,2,0))","v":"304"},{"$f":"CONCATENATE(Egresados!$Z$8:$Z$705,\"a\",Egresados!$AA$8:$AA$705,\"a\",Egresados!$AC$8:$AC$705)","v":"223a8a304"},{"$f":"IF(ISERROR(VLOOKUP(Egresados!$C$8:$C$705,Maestros!$A$4:$B$21,2,0)),\"\",VLOOKUP(Egresados!$C$8:$C$705,Maestros!$A$4:$B$21,2,0))","v":"1001"},{"$f":"IF(ISERROR(VLOOKUP(Egresados!$H$8:$H$705,Maestros!$D$4:$E$21,2,0)),\"\",VLOOKUP(Egresados!$H$8:$H$705,Maestros!$D$4:$E$21,2,0))","v":"1121"},{"$f":"IF(OR(UPPER(Egresados!$J$8:$J$705)=\"SI\",UPPER(Egresados!$J$8:$J$705)=\"SÍ\"),1,IF(UPPER(Egresados!$J$8:$J$705)=\"NO\",0,\"\"))","v":0},{"$f":"IF(OR(UPPER(Egresados!$R$8:$R$705)=\"SI\",UPPER(Egresados!$R$8:$R$705)=\"SÍ\"),1,IF(UPPER(Egresados!$R$8:$R$705)=\"NO\",0,\"\"))","v":""},{"$f":"IF(OR(UPPER(Egresados!$S$8:$S$705)=\"SI\",UPPER(Egresados!$S$8:$S$705)=\"SÍ\"),1,IF(UPPER(Egresados!$S$8:$S$705)=\"NO\",0,\"\"))","v":""},{"$f":"IF(ISERROR(VLOOKUP(Egresados!$T$8:$T$705,Maestros!$S$31:$T$530,2,0)),\"\",VLOOKUP(Egresados!$T$8:$T$705,Maestros!$S$31:$T$530,2,0))","v":"30"},{"$f":"IF(ISERROR(VLOOKUP(U655,Maestros!$S$31:$T$530,2,0)),\"\",VLOOKUP(U655,Maestros!$S$31:$T$530,2,0))","v":"30"},{"$f":"IF(ISERROR(VLOOKUP(Egresados!$K$8:$K$705,Maestros!$A$31:$B$130,2,0)),\"\",VLOOKUP(Egresados!$K$8:$K$705,Maestros!$A$31:$B$130,2,0))","v":""},{"$f":"IF(LEN(tablaEgresados[[#This Row],[Nota promedio]])>0,ROUND(tablaEgresados[[#This Row],[Nota promedio]],2),\"\")","v":13.73}]
[648,null,"DNI","75932665","FLORES","SELARAYAN","JORGE LUIS  ","MASCULINO",null,"NO",null,null,null,"2020-1","SEDE CENTRAL","QUIMICA FISICA Y BIOLOGIA",14.5,null,null,"2015-1","2015-1","20151560@une.edu.pe","george27siempre@gmail.com",3133700,"967442966",{"$f":"IF(ISERROR(VLOOKUP(Egresados!$N$8:$N$705,Maestros!$D$31:$E$530,2,0)),\"\",VLOOKUP(Egresados!$N$8:$N$705,Maestros!$D$31:$E$530,2,0))","v":"223"},{"$f":"IF(ISERROR(VLOOKUP(Egresados!$O656,Maestros!$G$31:$J$1030,2,0)),\"\",VLOOKUP(Egresados!$O656,Maestros!$G$31:$J$1030,2,0))","v":"8"},{"$f":"CONCATENATE(Egresados!$Z$8:$Z$705,\"a\",Egresados!$AA$8:$AA$705)","v":"223a8"},{"$f":"IF(ISERROR(VLOOKUP(Egresados!$P656,Maestros!$L$31:$Q$1030,2,0)),\"\",VLOOKUP(Egresados!$P656,Maestros!$L$31:$Q$1030,2,0))","v":"304"},{"$f":"CONCATENATE(Egresados!$Z$8:$Z$705,\"a\",Egresados!$AA$8:$AA$705,\"a\",Egresados!$AC$8:$AC$705)","v":"223a8a304"},{"$f":"IF(ISERROR(VLOOKUP(Egresados!$C$8:$C$705,Maestros!$A$4:$B$21,2,0)),\"\",VLOOKUP(Egresados!$C$8:$C$705,Maestros!$A$4:$B$21,2,0))","v":"1001"},{"$f":"IF(ISERROR(VLOOKUP(Egresados!$H$8:$H$705,Maestros!$D$4:$E$21,2,0)),\"\",VLOOKUP(Egresados!$H$8:$H$705,Maestros!$D$4:$E$21,2,0))","v":"1121"},{"$f":"IF(OR(UPPER(Egresados!$J$8:$J$705)=\"SI\",UPPER(Egresados!$J$8:$J$705)=\"SÍ\"),1,IF(UPPER(Egresados!$J$8:$J$705)=\"NO\",0,\"\"))","v":0},{"$f":"IF(OR(UPPER(Egresados!$R$8:$R$705)=\"SI\",UPPER(Egresados!$R$8:$R$705)=\"SÍ\"),1,IF(UPPER(Egresados!$R$8:$R$705)=\"NO\",0,\"\"))","v":""},{"$f":"IF(OR(UPPER(Egresados!$S$8:$S$705)=\"SI\",UPPER(Egresados!$S$8:$S$705)=\"SÍ\"),1,IF(UPPER(Egresados!$S$8:$S$705)=\"NO\",0,\"\"))","v":""},{"$f":"IF(ISERROR(VLOOKUP(Egresados!$T$8:$T$705,Maestros!$S$31:$T$530,2,0)),\"\",VLOOKUP(Egresados!$T$8:$T$705,Maestros!$S$31:$T$530,2,0))","v":"62"},{"$f":"IF(ISERROR(VLOOKUP(U656,Maestros!$S$31:$T$530,2,0)),\"\",VLOOKUP(U656,Maestros!$S$31:$T$530,2,0))","v":"62"},{"$f":"IF(ISERROR(VLOOKUP(Egresados!$K$8:$K$705,Maestros!$A$31:$B$130,2,0)),\"\",VLOOKUP(Egresados!$K$8:$K$705,Maestros!$A$31:$B$130,2,0))","v":""},{"$f":"IF(LEN(tablaEgresados[[#This Row],[Nota promedio]])>0,ROUND(tablaEgresados[[#This Row],[Nota promedio]],2),\"\")","v":14.5}]
[649,null,"DNI","47952553","FUENTES","FLORES","MILAGROS ROXANA","FEMENINO",null,"NO",null,null,null,"2020-1","SEDE CENTRAL","TECNOLOGIA DEL VESTIDO",14.35,null,null,"2012-1","2012-1","20120847@une.edu.pe","milaitoz_love31@hotmail.com",3133700,"993332323",{"$f":"IF(ISERROR(VLOOKUP(Egresados!$N$8:$N$705,Maestros!$D$31:$E$530,2,0)),\"\",VLOOKUP(Egresados!$N$8:$N$705,Maestros!$D$31:$E$530,2,0))","v":"223"},{"$f":"IF(ISERROR(VLOOKUP(Egresados!$O657,Maestros!$G$31:$J$1030,2,0)),\"\",VLOOKUP(Egresados!$O657,Maestros!$G$31:$J$1030,2,0))","v":"8"},{"$f":"CONCATENATE(Egresados!$Z$8:$Z$705,\"a\",Egresados!$AA$8:$AA$705)","v":"223a8"},{"$f":"IF(ISERROR(VLOOKUP(Egresados!$P657,Maestros!$L$31:$Q$1030,2,0)),\"\",VLOOKUP(Egresados!$P657,Maestros!$L$31:$Q$1030,2,0))","v":"318"},{"$f":"CONCATENATE(Egresados!$Z$8:$Z$705,\"a\",Egresados!$AA$8:$AA$705,\"a\",Egresados!$AC$8:$AC$705)","v":"223a8a318"},{"$f":"IF(ISERROR(VLOOKUP(Egresados!$C$8:$C$705,Maestros!$A$4:$B$21,2,0)),\"\",VLOOKUP(Egresados!$C$8:$C$705,Maestros!$A$4:$B$21,2,0))","v":"1001"},{"$f":"IF(ISERROR(VLOOKUP(Egresados!$H$8:$H$705,Maestros!$D$4:$E$21,2,0)),\"\",VLOOKUP(Egresados!$H$8:$H$705,Maestros!$D$4:$E$21,2,0))","v":"1122"},{"$f":"IF(OR(UPPER(Egresados!$J$8:$J$705)=\"SI\",UPPER(Egresados!$J$8:$J$705)=\"SÍ\"),1,IF(UPPER(Egresados!$J$8:$J$705)=\"NO\",0,\"\"))","v":0},{"$f":"IF(OR(UPPER(Egresados!$R$8:$R$705)=\"SI\",UPPER(Egresados!$R$8:$R$705)=\"SÍ\"),1,IF(UPPER(Egresados!$R$8:$R$705)=\"NO\",0,\"\"))","v":""},{"$f":"IF(OR(UPPER(Egresados!$S$8:$S$705)=\"SI\",UPPER(Egresados!$S$8:$S$705)=\"SÍ\"),1,IF(UPPER(Egresados!$S$8:$S$705)=\"NO\",0,\"\"))","v":""},{"$f":"IF(ISERROR(VLOOKUP(Egresados!$T$8:$T$705,Maestros!$S$31:$T$530,2,0)),\"\",VLOOKUP(Egresados!$T$8:$T$705,Maestros!$S$31:$T$530,2,0))","v":"50"},{"$f":"IF(ISERROR(VLOOKUP(U657,Maestros!$S$31:$T$530,2,0)),\"\",VLOOKUP(U657,Maestros!$S$31:$T$530,2,0))","v":"50"},{"$f":"IF(ISERROR(VLOOKUP(Egresados!$K$8:$K$705,Maestros!$A$31:$B$130,2,0)),\"\",VLOOKUP(Egresados!$K$8:$K$705,Maestros!$A$31:$B$130,2,0))","v":""},{"$f":"IF(LEN(tablaEgresados[[#This Row],[Nota promedio]])>0,ROUND(tablaEgresados[[#This Row],[Nota promedio]],2),\"\")","v":14.35}]
[650,null,"DNI","73180633","RUIZ","VARGAS","ZAHORY YANELLA","FEMENINO",null,"NO",null,null,null,"2020-1","SEDE CENTRAL","TECNOLOGIA DEL VESTIDO",15.67,null,null,"2015-1","2015-1","20150904@une.edu.pe","zahoyanella0198@hotmail.com",3133700,"985298934",{"$f":"IF(ISERROR(VLOOKUP(Egresados!$N$8:$N$705,Maestros!$D$31:$E$530,2,0)),\"\",VLOOKUP(Egresados!$N$8:$N$705,Maestros!$D$31:$E$530,2,0))","v":"223"},{"$f":"IF(ISERROR(VLOOKUP(Egresados!$O658,Maestros!$G$31:$J$1030,2,0)),\"\",VLOOKUP(Egresados!$O658,Maestros!$G$31:$J$1030,2,0))","v":"8"},{"$f":"CONCATENATE(Egresados!$Z$8:$Z$705,\"a\",Egresados!$AA$8:$AA$705)","v":"223a8"},{"$f":"IF(ISERROR(VLOOKUP(Egresados!$P658,Maestros!$L$31:$Q$1030,2,0)),\"\",VLOOKUP(Egresados!$P658,Maestros!$L$31:$Q$1030,2,0))","v":"318"},{"$f":"CONCATENATE(Egresados!$Z$8:$Z$705,\"a\",Egresados!$AA$8:$AA$705,\"a\",Egresados!$AC$8:$AC$705)","v":"223a8a318"},{"$f":"IF(ISERROR(VLOOKUP(Egresados!$C$8:$C$705,Maestros!$A$4:$B$21,2,0)),\"\",VLOOKUP(Egresados!$C$8:$C$705,Maestros!$A$4:$B$21,2,0))","v":"1001"},{"$f":"IF(ISERROR(VLOOKUP(Egresados!$H$8:$H$705,Maestros!$D$4:$E$21,2,0)),\"\",VLOOKUP(Egresados!$H$8:$H$705,Maestros!$D$4:$E$21,2,0))","v":"1122"},{"$f":"IF(OR(UPPER(Egresados!$J$8:$J$705)=\"SI\",UPPER(Egresados!$J$8:$J$705)=\"SÍ\"),1,IF(UPPER(Egresados!$J$8:$J$705)=\"NO\",0,\"\"))","v":0},{"$f":"IF(OR(UPPER(Egresados!$R$8:$R$705)=\"SI\",UPPER(Egresados!$R$8:$R$705)=\"SÍ\"),1,IF(UPPER(Egresados!$R$8:$R$705)=\"NO\",0,\"\"))","v":""},{"$f":"IF(OR(UPPER(Egresados!$S$8:$S$705)=\"SI\",UPPER(Egresados!$S$8:$S$705)=\"SÍ\"),1,IF(UPPER(Egresados!$S$8:$S$705)=\"NO\",0,\"\"))","v":""},{"$f":"IF(ISERROR(VLOOKUP(Egresados!$T$8:$T$705,Maestros!$S$31:$T$530,2,0)),\"\",VLOOKUP(Egresados!$T$8:$T$705,Maestros!$S$31:$T$530,2,0))","v":"62"},{"$f":"IF(ISERROR(VLOOKUP(U658,Maestros!$S$31:$T$530,2,0)),\"\",VLOOKUP(U658,Maestros!$S$31:$T$530,2,0))","v":"62"},{"$f":"IF(ISERROR(VLOOKUP(Egresados!$K$8:$K$705,Maestros!$A$31:$B$130,2,0)),\"\",VLOOKUP(Egresados!$K$8:$K$705,Maestros!$A$31:$B$130,2,0))","v":""},{"$f":"IF(LEN(tablaEgresados[[#This Row],[Nota promedio]])>0,ROUND(tablaEgresados[[#This Row],[Nota promedio]],2),\"\")","v":15.67}]
[651,null,"DNI","73591077","FELICIANO","ANCHIVILCA","EYMY DANIELA","FEMENINO",null,"NO",null,null,null,"2020-1","SEDE CENTRAL","TECNOLOGIA DEL VESTIDO",16.14,null,null,"2015-1","2015-1","20150885@une.edu.pe","danielainfinito@hotmail.com",3133700,"940473959",{"$f":"IF(ISERROR(VLOOKUP(Egresados!$N$8:$N$705,Maestros!$D$31:$E$530,2,0)),\"\",VLOOKUP(Egresados!$N$8:$N$705,Maestros!$D$31:$E$530,2,0))","v":"223"},{"$f":"IF(ISERROR(VLOOKUP(Egresados!$O659,Maestros!$G$31:$J$1030,2,0)),\"\",VLOOKUP(Egresados!$O659,Maestros!$G$31:$J$1030,2,0))","v":"8"},{"$f":"CONCATENATE(Egresados!$Z$8:$Z$705,\"a\",Egresados!$AA$8:$AA$705)","v":"223a8"},{"$f":"IF(ISERROR(VLOOKUP(Egresados!$P659,Maestros!$L$31:$Q$1030,2,0)),\"\",VLOOKUP(Egresados!$P659,Maestros!$L$31:$Q$1030,2,0))","v":"318"},{"$f":"CONCATENATE(Egresados!$Z$8:$Z$705,\"a\",Egresados!$AA$8:$AA$705,\"a\",Egresados!$AC$8:$AC$705)","v":"223a8a318"},{"$f":"IF(ISERROR(VLOOKUP(Egresados!$C$8:$C$705,Maestros!$A$4:$B$21,2,0)),\"\",VLOOKUP(Egresados!$C$8:$C$705,Maestros!$A$4:$B$21,2,0))","v":"1001"},{"$f":"IF(ISERROR(VLOOKUP(Egresados!$H$8:$H$705,Maestros!$D$4:$E$21,2,0)),\"\",VLOOKUP(Egresados!$H$8:$H$705,Maestros!$D$4:$E$21,2,0))","v":"1122"},{"$f":"IF(OR(UPPER(Egresados!$J$8:$J$705)=\"SI\",UPPER(Egresados!$J$8:$J$705)=\"SÍ\"),1,IF(UPPER(Egresados!$J$8:$J$705)=\"NO\",0,\"\"))","v":0},{"$f":"IF(OR(UPPER(Egresados!$R$8:$R$705)=\"SI\",UPPER(Egresados!$R$8:$R$705)=\"SÍ\"),1,IF(UPPER(Egresados!$R$8:$R$705)=\"NO\",0,\"\"))","v":""},{"$f":"IF(OR(UPPER(Egresados!$S$8:$S$705)=\"SI\",UPPER(Egresados!$S$8:$S$705)=\"SÍ\"),1,IF(UPPER(Egresados!$S$8:$S$705)=\"NO\",0,\"\"))","v":""},{"$f":"IF(ISERROR(VLOOKUP(Egresados!$T$8:$T$705,Maestros!$S$31:$T$530,2,0)),\"\",VLOOKUP(Egresados!$T$8:$T$705,Maestros!$S$31:$T$530,2,0))","v":"62"},{"$f":"IF(ISERROR(VLOOKUP(U659,Maestros!$S$31:$T$530,2,0)),\"\",VLOOKUP(U659,Maestros!$S$31:$T$530,2,0))","v":"62"},{"$f":"IF(ISERROR(VLOOKUP(Egresados!$K$8:$K$705,Maestros!$A$31:$B$130,2,0)),\"\",VLOOKUP(Egresados!$K$8:$K$705,Maestros!$A$31:$B$130,2,0))","v":""},{"$f":"IF(LEN(tablaEgresados[[#This Row],[Nota promedio]])>0,ROUND(tablaEgresados[[#This Row],[Nota promedio]],2),\"\")","v":16.14}]
[652,null,"DNI","71841320","GOMEZ","PACHECO","ROCIO MONICA","FEMENINO",null,"NO",null,null,null,"2020-1","SEDE CENTRAL","TECNOLOGIA DEL VESTIDO",14.53,null,null,"2015-1","2015-1","20150886@une.edu.pe","rociomonicagomez@gmail.com",3133700,"976550875",{"$f":"IF(ISERROR(VLOOKUP(Egresados!$N$8:$N$705,Maestros!$D$31:$E$530,2,0)),\"\",VLOOKUP(Egresados!$N$8:$N$705,Maestros!$D$31:$E$530,2,0))","v":"223"},{"$f":"IF(ISERROR(VLOOKUP(Egresados!$O660,Maestros!$G$31:$J$1030,2,0)),\"\",VLOOKUP(Egresados!$O660,Maestros!$G$31:$J$1030,2,0))","v":"8"},{"$f":"CONCATENATE(Egresados!$Z$8:$Z$705,\"a\",Egresados!$AA$8:$AA$705)","v":"223a8"},{"$f":"IF(ISERROR(VLOOKUP(Egresados!$P660,Maestros!$L$31:$Q$1030,2,0)),\"\",VLOOKUP(Egresados!$P660,Maestros!$L$31:$Q$1030,2,0))","v":"318"},{"$f":"CONCATENATE(Egresados!$Z$8:$Z$705,\"a\",Egresados!$AA$8:$AA$705,\"a\",Egresados!$AC$8:$AC$705)","v":"223a8a318"},{"$f":"IF(ISERROR(VLOOKUP(Egresados!$C$8:$C$705,Maestros!$A$4:$B$21,2,0)),\"\",VLOOKUP(Egresados!$C$8:$C$705,Maestros!$A$4:$B$21,2,0))","v":"1001"},{"$f":"IF(ISERROR(VLOOKUP(Egresados!$H$8:$H$705,Maestros!$D$4:$E$21,2,0)),\"\",VLOOKUP(Egresados!$H$8:$H$705,Maestros!$D$4:$E$21,2,0))","v":"1122"},{"$f":"IF(OR(UPPER(Egresados!$J$8:$J$705)=\"SI\",UPPER(Egresados!$J$8:$J$705)=\"SÍ\"),1,IF(UPPER(Egresados!$J$8:$J$705)=\"NO\",0,\"\"))","v":0},{"$f":"IF(OR(UPPER(Egresados!$R$8:$R$705)=\"SI\",UPPER(Egresados!$R$8:$R$705)=\"SÍ\"),1,IF(UPPER(Egresados!$R$8:$R$705)=\"NO\",0,\"\"))","v":""},{"$f":"IF(OR(UPPER(Egresados!$S$8:$S$705)=\"SI\",UPPER(Egresados!$S$8:$S$705)=\"SÍ\"),1,IF(UPPER(Egresados!$S$8:$S$705)=\"NO\",0,\"\"))","v":""},{"$f":"IF(ISERROR(VLOOKUP(Egresados!$T$8:$T$705,Maestros!$S$31:$T$530,2,0)),\"\",VLOOKUP(Egresados!$T$8:$T$705,Maestros!$S$31:$T$530,2,0))","v":"62"},{"$f":"IF(ISERROR(VLOOKUP(U660,Maestros!$S$31:$T$530,2,0)),\"\",VLOOKUP(U660,Maestros!$S$31:$T$530,2,0))","v":"62"},{"$f":"IF(ISERROR(VLOOKUP(Egresados!$K$8:$K$705,Maestros!$A$31:$B$130,2,0)),\"\",VLOOKUP(Egresados!$K$8:$K$705,Maestros!$A$31:$B$130,2,0))","v":""},{"$f":"IF(LEN(tablaEgresados[[#This Row],[Nota promedio]])>0,ROUND(tablaEgresados[[#This Row],[Nota promedio]],2),\"\")","v":14.53}]
[653,null,"DNI","76951176","FERNANDEZ","PEREZ","KAREN JHILEYNI","FEMENINO",null,"NO",null,null,null,"2020-1","SEDE CENTRAL","TECNOLOGIA DEL VESTIDO",17.03,null,null,"2014-1","2014-1","20141336@une.edu.pe","karenkaeli1209@gmail.com",3133700,"977187838",{"$f":"IF(ISERROR(VLOOKUP(Egresados!$N$8:$N$705,Maestros!$D$31:$E$530,2,0)),\"\",VLOOKUP(Egresados!$N$8:$N$705,Maestros!$D$31:$E$530,2,0))","v":"223"},{"$f":"IF(ISERROR(VLOOKUP(Egresados!$O661,Maestros!$G$31:$J$1030,2,0)),\"\",VLOOKUP(Egresados!$O661,Maestros!$G$31:$J$1030,2,0))","v":"8"},{"$f":"CONCATENATE(Egresados!$Z$8:$Z$705,\"a\",Egresados!$AA$8:$AA$705)","v":"223a8"},{"$f":"IF(ISERROR(VLOOKUP(Egresados!$P661,Maestros!$L$31:$Q$1030,2,0)),\"\",VLOOKUP(Egresados!$P661,Maestros!$L$31:$Q$1030,2,0))","v":"318"},{"$f":"CONCATENATE(Egresados!$Z$8:$Z$705,\"a\",Egresados!$AA$8:$AA$705,\"a\",Egresados!$AC$8:$AC$705)","v":"223a8a318"},{"$f":"IF(ISERROR(VLOOKUP(Egresados!$C$8:$C$705,Maestros!$A$4:$B$21,2,0)),\"\",VLOOKUP(Egresados!$C$8:$C$705,Maestros!$A$4:$B$21,2,0))","v":"1001"},{"$f":"IF(ISERROR(VLOOKUP(Egresados!$H$8:$H$705,Maestros!$D$4:$E$21,2,0)),\"\",VLOOKUP(Egresados!$H$8:$H$705,Maestros!$D$4:$E$21,2,0))","v":"1122"},{"$f":"IF(OR(UPPER(Egresados!$J$8:$J$705)=\"SI\",UPPER(Egresados!$J$8:$J$705)=\"SÍ\"),1,IF(UPPER(Egresados!$J$8:$J$705)=\"NO\",0,\"\"))","v":0},{"$f":"IF(OR(UPPER(Egresados!$R$8:$R$705)=\"SI\",UPPER(Egresados!$R$8:$R$705)=\"SÍ\"),1,IF(UPPER(Egresados!$R$8:$R$705)=\"NO\",0,\"\"))","v":""},{"$f":"IF(OR(UPPER(Egresados!$S$8:$S$705)=\"SI\",UPPER(Egresados!$S$8:$S$705)=\"SÍ\"),1,IF(UPPER(Egresados!$S$8:$S$705)=\"NO\",0,\"\"))","v":""},{"$f":"IF(ISERROR(VLOOKUP(Egresados!$T$8:$T$705,Maestros!$S$31:$T$530,2,0)),\"\",VLOOKUP(Egresados!$T$8:$T$705,Maestros!$S$31:$T$530,2,0))","v":"58"},{"$f":"IF(ISERROR(VLOOKUP(U661,Maestros!$S$31:$T$530,2,0)),\"\",VLOOKUP(U661,Maestros!$S$31:$T$530,2,0))","v":"58"},{"$f":"IF(ISERROR(VLOOKUP(Egresados!$K$8:$K$705,Maestros!$A$31:$B$130,2,0)),\"\",VLOOKUP(Egresados!$K$8:$K$705,Maestros!$A$31:$B$130,2,0))","v":""},{"$f":"IF(LEN(tablaEgresados[[#This Row],[Nota promedio]])>0,ROUND(tablaEgresados[[#This Row],[Nota promedio]],2),\"\")","v":17.03}]
[654,null,"DNI","73970387","BURGA","CABAÑES","STEPHANIE CAMILA","FEMENINO",null,"NO",null,null,null,"2020-1","SEDE CENTRAL","TECNOLOGIA DEL VESTIDO",16.95,null,null,"2015-1","2015-1","20150882@une.edu.pe","camilaburga16@gmail.com",3133700,"940100553",{"$f":"IF(ISERROR(VLOOKUP(Egresados!$N$8:$N$705,Maestros!$D$31:$E$530,2,0)),\"\",VLOOKUP(Egresados!$N$8:$N$705,Maestros!$D$31:$E$530,2,0))","v":"223"},{"$f":"IF(ISERROR(VLOOKUP(Egresados!$O662,Maestros!$G$31:$J$1030,2,0)),\"\",VLOOKUP(Egresados!$O662,Maestros!$G$31:$J$1030,2,0))","v":"8"},{"$f":"CONCATENATE(Egresados!$Z$8:$Z$705,\"a\",Egresados!$AA$8:$AA$705)","v":"223a8"},{"$f":"IF(ISERROR(VLOOKUP(Egresados!$P662,Maestros!$L$31:$Q$1030,2,0)),\"\",VLOOKUP(Egresados!$P662,Maestros!$L$31:$Q$1030,2,0))","v":"318"},{"$f":"CONCATENATE(Egresados!$Z$8:$Z$705,\"a\",Egresados!$AA$8:$AA$705,\"a\",Egresados!$AC$8:$AC$705)","v":"223a8a318"},{"$f":"IF(ISERROR(VLOOKUP(Egresados!$C$8:$C$705,Maestros!$A$4:$B$21,2,0)),\"\",VLOOKUP(Egresados!$C$8:$C$705,Maestros!$A$4:$B$21,2,0))","v":"1001"},{"$f":"IF(ISERROR(VLOOKUP(Egresados!$H$8:$H$705,Maestros!$D$4:$E$21,2,0)),\"\",VLOOKUP(Egresados!$H$8:$H$705,Maestros!$D$4:$E$21,2,0))","v":"1122"},{"$f":"IF(OR(UPPER(Egresados!$J$8:$J$705)=\"SI\",UPPER(Egresados!$J$8:$J$705)=\"SÍ\"),1,IF(UPPER(Egresados!$J$8:$J$705)=\"NO\",0,\"\"))","v":0},{"$f":"IF(OR(UPPER(Egresados!$R$8:$R$705)=\"SI\",UPPER(Egresados!$R$8:$R$705)=\"SÍ\"),1,IF(UPPER(Egresados!$R$8:$R$705)=\"NO\",0,\"\"))","v":""},{"$f":"IF(OR(UPPER(Egresados!$S$8:$S$705)=\"SI\",UPPER(Egresados!$S$8:$S$705)=\"SÍ\"),1,IF(UPPER(Egresados!$S$8:$S$705)=\"NO\",0,\"\"))","v":""},{"$f":"IF(ISERROR(VLOOKUP(Egresados!$T$8:$T$705,Maestros!$S$31:$T$530,2,0)),\"\",VLOOKUP(Egresados!$T$8:$T$705,Maestros!$S$31:$T$530,2,0))","v":"62"},{"$f":"IF(ISERROR(VLOOKUP(U662,Maestros!$S$31:$T$530,2,0)),\"\",VLOOKUP(U662,Maestros!$S$31:$T$530,2,0))","v":"62"},{"$f":"IF(ISERROR(VLOOKUP(Egresados!$K$8:$K$705,Maestros!$A$31:$B$130,2,0)),\"\",VLOOKUP(Egresados!$K$8:$K$705,Maestros!$A$31:$B$130,2,0))","v":""},{"$f":"IF(LEN(tablaEgresados[[#This Row],[Nota promedio]])>0,ROUND(tablaEgresados[[#This Row],[Nota promedio]],2),\"\")","v":16.95}]
[655,null,"DNI","75378323","HUAMANI","CANCHARI","FIORELLA SELENE","FEMENINO",null,"NO",null,null,null,"2020-1","SEDE CENTRAL","TECNOLOGIA DEL VESTIDO",16.46,null,null,"2015-1","2015-1","20150889@une.edu.pe","fiorellahuamani97@gmail.com",3133700,"921214195",{"$f":"IF(ISERROR(VLOOKUP(Egresados!$N$8:$N$705,Maestros!$D$31:$E$530,2,0)),\"\",VLOOKUP(Egresados!$N$8:$N$705,Maestros!$D$31:$E$530,2,0))","v":"223"},{"$f":"IF(ISERROR(VLOOKUP(Egresados!$O663,Maestros!$G$31:$J$1030,2,0)),\"\",VLOOKUP(Egresados!$O663,Maestros!$G$31:$J$1030,2,0))","v":"8"},{"$f":"CONCATENATE(Egresados!$Z$8:$Z$705,\"a\",Egresados!$AA$8:$AA$705)","v":"223a8"},{"$f":"IF(ISERROR(VLOOKUP(Egresados!$P663,Maestros!$L$31:$Q$1030,2,0)),\"\",VLOOKUP(Egresados!$P663,Maestros!$L$31:$Q$1030,2,0))","v":"318"},{"$f":"CONCATENATE(Egresados!$Z$8:$Z$705,\"a\",Egresados!$AA$8:$AA$705,\"a\",Egresados!$AC$8:$AC$705)","v":"223a8a318"},{"$f":"IF(ISERROR(VLOOKUP(Egresados!$C$8:$C$705,Maestros!$A$4:$B$21,2,0)),\"\",VLOOKUP(Egresados!$C$8:$C$705,Maestros!$A$4:$B$21,2,0))","v":"1001"},{"$f":"IF(ISERROR(VLOOKUP(Egresados!$H$8:$H$705,Maestros!$D$4:$E$21,2,0)),\"\",VLOOKUP(Egresados!$H$8:$H$705,Maestros!$D$4:$E$21,2,0))","v":"1122"},{"$f":"IF(OR(UPPER(Egresados!$J$8:$J$705)=\"SI\",UPPER(Egresados!$J$8:$J$705)=\"SÍ\"),1,IF(UPPER(Egresados!$J$8:$J$705)=\"NO\",0,\"\"))","v":0},{"$f":"IF(OR(UPPER(Egresados!$R$8:$R$705)=\"SI\",UPPER(Egresados!$R$8:$R$705)=\"SÍ\"),1,IF(UPPER(Egresados!$R$8:$R$705)=\"NO\",0,\"\"))","v":""},{"$f":"IF(OR(UPPER(Egresados!$S$8:$S$705)=\"SI\",UPPER(Egresados!$S$8:$S$705)=\"SÍ\"),1,IF(UPPER(Egresados!$S$8:$S$705)=\"NO\",0,\"\"))","v":""},{"$f":"IF(ISERROR(VLOOKUP(Egresados!$T$8:$T$705,Maestros!$S$31:$T$530,2,0)),\"\",VLOOKUP(Egresados!$T$8:$T$705,Maestros!$S$31:$T$530,2,0))","v":"62"},{"$f":"IF(ISERROR(VLOOKUP(U663,Maestros!$S$31:$T$530,2,0)),\"\",VLOOKUP(U663,Maestros!$S$31:$T$530,2,0))","v":"62"},{"$f":"IF(ISERROR(VLOOKUP(Egresados!$K$8:$K$705,Maestros!$A$31:$B$130,2,0)),\"\",VLOOKUP(Egresados!$K$8:$K$705,Maestros!$A$31:$B$130,2,0))","v":""},{"$f":"IF(LEN(tablaEgresados[[#This Row],[Nota promedio]])>0,ROUND(tablaEgresados[[#This Row],[Nota promedio]],2),\"\")","v":16.46}]
[656,null,"DNI","71572130","JORGE","LIMA","RUTH ANGELICA","FEMENINO",null,"NO",null,null,null,"2020-1","SEDE CENTRAL","TECNOLOGIA DEL VESTIDO",15.28,null,null,"2015-1","2015-1","20150892@une.edu.pe","jorgelimaruthangelica@gmail.com",3133700,"910124071",{"$f":"IF(ISERROR(VLOOKUP(Egresados!$N$8:$N$705,Maestros!$D$31:$E$530,2,0)),\"\",VLOOKUP(Egresados!$N$8:$N$705,Maestros!$D$31:$E$530,2,0))","v":"223"},{"$f":"IF(ISERROR(VLOOKUP(Egresados!$O664,Maestros!$G$31:$J$1030,2,0)),\"\",VLOOKUP(Egresados!$O664,Maestros!$G$31:$J$1030,2,0))","v":"8"},{"$f":"CONCATENATE(Egresados!$Z$8:$Z$705,\"a\",Egresados!$AA$8:$AA$705)","v":"223a8"},{"$f":"IF(ISERROR(VLOOKUP(Egresados!$P664,Maestros!$L$31:$Q$1030,2,0)),\"\",VLOOKUP(Egresados!$P664,Maestros!$L$31:$Q$1030,2,0))","v":"318"},{"$f":"CONCATENATE(Egresados!$Z$8:$Z$705,\"a\",Egresados!$AA$8:$AA$705,\"a\",Egresados!$AC$8:$AC$705)","v":"223a8a318"},{"$f":"IF(ISERROR(VLOOKUP(Egresados!$C$8:$C$705,Maestros!$A$4:$B$21,2,0)),\"\",VLOOKUP(Egresados!$C$8:$C$705,Maestros!$A$4:$B$21,2,0))","v":"1001"},{"$f":"IF(ISERROR(VLOOKUP(Egresados!$H$8:$H$705,Maestros!$D$4:$E$21,2,0)),\"\",VLOOKUP(Egresados!$H$8:$H$705,Maestros!$D$4:$E$21,2,0))","v":"1122"},{"$f":"IF(OR(UPPER(Egresados!$J$8:$J$705)=\"SI\",UPPER(Egresados!$J$8:$J$705)=\"SÍ\"),1,IF(UPPER(Egresados!$J$8:$J$705)=\"NO\",0,\"\"))","v":0},{"$f":"IF(OR(UPPER(Egresados!$R$8:$R$705)=\"SI\",UPPER(Egresados!$R$8:$R$705)=\"SÍ\"),1,IF(UPPER(Egresados!$R$8:$R$705)=\"NO\",0,\"\"))","v":""},{"$f":"IF(OR(UPPER(Egresados!$S$8:$S$705)=\"SI\",UPPER(Egresados!$S$8:$S$705)=\"SÍ\"),1,IF(UPPER(Egresados!$S$8:$S$705)=\"NO\",0,\"\"))","v":""},{"$f":"IF(ISERROR(VLOOKUP(Egresados!$T$8:$T$705,Maestros!$S$31:$T$530,2,0)),\"\",VLOOKUP(Egresados!$T$8:$T$705,Maestros!$S$31:$T$530,2,0))","v":"62"},{"$f":"IF(ISERROR(VLOOKUP(U664,Maestros!$S$31:$T$530,2,0)),\"\",VLOOKUP(U664,Maestros!$S$31:$T$530,2,0))","v":"62"},{"$f":"IF(ISERROR(VLOOKUP(Egresados!$K$8:$K$705,Maestros!$A$31:$B$130,2,0)),\"\",VLOOKUP(Egresados!$K$8:$K$705,Maestros!$A$31:$B$130,2,0))","v":""},{"$f":"IF(LEN(tablaEgresados[[#This Row],[Nota promedio]])>0,ROUND(tablaEgresados[[#This Row],[Nota promedio]],2),\"\")","v":15.28}]
[657,null,"DNI","62077125","HUAMAN","HUAMAN","YANET AMELIA","FEMENINO",null,"NO",null,null,null,"2020-1","SEDE CENTRAL","TECNOLOGIA DEL VESTIDO",16.010000000000002,null,null,"2015-1","2015-1","20150888@une.edu.pe","ameli.20hh@gmail.com",3133700,"978728228",{"$f":"IF(ISERROR(VLOOKUP(Egresados!$N$8:$N$705,Maestros!$D$31:$E$530,2,0)),\"\",VLOOKUP(Egresados!$N$8:$N$705,Maestros!$D$31:$E$530,2,0))","v":"223"},{"$f":"IF(ISERROR(VLOOKUP(Egresados!$O665,Maestros!$G$31:$J$1030,2,0)),\"\",VLOOKUP(Egresados!$O665,Maestros!$G$31:$J$1030,2,0))","v":"8"},{"$f":"CONCATENATE(Egresados!$Z$8:$Z$705,\"a\",Egresados!$AA$8:$AA$705)","v":"223a8"},{"$f":"IF(ISERROR(VLOOKUP(Egresados!$P665,Maestros!$L$31:$Q$1030,2,0)),\"\",VLOOKUP(Egresados!$P665,Maestros!$L$31:$Q$1030,2,0))","v":"318"},{"$f":"CONCATENATE(Egresados!$Z$8:$Z$705,\"a\",Egresados!$AA$8:$AA$705,\"a\",Egresados!$AC$8:$AC$705)","v":"223a8a318"},{"$f":"IF(ISERROR(VLOOKUP(Egresados!$C$8:$C$705,Maestros!$A$4:$B$21,2,0)),\"\",VLOOKUP(Egresados!$C$8:$C$705,Maestros!$A$4:$B$21,2,0))","v":"1001"},{"$f":"IF(ISERROR(VLOOKUP(Egresados!$H$8:$H$705,Maestros!$D$4:$E$21,2,0)),\"\",VLOOKUP(Egresados!$H$8:$H$705,Maestros!$D$4:$E$21,2,0))","v":"1122"},{"$f":"IF(OR(UPPER(Egresados!$J$8:$J$705)=\"SI\",UPPER(Egresados!$J$8:$J$705)=\"SÍ\"),1,IF(UPPER(Egresados!$J$8:$J$705)=\"NO\",0,\"\"))","v":0},{"$f":"IF(OR(UPPER(Egresados!$R$8:$R$705)=\"SI\",UPPER(Egresados!$R$8:$R$705)=\"SÍ\"),1,IF(UPPER(Egresados!$R$8:$R$705)=\"NO\",0,\"\"))","v":""},{"$f":"IF(OR(UPPER(Egresados!$S$8:$S$705)=\"SI\",UPPER(Egresados!$S$8:$S$705)=\"SÍ\"),1,IF(UPPER(Egresados!$S$8:$S$705)=\"NO\",0,\"\"))","v":""},{"$f":"IF(ISERROR(VLOOKUP(Egresados!$T$8:$T$705,Maestros!$S$31:$T$530,2,0)),\"\",VLOOKUP(Egresados!$T$8:$T$705,Maestros!$S$31:$T$530,2,0))","v":"62"},{"$f":"IF(ISERROR(VLOOKUP(U665,Maestros!$S$31:$T$530,2,0)),\"\",VLOOKUP(U665,Maestros!$S$31:$T$530,2,0))","v":"62"},{"$f":"IF(ISERROR(VLOOKUP(Egresados!$K$8:$K$705,Maestros!$A$31:$B$130,2,0)),\"\",VLOOKUP(Egresados!$K$8:$K$705,Maestros!$A$31:$B$130,2,0))","v":""},{"$f":"IF(LEN(tablaEgresados[[#This Row],[Nota promedio]])>0,ROUND(tablaEgresados[[#This Row],[Nota promedio]],2),\"\")","v":16.010000000000002}]
[658,null,"DNI","71814943","ESPINOZA","ALMERCO","ISEL ANAHY","FEMENINO",null,"NO",null,null,null,"2020-1","SEDE CENTRAL","TECNOLOGIA DEL VESTIDO",16.34,null,null,"2015-1","2015-1","20150884@une.edu.pe","anahy_esal@hotmail.com",3133700,"999078435",{"$f":"IF(ISERROR(VLOOKUP(Egresados!$N$8:$N$705,Maestros!$D$31:$E$530,2,0)),\"\",VLOOKUP(Egresados!$N$8:$N$705,Maestros!$D$31:$E$530,2,0))","v":"223"},{"$f":"IF(ISERROR(VLOOKUP(Egresados!$O666,Maestros!$G$31:$J$1030,2,0)),\"\",VLOOKUP(Egresados!$O666,Maestros!$G$31:$J$1030,2,0))","v":"8"},{"$f":"CONCATENATE(Egresados!$Z$8:$Z$705,\"a\",Egresados!$AA$8:$AA$705)","v":"223a8"},{"$f":"IF(ISERROR(VLOOKUP(Egresados!$P666,Maestros!$L$31:$Q$1030,2,0)),\"\",VLOOKUP(Egresados!$P666,Maestros!$L$31:$Q$1030,2,0))","v":"318"},{"$f":"CONCATENATE(Egresados!$Z$8:$Z$705,\"a\",Egresados!$AA$8:$AA$705,\"a\",Egresados!$AC$8:$AC$705)","v":"223a8a318"},{"$f":"IF(ISERROR(VLOOKUP(Egresados!$C$8:$C$705,Maestros!$A$4:$B$21,2,0)),\"\",VLOOKUP(Egresados!$C$8:$C$705,Maestros!$A$4:$B$21,2,0))","v":"1001"},{"$f":"IF(ISERROR(VLOOKUP(Egresados!$H$8:$H$705,Maestros!$D$4:$E$21,2,0)),\"\",VLOOKUP(Egresados!$H$8:$H$705,Maestros!$D$4:$E$21,2,0))","v":"1122"},{"$f":"IF(OR(UPPER(Egresados!$J$8:$J$705)=\"SI\",UPPER(Egresados!$J$8:$J$705)=\"SÍ\"),1,IF(UPPER(Egresados!$J$8:$J$705)=\"NO\",0,\"\"))","v":0},{"$f":"IF(OR(UPPER(Egresados!$R$8:$R$705)=\"SI\",UPPER(Egresados!$R$8:$R$705)=\"SÍ\"),1,IF(UPPER(Egresados!$R$8:$R$705)=\"NO\",0,\"\"))","v":""},{"$f":"IF(OR(UPPER(Egresados!$S$8:$S$705)=\"SI\",UPPER(Egresados!$S$8:$S$705)=\"SÍ\"),1,IF(UPPER(Egresados!$S$8:$S$705)=\"NO\",0,\"\"))","v":""},{"$f":"IF(ISERROR(VLOOKUP(Egresados!$T$8:$T$705,Maestros!$S$31:$T$530,2,0)),\"\",VLOOKUP(Egresados!$T$8:$T$705,Maestros!$S$31:$T$530,2,0))","v":"62"},{"$f":"IF(ISERROR(VLOOKUP(U666,Maestros!$S$31:$T$530,2,0)),\"\",VLOOKUP(U666,Maestros!$S$31:$T$530,2,0))","v":"62"},{"$f":"IF(ISERROR(VLOOKUP(Egresados!$K$8:$K$705,Maestros!$A$31:$B$130,2,0)),\"\",VLOOKUP(Egresados!$K$8:$K$705,Maestros!$A$31:$B$130,2,0))","v":""},{"$f":"IF(LEN(tablaEgresados[[#This Row],[Nota promedio]])>0,ROUND(tablaEgresados[[#This Row],[Nota promedio]],2),\"\")","v":16.34}]
[659,null,"DNI","77271062","MONTERO","DIAZ","KATHERINE CINDY","FEMENINO",null,"NO",null,null,null,"2020-1","SEDE CENTRAL","TECNOLOGIA DEL VESTIDO",16.95,null,null,"2015-1","2015-1","20150897@une.edu.pe","katty.unika.forever@gmail.com",3133700,"953298284",{"$f":"IF(ISERROR(VLOOKUP(Egresados!$N$8:$N$705,Maestros!$D$31:$E$530,2,0)),\"\",VLOOKUP(Egresados!$N$8:$N$705,Maestros!$D$31:$E$530,2,0))","v":"223"},{"$f":"IF(ISERROR(VLOOKUP(Egresados!$O667,Maestros!$G$31:$J$1030,2,0)),\"\",VLOOKUP(Egresados!$O667,Maestros!$G$31:$J$1030,2,0))","v":"8"},{"$f":"CONCATENATE(Egresados!$Z$8:$Z$705,\"a\",Egresados!$AA$8:$AA$705)","v":"223a8"},{"$f":"IF(ISERROR(VLOOKUP(Egresados!$P667,Maestros!$L$31:$Q$1030,2,0)),\"\",VLOOKUP(Egresados!$P667,Maestros!$L$31:$Q$1030,2,0))","v":"318"},{"$f":"CONCATENATE(Egresados!$Z$8:$Z$705,\"a\",Egresados!$AA$8:$AA$705,\"a\",Egresados!$AC$8:$AC$705)","v":"223a8a318"},{"$f":"IF(ISERROR(VLOOKUP(Egresados!$C$8:$C$705,Maestros!$A$4:$B$21,2,0)),\"\",VLOOKUP(Egresados!$C$8:$C$705,Maestros!$A$4:$B$21,2,0))","v":"1001"},{"$f":"IF(ISERROR(VLOOKUP(Egresados!$H$8:$H$705,Maestros!$D$4:$E$21,2,0)),\"\",VLOOKUP(Egresados!$H$8:$H$705,Maestros!$D$4:$E$21,2,0))","v":"1122"},{"$f":"IF(OR(UPPER(Egresados!$J$8:$J$705)=\"SI\",UPPER(Egresados!$J$8:$J$705)=\"SÍ\"),1,IF(UPPER(Egresados!$J$8:$J$705)=\"NO\",0,\"\"))","v":0},{"$f":"IF(OR(UPPER(Egresados!$R$8:$R$705)=\"SI\",UPPER(Egresados!$R$8:$R$705)=\"SÍ\"),1,IF(UPPER(Egresados!$R$8:$R$705)=\"NO\",0,\"\"))","v":""},{"$f":"IF(OR(UPPER(Egresados!$S$8:$S$705)=\"SI\",UPPER(Egresados!$S$8:$S$705)=\"SÍ\"),1,IF(UPPER(Egresados!$S$8:$S$705)=\"NO\",0,\"\"))","v":""},{"$f":"IF(ISERROR(VLOOKUP(Egresados!$T$8:$T$705,Maestros!$S$31:$T$530,2,0)),\"\",VLOOKUP(Egresados!$T$8:$T$705,Maestros!$S$31:$T$530,2,0))","v":"62"},{"$f":"IF(ISERROR(VLOOKUP(U667,Maestros!$S$31:$T$530,2,0)),\"\",VLOOKUP(U667,Maestros!$S$31:$T$530,2,0))","v":"62"},{"$f":"IF(ISERROR(VLOOKUP(Egresados!$K$8:$K$705,Maestros!$A$31:$B$130,2,0)),\"\",VLOOKUP(Egresados!$K$8:$K$705,Maestros!$A$31:$B$130,2,0))","v":""},{"$f":"IF(LEN(tablaEgresados[[#This Row],[Nota promedio]])>0,ROUND(tablaEgresados[[#This Row],[Nota promedio]],2),\"\")","v":16.95}]
[660,null,"DNI","09691032","JUSTO","CHONG","MILAGRITOS URSULA","FEMENINO",null,"NO",null,null,null,"2020-1","SEDE CENTRAL","TECNOLOGIA DEL VESTIDO",15.64,null,null,"2013-1","2013-1","20132188@une.edu.pe","20132188@une.edu.pe",3133700,976486001,{"$f":"IF(ISERROR(VLOOKUP(Egresados!$N$8:$N$705,Maestros!$D$31:$E$530,2,0)),\"\",VLOOKUP(Egresados!$N$8:$N$705,Maestros!$D$31:$E$530,2,0))","v":"223"},{"$f":"IF(ISERROR(VLOOKUP(Egresados!$O668,Maestros!$G$31:$J$1030,2,0)),\"\",VLOOKUP(Egresados!$O668,Maestros!$G$31:$J$1030,2,0))","v":"8"},{"$f":"CONCATENATE(Egresados!$Z$8:$Z$705,\"a\",Egresados!$AA$8:$AA$705)","v":"223a8"},{"$f":"IF(ISERROR(VLOOKUP(Egresados!$P668,Maestros!$L$31:$Q$1030,2,0)),\"\",VLOOKUP(Egresados!$P668,Maestros!$L$31:$Q$1030,2,0))","v":"318"},{"$f":"CONCATENATE(Egresados!$Z$8:$Z$705,\"a\",Egresados!$AA$8:$AA$705,\"a\",Egresados!$AC$8:$AC$705)","v":"223a8a318"},{"$f":"IF(ISERROR(VLOOKUP(Egresados!$C$8:$C$705,Maestros!$A$4:$B$21,2,0)),\"\",VLOOKUP(Egresados!$C$8:$C$705,Maestros!$A$4:$B$21,2,0))","v":"1001"},{"$f":"IF(ISERROR(VLOOKUP(Egresados!$H$8:$H$705,Maestros!$D$4:$E$21,2,0)),\"\",VLOOKUP(Egresados!$H$8:$H$705,Maestros!$D$4:$E$21,2,0))","v":"1122"},{"$f":"IF(OR(UPPER(Egresados!$J$8:$J$705)=\"SI\",UPPER(Egresados!$J$8:$J$705)=\"SÍ\"),1,IF(UPPER(Egresados!$J$8:$J$705)=\"NO\",0,\"\"))","v":0},{"$f":"IF(OR(UPPER(Egresados!$R$8:$R$705)=\"SI\",UPPER(Egresados!$R$8:$R$705)=\"SÍ\"),1,IF(UPPER(Egresados!$R$8:$R$705)=\"NO\",0,\"\"))","v":""},{"$f":"IF(OR(UPPER(Egresados!$S$8:$S$705)=\"SI\",UPPER(Egresados!$S$8:$S$705)=\"SÍ\"),1,IF(UPPER(Egresados!$S$8:$S$705)=\"NO\",0,\"\"))","v":""},{"$f":"IF(ISERROR(VLOOKUP(Egresados!$T$8:$T$705,Maestros!$S$31:$T$530,2,0)),\"\",VLOOKUP(Egresados!$T$8:$T$705,Maestros!$S$31:$T$530,2,0))","v":"54"},{"$f":"IF(ISERROR(VLOOKUP(U668,Maestros!$S$31:$T$530,2,0)),\"\",VLOOKUP(U668,Maestros!$S$31:$T$530,2,0))","v":"54"},{"$f":"IF(ISERROR(VLOOKUP(Egresados!$K$8:$K$705,Maestros!$A$31:$B$130,2,0)),\"\",VLOOKUP(Egresados!$K$8:$K$705,Maestros!$A$31:$B$130,2,0))","v":""},{"$f":"IF(LEN(tablaEgresados[[#This Row],[Nota promedio]])>0,ROUND(tablaEgresados[[#This Row],[Nota promedio]],2),\"\")","v":15.64}]
[661,null,"DNI","18057606","CHIGUALA","PRIETO","ROSA MARIBEL","FEMENINO",null,"NO",null,null,null,"2020-1","SEDE CENTRAL","TECNOLOGIA DEL VESTIDO",15.68,null,null,"2010-1","2010-1","20106197@une.edu.pe","20106197@une.edu.pe",3133700,976486001,{"$f":"IF(ISERROR(VLOOKUP(Egresados!$N$8:$N$705,Maestros!$D$31:$E$530,2,0)),\"\",VLOOKUP(Egresados!$N$8:$N$705,Maestros!$D$31:$E$530,2,0))","v":"223"},{"$f":"IF(ISERROR(VLOOKUP(Egresados!$O669,Maestros!$G$31:$J$1030,2,0)),\"\",VLOOKUP(Egresados!$O669,Maestros!$G$31:$J$1030,2,0))","v":"8"},{"$f":"CONCATENATE(Egresados!$Z$8:$Z$705,\"a\",Egresados!$AA$8:$AA$705)","v":"223a8"},{"$f":"IF(ISERROR(VLOOKUP(Egresados!$P669,Maestros!$L$31:$Q$1030,2,0)),\"\",VLOOKUP(Egresados!$P669,Maestros!$L$31:$Q$1030,2,0))","v":"318"},{"$f":"CONCATENATE(Egresados!$Z$8:$Z$705,\"a\",Egresados!$AA$8:$AA$705,\"a\",Egresados!$AC$8:$AC$705)","v":"223a8a318"},{"$f":"IF(ISERROR(VLOOKUP(Egresados!$C$8:$C$705,Maestros!$A$4:$B$21,2,0)),\"\",VLOOKUP(Egresados!$C$8:$C$705,Maestros!$A$4:$B$21,2,0))","v":"1001"},{"$f":"IF(ISERROR(VLOOKUP(Egresados!$H$8:$H$705,Maestros!$D$4:$E$21,2,0)),\"\",VLOOKUP(Egresados!$H$8:$H$705,Maestros!$D$4:$E$21,2,0))","v":"1122"},{"$f":"IF(OR(UPPER(Egresados!$J$8:$J$705)=\"SI\",UPPER(Egresados!$J$8:$J$705)=\"SÍ\"),1,IF(UPPER(Egresados!$J$8:$J$705)=\"NO\",0,\"\"))","v":0},{"$f":"IF(OR(UPPER(Egresados!$R$8:$R$705)=\"SI\",UPPER(Egresados!$R$8:$R$705)=\"SÍ\"),1,IF(UPPER(Egresados!$R$8:$R$705)=\"NO\",0,\"\"))","v":""},{"$f":"IF(OR(UPPER(Egresados!$S$8:$S$705)=\"SI\",UPPER(Egresados!$S$8:$S$705)=\"SÍ\"),1,IF(UPPER(Egresados!$S$8:$S$705)=\"NO\",0,\"\"))","v":""},{"$f":"IF(ISERROR(VLOOKUP(Egresados!$T$8:$T$705,Maestros!$S$31:$T$530,2,0)),\"\",VLOOKUP(Egresados!$T$8:$T$705,Maestros!$S$31:$T$530,2,0))","v":"42"},{"$f":"IF(ISERROR(VLOOKUP(U669,Maestros!$S$31:$T$530,2,0)),\"\",VLOOKUP(U669,Maestros!$S$31:$T$530,2,0))","v":"42"},{"$f":"IF(ISERROR(VLOOKUP(Egresados!$K$8:$K$705,Maestros!$A$31:$B$130,2,0)),\"\",VLOOKUP(Egresados!$K$8:$K$705,Maestros!$A$31:$B$130,2,0))","v":""},{"$f":"IF(LEN(tablaEgresados[[#This Row],[Nota promedio]])>0,ROUND(tablaEgresados[[#This Row],[Nota promedio]],2),\"\")","v":15.68}]
[662,null,"DNI","09002361","ROMERO","CARHUAMACA","EDELMIRA","FEMENINO",null,"NO",null,null,null,"2020-1","SEDE CENTRAL","TECNOLOGIA DEL VESTIDO",0,null,null,"2008-1","2008-1","20082889@une.edu.pe","20082889@une.edu.pe",3133700,976486001,{"$f":"IF(ISERROR(VLOOKUP(Egresados!$N$8:$N$705,Maestros!$D$31:$E$530,2,0)),\"\",VLOOKUP(Egresados!$N$8:$N$705,Maestros!$D$31:$E$530,2,0))","v":"223"},{"$f":"IF(ISERROR(VLOOKUP(Egresados!$O670,Maestros!$G$31:$J$1030,2,0)),\"\",VLOOKUP(Egresados!$O670,Maestros!$G$31:$J$1030,2,0))","v":"8"},{"$f":"CONCATENATE(Egresados!$Z$8:$Z$705,\"a\",Egresados!$AA$8:$AA$705)","v":"223a8"},{"$f":"IF(ISERROR(VLOOKUP(Egresados!$P670,Maestros!$L$31:$Q$1030,2,0)),\"\",VLOOKUP(Egresados!$P670,Maestros!$L$31:$Q$1030,2,0))","v":"318"},{"$f":"CONCATENATE(Egresados!$Z$8:$Z$705,\"a\",Egresados!$AA$8:$AA$705,\"a\",Egresados!$AC$8:$AC$705)","v":"223a8a318"},{"$f":"IF(ISERROR(VLOOKUP(Egresados!$C$8:$C$705,Maestros!$A$4:$B$21,2,0)),\"\",VLOOKUP(Egresados!$C$8:$C$705,Maestros!$A$4:$B$21,2,0))","v":"1001"},{"$f":"IF(ISERROR(VLOOKUP(Egresados!$H$8:$H$705,Maestros!$D$4:$E$21,2,0)),\"\",VLOOKUP(Egresados!$H$8:$H$705,Maestros!$D$4:$E$21,2,0))","v":"1122"},{"$f":"IF(OR(UPPER(Egresados!$J$8:$J$705)=\"SI\",UPPER(Egresados!$J$8:$J$705)=\"SÍ\"),1,IF(UPPER(Egresados!$J$8:$J$705)=\"NO\",0,\"\"))","v":0},{"$f":"IF(OR(UPPER(Egresados!$R$8:$R$705)=\"SI\",UPPER(Egresados!$R$8:$R$705)=\"SÍ\"),1,IF(UPPER(Egresados!$R$8:$R$705)=\"NO\",0,\"\"))","v":""},{"$f":"IF(OR(UPPER(Egresados!$S$8:$S$705)=\"SI\",UPPER(Egresados!$S$8:$S$705)=\"SÍ\"),1,IF(UPPER(Egresados!$S$8:$S$705)=\"NO\",0,\"\"))","v":""},{"$f":"IF(ISERROR(VLOOKUP(Egresados!$T$8:$T$705,Maestros!$S$31:$T$530,2,0)),\"\",VLOOKUP(Egresados!$T$8:$T$705,Maestros!$S$31:$T$530,2,0))","v":"34"},{"$f":"IF(ISERROR(VLOOKUP(U670,Maestros!$S$31:$T$530,2,0)),\"\",VLOOKUP(U670,Maestros!$S$31:$T$530,2,0))","v":"34"},{"$f":"IF(ISERROR(VLOOKUP(Egresados!$K$8:$K$705,Maestros!$A$31:$B$130,2,0)),\"\",VLOOKUP(Egresados!$K$8:$K$705,Maestros!$A$31:$B$130,2,0))","v":""},{"$f":"IF(LEN(tablaEgresados[[#This Row],[Nota promedio]])>0,ROUND(tablaEgresados[[#This Row],[Nota promedio]],2),\"\")","v":0}]
[663,null,"DNI","08311111","MARQUEZ","ROJAS","MARIA ELENA","FEMENINO",null,"NO",null,null,null,"2020-1","SEDE CENTRAL","TECNOLOGIA DEL VESTIDO",16.13,null,null,"2010-1","2010-1","20104164@une.edu.pe","20104164@une.edu.pe",3133700,976486001,{"$f":"IF(ISERROR(VLOOKUP(Egresados!$N$8:$N$705,Maestros!$D$31:$E$530,2,0)),\"\",VLOOKUP(Egresados!$N$8:$N$705,Maestros!$D$31:$E$530,2,0))","v":"223"},{"$f":"IF(ISERROR(VLOOKUP(Egresados!$O671,Maestros!$G$31:$J$1030,2,0)),\"\",VLOOKUP(Egresados!$O671,Maestros!$G$31:$J$1030,2,0))","v":"8"},{"$f":"CONCATENATE(Egresados!$Z$8:$Z$705,\"a\",Egresados!$AA$8:$AA$705)","v":"223a8"},{"$f":"IF(ISERROR(VLOOKUP(Egresados!$P671,Maestros!$L$31:$Q$1030,2,0)),\"\",VLOOKUP(Egresados!$P671,Maestros!$L$31:$Q$1030,2,0))","v":"318"},{"$f":"CONCATENATE(Egresados!$Z$8:$Z$705,\"a\",Egresados!$AA$8:$AA$705,\"a\",Egresados!$AC$8:$AC$705)","v":"223a8a318"},{"$f":"IF(ISERROR(VLOOKUP(Egresados!$C$8:$C$705,Maestros!$A$4:$B$21,2,0)),\"\",VLOOKUP(Egresados!$C$8:$C$705,Maestros!$A$4:$B$21,2,0))","v":"1001"},{"$f":"IF(ISERROR(VLOOKUP(Egresados!$H$8:$H$705,Maestros!$D$4:$E$21,2,0)),\"\",VLOOKUP(Egresados!$H$8:$H$705,Maestros!$D$4:$E$21,2,0))","v":"1122"},{"$f":"IF(OR(UPPER(Egresados!$J$8:$J$705)=\"SI\",UPPER(Egresados!$J$8:$J$705)=\"SÍ\"),1,IF(UPPER(Egresados!$J$8:$J$705)=\"NO\",0,\"\"))","v":0},{"$f":"IF(OR(UPPER(Egresados!$R$8:$R$705)=\"SI\",UPPER(Egresados!$R$8:$R$705)=\"SÍ\"),1,IF(UPPER(Egresados!$R$8:$R$705)=\"NO\",0,\"\"))","v":""},{"$f":"IF(OR(UPPER(Egresados!$S$8:$S$705)=\"SI\",UPPER(Egresados!$S$8:$S$705)=\"SÍ\"),1,IF(UPPER(Egresados!$S$8:$S$705)=\"NO\",0,\"\"))","v":""},{"$f":"IF(ISERROR(VLOOKUP(Egresados!$T$8:$T$705,Maestros!$S$31:$T$530,2,0)),\"\",VLOOKUP(Egresados!$T$8:$T$705,Maestros!$S$31:$T$530,2,0))","v":"42"},{"$f":"IF(ISERROR(VLOOKUP(U671,Maestros!$S$31:$T$530,2,0)),\"\",VLOOKUP(U671,Maestros!$S$31:$T$530,2,0))","v":"42"},{"$f":"IF(ISERROR(VLOOKUP(Egresados!$K$8:$K$705,Maestros!$A$31:$B$130,2,0)),\"\",VLOOKUP(Egresados!$K$8:$K$705,Maestros!$A$31:$B$130,2,0))","v":""},{"$f":"IF(LEN(tablaEgresados[[#This Row],[Nota promedio]])>0,ROUND(tablaEgresados[[#This Row],[Nota promedio]],2),\"\")","v":16.13}]
[664,null,"DNI","48864785","SAKITO","HUAMAN","ANA IRENE","FEMENINO",null,"NO",null,null,null,"2020-1","SEDE CENTRAL","TECNOLOGIA TEXTIL",14.84,null,null,"2015-1","2015-1","20150869@une.edu.pe","kimiko.chang29@gmail.com",3133700,"997293989",{"$f":"IF(ISERROR(VLOOKUP(Egresados!$N$8:$N$705,Maestros!$D$31:$E$530,2,0)),\"\",VLOOKUP(Egresados!$N$8:$N$705,Maestros!$D$31:$E$530,2,0))","v":"223"},{"$f":"IF(ISERROR(VLOOKUP(Egresados!$O672,Maestros!$G$31:$J$1030,2,0)),\"\",VLOOKUP(Egresados!$O672,Maestros!$G$31:$J$1030,2,0))","v":"8"},{"$f":"CONCATENATE(Egresados!$Z$8:$Z$705,\"a\",Egresados!$AA$8:$AA$705)","v":"223a8"},{"$f":"IF(ISERROR(VLOOKUP(Egresados!$P672,Maestros!$L$31:$Q$1030,2,0)),\"\",VLOOKUP(Egresados!$P672,Maestros!$L$31:$Q$1030,2,0))","v":"315"},{"$f":"CONCATENATE(Egresados!$Z$8:$Z$705,\"a\",Egresados!$AA$8:$AA$705,\"a\",Egresados!$AC$8:$AC$705)","v":"223a8a315"},{"$f":"IF(ISERROR(VLOOKUP(Egresados!$C$8:$C$705,Maestros!$A$4:$B$21,2,0)),\"\",VLOOKUP(Egresados!$C$8:$C$705,Maestros!$A$4:$B$21,2,0))","v":"1001"},{"$f":"IF(ISERROR(VLOOKUP(Egresados!$H$8:$H$705,Maestros!$D$4:$E$21,2,0)),\"\",VLOOKUP(Egresados!$H$8:$H$705,Maestros!$D$4:$E$21,2,0))","v":"1122"},{"$f":"IF(OR(UPPER(Egresados!$J$8:$J$705)=\"SI\",UPPER(Egresados!$J$8:$J$705)=\"SÍ\"),1,IF(UPPER(Egresados!$J$8:$J$705)=\"NO\",0,\"\"))","v":0},{"$f":"IF(OR(UPPER(Egresados!$R$8:$R$705)=\"SI\",UPPER(Egresados!$R$8:$R$705)=\"SÍ\"),1,IF(UPPER(Egresados!$R$8:$R$705)=\"NO\",0,\"\"))","v":""},{"$f":"IF(OR(UPPER(Egresados!$S$8:$S$705)=\"SI\",UPPER(Egresados!$S$8:$S$705)=\"SÍ\"),1,IF(UPPER(Egresados!$S$8:$S$705)=\"NO\",0,\"\"))","v":""},{"$f":"IF(ISERROR(VLOOKUP(Egresados!$T$8:$T$705,Maestros!$S$31:$T$530,2,0)),\"\",VLOOKUP(Egresados!$T$8:$T$705,Maestros!$S$31:$T$530,2,0))","v":"62"},{"$f":"IF(ISERROR(VLOOKUP(U672,Maestros!$S$31:$T$530,2,0)),\"\",VLOOKUP(U672,Maestros!$S$31:$T$530,2,0))","v":"62"},{"$f":"IF(ISERROR(VLOOKUP(Egresados!$K$8:$K$705,Maestros!$A$31:$B$130,2,0)),\"\",VLOOKUP(Egresados!$K$8:$K$705,Maestros!$A$31:$B$130,2,0))","v":""},{"$f":"IF(LEN(tablaEgresados[[#This Row],[Nota promedio]])>0,ROUND(tablaEgresados[[#This Row],[Nota promedio]],2),\"\")","v":14.84}]
[665,null,"DNI","43094186","TORRES","TOLENTINO","JESSICA","FEMENINO",null,"NO",null,null,null,"2020-1","SEDE CENTRAL","TECNOLOGIA TEXTIL",16.48,null,null,"2014-1","2014-1","20141532@une.edu.pe","jadetolentino@outlook.es",3133700,"940039385",{"$f":"IF(ISERROR(VLOOKUP(Egresados!$N$8:$N$705,Maestros!$D$31:$E$530,2,0)),\"\",VLOOKUP(Egresados!$N$8:$N$705,Maestros!$D$31:$E$530,2,0))","v":"223"},{"$f":"IF(ISERROR(VLOOKUP(Egresados!$O673,Maestros!$G$31:$J$1030,2,0)),\"\",VLOOKUP(Egresados!$O673,Maestros!$G$31:$J$1030,2,0))","v":"8"},{"$f":"CONCATENATE(Egresados!$Z$8:$Z$705,\"a\",Egresados!$AA$8:$AA$705)","v":"223a8"},{"$f":"IF(ISERROR(VLOOKUP(Egresados!$P673,Maestros!$L$31:$Q$1030,2,0)),\"\",VLOOKUP(Egresados!$P673,Maestros!$L$31:$Q$1030,2,0))","v":"315"},{"$f":"CONCATENATE(Egresados!$Z$8:$Z$705,\"a\",Egresados!$AA$8:$AA$705,\"a\",Egresados!$AC$8:$AC$705)","v":"223a8a315"},{"$f":"IF(ISERROR(VLOOKUP(Egresados!$C$8:$C$705,Maestros!$A$4:$B$21,2,0)),\"\",VLOOKUP(Egresados!$C$8:$C$705,Maestros!$A$4:$B$21,2,0))","v":"1001"},{"$f":"IF(ISERROR(VLOOKUP(Egresados!$H$8:$H$705,Maestros!$D$4:$E$21,2,0)),\"\",VLOOKUP(Egresados!$H$8:$H$705,Maestros!$D$4:$E$21,2,0))","v":"1122"},{"$f":"IF(OR(UPPER(Egresados!$J$8:$J$705)=\"SI\",UPPER(Egresados!$J$8:$J$705)=\"SÍ\"),1,IF(UPPER(Egresados!$J$8:$J$705)=\"NO\",0,\"\"))","v":0},{"$f":"IF(OR(UPPER(Egresados!$R$8:$R$705)=\"SI\",UPPER(Egresados!$R$8:$R$705)=\"SÍ\"),1,IF(UPPER(Egresados!$R$8:$R$705)=\"NO\",0,\"\"))","v":""},{"$f":"IF(OR(UPPER(Egresados!$S$8:$S$705)=\"SI\",UPPER(Egresados!$S$8:$S$705)=\"SÍ\"),1,IF(UPPER(Egresados!$S$8:$S$705)=\"NO\",0,\"\"))","v":""},{"$f":"IF(ISERROR(VLOOKUP(Egresados!$T$8:$T$705,Maestros!$S$31:$T$530,2,0)),\"\",VLOOKUP(Egresados!$T$8:$T$705,Maestros!$S$31:$T$530,2,0))","v":"58"},{"$f":"IF(ISERROR(VLOOKUP(U673,Maestros!$S$31:$T$530,2,0)),\"\",VLOOKUP(U673,Maestros!$S$31:$T$530,2,0))","v":"58"},{"$f":"IF(ISERROR(VLOOKUP(Egresados!$K$8:$K$705,Maestros!$A$31:$B$130,2,0)),\"\",VLOOKUP(Egresados!$K$8:$K$705,Maestros!$A$31:$B$130,2,0))","v":""},{"$f":"IF(LEN(tablaEgresados[[#This Row],[Nota promedio]])>0,ROUND(tablaEgresados[[#This Row],[Nota promedio]],2),\"\")","v":16.48}]
[666,null,"DNI","63216009","HUAMAN","VILCA","LUZ MERSI","FEMENINO",null,"NO",null,null,null,"2020-1","SEDE CENTRAL","TECNOLOGIA TEXTIL",16.38,null,null,"2015-1","2015-1","20150858@une.edu.pe","mersi.447@hotmail.com",3133700,"931049256",{"$f":"IF(ISERROR(VLOOKUP(Egresados!$N$8:$N$705,Maestros!$D$31:$E$530,2,0)),\"\",VLOOKUP(Egresados!$N$8:$N$705,Maestros!$D$31:$E$530,2,0))","v":"223"},{"$f":"IF(ISERROR(VLOOKUP(Egresados!$O674,Maestros!$G$31:$J$1030,2,0)),\"\",VLOOKUP(Egresados!$O674,Maestros!$G$31:$J$1030,2,0))","v":"8"},{"$f":"CONCATENATE(Egresados!$Z$8:$Z$705,\"a\",Egresados!$AA$8:$AA$705)","v":"223a8"},{"$f":"IF(ISERROR(VLOOKUP(Egresados!$P674,Maestros!$L$31:$Q$1030,2,0)),\"\",VLOOKUP(Egresados!$P674,Maestros!$L$31:$Q$1030,2,0))","v":"315"},{"$f":"CONCATENATE(Egresados!$Z$8:$Z$705,\"a\",Egresados!$AA$8:$AA$705,\"a\",Egresados!$AC$8:$AC$705)","v":"223a8a315"},{"$f":"IF(ISERROR(VLOOKUP(Egresados!$C$8:$C$705,Maestros!$A$4:$B$21,2,0)),\"\",VLOOKUP(Egresados!$C$8:$C$705,Maestros!$A$4:$B$21,2,0))","v":"1001"},{"$f":"IF(ISERROR(VLOOKUP(Egresados!$H$8:$H$705,Maestros!$D$4:$E$21,2,0)),\"\",VLOOKUP(Egresados!$H$8:$H$705,Maestros!$D$4:$E$21,2,0))","v":"1122"},{"$f":"IF(OR(UPPER(Egresados!$J$8:$J$705)=\"SI\",UPPER(Egresados!$J$8:$J$705)=\"SÍ\"),1,IF(UPPER(Egresados!$J$8:$J$705)=\"NO\",0,\"\"))","v":0},{"$f":"IF(OR(UPPER(Egresados!$R$8:$R$705)=\"SI\",UPPER(Egresados!$R$8:$R$705)=\"SÍ\"),1,IF(UPPER(Egresados!$R$8:$R$705)=\"NO\",0,\"\"))","v":""},{"$f":"IF(OR(UPPER(Egresados!$S$8:$S$705)=\"SI\",UPPER(Egresados!$S$8:$S$705)=\"SÍ\"),1,IF(UPPER(Egresados!$S$8:$S$705)=\"NO\",0,\"\"))","v":""},{"$f":"IF(ISERROR(VLOOKUP(Egresados!$T$8:$T$705,Maestros!$S$31:$T$530,2,0)),\"\",VLOOKUP(Egresados!$T$8:$T$705,Maestros!$S$31:$T$530,2,0))","v":"62"},{"$f":"IF(ISERROR(VLOOKUP(U674,Maestros!$S$31:$T$530,2,0)),\"\",VLOOKUP(U674,Maestros!$S$31:$T$530,2,0))","v":"62"},{"$f":"IF(ISERROR(VLOOKUP(Egresados!$K$8:$K$705,Maestros!$A$31:$B$130,2,0)),\"\",VLOOKUP(Egresados!$K$8:$K$705,Maestros!$A$31:$B$130,2,0))","v":""},{"$f":"IF(LEN(tablaEgresados[[#This Row],[Nota promedio]])>0,ROUND(tablaEgresados[[#This Row],[Nota promedio]],2),\"\")","v":16.38}]
[667,null,"DNI","72002942","QUISPE","QUISPE","JOSSELYN PAMELA","FEMENINO",null,"NO",null,null,null,"2020-1","SEDE CENTRAL","TECNOLOGIA TEXTIL",16.28,null,null,"2015-1","2015-1","20150867@une.edu.pe","qjosselynpamela@gmail.com",3133700,"934937670",{"$f":"IF(ISERROR(VLOOKUP(Egresados!$N$8:$N$705,Maestros!$D$31:$E$530,2,0)),\"\",VLOOKUP(Egresados!$N$8:$N$705,Maestros!$D$31:$E$530,2,0))","v":"223"},{"$f":"IF(ISERROR(VLOOKUP(Egresados!$O675,Maestros!$G$31:$J$1030,2,0)),\"\",VLOOKUP(Egresados!$O675,Maestros!$G$31:$J$1030,2,0))","v":"8"},{"$f":"CONCATENATE(Egresados!$Z$8:$Z$705,\"a\",Egresados!$AA$8:$AA$705)","v":"223a8"},{"$f":"IF(ISERROR(VLOOKUP(Egresados!$P675,Maestros!$L$31:$Q$1030,2,0)),\"\",VLOOKUP(Egresados!$P675,Maestros!$L$31:$Q$1030,2,0))","v":"315"},{"$f":"CONCATENATE(Egresados!$Z$8:$Z$705,\"a\",Egresados!$AA$8:$AA$705,\"a\",Egresados!$AC$8:$AC$705)","v":"223a8a315"},{"$f":"IF(ISERROR(VLOOKUP(Egresados!$C$8:$C$705,Maestros!$A$4:$B$21,2,0)),\"\",VLOOKUP(Egresados!$C$8:$C$705,Maestros!$A$4:$B$21,2,0))","v":"1001"},{"$f":"IF(ISERROR(VLOOKUP(Egresados!$H$8:$H$705,Maestros!$D$4:$E$21,2,0)),\"\",VLOOKUP(Egresados!$H$8:$H$705,Maestros!$D$4:$E$21,2,0))","v":"1122"},{"$f":"IF(OR(UPPER(Egresados!$J$8:$J$705)=\"SI\",UPPER(Egresados!$J$8:$J$705)=\"SÍ\"),1,IF(UPPER(Egresados!$J$8:$J$705)=\"NO\",0,\"\"))","v":0},{"$f":"IF(OR(UPPER(Egresados!$R$8:$R$705)=\"SI\",UPPER(Egresados!$R$8:$R$705)=\"SÍ\"),1,IF(UPPER(Egresados!$R$8:$R$705)=\"NO\",0,\"\"))","v":""},{"$f":"IF(OR(UPPER(Egresados!$S$8:$S$705)=\"SI\",UPPER(Egresados!$S$8:$S$705)=\"SÍ\"),1,IF(UPPER(Egresados!$S$8:$S$705)=\"NO\",0,\"\"))","v":""},{"$f":"IF(ISERROR(VLOOKUP(Egresados!$T$8:$T$705,Maestros!$S$31:$T$530,2,0)),\"\",VLOOKUP(Egresados!$T$8:$T$705,Maestros!$S$31:$T$530,2,0))","v":"62"},{"$f":"IF(ISERROR(VLOOKUP(U675,Maestros!$S$31:$T$530,2,0)),\"\",VLOOKUP(U675,Maestros!$S$31:$T$530,2,0))","v":"62"},{"$f":"IF(ISERROR(VLOOKUP(Egresados!$K$8:$K$705,Maestros!$A$31:$B$130,2,0)),\"\",VLOOKUP(Egresados!$K$8:$K$705,Maestros!$A$31:$B$130,2,0))","v":""},{"$f":"IF(LEN(tablaEgresados[[#This Row],[Nota promedio]])>0,ROUND(tablaEgresados[[#This Row],[Nota promedio]],2),\"\")","v":16.28}]
[668,null,"DNI","71560665","CASO","ROJAS","SADITH NOELIA","FEMENINO",null,"NO",null,null,null,"2020-1","SEDE CENTRAL","TECNOLOGIA TEXTIL",15.76,null,null,"2015-1","2015-1","20150854@une.edu.pe","sadso@outlook.com.pe",3133700,"963501819",{"$f":"IF(ISERROR(VLOOKUP(Egresados!$N$8:$N$705,Maestros!$D$31:$E$530,2,0)),\"\",VLOOKUP(Egresados!$N$8:$N$705,Maestros!$D$31:$E$530,2,0))","v":"223"},{"$f":"IF(ISERROR(VLOOKUP(Egresados!$O676,Maestros!$G$31:$J$1030,2,0)),\"\",VLOOKUP(Egresados!$O676,Maestros!$G$31:$J$1030,2,0))","v":"8"},{"$f":"CONCATENATE(Egresados!$Z$8:$Z$705,\"a\",Egresados!$AA$8:$AA$705)","v":"223a8"},{"$f":"IF(ISERROR(VLOOKUP(Egresados!$P676,Maestros!$L$31:$Q$1030,2,0)),\"\",VLOOKUP(Egresados!$P676,Maestros!$L$31:$Q$1030,2,0))","v":"315"},{"$f":"CONCATENATE(Egresados!$Z$8:$Z$705,\"a\",Egresados!$AA$8:$AA$705,\"a\",Egresados!$AC$8:$AC$705)","v":"223a8a315"},{"$f":"IF(ISERROR(VLOOKUP(Egresados!$C$8:$C$705,Maestros!$A$4:$B$21,2,0)),\"\",VLOOKUP(Egresados!$C$8:$C$705,Maestros!$A$4:$B$21,2,0))","v":"1001"},{"$f":"IF(ISERROR(VLOOKUP(Egresados!$H$8:$H$705,Maestros!$D$4:$E$21,2,0)),\"\",VLOOKUP(Egresados!$H$8:$H$705,Maestros!$D$4:$E$21,2,0))","v":"1122"},{"$f":"IF(OR(UPPER(Egresados!$J$8:$J$705)=\"SI\",UPPER(Egresados!$J$8:$J$705)=\"SÍ\"),1,IF(UPPER(Egresados!$J$8:$J$705)=\"NO\",0,\"\"))","v":0},{"$f":"IF(OR(UPPER(Egresados!$R$8:$R$705)=\"SI\",UPPER(Egresados!$R$8:$R$705)=\"SÍ\"),1,IF(UPPER(Egresados!$R$8:$R$705)=\"NO\",0,\"\"))","v":""},{"$f":"IF(OR(UPPER(Egresados!$S$8:$S$705)=\"SI\",UPPER(Egresados!$S$8:$S$705)=\"SÍ\"),1,IF(UPPER(Egresados!$S$8:$S$705)=\"NO\",0,\"\"))","v":""},{"$f":"IF(ISERROR(VLOOKUP(Egresados!$T$8:$T$705,Maestros!$S$31:$T$530,2,0)),\"\",VLOOKUP(Egresados!$T$8:$T$705,Maestros!$S$31:$T$530,2,0))","v":"62"},{"$f":"IF(ISERROR(VLOOKUP(U676,Maestros!$S$31:$T$530,2,0)),\"\",VLOOKUP(U676,Maestros!$S$31:$T$530,2,0))","v":"62"},{"$f":"IF(ISERROR(VLOOKUP(Egresados!$K$8:$K$705,Maestros!$A$31:$B$130,2,0)),\"\",VLOOKUP(Egresados!$K$8:$K$705,Maestros!$A$31:$B$130,2,0))","v":""},{"$f":"IF(LEN(tablaEgresados[[#This Row],[Nota promedio]])>0,ROUND(tablaEgresados[[#This Row],[Nota promedio]],2),\"\")","v":15.76}]
[669,null,"DNI","77136812","REYES","CURRO","JHENIFER","FEMENINO",null,"NO",null,null,null,"2020-1","SEDE CENTRAL","TECNOLOGIA TEXTIL",15.64,null,null,"2014-1","2014-1","20141463@une.edu.pe","jhenifer_26@hotmail.com",3133700,"968110135",{"$f":"IF(ISERROR(VLOOKUP(Egresados!$N$8:$N$705,Maestros!$D$31:$E$530,2,0)),\"\",VLOOKUP(Egresados!$N$8:$N$705,Maestros!$D$31:$E$530,2,0))","v":"223"},{"$f":"IF(ISERROR(VLOOKUP(Egresados!$O677,Maestros!$G$31:$J$1030,2,0)),\"\",VLOOKUP(Egresados!$O677,Maestros!$G$31:$J$1030,2,0))","v":"8"},{"$f":"CONCATENATE(Egresados!$Z$8:$Z$705,\"a\",Egresados!$AA$8:$AA$705)","v":"223a8"},{"$f":"IF(ISERROR(VLOOKUP(Egresados!$P677,Maestros!$L$31:$Q$1030,2,0)),\"\",VLOOKUP(Egresados!$P677,Maestros!$L$31:$Q$1030,2,0))","v":"315"},{"$f":"CONCATENATE(Egresados!$Z$8:$Z$705,\"a\",Egresados!$AA$8:$AA$705,\"a\",Egresados!$AC$8:$AC$705)","v":"223a8a315"},{"$f":"IF(ISERROR(VLOOKUP(Egresados!$C$8:$C$705,Maestros!$A$4:$B$21,2,0)),\"\",VLOOKUP(Egresados!$C$8:$C$705,Maestros!$A$4:$B$21,2,0))","v":"1001"},{"$f":"IF(ISERROR(VLOOKUP(Egresados!$H$8:$H$705,Maestros!$D$4:$E$21,2,0)),\"\",VLOOKUP(Egresados!$H$8:$H$705,Maestros!$D$4:$E$21,2,0))","v":"1122"},{"$f":"IF(OR(UPPER(Egresados!$J$8:$J$705)=\"SI\",UPPER(Egresados!$J$8:$J$705)=\"SÍ\"),1,IF(UPPER(Egresados!$J$8:$J$705)=\"NO\",0,\"\"))","v":0},{"$f":"IF(OR(UPPER(Egresados!$R$8:$R$705)=\"SI\",UPPER(Egresados!$R$8:$R$705)=\"SÍ\"),1,IF(UPPER(Egresados!$R$8:$R$705)=\"NO\",0,\"\"))","v":""},{"$f":"IF(OR(UPPER(Egresados!$S$8:$S$705)=\"SI\",UPPER(Egresados!$S$8:$S$705)=\"SÍ\"),1,IF(UPPER(Egresados!$S$8:$S$705)=\"NO\",0,\"\"))","v":""},{"$f":"IF(ISERROR(VLOOKUP(Egresados!$T$8:$T$705,Maestros!$S$31:$T$530,2,0)),\"\",VLOOKUP(Egresados!$T$8:$T$705,Maestros!$S$31:$T$530,2,0))","v":"58"},{"$f":"IF(ISERROR(VLOOKUP(U677,Maestros!$S$31:$T$530,2,0)),\"\",VLOOKUP(U677,Maestros!$S$31:$T$530,2,0))","v":"58"},{"$f":"IF(ISERROR(VLOOKUP(Egresados!$K$8:$K$705,Maestros!$A$31:$B$130,2,0)),\"\",VLOOKUP(Egresados!$K$8:$K$705,Maestros!$A$31:$B$130,2,0))","v":""},{"$f":"IF(LEN(tablaEgresados[[#This Row],[Nota promedio]])>0,ROUND(tablaEgresados[[#This Row],[Nota promedio]],2),\"\")","v":15.64}]
[670,null,"DNI","70076095","TORPOCO","BAYLON","CESIA YOVANA","FEMENINO",null,"NO",null,null,null,"2020-1","SEDE CENTRAL","TECNOLOGIA TEXTIL",15.63,null,null,"2015-1","2015-1","20150874@une.edu.pe","cesiatorpoco@gmail.com",3133700,"964112547",{"$f":"IF(ISERROR(VLOOKUP(Egresados!$N$8:$N$705,Maestros!$D$31:$E$530,2,0)),\"\",VLOOKUP(Egresados!$N$8:$N$705,Maestros!$D$31:$E$530,2,0))","v":"223"},{"$f":"IF(ISERROR(VLOOKUP(Egresados!$O678,Maestros!$G$31:$J$1030,2,0)),\"\",VLOOKUP(Egresados!$O678,Maestros!$G$31:$J$1030,2,0))","v":"8"},{"$f":"CONCATENATE(Egresados!$Z$8:$Z$705,\"a\",Egresados!$AA$8:$AA$705)","v":"223a8"},{"$f":"IF(ISERROR(VLOOKUP(Egresados!$P678,Maestros!$L$31:$Q$1030,2,0)),\"\",VLOOKUP(Egresados!$P678,Maestros!$L$31:$Q$1030,2,0))","v":"315"},{"$f":"CONCATENATE(Egresados!$Z$8:$Z$705,\"a\",Egresados!$AA$8:$AA$705,\"a\",Egresados!$AC$8:$AC$705)","v":"223a8a315"},{"$f":"IF(ISERROR(VLOOKUP(Egresados!$C$8:$C$705,Maestros!$A$4:$B$21,2,0)),\"\",VLOOKUP(Egresados!$C$8:$C$705,Maestros!$A$4:$B$21,2,0))","v":"1001"},{"$f":"IF(ISERROR(VLOOKUP(Egresados!$H$8:$H$705,Maestros!$D$4:$E$21,2,0)),\"\",VLOOKUP(Egresados!$H$8:$H$705,Maestros!$D$4:$E$21,2,0))","v":"1122"},{"$f":"IF(OR(UPPER(Egresados!$J$8:$J$705)=\"SI\",UPPER(Egresados!$J$8:$J$705)=\"SÍ\"),1,IF(UPPER(Egresados!$J$8:$J$705)=\"NO\",0,\"\"))","v":0},{"$f":"IF(OR(UPPER(Egresados!$R$8:$R$705)=\"SI\",UPPER(Egresados!$R$8:$R$705)=\"SÍ\"),1,IF(UPPER(Egresados!$R$8:$R$705)=\"NO\",0,\"\"))","v":""},{"$f":"IF(OR(UPPER(Egresados!$S$8:$S$705)=\"SI\",UPPER(Egresados!$S$8:$S$705)=\"SÍ\"),1,IF(UPPER(Egresados!$S$8:$S$705)=\"NO\",0,\"\"))","v":""},{"$f":"IF(ISERROR(VLOOKUP(Egresados!$T$8:$T$705,Maestros!$S$31:$T$530,2,0)),\"\",VLOOKUP(Egresados!$T$8:$T$705,Maestros!$S$31:$T$530,2,0))","v":"62"},{"$f":"IF(ISERROR(VLOOKUP(U678,Maestros!$S$31:$T$530,2,0)),\"\",VLOOKUP(U678,Maestros!$S$31:$T$530,2,0))","v":"62"},{"$f":"IF(ISERROR(VLOOKUP(Egresados!$K$8:$K$705,Maestros!$A$31:$B$130,2,0)),\"\",VLOOKUP(Egresados!$K$8:$K$705,Maestros!$A$31:$B$130,2,0))","v":""},{"$f":"IF(LEN(tablaEgresados[[#This Row],[Nota promedio]])>0,ROUND(tablaEgresados[[#This Row],[Nota promedio]],2),\"\")","v":15.63}]
[671,null,"DNI","70101378","HUAYLLANI","SUAREZ","MIRYAN MISHIEL","FEMENINO",null,"NO",null,null,null,"2020-1","SEDE CENTRAL","TECNOLOGIA TEXTIL",16.54,null,null,"2015-1","2015-1","20150860@une.edu.pe","miryanhstours@gmail.com",3133700,"970976975",{"$f":"IF(ISERROR(VLOOKUP(Egresados!$N$8:$N$705,Maestros!$D$31:$E$530,2,0)),\"\",VLOOKUP(Egresados!$N$8:$N$705,Maestros!$D$31:$E$530,2,0))","v":"223"},{"$f":"IF(ISERROR(VLOOKUP(Egresados!$O679,Maestros!$G$31:$J$1030,2,0)),\"\",VLOOKUP(Egresados!$O679,Maestros!$G$31:$J$1030,2,0))","v":"8"},{"$f":"CONCATENATE(Egresados!$Z$8:$Z$705,\"a\",Egresados!$AA$8:$AA$705)","v":"223a8"},{"$f":"IF(ISERROR(VLOOKUP(Egresados!$P679,Maestros!$L$31:$Q$1030,2,0)),\"\",VLOOKUP(Egresados!$P679,Maestros!$L$31:$Q$1030,2,0))","v":"315"},{"$f":"CONCATENATE(Egresados!$Z$8:$Z$705,\"a\",Egresados!$AA$8:$AA$705,\"a\",Egresados!$AC$8:$AC$705)","v":"223a8a315"},{"$f":"IF(ISERROR(VLOOKUP(Egresados!$C$8:$C$705,Maestros!$A$4:$B$21,2,0)),\"\",VLOOKUP(Egresados!$C$8:$C$705,Maestros!$A$4:$B$21,2,0))","v":"1001"},{"$f":"IF(ISERROR(VLOOKUP(Egresados!$H$8:$H$705,Maestros!$D$4:$E$21,2,0)),\"\",VLOOKUP(Egresados!$H$8:$H$705,Maestros!$D$4:$E$21,2,0))","v":"1122"},{"$f":"IF(OR(UPPER(Egresados!$J$8:$J$705)=\"SI\",UPPER(Egresados!$J$8:$J$705)=\"SÍ\"),1,IF(UPPER(Egresados!$J$8:$J$705)=\"NO\",0,\"\"))","v":0},{"$f":"IF(OR(UPPER(Egresados!$R$8:$R$705)=\"SI\",UPPER(Egresados!$R$8:$R$705)=\"SÍ\"),1,IF(UPPER(Egresados!$R$8:$R$705)=\"NO\",0,\"\"))","v":""},{"$f":"IF(OR(UPPER(Egresados!$S$8:$S$705)=\"SI\",UPPER(Egresados!$S$8:$S$705)=\"SÍ\"),1,IF(UPPER(Egresados!$S$8:$S$705)=\"NO\",0,\"\"))","v":""},{"$f":"IF(ISERROR(VLOOKUP(Egresados!$T$8:$T$705,Maestros!$S$31:$T$530,2,0)),\"\",VLOOKUP(Egresados!$T$8:$T$705,Maestros!$S$31:$T$530,2,0))","v":"62"},{"$f":"IF(ISERROR(VLOOKUP(U679,Maestros!$S$31:$T$530,2,0)),\"\",VLOOKUP(U679,Maestros!$S$31:$T$530,2,0))","v":"62"},{"$f":"IF(ISERROR(VLOOKUP(Egresados!$K$8:$K$705,Maestros!$A$31:$B$130,2,0)),\"\",VLOOKUP(Egresados!$K$8:$K$705,Maestros!$A$31:$B$130,2,0))","v":""},{"$f":"IF(LEN(tablaEgresados[[#This Row],[Nota promedio]])>0,ROUND(tablaEgresados[[#This Row],[Nota promedio]],2),\"\")","v":16.54}]
[672,null,"DNI","76472420","SOTOMAYOR","RAMIREZ","ELISABET","FEMENINO",null,"NO",null,null,null,"2020-1","SEDE CENTRAL","TECNOLOGIA TEXTIL",16.75,null,null,"2015-1","2015-1","20150873@une.edu.pe","comando32ac@gmail.com",3133700,"964066789",{"$f":"IF(ISERROR(VLOOKUP(Egresados!$N$8:$N$705,Maestros!$D$31:$E$530,2,0)),\"\",VLOOKUP(Egresados!$N$8:$N$705,Maestros!$D$31:$E$530,2,0))","v":"223"},{"$f":"IF(ISERROR(VLOOKUP(Egresados!$O680,Maestros!$G$31:$J$1030,2,0)),\"\",VLOOKUP(Egresados!$O680,Maestros!$G$31:$J$1030,2,0))","v":"8"},{"$f":"CONCATENATE(Egresados!$Z$8:$Z$705,\"a\",Egresados!$AA$8:$AA$705)","v":"223a8"},{"$f":"IF(ISERROR(VLOOKUP(Egresados!$P680,Maestros!$L$31:$Q$1030,2,0)),\"\",VLOOKUP(Egresados!$P680,Maestros!$L$31:$Q$1030,2,0))","v":"315"},{"$f":"CONCATENATE(Egresados!$Z$8:$Z$705,\"a\",Egresados!$AA$8:$AA$705,\"a\",Egresados!$AC$8:$AC$705)","v":"223a8a315"},{"$f":"IF(ISERROR(VLOOKUP(Egresados!$C$8:$C$705,Maestros!$A$4:$B$21,2,0)),\"\",VLOOKUP(Egresados!$C$8:$C$705,Maestros!$A$4:$B$21,2,0))","v":"1001"},{"$f":"IF(ISERROR(VLOOKUP(Egresados!$H$8:$H$705,Maestros!$D$4:$E$21,2,0)),\"\",VLOOKUP(Egresados!$H$8:$H$705,Maestros!$D$4:$E$21,2,0))","v":"1122"},{"$f":"IF(OR(UPPER(Egresados!$J$8:$J$705)=\"SI\",UPPER(Egresados!$J$8:$J$705)=\"SÍ\"),1,IF(UPPER(Egresados!$J$8:$J$705)=\"NO\",0,\"\"))","v":0},{"$f":"IF(OR(UPPER(Egresados!$R$8:$R$705)=\"SI\",UPPER(Egresados!$R$8:$R$705)=\"SÍ\"),1,IF(UPPER(Egresados!$R$8:$R$705)=\"NO\",0,\"\"))","v":""},{"$f":"IF(OR(UPPER(Egresados!$S$8:$S$705)=\"SI\",UPPER(Egresados!$S$8:$S$705)=\"SÍ\"),1,IF(UPPER(Egresados!$S$8:$S$705)=\"NO\",0,\"\"))","v":""},{"$f":"IF(ISERROR(VLOOKUP(Egresados!$T$8:$T$705,Maestros!$S$31:$T$530,2,0)),\"\",VLOOKUP(Egresados!$T$8:$T$705,Maestros!$S$31:$T$530,2,0))","v":"62"},{"$f":"IF(ISERROR(VLOOKUP(U680,Maestros!$S$31:$T$530,2,0)),\"\",VLOOKUP(U680,Maestros!$S$31:$T$530,2,0))","v":"62"},{"$f":"IF(ISERROR(VLOOKUP(Egresados!$K$8:$K$705,Maestros!$A$31:$B$130,2,0)),\"\",VLOOKUP(Egresados!$K$8:$K$705,Maestros!$A$31:$B$130,2,0))","v":""},{"$f":"IF(LEN(tablaEgresados[[#This Row],[Nota promedio]])>0,ROUND(tablaEgresados[[#This Row],[Nota promedio]],2),\"\")","v":16.75}]
[673,null,"DNI","76781231","AMPUERO","CHIPANA","LUZ LILIAN","FEMENINO",null,"NO",null,null,null,"2020-1","SEDE CENTRAL","TELECOMUNICACIONES E INFORMATICA",14.8,null,null,"2015-1","2015-1","20150983@une.edu.pe","lilian_15_capri@hotmail.com",3133700,"940142272",{"$f":"IF(ISERROR(VLOOKUP(Egresados!$N$8:$N$705,Maestros!$D$31:$E$530,2,0)),\"\",VLOOKUP(Egresados!$N$8:$N$705,Maestros!$D$31:$E$530,2,0))","v":"223"},{"$f":"IF(ISERROR(VLOOKUP(Egresados!$O681,Maestros!$G$31:$J$1030,2,0)),\"\",VLOOKUP(Egresados!$O681,Maestros!$G$31:$J$1030,2,0))","v":"8"},{"$f":"CONCATENATE(Egresados!$Z$8:$Z$705,\"a\",Egresados!$AA$8:$AA$705)","v":"223a8"},{"$f":"IF(ISERROR(VLOOKUP(Egresados!$P681,Maestros!$L$31:$Q$1030,2,0)),\"\",VLOOKUP(Egresados!$P681,Maestros!$L$31:$Q$1030,2,0))","v":"322"},{"$f":"CONCATENATE(Egresados!$Z$8:$Z$705,\"a\",Egresados!$AA$8:$AA$705,\"a\",Egresados!$AC$8:$AC$705)","v":"223a8a322"},{"$f":"IF(ISERROR(VLOOKUP(Egresados!$C$8:$C$705,Maestros!$A$4:$B$21,2,0)),\"\",VLOOKUP(Egresados!$C$8:$C$705,Maestros!$A$4:$B$21,2,0))","v":"1001"},{"$f":"IF(ISERROR(VLOOKUP(Egresados!$H$8:$H$705,Maestros!$D$4:$E$21,2,0)),\"\",VLOOKUP(Egresados!$H$8:$H$705,Maestros!$D$4:$E$21,2,0))","v":"1122"},{"$f":"IF(OR(UPPER(Egresados!$J$8:$J$705)=\"SI\",UPPER(Egresados!$J$8:$J$705)=\"SÍ\"),1,IF(UPPER(Egresados!$J$8:$J$705)=\"NO\",0,\"\"))","v":0},{"$f":"IF(OR(UPPER(Egresados!$R$8:$R$705)=\"SI\",UPPER(Egresados!$R$8:$R$705)=\"SÍ\"),1,IF(UPPER(Egresados!$R$8:$R$705)=\"NO\",0,\"\"))","v":""},{"$f":"IF(OR(UPPER(Egresados!$S$8:$S$705)=\"SI\",UPPER(Egresados!$S$8:$S$705)=\"SÍ\"),1,IF(UPPER(Egresados!$S$8:$S$705)=\"NO\",0,\"\"))","v":""},{"$f":"IF(ISERROR(VLOOKUP(Egresados!$T$8:$T$705,Maestros!$S$31:$T$530,2,0)),\"\",VLOOKUP(Egresados!$T$8:$T$705,Maestros!$S$31:$T$530,2,0))","v":"62"},{"$f":"IF(ISERROR(VLOOKUP(U681,Maestros!$S$31:$T$530,2,0)),\"\",VLOOKUP(U681,Maestros!$S$31:$T$530,2,0))","v":"62"},{"$f":"IF(ISERROR(VLOOKUP(Egresados!$K$8:$K$705,Maestros!$A$31:$B$130,2,0)),\"\",VLOOKUP(Egresados!$K$8:$K$705,Maestros!$A$31:$B$130,2,0))","v":""},{"$f":"IF(LEN(tablaEgresados[[#This Row],[Nota promedio]])>0,ROUND(tablaEgresados[[#This Row],[Nota promedio]],2),\"\")","v":14.8}]
[674,null,"DNI","73019390","MAMANI","FLORES","ANTHONY GROYER","MASCULINO",null,"NO",null,null,null,"2020-1","SEDE CENTRAL","TELECOMUNICACIONES E INFORMATICA",16.13,null,null,"2015-1","2015-1","20151000@une.edu.pe","anthonymamaniflores1997@hotmail.com",3133700,"987659577",{"$f":"IF(ISERROR(VLOOKUP(Egresados!$N$8:$N$705,Maestros!$D$31:$E$530,2,0)),\"\",VLOOKUP(Egresados!$N$8:$N$705,Maestros!$D$31:$E$530,2,0))","v":"223"},{"$f":"IF(ISERROR(VLOOKUP(Egresados!$O682,Maestros!$G$31:$J$1030,2,0)),\"\",VLOOKUP(Egresados!$O682,Maestros!$G$31:$J$1030,2,0))","v":"8"},{"$f":"CONCATENATE(Egresados!$Z$8:$Z$705,\"a\",Egresados!$AA$8:$AA$705)","v":"223a8"},{"$f":"IF(ISERROR(VLOOKUP(Egresados!$P682,Maestros!$L$31:$Q$1030,2,0)),\"\",VLOOKUP(Egresados!$P682,Maestros!$L$31:$Q$1030,2,0))","v":"322"},{"$f":"CONCATENATE(Egresados!$Z$8:$Z$705,\"a\",Egresados!$AA$8:$AA$705,\"a\",Egresados!$AC$8:$AC$705)","v":"223a8a322"},{"$f":"IF(ISERROR(VLOOKUP(Egresados!$C$8:$C$705,Maestros!$A$4:$B$21,2,0)),\"\",VLOOKUP(Egresados!$C$8:$C$705,Maestros!$A$4:$B$21,2,0))","v":"1001"},{"$f":"IF(ISERROR(VLOOKUP(Egresados!$H$8:$H$705,Maestros!$D$4:$E$21,2,0)),\"\",VLOOKUP(Egresados!$H$8:$H$705,Maestros!$D$4:$E$21,2,0))","v":"1121"},{"$f":"IF(OR(UPPER(Egresados!$J$8:$J$705)=\"SI\",UPPER(Egresados!$J$8:$J$705)=\"SÍ\"),1,IF(UPPER(Egresados!$J$8:$J$705)=\"NO\",0,\"\"))","v":0},{"$f":"IF(OR(UPPER(Egresados!$R$8:$R$705)=\"SI\",UPPER(Egresados!$R$8:$R$705)=\"SÍ\"),1,IF(UPPER(Egresados!$R$8:$R$705)=\"NO\",0,\"\"))","v":""},{"$f":"IF(OR(UPPER(Egresados!$S$8:$S$705)=\"SI\",UPPER(Egresados!$S$8:$S$705)=\"SÍ\"),1,IF(UPPER(Egresados!$S$8:$S$705)=\"NO\",0,\"\"))","v":""},{"$f":"IF(ISERROR(VLOOKUP(Egresados!$T$8:$T$705,Maestros!$S$31:$T$530,2,0)),\"\",VLOOKUP(Egresados!$T$8:$T$705,Maestros!$S$31:$T$530,2,0))","v":"62"},{"$f":"IF(ISERROR(VLOOKUP(U682,Maestros!$S$31:$T$530,2,0)),\"\",VLOOKUP(U682,Maestros!$S$31:$T$530,2,0))","v":"62"},{"$f":"IF(ISERROR(VLOOKUP(Egresados!$K$8:$K$705,Maestros!$A$31:$B$130,2,0)),\"\",VLOOKUP(Egresados!$K$8:$K$705,Maestros!$A$31:$B$130,2,0))","v":""},{"$f":"IF(LEN(tablaEgresados[[#This Row],[Nota promedio]])>0,ROUND(tablaEgresados[[#This Row],[Nota promedio]],2),\"\")","v":16.13}]
[675,null,"DNI","76644222","NUÑEZ","FELIPE","MARIO","MASCULINO",null,"NO",null,null,null,"2020-1","SEDE CENTRAL","TELECOMUNICACIONES E INFORMATICA",14.5,null,null,"2014-1","2014-1","20141412@une.edu.pe","mnunezfelipe@gmail.com",3133700,"977279486",{"$f":"IF(ISERROR(VLOOKUP(Egresados!$N$8:$N$705,Maestros!$D$31:$E$530,2,0)),\"\",VLOOKUP(Egresados!$N$8:$N$705,Maestros!$D$31:$E$530,2,0))","v":"223"},{"$f":"IF(ISERROR(VLOOKUP(Egresados!$O683,Maestros!$G$31:$J$1030,2,0)),\"\",VLOOKUP(Egresados!$O683,Maestros!$G$31:$J$1030,2,0))","v":"8"},{"$f":"CONCATENATE(Egresados!$Z$8:$Z$705,\"a\",Egresados!$AA$8:$AA$705)","v":"223a8"},{"$f":"IF(ISERROR(VLOOKUP(Egresados!$P683,Maestros!$L$31:$Q$1030,2,0)),\"\",VLOOKUP(Egresados!$P683,Maestros!$L$31:$Q$1030,2,0))","v":"322"},{"$f":"CONCATENATE(Egresados!$Z$8:$Z$705,\"a\",Egresados!$AA$8:$AA$705,\"a\",Egresados!$AC$8:$AC$705)","v":"223a8a322"},{"$f":"IF(ISERROR(VLOOKUP(Egresados!$C$8:$C$705,Maestros!$A$4:$B$21,2,0)),\"\",VLOOKUP(Egresados!$C$8:$C$705,Maestros!$A$4:$B$21,2,0))","v":"1001"},{"$f":"IF(ISERROR(VLOOKUP(Egresados!$H$8:$H$705,Maestros!$D$4:$E$21,2,0)),\"\",VLOOKUP(Egresados!$H$8:$H$705,Maestros!$D$4:$E$21,2,0))","v":"1121"},{"$f":"IF(OR(UPPER(Egresados!$J$8:$J$705)=\"SI\",UPPER(Egresados!$J$8:$J$705)=\"SÍ\"),1,IF(UPPER(Egresados!$J$8:$J$705)=\"NO\",0,\"\"))","v":0},{"$f":"IF(OR(UPPER(Egresados!$R$8:$R$705)=\"SI\",UPPER(Egresados!$R$8:$R$705)=\"SÍ\"),1,IF(UPPER(Egresados!$R$8:$R$705)=\"NO\",0,\"\"))","v":""},{"$f":"IF(OR(UPPER(Egresados!$S$8:$S$705)=\"SI\",UPPER(Egresados!$S$8:$S$705)=\"SÍ\"),1,IF(UPPER(Egresados!$S$8:$S$705)=\"NO\",0,\"\"))","v":""},{"$f":"IF(ISERROR(VLOOKUP(Egresados!$T$8:$T$705,Maestros!$S$31:$T$530,2,0)),\"\",VLOOKUP(Egresados!$T$8:$T$705,Maestros!$S$31:$T$530,2,0))","v":"58"},{"$f":"IF(ISERROR(VLOOKUP(U683,Maestros!$S$31:$T$530,2,0)),\"\",VLOOKUP(U683,Maestros!$S$31:$T$530,2,0))","v":"58"},{"$f":"IF(ISERROR(VLOOKUP(Egresados!$K$8:$K$705,Maestros!$A$31:$B$130,2,0)),\"\",VLOOKUP(Egresados!$K$8:$K$705,Maestros!$A$31:$B$130,2,0))","v":""},{"$f":"IF(LEN(tablaEgresados[[#This Row],[Nota promedio]])>0,ROUND(tablaEgresados[[#This Row],[Nota promedio]],2),\"\")","v":14.5}]
[676,null,"DNI","75662152","MORALES","ALCANTARA","LITMANEN JEAN PAUL","MASCULINO",null,"NO",null,null,null,"2020-1","SEDE CENTRAL","TELECOMUNICACIONES E INFORMATICA",16.12,null,null,"2015-1","2015-1","20151004@une.edu.pe","jean.morales.paul@gmail.com",3133700,976486001,{"$f":"IF(ISERROR(VLOOKUP(Egresados!$N$8:$N$705,Maestros!$D$31:$E$530,2,0)),\"\",VLOOKUP(Egresados!$N$8:$N$705,Maestros!$D$31:$E$530,2,0))","v":"223"},{"$f":"IF(ISERROR(VLOOKUP(Egresados!$O684,Maestros!$G$31:$J$1030,2,0)),\"\",VLOOKUP(Egresados!$O684,Maestros!$G$31:$J$1030,2,0))","v":"8"},{"$f":"CONCATENATE(Egresados!$Z$8:$Z$705,\"a\",Egresados!$AA$8:$AA$705)","v":"223a8"},{"$f":"IF(ISERROR(VLOOKUP(Egresados!$P684,Maestros!$L$31:$Q$1030,2,0)),\"\",VLOOKUP(Egresados!$P684,Maestros!$L$31:$Q$1030,2,0))","v":"322"},{"$f":"CONCATENATE(Egresados!$Z$8:$Z$705,\"a\",Egresados!$AA$8:$AA$705,\"a\",Egresados!$AC$8:$AC$705)","v":"223a8a322"},{"$f":"IF(ISERROR(VLOOKUP(Egresados!$C$8:$C$705,Maestros!$A$4:$B$21,2,0)),\"\",VLOOKUP(Egresados!$C$8:$C$705,Maestros!$A$4:$B$21,2,0))","v":"1001"},{"$f":"IF(ISERROR(VLOOKUP(Egresados!$H$8:$H$705,Maestros!$D$4:$E$21,2,0)),\"\",VLOOKUP(Egresados!$H$8:$H$705,Maestros!$D$4:$E$21,2,0))","v":"1121"},{"$f":"IF(OR(UPPER(Egresados!$J$8:$J$705)=\"SI\",UPPER(Egresados!$J$8:$J$705)=\"SÍ\"),1,IF(UPPER(Egresados!$J$8:$J$705)=\"NO\",0,\"\"))","v":0},{"$f":"IF(OR(UPPER(Egresados!$R$8:$R$705)=\"SI\",UPPER(Egresados!$R$8:$R$705)=\"SÍ\"),1,IF(UPPER(Egresados!$R$8:$R$705)=\"NO\",0,\"\"))","v":""},{"$f":"IF(OR(UPPER(Egresados!$S$8:$S$705)=\"SI\",UPPER(Egresados!$S$8:$S$705)=\"SÍ\"),1,IF(UPPER(Egresados!$S$8:$S$705)=\"NO\",0,\"\"))","v":""},{"$f":"IF(ISERROR(VLOOKUP(Egresados!$T$8:$T$705,Maestros!$S$31:$T$530,2,0)),\"\",VLOOKUP(Egresados!$T$8:$T$705,Maestros!$S$31:$T$530,2,0))","v":"62"},{"$f":"IF(ISERROR(VLOOKUP(U684,Maestros!$S$31:$T$530,2,0)),\"\",VLOOKUP(U684,Maestros!$S$31:$T$530,2,0))","v":"62"},{"$f":"IF(ISERROR(VLOOKUP(Egresados!$K$8:$K$705,Maestros!$A$31:$B$130,2,0)),\"\",VLOOKUP(Egresados!$K$8:$K$705,Maestros!$A$31:$B$130,2,0))","v":""},{"$f":"IF(LEN(tablaEgresados[[#This Row],[Nota promedio]])>0,ROUND(tablaEgresados[[#This Row],[Nota promedio]],2),\"\")","v":16.12}]
[677,null,"DNI","09710772","ECHAIZ","GUEVARA","GONZALO ELIAS","MASCULINO",null,"NO",null,null,null,"2020-1","SEDE CENTRAL","TELECOMUNICACIONES E INFORMATICA",14.18,null,null,"2005-1","2005-1","20055343@une.edu.pe","gonzaloechaizg@hotmail.com",3133700,976486001,{"$f":"IF(ISERROR(VLOOKUP(Egresados!$N$8:$N$705,Maestros!$D$31:$E$530,2,0)),\"\",VLOOKUP(Egresados!$N$8:$N$705,Maestros!$D$31:$E$530,2,0))","v":"223"},{"$f":"IF(ISERROR(VLOOKUP(Egresados!$O685,Maestros!$G$31:$J$1030,2,0)),\"\",VLOOKUP(Egresados!$O685,Maestros!$G$31:$J$1030,2,0))","v":"8"},{"$f":"CONCATENATE(Egresados!$Z$8:$Z$705,\"a\",Egresados!$AA$8:$AA$705)","v":"223a8"},{"$f":"IF(ISERROR(VLOOKUP(Egresados!$P685,Maestros!$L$31:$Q$1030,2,0)),\"\",VLOOKUP(Egresados!$P685,Maestros!$L$31:$Q$1030,2,0))","v":"322"},{"$f":"CONCATENATE(Egresados!$Z$8:$Z$705,\"a\",Egresados!$AA$8:$AA$705,\"a\",Egresados!$AC$8:$AC$705)","v":"223a8a322"},{"$f":"IF(ISERROR(VLOOKUP(Egresados!$C$8:$C$705,Maestros!$A$4:$B$21,2,0)),\"\",VLOOKUP(Egresados!$C$8:$C$705,Maestros!$A$4:$B$21,2,0))","v":"1001"},{"$f":"IF(ISERROR(VLOOKUP(Egresados!$H$8:$H$705,Maestros!$D$4:$E$21,2,0)),\"\",VLOOKUP(Egresados!$H$8:$H$705,Maestros!$D$4:$E$21,2,0))","v":"1121"},{"$f":"IF(OR(UPPER(Egresados!$J$8:$J$705)=\"SI\",UPPER(Egresados!$J$8:$J$705)=\"SÍ\"),1,IF(UPPER(Egresados!$J$8:$J$705)=\"NO\",0,\"\"))","v":0},{"$f":"IF(OR(UPPER(Egresados!$R$8:$R$705)=\"SI\",UPPER(Egresados!$R$8:$R$705)=\"SÍ\"),1,IF(UPPER(Egresados!$R$8:$R$705)=\"NO\",0,\"\"))","v":""},{"$f":"IF(OR(UPPER(Egresados!$S$8:$S$705)=\"SI\",UPPER(Egresados!$S$8:$S$705)=\"SÍ\"),1,IF(UPPER(Egresados!$S$8:$S$705)=\"NO\",0,\"\"))","v":""},{"$f":"IF(ISERROR(VLOOKUP(Egresados!$T$8:$T$705,Maestros!$S$31:$T$530,2,0)),\"\",VLOOKUP(Egresados!$T$8:$T$705,Maestros!$S$31:$T$530,2,0))","v":"22"},{"$f":"IF(ISERROR(VLOOKUP(U685,Maestros!$S$31:$T$530,2,0)),\"\",VLOOKUP(U685,Maestros!$S$31:$T$530,2,0))","v":"22"},{"$f":"IF(ISERROR(VLOOKUP(Egresados!$K$8:$K$705,Maestros!$A$31:$B$130,2,0)),\"\",VLOOKUP(Egresados!$K$8:$K$705,Maestros!$A$31:$B$130,2,0))","v":""},{"$f":"IF(LEN(tablaEgresados[[#This Row],[Nota promedio]])>0,ROUND(tablaEgresados[[#This Row],[Nota promedio]],2),\"\")","v":14.18}]
[678,null,"DNI","45755489","DIAZ","HURTADO","TATIANA LIZET","FEMENINO",null,"NO",null,null,null,"2020-1","SEDE CENTRAL","TELECOMUNICACIONES E INFORMATICA",14.03,null,null,"2016-1","2016-1","20162256@une.edu.pe","tati_953@hotmail.com",3133700,"989876659",{"$f":"IF(ISERROR(VLOOKUP(Egresados!$N$8:$N$705,Maestros!$D$31:$E$530,2,0)),\"\",VLOOKUP(Egresados!$N$8:$N$705,Maestros!$D$31:$E$530,2,0))","v":"223"},{"$f":"IF(ISERROR(VLOOKUP(Egresados!$O686,Maestros!$G$31:$J$1030,2,0)),\"\",VLOOKUP(Egresados!$O686,Maestros!$G$31:$J$1030,2,0))","v":"8"},{"$f":"CONCATENATE(Egresados!$Z$8:$Z$705,\"a\",Egresados!$AA$8:$AA$705)","v":"223a8"},{"$f":"IF(ISERROR(VLOOKUP(Egresados!$P686,Maestros!$L$31:$Q$1030,2,0)),\"\",VLOOKUP(Egresados!$P686,Maestros!$L$31:$Q$1030,2,0))","v":"322"},{"$f":"CONCATENATE(Egresados!$Z$8:$Z$705,\"a\",Egresados!$AA$8:$AA$705,\"a\",Egresados!$AC$8:$AC$705)","v":"223a8a322"},{"$f":"IF(ISERROR(VLOOKUP(Egresados!$C$8:$C$705,Maestros!$A$4:$B$21,2,0)),\"\",VLOOKUP(Egresados!$C$8:$C$705,Maestros!$A$4:$B$21,2,0))","v":"1001"},{"$f":"IF(ISERROR(VLOOKUP(Egresados!$H$8:$H$705,Maestros!$D$4:$E$21,2,0)),\"\",VLOOKUP(Egresados!$H$8:$H$705,Maestros!$D$4:$E$21,2,0))","v":"1122"},{"$f":"IF(OR(UPPER(Egresados!$J$8:$J$705)=\"SI\",UPPER(Egresados!$J$8:$J$705)=\"SÍ\"),1,IF(UPPER(Egresados!$J$8:$J$705)=\"NO\",0,\"\"))","v":0},{"$f":"IF(OR(UPPER(Egresados!$R$8:$R$705)=\"SI\",UPPER(Egresados!$R$8:$R$705)=\"SÍ\"),1,IF(UPPER(Egresados!$R$8:$R$705)=\"NO\",0,\"\"))","v":""},{"$f":"IF(OR(UPPER(Egresados!$S$8:$S$705)=\"SI\",UPPER(Egresados!$S$8:$S$705)=\"SÍ\"),1,IF(UPPER(Egresados!$S$8:$S$705)=\"NO\",0,\"\"))","v":""},{"$f":"IF(ISERROR(VLOOKUP(Egresados!$T$8:$T$705,Maestros!$S$31:$T$530,2,0)),\"\",VLOOKUP(Egresados!$T$8:$T$705,Maestros!$S$31:$T$530,2,0))","v":"66"},{"$f":"IF(ISERROR(VLOOKUP(U686,Maestros!$S$31:$T$530,2,0)),\"\",VLOOKUP(U686,Maestros!$S$31:$T$530,2,0))","v":"66"},{"$f":"IF(ISERROR(VLOOKUP(Egresados!$K$8:$K$705,Maestros!$A$31:$B$130,2,0)),\"\",VLOOKUP(Egresados!$K$8:$K$705,Maestros!$A$31:$B$130,2,0))","v":""},{"$f":"IF(LEN(tablaEgresados[[#This Row],[Nota promedio]])>0,ROUND(tablaEgresados[[#This Row],[Nota promedio]],2),\"\")","v":14.03}]
[679,null,"DNI","70239404","QUISPE","SERPA","ISABEL","FEMENINO",null,"NO",null,null,null,"2020-1","SEDE CENTRAL","TELECOMUNICACIONES E INFORMATICA",14.93,null,null,"2015-1","2015-1","20151008@une.edu.pe","quispeserpai@gmail.com",3133700,"956260857",{"$f":"IF(ISERROR(VLOOKUP(Egresados!$N$8:$N$705,Maestros!$D$31:$E$530,2,0)),\"\",VLOOKUP(Egresados!$N$8:$N$705,Maestros!$D$31:$E$530,2,0))","v":"223"},{"$f":"IF(ISERROR(VLOOKUP(Egresados!$O687,Maestros!$G$31:$J$1030,2,0)),\"\",VLOOKUP(Egresados!$O687,Maestros!$G$31:$J$1030,2,0))","v":"8"},{"$f":"CONCATENATE(Egresados!$Z$8:$Z$705,\"a\",Egresados!$AA$8:$AA$705)","v":"223a8"},{"$f":"IF(ISERROR(VLOOKUP(Egresados!$P687,Maestros!$L$31:$Q$1030,2,0)),\"\",VLOOKUP(Egresados!$P687,Maestros!$L$31:$Q$1030,2,0))","v":"322"},{"$f":"CONCATENATE(Egresados!$Z$8:$Z$705,\"a\",Egresados!$AA$8:$AA$705,\"a\",Egresados!$AC$8:$AC$705)","v":"223a8a322"},{"$f":"IF(ISERROR(VLOOKUP(Egresados!$C$8:$C$705,Maestros!$A$4:$B$21,2,0)),\"\",VLOOKUP(Egresados!$C$8:$C$705,Maestros!$A$4:$B$21,2,0))","v":"1001"},{"$f":"IF(ISERROR(VLOOKUP(Egresados!$H$8:$H$705,Maestros!$D$4:$E$21,2,0)),\"\",VLOOKUP(Egresados!$H$8:$H$705,Maestros!$D$4:$E$21,2,0))","v":"1122"},{"$f":"IF(OR(UPPER(Egresados!$J$8:$J$705)=\"SI\",UPPER(Egresados!$J$8:$J$705)=\"SÍ\"),1,IF(UPPER(Egresados!$J$8:$J$705)=\"NO\",0,\"\"))","v":0},{"$f":"IF(OR(UPPER(Egresados!$R$8:$R$705)=\"SI\",UPPER(Egresados!$R$8:$R$705)=\"SÍ\"),1,IF(UPPER(Egresados!$R$8:$R$705)=\"NO\",0,\"\"))","v":""},{"$f":"IF(OR(UPPER(Egresados!$S$8:$S$705)=\"SI\",UPPER(Egresados!$S$8:$S$705)=\"SÍ\"),1,IF(UPPER(Egresados!$S$8:$S$705)=\"NO\",0,\"\"))","v":""},{"$f":"IF(ISERROR(VLOOKUP(Egresados!$T$8:$T$705,Maestros!$S$31:$T$530,2,0)),\"\",VLOOKUP(Egresados!$T$8:$T$705,Maestros!$S$31:$T$530,2,0))","v":"62"},{"$f":"IF(ISERROR(VLOOKUP(U687,Maestros!$S$31:$T$530,2,0)),\"\",VLOOKUP(U687,Maestros!$S$31:$T$530,2,0))","v":"62"},{"$f":"IF(ISERROR(VLOOKUP(Egresados!$K$8:$K$705,Maestros!$A$31:$B$130,2,0)),\"\",VLOOKUP(Egresados!$K$8:$K$705,Maestros!$A$31:$B$130,2,0))","v":""},{"$f":"IF(LEN(tablaEgresados[[#This Row],[Nota promedio]])>0,ROUND(tablaEgresados[[#This Row],[Nota promedio]],2),\"\")","v":14.93}]
[680,null,"DNI","73267710","CRUZADO","OBREGON","JOSE MANUEL","MASCULINO",null,"NO",null,null,null,"2020-1","SEDE CENTRAL","TELECOMUNICACIONES E INFORMATICA",14.16,null,null,"2015-1","2015-1","20150988@une.edu.pe","jose_23abril@hotmail.com",3133700,"982249973",{"$f":"IF(ISERROR(VLOOKUP(Egresados!$N$8:$N$705,Maestros!$D$31:$E$530,2,0)),\"\",VLOOKUP(Egresados!$N$8:$N$705,Maestros!$D$31:$E$530,2,0))","v":"223"},{"$f":"IF(ISERROR(VLOOKUP(Egresados!$O688,Maestros!$G$31:$J$1030,2,0)),\"\",VLOOKUP(Egresados!$O688,Maestros!$G$31:$J$1030,2,0))","v":"8"},{"$f":"CONCATENATE(Egresados!$Z$8:$Z$705,\"a\",Egresados!$AA$8:$AA$705)","v":"223a8"},{"$f":"IF(ISERROR(VLOOKUP(Egresados!$P688,Maestros!$L$31:$Q$1030,2,0)),\"\",VLOOKUP(Egresados!$P688,Maestros!$L$31:$Q$1030,2,0))","v":"322"},{"$f":"CONCATENATE(Egresados!$Z$8:$Z$705,\"a\",Egresados!$AA$8:$AA$705,\"a\",Egresados!$AC$8:$AC$705)","v":"223a8a322"},{"$f":"IF(ISERROR(VLOOKUP(Egresados!$C$8:$C$705,Maestros!$A$4:$B$21,2,0)),\"\",VLOOKUP(Egresados!$C$8:$C$705,Maestros!$A$4:$B$21,2,0))","v":"1001"},{"$f":"IF(ISERROR(VLOOKUP(Egresados!$H$8:$H$705,Maestros!$D$4:$E$21,2,0)),\"\",VLOOKUP(Egresados!$H$8:$H$705,Maestros!$D$4:$E$21,2,0))","v":"1121"},{"$f":"IF(OR(UPPER(Egresados!$J$8:$J$705)=\"SI\",UPPER(Egresados!$J$8:$J$705)=\"SÍ\"),1,IF(UPPER(Egresados!$J$8:$J$705)=\"NO\",0,\"\"))","v":0},{"$f":"IF(OR(UPPER(Egresados!$R$8:$R$705)=\"SI\",UPPER(Egresados!$R$8:$R$705)=\"SÍ\"),1,IF(UPPER(Egresados!$R$8:$R$705)=\"NO\",0,\"\"))","v":""},{"$f":"IF(OR(UPPER(Egresados!$S$8:$S$705)=\"SI\",UPPER(Egresados!$S$8:$S$705)=\"SÍ\"),1,IF(UPPER(Egresados!$S$8:$S$705)=\"NO\",0,\"\"))","v":""},{"$f":"IF(ISERROR(VLOOKUP(Egresados!$T$8:$T$705,Maestros!$S$31:$T$530,2,0)),\"\",VLOOKUP(Egresados!$T$8:$T$705,Maestros!$S$31:$T$530,2,0))","v":"62"},{"$f":"IF(ISERROR(VLOOKUP(U688,Maestros!$S$31:$T$530,2,0)),\"\",VLOOKUP(U688,Maestros!$S$31:$T$530,2,0))","v":"62"},{"$f":"IF(ISERROR(VLOOKUP(Egresados!$K$8:$K$705,Maestros!$A$31:$B$130,2,0)),\"\",VLOOKUP(Egresados!$K$8:$K$705,Maestros!$A$31:$B$130,2,0))","v":""},{"$f":"IF(LEN(tablaEgresados[[#This Row],[Nota promedio]])>0,ROUND(tablaEgresados[[#This Row],[Nota promedio]],2),\"\")","v":14.16}]
[681,null,"DNI","76196961","ESCALANTE","AREVALO","JULIO CESAR","MASCULINO",null,"NO",null,null,null,"2020-1","SEDE CENTRAL","TELECOMUNICACIONES E INFORMATICA",14.87,null,null,"2015-1","2015-1","20150989@une.edu.pe","julio_stk@hotmail.com",3133700,"993132391",{"$f":"IF(ISERROR(VLOOKUP(Egresados!$N$8:$N$705,Maestros!$D$31:$E$530,2,0)),\"\",VLOOKUP(Egresados!$N$8:$N$705,Maestros!$D$31:$E$530,2,0))","v":"223"},{"$f":"IF(ISERROR(VLOOKUP(Egresados!$O689,Maestros!$G$31:$J$1030,2,0)),\"\",VLOOKUP(Egresados!$O689,Maestros!$G$31:$J$1030,2,0))","v":"8"},{"$f":"CONCATENATE(Egresados!$Z$8:$Z$705,\"a\",Egresados!$AA$8:$AA$705)","v":"223a8"},{"$f":"IF(ISERROR(VLOOKUP(Egresados!$P689,Maestros!$L$31:$Q$1030,2,0)),\"\",VLOOKUP(Egresados!$P689,Maestros!$L$31:$Q$1030,2,0))","v":"322"},{"$f":"CONCATENATE(Egresados!$Z$8:$Z$705,\"a\",Egresados!$AA$8:$AA$705,\"a\",Egresados!$AC$8:$AC$705)","v":"223a8a322"},{"$f":"IF(ISERROR(VLOOKUP(Egresados!$C$8:$C$705,Maestros!$A$4:$B$21,2,0)),\"\",VLOOKUP(Egresados!$C$8:$C$705,Maestros!$A$4:$B$21,2,0))","v":"1001"},{"$f":"IF(ISERROR(VLOOKUP(Egresados!$H$8:$H$705,Maestros!$D$4:$E$21,2,0)),\"\",VLOOKUP(Egresados!$H$8:$H$705,Maestros!$D$4:$E$21,2,0))","v":"1121"},{"$f":"IF(OR(UPPER(Egresados!$J$8:$J$705)=\"SI\",UPPER(Egresados!$J$8:$J$705)=\"SÍ\"),1,IF(UPPER(Egresados!$J$8:$J$705)=\"NO\",0,\"\"))","v":0},{"$f":"IF(OR(UPPER(Egresados!$R$8:$R$705)=\"SI\",UPPER(Egresados!$R$8:$R$705)=\"SÍ\"),1,IF(UPPER(Egresados!$R$8:$R$705)=\"NO\",0,\"\"))","v":""},{"$f":"IF(OR(UPPER(Egresados!$S$8:$S$705)=\"SI\",UPPER(Egresados!$S$8:$S$705)=\"SÍ\"),1,IF(UPPER(Egresados!$S$8:$S$705)=\"NO\",0,\"\"))","v":""},{"$f":"IF(ISERROR(VLOOKUP(Egresados!$T$8:$T$705,Maestros!$S$31:$T$530,2,0)),\"\",VLOOKUP(Egresados!$T$8:$T$705,Maestros!$S$31:$T$530,2,0))","v":"62"},{"$f":"IF(ISERROR(VLOOKUP(U689,Maestros!$S$31:$T$530,2,0)),\"\",VLOOKUP(U689,Maestros!$S$31:$T$530,2,0))","v":"62"},{"$f":"IF(ISERROR(VLOOKUP(Egresados!$K$8:$K$705,Maestros!$A$31:$B$130,2,0)),\"\",VLOOKUP(Egresados!$K$8:$K$705,Maestros!$A$31:$B$130,2,0))","v":""},{"$f":"IF(LEN(tablaEgresados[[#This Row],[Nota promedio]])>0,ROUND(tablaEgresados[[#This Row],[Nota promedio]],2),\"\")","v":14.87}]
[682,null,"DNI","70103175","RIVERA","MALHUAYZA","GABRIELA","FEMENINO",null,"NO",null,null,null,"2020-1","SEDE CENTRAL","TELECOMUNICACIONES E INFORMATICA",14.99,null,null,"2015-1","2015-1","20151009@une.edu.pe","gaby_leo_2014@hotmail.com",3133700,"990301710",{"$f":"IF(ISERROR(VLOOKUP(Egresados!$N$8:$N$705,Maestros!$D$31:$E$530,2,0)),\"\",VLOOKUP(Egresados!$N$8:$N$705,Maestros!$D$31:$E$530,2,0))","v":"223"},{"$f":"IF(ISERROR(VLOOKUP(Egresados!$O690,Maestros!$G$31:$J$1030,2,0)),\"\",VLOOKUP(Egresados!$O690,Maestros!$G$31:$J$1030,2,0))","v":"8"},{"$f":"CONCATENATE(Egresados!$Z$8:$Z$705,\"a\",Egresados!$AA$8:$AA$705)","v":"223a8"},{"$f":"IF(ISERROR(VLOOKUP(Egresados!$P690,Maestros!$L$31:$Q$1030,2,0)),\"\",VLOOKUP(Egresados!$P690,Maestros!$L$31:$Q$1030,2,0))","v":"322"},{"$f":"CONCATENATE(Egresados!$Z$8:$Z$705,\"a\",Egresados!$AA$8:$AA$705,\"a\",Egresados!$AC$8:$AC$705)","v":"223a8a322"},{"$f":"IF(ISERROR(VLOOKUP(Egresados!$C$8:$C$705,Maestros!$A$4:$B$21,2,0)),\"\",VLOOKUP(Egresados!$C$8:$C$705,Maestros!$A$4:$B$21,2,0))","v":"1001"},{"$f":"IF(ISERROR(VLOOKUP(Egresados!$H$8:$H$705,Maestros!$D$4:$E$21,2,0)),\"\",VLOOKUP(Egresados!$H$8:$H$705,Maestros!$D$4:$E$21,2,0))","v":"1122"},{"$f":"IF(OR(UPPER(Egresados!$J$8:$J$705)=\"SI\",UPPER(Egresados!$J$8:$J$705)=\"SÍ\"),1,IF(UPPER(Egresados!$J$8:$J$705)=\"NO\",0,\"\"))","v":0},{"$f":"IF(OR(UPPER(Egresados!$R$8:$R$705)=\"SI\",UPPER(Egresados!$R$8:$R$705)=\"SÍ\"),1,IF(UPPER(Egresados!$R$8:$R$705)=\"NO\",0,\"\"))","v":""},{"$f":"IF(OR(UPPER(Egresados!$S$8:$S$705)=\"SI\",UPPER(Egresados!$S$8:$S$705)=\"SÍ\"),1,IF(UPPER(Egresados!$S$8:$S$705)=\"NO\",0,\"\"))","v":""},{"$f":"IF(ISERROR(VLOOKUP(Egresados!$T$8:$T$705,Maestros!$S$31:$T$530,2,0)),\"\",VLOOKUP(Egresados!$T$8:$T$705,Maestros!$S$31:$T$530,2,0))","v":"62"},{"$f":"IF(ISERROR(VLOOKUP(U690,Maestros!$S$31:$T$530,2,0)),\"\",VLOOKUP(U690,Maestros!$S$31:$T$530,2,0))","v":"62"},{"$f":"IF(ISERROR(VLOOKUP(Egresados!$K$8:$K$705,Maestros!$A$31:$B$130,2,0)),\"\",VLOOKUP(Egresados!$K$8:$K$705,Maestros!$A$31:$B$130,2,0))","v":""},{"$f":"IF(LEN(tablaEgresados[[#This Row],[Nota promedio]])>0,ROUND(tablaEgresados[[#This Row],[Nota promedio]],2),\"\")","v":14.99}]
[683,null,"DNI","73858093","VELASQUEZ","JAUREGUI","KARINA","FEMENINO",null,"NO",null,null,null,"2020-1","EL RIMAC","TURISMO Y HOTELERIA",14.59,null,null,"2013-1","2013-1","20131357@une.edu.pe","kari002_2007@hotmail.com",3133700,976486001,{"$f":"IF(ISERROR(VLOOKUP(Egresados!$N$8:$N$705,Maestros!$D$31:$E$530,2,0)),\"\",VLOOKUP(Egresados!$N$8:$N$705,Maestros!$D$31:$E$530,2,0))","v":"223"},{"$f":"IF(ISERROR(VLOOKUP(Egresados!$O691,Maestros!$G$31:$J$1030,2,0)),\"\",VLOOKUP(Egresados!$O691,Maestros!$G$31:$J$1030,2,0))","v":"7"},{"$f":"CONCATENATE(Egresados!$Z$8:$Z$705,\"a\",Egresados!$AA$8:$AA$705)","v":"223a7"},{"$f":"IF(ISERROR(VLOOKUP(Egresados!$P691,Maestros!$L$31:$Q$1030,2,0)),\"\",VLOOKUP(Egresados!$P691,Maestros!$L$31:$Q$1030,2,0))","v":"213"},{"$f":"CONCATENATE(Egresados!$Z$8:$Z$705,\"a\",Egresados!$AA$8:$AA$705,\"a\",Egresados!$AC$8:$AC$705)","v":"223a7a213"},{"$f":"IF(ISERROR(VLOOKUP(Egresados!$C$8:$C$705,Maestros!$A$4:$B$21,2,0)),\"\",VLOOKUP(Egresados!$C$8:$C$705,Maestros!$A$4:$B$21,2,0))","v":"1001"},{"$f":"IF(ISERROR(VLOOKUP(Egresados!$H$8:$H$705,Maestros!$D$4:$E$21,2,0)),\"\",VLOOKUP(Egresados!$H$8:$H$705,Maestros!$D$4:$E$21,2,0))","v":"1122"},{"$f":"IF(OR(UPPER(Egresados!$J$8:$J$705)=\"SI\",UPPER(Egresados!$J$8:$J$705)=\"SÍ\"),1,IF(UPPER(Egresados!$J$8:$J$705)=\"NO\",0,\"\"))","v":0},{"$f":"IF(OR(UPPER(Egresados!$R$8:$R$705)=\"SI\",UPPER(Egresados!$R$8:$R$705)=\"SÍ\"),1,IF(UPPER(Egresados!$R$8:$R$705)=\"NO\",0,\"\"))","v":""},{"$f":"IF(OR(UPPER(Egresados!$S$8:$S$705)=\"SI\",UPPER(Egresados!$S$8:$S$705)=\"SÍ\"),1,IF(UPPER(Egresados!$S$8:$S$705)=\"NO\",0,\"\"))","v":""},{"$f":"IF(ISERROR(VLOOKUP(Egresados!$T$8:$T$705,Maestros!$S$31:$T$530,2,0)),\"\",VLOOKUP(Egresados!$T$8:$T$705,Maestros!$S$31:$T$530,2,0))","v":"54"},{"$f":"IF(ISERROR(VLOOKUP(U691,Maestros!$S$31:$T$530,2,0)),\"\",VLOOKUP(U691,Maestros!$S$31:$T$530,2,0))","v":"54"},{"$f":"IF(ISERROR(VLOOKUP(Egresados!$K$8:$K$705,Maestros!$A$31:$B$130,2,0)),\"\",VLOOKUP(Egresados!$K$8:$K$705,Maestros!$A$31:$B$130,2,0))","v":""},{"$f":"IF(LEN(tablaEgresados[[#This Row],[Nota promedio]])>0,ROUND(tablaEgresados[[#This Row],[Nota promedio]],2),\"\")","v":14.59}]
[684,null,"DNI","75328900","TAFUR","SOMOZA","JULIO","MASCULINO",null,"NO",null,null,null,"2020-1","EL RIMAC","TURISMO Y HOTELERIA",15.13,null,null,"2015-1","2015-1","20151282@une.edu.pe","julio_04_11@hotmail.com",3133700,"976700787",{"$f":"IF(ISERROR(VLOOKUP(Egresados!$N$8:$N$705,Maestros!$D$31:$E$530,2,0)),\"\",VLOOKUP(Egresados!$N$8:$N$705,Maestros!$D$31:$E$530,2,0))","v":"223"},{"$f":"IF(ISERROR(VLOOKUP(Egresados!$O692,Maestros!$G$31:$J$1030,2,0)),\"\",VLOOKUP(Egresados!$O692,Maestros!$G$31:$J$1030,2,0))","v":"7"},{"$f":"CONCATENATE(Egresados!$Z$8:$Z$705,\"a\",Egresados!$AA$8:$AA$705)","v":"223a7"},{"$f":"IF(ISERROR(VLOOKUP(Egresados!$P692,Maestros!$L$31:$Q$1030,2,0)),\"\",VLOOKUP(Egresados!$P692,Maestros!$L$31:$Q$1030,2,0))","v":"213"},{"$f":"CONCATENATE(Egresados!$Z$8:$Z$705,\"a\",Egresados!$AA$8:$AA$705,\"a\",Egresados!$AC$8:$AC$705)","v":"223a7a213"},{"$f":"IF(ISERROR(VLOOKUP(Egresados!$C$8:$C$705,Maestros!$A$4:$B$21,2,0)),\"\",VLOOKUP(Egresados!$C$8:$C$705,Maestros!$A$4:$B$21,2,0))","v":"1001"},{"$f":"IF(ISERROR(VLOOKUP(Egresados!$H$8:$H$705,Maestros!$D$4:$E$21,2,0)),\"\",VLOOKUP(Egresados!$H$8:$H$705,Maestros!$D$4:$E$21,2,0))","v":"1121"},{"$f":"IF(OR(UPPER(Egresados!$J$8:$J$705)=\"SI\",UPPER(Egresados!$J$8:$J$705)=\"SÍ\"),1,IF(UPPER(Egresados!$J$8:$J$705)=\"NO\",0,\"\"))","v":0},{"$f":"IF(OR(UPPER(Egresados!$R$8:$R$705)=\"SI\",UPPER(Egresados!$R$8:$R$705)=\"SÍ\"),1,IF(UPPER(Egresados!$R$8:$R$705)=\"NO\",0,\"\"))","v":""},{"$f":"IF(OR(UPPER(Egresados!$S$8:$S$705)=\"SI\",UPPER(Egresados!$S$8:$S$705)=\"SÍ\"),1,IF(UPPER(Egresados!$S$8:$S$705)=\"NO\",0,\"\"))","v":""},{"$f":"IF(ISERROR(VLOOKUP(Egresados!$T$8:$T$705,Maestros!$S$31:$T$530,2,0)),\"\",VLOOKUP(Egresados!$T$8:$T$705,Maestros!$S$31:$T$530,2,0))","v":"62"},{"$f":"IF(ISERROR(VLOOKUP(U692,Maestros!$S$31:$T$530,2,0)),\"\",VLOOKUP(U692,Maestros!$S$31:$T$530,2,0))","v":"62"},{"$f":"IF(ISERROR(VLOOKUP(Egresados!$K$8:$K$705,Maestros!$A$31:$B$130,2,0)),\"\",VLOOKUP(Egresados!$K$8:$K$705,Maestros!$A$31:$B$130,2,0))","v":""},{"$f":"IF(LEN(tablaEgresados[[#This Row],[Nota promedio]])>0,ROUND(tablaEgresados[[#This Row],[Nota promedio]],2),\"\")","v":15.13}]
[685,null,"DNI","48319893","NAVEZ","CURASMA","KELIN","MASCULINO",null,"NO",null,null,null,"2020-1","EL RIMAC","TURISMO Y HOTELERIA",14.7,null,null,"2015-1","2015-1","20151261@une.edu.pe","knavezcurasma@gmail.com",3133700,"986114226",{"$f":"IF(ISERROR(VLOOKUP(Egresados!$N$8:$N$705,Maestros!$D$31:$E$530,2,0)),\"\",VLOOKUP(Egresados!$N$8:$N$705,Maestros!$D$31:$E$530,2,0))","v":"223"},{"$f":"IF(ISERROR(VLOOKUP(Egresados!$O693,Maestros!$G$31:$J$1030,2,0)),\"\",VLOOKUP(Egresados!$O693,Maestros!$G$31:$J$1030,2,0))","v":"7"},{"$f":"CONCATENATE(Egresados!$Z$8:$Z$705,\"a\",Egresados!$AA$8:$AA$705)","v":"223a7"},{"$f":"IF(ISERROR(VLOOKUP(Egresados!$P693,Maestros!$L$31:$Q$1030,2,0)),\"\",VLOOKUP(Egresados!$P693,Maestros!$L$31:$Q$1030,2,0))","v":"213"},{"$f":"CONCATENATE(Egresados!$Z$8:$Z$705,\"a\",Egresados!$AA$8:$AA$705,\"a\",Egresados!$AC$8:$AC$705)","v":"223a7a213"},{"$f":"IF(ISERROR(VLOOKUP(Egresados!$C$8:$C$705,Maestros!$A$4:$B$21,2,0)),\"\",VLOOKUP(Egresados!$C$8:$C$705,Maestros!$A$4:$B$21,2,0))","v":"1001"},{"$f":"IF(ISERROR(VLOOKUP(Egresados!$H$8:$H$705,Maestros!$D$4:$E$21,2,0)),\"\",VLOOKUP(Egresados!$H$8:$H$705,Maestros!$D$4:$E$21,2,0))","v":"1121"},{"$f":"IF(OR(UPPER(Egresados!$J$8:$J$705)=\"SI\",UPPER(Egresados!$J$8:$J$705)=\"SÍ\"),1,IF(UPPER(Egresados!$J$8:$J$705)=\"NO\",0,\"\"))","v":0},{"$f":"IF(OR(UPPER(Egresados!$R$8:$R$705)=\"SI\",UPPER(Egresados!$R$8:$R$705)=\"SÍ\"),1,IF(UPPER(Egresados!$R$8:$R$705)=\"NO\",0,\"\"))","v":""},{"$f":"IF(OR(UPPER(Egresados!$S$8:$S$705)=\"SI\",UPPER(Egresados!$S$8:$S$705)=\"SÍ\"),1,IF(UPPER(Egresados!$S$8:$S$705)=\"NO\",0,\"\"))","v":""},{"$f":"IF(ISERROR(VLOOKUP(Egresados!$T$8:$T$705,Maestros!$S$31:$T$530,2,0)),\"\",VLOOKUP(Egresados!$T$8:$T$705,Maestros!$S$31:$T$530,2,0))","v":"62"},{"$f":"IF(ISERROR(VLOOKUP(U693,Maestros!$S$31:$T$530,2,0)),\"\",VLOOKUP(U693,Maestros!$S$31:$T$530,2,0))","v":"62"},{"$f":"IF(ISERROR(VLOOKUP(Egresados!$K$8:$K$705,Maestros!$A$31:$B$130,2,0)),\"\",VLOOKUP(Egresados!$K$8:$K$705,Maestros!$A$31:$B$130,2,0))","v":""},{"$f":"IF(LEN(tablaEgresados[[#This Row],[Nota promedio]])>0,ROUND(tablaEgresados[[#This Row],[Nota promedio]],2),\"\")","v":14.7}]
[686,null,"DNI","70105726","GAVANCHO","ROJAS","MARILYN ANNETTE HILDAURA","FEMENINO",null,"NO",null,null,null,"2020-1","EL RIMAC","TURISMO Y HOTELERIA",15.91,null,null,"2015-1","2015-1","20151245@une.edu.pe","Marilyn_030698@hotmail.com",3133700,"965107053",{"$f":"IF(ISERROR(VLOOKUP(Egresados!$N$8:$N$705,Maestros!$D$31:$E$530,2,0)),\"\",VLOOKUP(Egresados!$N$8:$N$705,Maestros!$D$31:$E$530,2,0))","v":"223"},{"$f":"IF(ISERROR(VLOOKUP(Egresados!$O694,Maestros!$G$31:$J$1030,2,0)),\"\",VLOOKUP(Egresados!$O694,Maestros!$G$31:$J$1030,2,0))","v":"7"},{"$f":"CONCATENATE(Egresados!$Z$8:$Z$705,\"a\",Egresados!$AA$8:$AA$705)","v":"223a7"},{"$f":"IF(ISERROR(VLOOKUP(Egresados!$P694,Maestros!$L$31:$Q$1030,2,0)),\"\",VLOOKUP(Egresados!$P694,Maestros!$L$31:$Q$1030,2,0))","v":"213"},{"$f":"CONCATENATE(Egresados!$Z$8:$Z$705,\"a\",Egresados!$AA$8:$AA$705,\"a\",Egresados!$AC$8:$AC$705)","v":"223a7a213"},{"$f":"IF(ISERROR(VLOOKUP(Egresados!$C$8:$C$705,Maestros!$A$4:$B$21,2,0)),\"\",VLOOKUP(Egresados!$C$8:$C$705,Maestros!$A$4:$B$21,2,0))","v":"1001"},{"$f":"IF(ISERROR(VLOOKUP(Egresados!$H$8:$H$705,Maestros!$D$4:$E$21,2,0)),\"\",VLOOKUP(Egresados!$H$8:$H$705,Maestros!$D$4:$E$21,2,0))","v":"1122"},{"$f":"IF(OR(UPPER(Egresados!$J$8:$J$705)=\"SI\",UPPER(Egresados!$J$8:$J$705)=\"SÍ\"),1,IF(UPPER(Egresados!$J$8:$J$705)=\"NO\",0,\"\"))","v":0},{"$f":"IF(OR(UPPER(Egresados!$R$8:$R$705)=\"SI\",UPPER(Egresados!$R$8:$R$705)=\"SÍ\"),1,IF(UPPER(Egresados!$R$8:$R$705)=\"NO\",0,\"\"))","v":""},{"$f":"IF(OR(UPPER(Egresados!$S$8:$S$705)=\"SI\",UPPER(Egresados!$S$8:$S$705)=\"SÍ\"),1,IF(UPPER(Egresados!$S$8:$S$705)=\"NO\",0,\"\"))","v":""},{"$f":"IF(ISERROR(VLOOKUP(Egresados!$T$8:$T$705,Maestros!$S$31:$T$530,2,0)),\"\",VLOOKUP(Egresados!$T$8:$T$705,Maestros!$S$31:$T$530,2,0))","v":"62"},{"$f":"IF(ISERROR(VLOOKUP(U694,Maestros!$S$31:$T$530,2,0)),\"\",VLOOKUP(U694,Maestros!$S$31:$T$530,2,0))","v":"62"},{"$f":"IF(ISERROR(VLOOKUP(Egresados!$K$8:$K$705,Maestros!$A$31:$B$130,2,0)),\"\",VLOOKUP(Egresados!$K$8:$K$705,Maestros!$A$31:$B$130,2,0))","v":""},{"$f":"IF(LEN(tablaEgresados[[#This Row],[Nota promedio]])>0,ROUND(tablaEgresados[[#This Row],[Nota promedio]],2),\"\")","v":15.91}]
[687,null,"DNI","73623980","MAMANI","YUCRA","KATHERINE ARELY","FEMENINO",null,"NO",null,null,null,"2020-1","EL RIMAC","TURISMO Y HOTELERIA",15.67,null,null,"2015-1","2015-1","20151254@une.edu.pe","Arely-girl14@hotmail.com",3133700,"950294112",{"$f":"IF(ISERROR(VLOOKUP(Egresados!$N$8:$N$705,Maestros!$D$31:$E$530,2,0)),\"\",VLOOKUP(Egresados!$N$8:$N$705,Maestros!$D$31:$E$530,2,0))","v":"223"},{"$f":"IF(ISERROR(VLOOKUP(Egresados!$O695,Maestros!$G$31:$J$1030,2,0)),\"\",VLOOKUP(Egresados!$O695,Maestros!$G$31:$J$1030,2,0))","v":"7"},{"$f":"CONCATENATE(Egresados!$Z$8:$Z$705,\"a\",Egresados!$AA$8:$AA$705)","v":"223a7"},{"$f":"IF(ISERROR(VLOOKUP(Egresados!$P695,Maestros!$L$31:$Q$1030,2,0)),\"\",VLOOKUP(Egresados!$P695,Maestros!$L$31:$Q$1030,2,0))","v":"213"},{"$f":"CONCATENATE(Egresados!$Z$8:$Z$705,\"a\",Egresados!$AA$8:$AA$705,\"a\",Egresados!$AC$8:$AC$705)","v":"223a7a213"},{"$f":"IF(ISERROR(VLOOKUP(Egresados!$C$8:$C$705,Maestros!$A$4:$B$21,2,0)),\"\",VLOOKUP(Egresados!$C$8:$C$705,Maestros!$A$4:$B$21,2,0))","v":"1001"},{"$f":"IF(ISERROR(VLOOKUP(Egresados!$H$8:$H$705,Maestros!$D$4:$E$21,2,0)),\"\",VLOOKUP(Egresados!$H$8:$H$705,Maestros!$D$4:$E$21,2,0))","v":"1122"},{"$f":"IF(OR(UPPER(Egresados!$J$8:$J$705)=\"SI\",UPPER(Egresados!$J$8:$J$705)=\"SÍ\"),1,IF(UPPER(Egresados!$J$8:$J$705)=\"NO\",0,\"\"))","v":0},{"$f":"IF(OR(UPPER(Egresados!$R$8:$R$705)=\"SI\",UPPER(Egresados!$R$8:$R$705)=\"SÍ\"),1,IF(UPPER(Egresados!$R$8:$R$705)=\"NO\",0,\"\"))","v":""},{"$f":"IF(OR(UPPER(Egresados!$S$8:$S$705)=\"SI\",UPPER(Egresados!$S$8:$S$705)=\"SÍ\"),1,IF(UPPER(Egresados!$S$8:$S$705)=\"NO\",0,\"\"))","v":""},{"$f":"IF(ISERROR(VLOOKUP(Egresados!$T$8:$T$705,Maestros!$S$31:$T$530,2,0)),\"\",VLOOKUP(Egresados!$T$8:$T$705,Maestros!$S$31:$T$530,2,0))","v":"62"},{"$f":"IF(ISERROR(VLOOKUP(U695,Maestros!$S$31:$T$530,2,0)),\"\",VLOOKUP(U695,Maestros!$S$31:$T$530,2,0))","v":"62"},{"$f":"IF(ISERROR(VLOOKUP(Egresados!$K$8:$K$705,Maestros!$A$31:$B$130,2,0)),\"\",VLOOKUP(Egresados!$K$8:$K$705,Maestros!$A$31:$B$130,2,0))","v":""},{"$f":"IF(LEN(tablaEgresados[[#This Row],[Nota promedio]])>0,ROUND(tablaEgresados[[#This Row],[Nota promedio]],2),\"\")","v":15.67}]
[688,null,"DNI","70036220","JOAQUIN","CHINCHAY","RICARDO AUDIE","MASCULINO",null,"NO",null,null,null,"2020-1","EL RIMAC","TURISMO Y HOTELERIA",15.41,null,null,"2015-1","2015-1","20151250@une.edu.pe","riki_best@hotmail.com",3133700,"948932171",{"$f":"IF(ISERROR(VLOOKUP(Egresados!$N$8:$N$705,Maestros!$D$31:$E$530,2,0)),\"\",VLOOKUP(Egresados!$N$8:$N$705,Maestros!$D$31:$E$530,2,0))","v":"223"},{"$f":"IF(ISERROR(VLOOKUP(Egresados!$O696,Maestros!$G$31:$J$1030,2,0)),\"\",VLOOKUP(Egresados!$O696,Maestros!$G$31:$J$1030,2,0))","v":"7"},{"$f":"CONCATENATE(Egresados!$Z$8:$Z$705,\"a\",Egresados!$AA$8:$AA$705)","v":"223a7"},{"$f":"IF(ISERROR(VLOOKUP(Egresados!$P696,Maestros!$L$31:$Q$1030,2,0)),\"\",VLOOKUP(Egresados!$P696,Maestros!$L$31:$Q$1030,2,0))","v":"213"},{"$f":"CONCATENATE(Egresados!$Z$8:$Z$705,\"a\",Egresados!$AA$8:$AA$705,\"a\",Egresados!$AC$8:$AC$705)","v":"223a7a213"},{"$f":"IF(ISERROR(VLOOKUP(Egresados!$C$8:$C$705,Maestros!$A$4:$B$21,2,0)),\"\",VLOOKUP(Egresados!$C$8:$C$705,Maestros!$A$4:$B$21,2,0))","v":"1001"},{"$f":"IF(ISERROR(VLOOKUP(Egresados!$H$8:$H$705,Maestros!$D$4:$E$21,2,0)),\"\",VLOOKUP(Egresados!$H$8:$H$705,Maestros!$D$4:$E$21,2,0))","v":"1121"},{"$f":"IF(OR(UPPER(Egresados!$J$8:$J$705)=\"SI\",UPPER(Egresados!$J$8:$J$705)=\"SÍ\"),1,IF(UPPER(Egresados!$J$8:$J$705)=\"NO\",0,\"\"))","v":0},{"$f":"IF(OR(UPPER(Egresados!$R$8:$R$705)=\"SI\",UPPER(Egresados!$R$8:$R$705)=\"SÍ\"),1,IF(UPPER(Egresados!$R$8:$R$705)=\"NO\",0,\"\"))","v":""},{"$f":"IF(OR(UPPER(Egresados!$S$8:$S$705)=\"SI\",UPPER(Egresados!$S$8:$S$705)=\"SÍ\"),1,IF(UPPER(Egresados!$S$8:$S$705)=\"NO\",0,\"\"))","v":""},{"$f":"IF(ISERROR(VLOOKUP(Egresados!$T$8:$T$705,Maestros!$S$31:$T$530,2,0)),\"\",VLOOKUP(Egresados!$T$8:$T$705,Maestros!$S$31:$T$530,2,0))","v":"62"},{"$f":"IF(ISERROR(VLOOKUP(U696,Maestros!$S$31:$T$530,2,0)),\"\",VLOOKUP(U696,Maestros!$S$31:$T$530,2,0))","v":"62"},{"$f":"IF(ISERROR(VLOOKUP(Egresados!$K$8:$K$705,Maestros!$A$31:$B$130,2,0)),\"\",VLOOKUP(Egresados!$K$8:$K$705,Maestros!$A$31:$B$130,2,0))","v":""},{"$f":"IF(LEN(tablaEgresados[[#This Row],[Nota promedio]])>0,ROUND(tablaEgresados[[#This Row],[Nota promedio]],2),\"\")","v":15.41}]
[689,null,"DNI","76018501","CORDOVA","LOPEZ","SAMUEL ANDRES","MASCULINO",null,"NO",null,null,null,"2020-1","EL RIMAC","TURISMO Y HOTELERIA",14.59,null,null,"2015-1","2015-1","20151238@une.edu.pe","samxio1234@gmail.com",3133700,"979332517",{"$f":"IF(ISERROR(VLOOKUP(Egresados!$N$8:$N$705,Maestros!$D$31:$E$530,2,0)),\"\",VLOOKUP(Egresados!$N$8:$N$705,Maestros!$D$31:$E$530,2,0))","v":"223"},{"$f":"IF(ISERROR(VLOOKUP(Egresados!$O697,Maestros!$G$31:$J$1030,2,0)),\"\",VLOOKUP(Egresados!$O697,Maestros!$G$31:$J$1030,2,0))","v":"7"},{"$f":"CONCATENATE(Egresados!$Z$8:$Z$705,\"a\",Egresados!$AA$8:$AA$705)","v":"223a7"},{"$f":"IF(ISERROR(VLOOKUP(Egresados!$P697,Maestros!$L$31:$Q$1030,2,0)),\"\",VLOOKUP(Egresados!$P697,Maestros!$L$31:$Q$1030,2,0))","v":"213"},{"$f":"CONCATENATE(Egresados!$Z$8:$Z$705,\"a\",Egresados!$AA$8:$AA$705,\"a\",Egresados!$AC$8:$AC$705)","v":"223a7a213"},{"$f":"IF(ISERROR(VLOOKUP(Egresados!$C$8:$C$705,Maestros!$A$4:$B$21,2,0)),\"\",VLOOKUP(Egresados!$C$8:$C$705,Maestros!$A$4:$B$21,2,0))","v":"1001"},{"$f":"IF(ISERROR(VLOOKUP(Egresados!$H$8:$H$705,Maestros!$D$4:$E$21,2,0)),\"\",VLOOKUP(Egresados!$H$8:$H$705,Maestros!$D$4:$E$21,2,0))","v":"1121"},{"$f":"IF(OR(UPPER(Egresados!$J$8:$J$705)=\"SI\",UPPER(Egresados!$J$8:$J$705)=\"SÍ\"),1,IF(UPPER(Egresados!$J$8:$J$705)=\"NO\",0,\"\"))","v":0},{"$f":"IF(OR(UPPER(Egresados!$R$8:$R$705)=\"SI\",UPPER(Egresados!$R$8:$R$705)=\"SÍ\"),1,IF(UPPER(Egresados!$R$8:$R$705)=\"NO\",0,\"\"))","v":""},{"$f":"IF(OR(UPPER(Egresados!$S$8:$S$705)=\"SI\",UPPER(Egresados!$S$8:$S$705)=\"SÍ\"),1,IF(UPPER(Egresados!$S$8:$S$705)=\"NO\",0,\"\"))","v":""},{"$f":"IF(ISERROR(VLOOKUP(Egresados!$T$8:$T$705,Maestros!$S$31:$T$530,2,0)),\"\",VLOOKUP(Egresados!$T$8:$T$705,Maestros!$S$31:$T$530,2,0))","v":"62"},{"$f":"IF(ISERROR(VLOOKUP(U697,Maestros!$S$31:$T$530,2,0)),\"\",VLOOKUP(U697,Maestros!$S$31:$T$530,2,0))","v":"62"},{"$f":"IF(ISERROR(VLOOKUP(Egresados!$K$8:$K$705,Maestros!$A$31:$B$130,2,0)),\"\",VLOOKUP(Egresados!$K$8:$K$705,Maestros!$A$31:$B$130,2,0))","v":""},{"$f":"IF(LEN(tablaEgresados[[#This Row],[Nota promedio]])>0,ROUND(tablaEgresados[[#This Row],[Nota promedio]],2),\"\")","v":14.59}]
[690,null,"DNI","71900789","GARCIA","PORRAS","CARLA MILUSKA","FEMENINO",null,"NO",null,null,null,"2020-1","EL RIMAC","TURISMO Y HOTELERIA",15.18,null,null,"2015-1","2015-1","20151244@une.edu.pe","karla_dark4evr@hotmail.com",3133700,"984886794",{"$f":"IF(ISERROR(VLOOKUP(Egresados!$N$8:$N$705,Maestros!$D$31:$E$530,2,0)),\"\",VLOOKUP(Egresados!$N$8:$N$705,Maestros!$D$31:$E$530,2,0))","v":"223"},{"$f":"IF(ISERROR(VLOOKUP(Egresados!$O698,Maestros!$G$31:$J$1030,2,0)),\"\",VLOOKUP(Egresados!$O698,Maestros!$G$31:$J$1030,2,0))","v":"7"},{"$f":"CONCATENATE(Egresados!$Z$8:$Z$705,\"a\",Egresados!$AA$8:$AA$705)","v":"223a7"},{"$f":"IF(ISERROR(VLOOKUP(Egresados!$P698,Maestros!$L$31:$Q$1030,2,0)),\"\",VLOOKUP(Egresados!$P698,Maestros!$L$31:$Q$1030,2,0))","v":"213"},{"$f":"CONCATENATE(Egresados!$Z$8:$Z$705,\"a\",Egresados!$AA$8:$AA$705,\"a\",Egresados!$AC$8:$AC$705)","v":"223a7a213"},{"$f":"IF(ISERROR(VLOOKUP(Egresados!$C$8:$C$705,Maestros!$A$4:$B$21,2,0)),\"\",VLOOKUP(Egresados!$C$8:$C$705,Maestros!$A$4:$B$21,2,0))","v":"1001"},{"$f":"IF(ISERROR(VLOOKUP(Egresados!$H$8:$H$705,Maestros!$D$4:$E$21,2,0)),\"\",VLOOKUP(Egresados!$H$8:$H$705,Maestros!$D$4:$E$21,2,0))","v":"1122"},{"$f":"IF(OR(UPPER(Egresados!$J$8:$J$705)=\"SI\",UPPER(Egresados!$J$8:$J$705)=\"SÍ\"),1,IF(UPPER(Egresados!$J$8:$J$705)=\"NO\",0,\"\"))","v":0},{"$f":"IF(OR(UPPER(Egresados!$R$8:$R$705)=\"SI\",UPPER(Egresados!$R$8:$R$705)=\"SÍ\"),1,IF(UPPER(Egresados!$R$8:$R$705)=\"NO\",0,\"\"))","v":""},{"$f":"IF(OR(UPPER(Egresados!$S$8:$S$705)=\"SI\",UPPER(Egresados!$S$8:$S$705)=\"SÍ\"),1,IF(UPPER(Egresados!$S$8:$S$705)=\"NO\",0,\"\"))","v":""},{"$f":"IF(ISERROR(VLOOKUP(Egresados!$T$8:$T$705,Maestros!$S$31:$T$530,2,0)),\"\",VLOOKUP(Egresados!$T$8:$T$705,Maestros!$S$31:$T$530,2,0))","v":"62"},{"$f":"IF(ISERROR(VLOOKUP(U698,Maestros!$S$31:$T$530,2,0)),\"\",VLOOKUP(U698,Maestros!$S$31:$T$530,2,0))","v":"62"},{"$f":"IF(ISERROR(VLOOKUP(Egresados!$K$8:$K$705,Maestros!$A$31:$B$130,2,0)),\"\",VLOOKUP(Egresados!$K$8:$K$705,Maestros!$A$31:$B$130,2,0))","v":""},{"$f":"IF(LEN(tablaEgresados[[#This Row],[Nota promedio]])>0,ROUND(tablaEgresados[[#This Row],[Nota promedio]],2),\"\")","v":15.18}]
[691,null,"DNI","72916712","TALLEDO","LOPEZ","JHON JAMES","MASCULINO",null,"NO",null,null,null,"2020-1","EL RIMAC","TURISMO Y HOTELERIA",14.3,null,null,"2015-1","2015-1","20151283@une.edu.pe","00nohj@gmail.com",3133700,"958094890",{"$f":"IF(ISERROR(VLOOKUP(Egresados!$N$8:$N$705,Maestros!$D$31:$E$530,2,0)),\"\",VLOOKUP(Egresados!$N$8:$N$705,Maestros!$D$31:$E$530,2,0))","v":"223"},{"$f":"IF(ISERROR(VLOOKUP(Egresados!$O699,Maestros!$G$31:$J$1030,2,0)),\"\",VLOOKUP(Egresados!$O699,Maestros!$G$31:$J$1030,2,0))","v":"7"},{"$f":"CONCATENATE(Egresados!$Z$8:$Z$705,\"a\",Egresados!$AA$8:$AA$705)","v":"223a7"},{"$f":"IF(ISERROR(VLOOKUP(Egresados!$P699,Maestros!$L$31:$Q$1030,2,0)),\"\",VLOOKUP(Egresados!$P699,Maestros!$L$31:$Q$1030,2,0))","v":"213"},{"$f":"CONCATENATE(Egresados!$Z$8:$Z$705,\"a\",Egresados!$AA$8:$AA$705,\"a\",Egresados!$AC$8:$AC$705)","v":"223a7a213"},{"$f":"IF(ISERROR(VLOOKUP(Egresados!$C$8:$C$705,Maestros!$A$4:$B$21,2,0)),\"\",VLOOKUP(Egresados!$C$8:$C$705,Maestros!$A$4:$B$21,2,0))","v":"1001"},{"$f":"IF(ISERROR(VLOOKUP(Egresados!$H$8:$H$705,Maestros!$D$4:$E$21,2,0)),\"\",VLOOKUP(Egresados!$H$8:$H$705,Maestros!$D$4:$E$21,2,0))","v":"1121"},{"$f":"IF(OR(UPPER(Egresados!$J$8:$J$705)=\"SI\",UPPER(Egresados!$J$8:$J$705)=\"SÍ\"),1,IF(UPPER(Egresados!$J$8:$J$705)=\"NO\",0,\"\"))","v":0},{"$f":"IF(OR(UPPER(Egresados!$R$8:$R$705)=\"SI\",UPPER(Egresados!$R$8:$R$705)=\"SÍ\"),1,IF(UPPER(Egresados!$R$8:$R$705)=\"NO\",0,\"\"))","v":""},{"$f":"IF(OR(UPPER(Egresados!$S$8:$S$705)=\"SI\",UPPER(Egresados!$S$8:$S$705)=\"SÍ\"),1,IF(UPPER(Egresados!$S$8:$S$705)=\"NO\",0,\"\"))","v":""},{"$f":"IF(ISERROR(VLOOKUP(Egresados!$T$8:$T$705,Maestros!$S$31:$T$530,2,0)),\"\",VLOOKUP(Egresados!$T$8:$T$705,Maestros!$S$31:$T$530,2,0))","v":"62"},{"$f":"IF(ISERROR(VLOOKUP(U699,Maestros!$S$31:$T$530,2,0)),\"\",VLOOKUP(U699,Maestros!$S$31:$T$530,2,0))","v":"62"},{"$f":"IF(ISERROR(VLOOKUP(Egresados!$K$8:$K$705,Maestros!$A$31:$B$130,2,0)),\"\",VLOOKUP(Egresados!$K$8:$K$705,Maestros!$A$31:$B$130,2,0))","v":""},{"$f":"IF(LEN(tablaEgresados[[#This Row],[Nota promedio]])>0,ROUND(tablaEgresados[[#This Row],[Nota promedio]],2),\"\")","v":14.3}]
[692,null,"DNI","73093125","CARDENAS","ASTO","JULISSA ROSMERY","FEMENINO",null,"NO",null,null,null,"2020-1","EL RIMAC","TURISMO Y HOTELERIA",15.13,null,null,"2015-1","2015-1","20150366@une.edu.pe","ruos2210@gmail.com",3133700,"941069305",{"$f":"IF(ISERROR(VLOOKUP(Egresados!$N$8:$N$705,Maestros!$D$31:$E$530,2,0)),\"\",VLOOKUP(Egresados!$N$8:$N$705,Maestros!$D$31:$E$530,2,0))","v":"223"},{"$f":"IF(ISERROR(VLOOKUP(Egresados!$O700,Maestros!$G$31:$J$1030,2,0)),\"\",VLOOKUP(Egresados!$O700,Maestros!$G$31:$J$1030,2,0))","v":"7"},{"$f":"CONCATENATE(Egresados!$Z$8:$Z$705,\"a\",Egresados!$AA$8:$AA$705)","v":"223a7"},{"$f":"IF(ISERROR(VLOOKUP(Egresados!$P700,Maestros!$L$31:$Q$1030,2,0)),\"\",VLOOKUP(Egresados!$P700,Maestros!$L$31:$Q$1030,2,0))","v":"213"},{"$f":"CONCATENATE(Egresados!$Z$8:$Z$705,\"a\",Egresados!$AA$8:$AA$705,\"a\",Egresados!$AC$8:$AC$705)","v":"223a7a213"},{"$f":"IF(ISERROR(VLOOKUP(Egresados!$C$8:$C$705,Maestros!$A$4:$B$21,2,0)),\"\",VLOOKUP(Egresados!$C$8:$C$705,Maestros!$A$4:$B$21,2,0))","v":"1001"},{"$f":"IF(ISERROR(VLOOKUP(Egresados!$H$8:$H$705,Maestros!$D$4:$E$21,2,0)),\"\",VLOOKUP(Egresados!$H$8:$H$705,Maestros!$D$4:$E$21,2,0))","v":"1122"},{"$f":"IF(OR(UPPER(Egresados!$J$8:$J$705)=\"SI\",UPPER(Egresados!$J$8:$J$705)=\"SÍ\"),1,IF(UPPER(Egresados!$J$8:$J$705)=\"NO\",0,\"\"))","v":0},{"$f":"IF(OR(UPPER(Egresados!$R$8:$R$705)=\"SI\",UPPER(Egresados!$R$8:$R$705)=\"SÍ\"),1,IF(UPPER(Egresados!$R$8:$R$705)=\"NO\",0,\"\"))","v":""},{"$f":"IF(OR(UPPER(Egresados!$S$8:$S$705)=\"SI\",UPPER(Egresados!$S$8:$S$705)=\"SÍ\"),1,IF(UPPER(Egresados!$S$8:$S$705)=\"NO\",0,\"\"))","v":""},{"$f":"IF(ISERROR(VLOOKUP(Egresados!$T$8:$T$705,Maestros!$S$31:$T$530,2,0)),\"\",VLOOKUP(Egresados!$T$8:$T$705,Maestros!$S$31:$T$530,2,0))","v":"62"},{"$f":"IF(ISERROR(VLOOKUP(U700,Maestros!$S$31:$T$530,2,0)),\"\",VLOOKUP(U700,Maestros!$S$31:$T$530,2,0))","v":"62"},{"$f":"IF(ISERROR(VLOOKUP(Egresados!$K$8:$K$705,Maestros!$A$31:$B$130,2,0)),\"\",VLOOKUP(Egresados!$K$8:$K$705,Maestros!$A$31:$B$130,2,0))","v":""},{"$f":"IF(LEN(tablaEgresados[[#This Row],[Nota promedio]])>0,ROUND(tablaEgresados[[#This Row],[Nota promedio]],2),\"\")","v":15.13}]
[693,null,"DNI","73864285","ALTAMIRANO","HUISA","JOVANA","FEMENINO",null,"NO",null,null,null,"2020-1","EL RIMAC","TURISMO Y HOTELERIA",14.37,null,null,"2011-1","2011-1","20111416@une.edu.pe","jhovanahuisa8@gmail.com",3133700,"986773999",{"$f":"IF(ISERROR(VLOOKUP(Egresados!$N$8:$N$705,Maestros!$D$31:$E$530,2,0)),\"\",VLOOKUP(Egresados!$N$8:$N$705,Maestros!$D$31:$E$530,2,0))","v":"223"},{"$f":"IF(ISERROR(VLOOKUP(Egresados!$O701,Maestros!$G$31:$J$1030,2,0)),\"\",VLOOKUP(Egresados!$O701,Maestros!$G$31:$J$1030,2,0))","v":"7"},{"$f":"CONCATENATE(Egresados!$Z$8:$Z$705,\"a\",Egresados!$AA$8:$AA$705)","v":"223a7"},{"$f":"IF(ISERROR(VLOOKUP(Egresados!$P701,Maestros!$L$31:$Q$1030,2,0)),\"\",VLOOKUP(Egresados!$P701,Maestros!$L$31:$Q$1030,2,0))","v":"213"},{"$f":"CONCATENATE(Egresados!$Z$8:$Z$705,\"a\",Egresados!$AA$8:$AA$705,\"a\",Egresados!$AC$8:$AC$705)","v":"223a7a213"},{"$f":"IF(ISERROR(VLOOKUP(Egresados!$C$8:$C$705,Maestros!$A$4:$B$21,2,0)),\"\",VLOOKUP(Egresados!$C$8:$C$705,Maestros!$A$4:$B$21,2,0))","v":"1001"},{"$f":"IF(ISERROR(VLOOKUP(Egresados!$H$8:$H$705,Maestros!$D$4:$E$21,2,0)),\"\",VLOOKUP(Egresados!$H$8:$H$705,Maestros!$D$4:$E$21,2,0))","v":"1122"},{"$f":"IF(OR(UPPER(Egresados!$J$8:$J$705)=\"SI\",UPPER(Egresados!$J$8:$J$705)=\"SÍ\"),1,IF(UPPER(Egresados!$J$8:$J$705)=\"NO\",0,\"\"))","v":0},{"$f":"IF(OR(UPPER(Egresados!$R$8:$R$705)=\"SI\",UPPER(Egresados!$R$8:$R$705)=\"SÍ\"),1,IF(UPPER(Egresados!$R$8:$R$705)=\"NO\",0,\"\"))","v":""},{"$f":"IF(OR(UPPER(Egresados!$S$8:$S$705)=\"SI\",UPPER(Egresados!$S$8:$S$705)=\"SÍ\"),1,IF(UPPER(Egresados!$S$8:$S$705)=\"NO\",0,\"\"))","v":""},{"$f":"IF(ISERROR(VLOOKUP(Egresados!$T$8:$T$705,Maestros!$S$31:$T$530,2,0)),\"\",VLOOKUP(Egresados!$T$8:$T$705,Maestros!$S$31:$T$530,2,0))","v":"46"},{"$f":"IF(ISERROR(VLOOKUP(U701,Maestros!$S$31:$T$530,2,0)),\"\",VLOOKUP(U701,Maestros!$S$31:$T$530,2,0))","v":"46"},{"$f":"IF(ISERROR(VLOOKUP(Egresados!$K$8:$K$705,Maestros!$A$31:$B$130,2,0)),\"\",VLOOKUP(Egresados!$K$8:$K$705,Maestros!$A$31:$B$130,2,0))","v":""},{"$f":"IF(LEN(tablaEgresados[[#This Row],[Nota promedio]])>0,ROUND(tablaEgresados[[#This Row],[Nota promedio]],2),\"\")","v":14.37}]
[694,null,"DNI","70664513","CUBA","TAME","ALBERTO","MASCULINO",null,"NO",null,null,null,"2020-1","EL RIMAC","TURISMO Y HOTELERIA",14.84,null,null,"2015-1","2015-1","20151239@une.edu.pe","cubalberth.1998@gmail.com",3133700,"939369487",{"$f":"IF(ISERROR(VLOOKUP(Egresados!$N$8:$N$705,Maestros!$D$31:$E$530,2,0)),\"\",VLOOKUP(Egresados!$N$8:$N$705,Maestros!$D$31:$E$530,2,0))","v":"223"},{"$f":"IF(ISERROR(VLOOKUP(Egresados!$O702,Maestros!$G$31:$J$1030,2,0)),\"\",VLOOKUP(Egresados!$O702,Maestros!$G$31:$J$1030,2,0))","v":"7"},{"$f":"CONCATENATE(Egresados!$Z$8:$Z$705,\"a\",Egresados!$AA$8:$AA$705)","v":"223a7"},{"$f":"IF(ISERROR(VLOOKUP(Egresados!$P702,Maestros!$L$31:$Q$1030,2,0)),\"\",VLOOKUP(Egresados!$P702,Maestros!$L$31:$Q$1030,2,0))","v":"213"},{"$f":"CONCATENATE(Egresados!$Z$8:$Z$705,\"a\",Egresados!$AA$8:$AA$705,\"a\",Egresados!$AC$8:$AC$705)","v":"223a7a213"},{"$f":"IF(ISERROR(VLOOKUP(Egresados!$C$8:$C$705,Maestros!$A$4:$B$21,2,0)),\"\",VLOOKUP(Egresados!$C$8:$C$705,Maestros!$A$4:$B$21,2,0))","v":"1001"},{"$f":"IF(ISERROR(VLOOKUP(Egresados!$H$8:$H$705,Maestros!$D$4:$E$21,2,0)),\"\",VLOOKUP(Egresados!$H$8:$H$705,Maestros!$D$4:$E$21,2,0))","v":"1121"},{"$f":"IF(OR(UPPER(Egresados!$J$8:$J$705)=\"SI\",UPPER(Egresados!$J$8:$J$705)=\"SÍ\"),1,IF(UPPER(Egresados!$J$8:$J$705)=\"NO\",0,\"\"))","v":0},{"$f":"IF(OR(UPPER(Egresados!$R$8:$R$705)=\"SI\",UPPER(Egresados!$R$8:$R$705)=\"SÍ\"),1,IF(UPPER(Egresados!$R$8:$R$705)=\"NO\",0,\"\"))","v":""},{"$f":"IF(OR(UPPER(Egresados!$S$8:$S$705)=\"SI\",UPPER(Egresados!$S$8:$S$705)=\"SÍ\"),1,IF(UPPER(Egresados!$S$8:$S$705)=\"NO\",0,\"\"))","v":""},{"$f":"IF(ISERROR(VLOOKUP(Egresados!$T$8:$T$705,Maestros!$S$31:$T$530,2,0)),\"\",VLOOKUP(Egresados!$T$8:$T$705,Maestros!$S$31:$T$530,2,0))","v":"62"},{"$f":"IF(ISERROR(VLOOKUP(U702,Maestros!$S$31:$T$530,2,0)),\"\",VLOOKUP(U702,Maestros!$S$31:$T$530,2,0))","v":"62"},{"$f":"IF(ISERROR(VLOOKUP(Egresados!$K$8:$K$705,Maestros!$A$31:$B$130,2,0)),\"\",VLOOKUP(Egresados!$K$8:$K$705,Maestros!$A$31:$B$130,2,0))","v":""},{"$f":"IF(LEN(tablaEgresados[[#This Row],[Nota promedio]])>0,ROUND(tablaEgresados[[#This Row],[Nota promedio]],2),\"\")","v":14.84}]
[695,null,"DNI","74610980","COLLAHUACHO","CAMASCA","CARLOS ALBERTO","MASCULINO",null,"NO",null,null,null,"2020-1","EL RIMAC","TURISMO Y HOTELERIA",14.89,null,null,"2015-1","2015-1","20151237@une.edu.pe","carlos.c.camasca@gmail.com",3133700,"967738432",{"$f":"IF(ISERROR(VLOOKUP(Egresados!$N$8:$N$705,Maestros!$D$31:$E$530,2,0)),\"\",VLOOKUP(Egresados!$N$8:$N$705,Maestros!$D$31:$E$530,2,0))","v":"223"},{"$f":"IF(ISERROR(VLOOKUP(Egresados!$O703,Maestros!$G$31:$J$1030,2,0)),\"\",VLOOKUP(Egresados!$O703,Maestros!$G$31:$J$1030,2,0))","v":"7"},{"$f":"CONCATENATE(Egresados!$Z$8:$Z$705,\"a\",Egresados!$AA$8:$AA$705)","v":"223a7"},{"$f":"IF(ISERROR(VLOOKUP(Egresados!$P703,Maestros!$L$31:$Q$1030,2,0)),\"\",VLOOKUP(Egresados!$P703,Maestros!$L$31:$Q$1030,2,0))","v":"213"},{"$f":"CONCATENATE(Egresados!$Z$8:$Z$705,\"a\",Egresados!$AA$8:$AA$705,\"a\",Egresados!$AC$8:$AC$705)","v":"223a7a213"},{"$f":"IF(ISERROR(VLOOKUP(Egresados!$C$8:$C$705,Maestros!$A$4:$B$21,2,0)),\"\",VLOOKUP(Egresados!$C$8:$C$705,Maestros!$A$4:$B$21,2,0))","v":"1001"},{"$f":"IF(ISERROR(VLOOKUP(Egresados!$H$8:$H$705,Maestros!$D$4:$E$21,2,0)),\"\",VLOOKUP(Egresados!$H$8:$H$705,Maestros!$D$4:$E$21,2,0))","v":"1121"},{"$f":"IF(OR(UPPER(Egresados!$J$8:$J$705)=\"SI\",UPPER(Egresados!$J$8:$J$705)=\"SÍ\"),1,IF(UPPER(Egresados!$J$8:$J$705)=\"NO\",0,\"\"))","v":0},{"$f":"IF(OR(UPPER(Egresados!$R$8:$R$705)=\"SI\",UPPER(Egresados!$R$8:$R$705)=\"SÍ\"),1,IF(UPPER(Egresados!$R$8:$R$705)=\"NO\",0,\"\"))","v":""},{"$f":"IF(OR(UPPER(Egresados!$S$8:$S$705)=\"SI\",UPPER(Egresados!$S$8:$S$705)=\"SÍ\"),1,IF(UPPER(Egresados!$S$8:$S$705)=\"NO\",0,\"\"))","v":""},{"$f":"IF(ISERROR(VLOOKUP(Egresados!$T$8:$T$705,Maestros!$S$31:$T$530,2,0)),\"\",VLOOKUP(Egresados!$T$8:$T$705,Maestros!$S$31:$T$530,2,0))","v":"62"},{"$f":"IF(ISERROR(VLOOKUP(U703,Maestros!$S$31:$T$530,2,0)),\"\",VLOOKUP(U703,Maestros!$S$31:$T$530,2,0))","v":"62"},{"$f":"IF(ISERROR(VLOOKUP(Egresados!$K$8:$K$705,Maestros!$A$31:$B$130,2,0)),\"\",VLOOKUP(Egresados!$K$8:$K$705,Maestros!$A$31:$B$130,2,0))","v":""},{"$f":"IF(LEN(tablaEgresados[[#This Row],[Nota promedio]])>0,ROUND(tablaEgresados[[#This Row],[Nota promedio]],2),\"\")","v":14.89}]
[696,null,"DNI","70118927","NINASAUME","PRADO","SONIA","FEMENINO",null,"NO",null,null,null,"2020-1","EL RIMAC","TURISMO Y HOTELERIA",14.1,null,null,"2013-1","2013-1","20130796@une.edu.pe","sonia_luz_22@hotmail.com",3133700,"931820506",{"$f":"IF(ISERROR(VLOOKUP(Egresados!$N$8:$N$705,Maestros!$D$31:$E$530,2,0)),\"\",VLOOKUP(Egresados!$N$8:$N$705,Maestros!$D$31:$E$530,2,0))","v":"223"},{"$f":"IF(ISERROR(VLOOKUP(Egresados!$O704,Maestros!$G$31:$J$1030,2,0)),\"\",VLOOKUP(Egresados!$O704,Maestros!$G$31:$J$1030,2,0))","v":"7"},{"$f":"CONCATENATE(Egresados!$Z$8:$Z$705,\"a\",Egresados!$AA$8:$AA$705)","v":"223a7"},{"$f":"IF(ISERROR(VLOOKUP(Egresados!$P704,Maestros!$L$31:$Q$1030,2,0)),\"\",VLOOKUP(Egresados!$P704,Maestros!$L$31:$Q$1030,2,0))","v":"213"},{"$f":"CONCATENATE(Egresados!$Z$8:$Z$705,\"a\",Egresados!$AA$8:$AA$705,\"a\",Egresados!$AC$8:$AC$705)","v":"223a7a213"},{"$f":"IF(ISERROR(VLOOKUP(Egresados!$C$8:$C$705,Maestros!$A$4:$B$21,2,0)),\"\",VLOOKUP(Egresados!$C$8:$C$705,Maestros!$A$4:$B$21,2,0))","v":"1001"},{"$f":"IF(ISERROR(VLOOKUP(Egresados!$H$8:$H$705,Maestros!$D$4:$E$21,2,0)),\"\",VLOOKUP(Egresados!$H$8:$H$705,Maestros!$D$4:$E$21,2,0))","v":"1122"},{"$f":"IF(OR(UPPER(Egresados!$J$8:$J$705)=\"SI\",UPPER(Egresados!$J$8:$J$705)=\"SÍ\"),1,IF(UPPER(Egresados!$J$8:$J$705)=\"NO\",0,\"\"))","v":0},{"$f":"IF(OR(UPPER(Egresados!$R$8:$R$705)=\"SI\",UPPER(Egresados!$R$8:$R$705)=\"SÍ\"),1,IF(UPPER(Egresados!$R$8:$R$705)=\"NO\",0,\"\"))","v":""},{"$f":"IF(OR(UPPER(Egresados!$S$8:$S$705)=\"SI\",UPPER(Egresados!$S$8:$S$705)=\"SÍ\"),1,IF(UPPER(Egresados!$S$8:$S$705)=\"NO\",0,\"\"))","v":""},{"$f":"IF(ISERROR(VLOOKUP(Egresados!$T$8:$T$705,Maestros!$S$31:$T$530,2,0)),\"\",VLOOKUP(Egresados!$T$8:$T$705,Maestros!$S$31:$T$530,2,0))","v":"54"},{"$f":"IF(ISERROR(VLOOKUP(U704,Maestros!$S$31:$T$530,2,0)),\"\",VLOOKUP(U704,Maestros!$S$31:$T$530,2,0))","v":"54"},{"$f":"IF(ISERROR(VLOOKUP(Egresados!$K$8:$K$705,Maestros!$A$31:$B$130,2,0)),\"\",VLOOKUP(Egresados!$K$8:$K$705,Maestros!$A$31:$B$130,2,0))","v":""},{"$f":"IF(LEN(tablaEgresados[[#This Row],[Nota promedio]])>0,ROUND(tablaEgresados[[#This Row],[Nota promedio]],2),\"\")","v":14.1}]
[697,null,"DNI","72837885","UGARTE","VILCHEZ","ARACELY SABRINA","MASCULINO",null,"NO",null,null,null,"2020-1","EL RIMAC","TURISMO Y HOTELERIA",15.23,null,null,"2015-1","2015-1","20151287@une.edu.pe","aracelyuv16@gmail.com",3133700,"945168159",{"$f":"IF(ISERROR(VLOOKUP(Egresados!$N$8:$N$705,Maestros!$D$31:$E$530,2,0)),\"\",VLOOKUP(Egresados!$N$8:$N$705,Maestros!$D$31:$E$530,2,0))","v":"223"},{"$f":"IF(ISERROR(VLOOKUP(Egresados!$O705,Maestros!$G$31:$J$1030,2,0)),\"\",VLOOKUP(Egresados!$O705,Maestros!$G$31:$J$1030,2,0))","v":"7"},{"$f":"CONCATENATE(Egresados!$Z$8:$Z$705,\"a\",Egresados!$AA$8:$AA$705)","v":"223a7"},{"$f":"IF(ISERROR(VLOOKUP(Egresados!$P705,Maestros!$L$31:$Q$1030,2,0)),\"\",VLOOKUP(Egresados!$P705,Maestros!$L$31:$Q$1030,2,0))","v":"213"},{"$f":"CONCATENATE(Egresados!$Z$8:$Z$705,\"a\",Egresados!$AA$8:$AA$705,\"a\",Egresados!$AC$8:$AC$705)","v":"223a7a213"},{"$f":"IF(ISERROR(VLOOKUP(Egresados!$C$8:$C$705,Maestros!$A$4:$B$21,2,0)),\"\",VLOOKUP(Egresados!$C$8:$C$705,Maestros!$A$4:$B$21,2,0))","v":"1001"},{"$f":"IF(ISERROR(VLOOKUP(Egresados!$H$8:$H$705,Maestros!$D$4:$E$21,2,0)),\"\",VLOOKUP(Egresados!$H$8:$H$705,Maestros!$D$4:$E$21,2,0))","v":"1121"},{"$f":"IF(OR(UPPER(Egresados!$J$8:$J$705)=\"SI\",UPPER(Egresados!$J$8:$J$705)=\"SÍ\"),1,IF(UPPER(Egresados!$J$8:$J$705)=\"NO\",0,\"\"))","v":0},{"$f":"IF(OR(UPPER(Egresados!$R$8:$R$705)=\"SI\",UPPER(Egresados!$R$8:$R$705)=\"SÍ\"),1,IF(UPPER(Egresados!$R$8:$R$705)=\"NO\",0,\"\"))","v":""},{"$f":"IF(OR(UPPER(Egresados!$S$8:$S$705)=\"SI\",UPPER(Egresados!$S$8:$S$705)=\"SÍ\"),1,IF(UPPER(Egresados!$S$8:$S$705)=\"NO\",0,\"\"))","v":""},{"$f":"IF(ISERROR(VLOOKUP(Egresados!$T$8:$T$705,Maestros!$S$31:$T$530,2,0)),\"\",VLOOKUP(Egresados!$T$8:$T$705,Maestros!$S$31:$T$530,2,0))","v":"62"},{"$f":"IF(ISERROR(VLOOKUP(U705,Maestros!$S$31:$T$530,2,0)),\"\",VLOOKUP(U705,Maestros!$S$31:$T$530,2,0))","v":"62"},{"$f":"IF(ISERROR(VLOOKUP(Egresados!$K$8:$K$705,Maestros!$A$31:$B$130,2,0)),\"\",VLOOKUP(Egresados!$K$8:$K$705,Maestros!$A$31:$B$130,2,0))","v":""},{"$f":"IF(LEN(tablaEgresados[[#This Row],[Nota promedio]])>0,ROUND(tablaEgresados[[#This Row],[Nota promedio]],2),\"\")","v":15.23}]

{"sheet":"Maestros","index":2,"n_rows":1030,"n_cols":20,"rows_kept":1030,"cut":false,"hidden":true,"merged":[[28,11,28,14],[28,18,28,19],[1,0,1,1],[1,3,1,4],[1,6,1,7],[28,0,28,1],[28,3,28,4],[28,6,28,8]]}
[]
["TIPO DOCUMENTO",null,null,"GÉNERO",null,null,"VALORES SI/NO"]
["NOMBRE","CODIGO",null,"NOMBRE","CODIGO",null,"NOMBRE","CODIGO"]
["DNI","1001",null,"MASCULINO","1121",null,"SI","1"]
["CE","1002",null,"FEMENINO","1122",null,"NO","0"]
["PASAPORTE","1003",null,"_","_",null,"_","_"]
["_","_",null,"_","_",null,"_","_"]
["_","_",null,"_","_",null,"_","_"]
["_","_",null,"_","_",null,"_","_"]
["_","_",null,"_","_",null,"_","_"]
["_","_",null,"_","_",null,"_","_"]
["_","_",null,"_","_",null,"_","_"]
["_","_",null,"_","_",null,"_","_"]
["_","_",null,"_","_",null,"_","_"]
["_","_",null,"_","_",null,"_","_"]
["_","_",null,"_","_",null,"_","_"]
["_","_",null,"_","_",null,"_","_"]
["_","_",null,"_","_",null,"_","_"]
["_","_",null,"_","_",null,"_","_"]
["_","_",null,"_","_",null,"_","_"]
["_","_",null,"_","_",null,"_","_"]
[]
[]
[]
[]
[]
[]
[]
["TIPO DISCAPACIDAD",null,null,"PERIODO_EGRESO",null,null,"LOCALXPERIODO",null,null,null,null,"PERIODO/LOCAL/CARRERA",null,null,null,null,null,null,"PERIODO INGRESO/MATRICULA"]
["NOMBRE","CODIGO",null,"NOMBRE","CODIGO",null,"NOMBRE","CODIGO","CODIGOPERIODO","CODIGOCOINCIDIR",null,"NOMBRE","CODIGO_CARRERA","CODIGO_LOCAL","CODIGO_PERIODO","CODIGOCOINCIDIR","CODIGOCOINDIRCARR",null,"NOMBRE","CODIGO"]
["DISCAPACIDAD MOTRIZ","3301",null,"2020-1","223",null,"EL RIMAC","7","223","223a7",null,"ADMINISTRACION DE EMPRESAS","60","7","223","223a7","223a7a60",null,"2000-0","1"]
["DISCAPACIDAD VISUAL","3302",null,"2020-A","225",null,"SEDE CENTRAL","8","223","223a8",null,"TURISMO Y HOTELERIA","213","7","223","223a7","223a7a213",null,"2000-1","2"]
["VISUAL Y ESQUEMA CORPORAL","3303",null,"_","_",null,"SEDE CENTRAL","8","225","225a8",null,"GASTRONOMIA","214","7","223","223a7","223a7a214",null,"2000-2","3"]
["DISMINUIDOS VISUALES","3304",null,"_","_",null,"_","_","_","_",null,"ADMINISTRACION DE NEGOCIOS INTERNACIONALES","215","7","223","223a7","223a7a215",null,"2000-A","4"]
["DISCAPACIDAD AUDITIVA","3305",null,"_","_",null,"_","_","_","_",null,"EDUCACION FISICA-DEPORTES","12","8","223","223a8","223a8a12",null,"2001-0","5"]
["AUTISMO","3306",null,"_","_",null,"_","_","_","_",null,"MATEMATICA E INFORMATICA","61","8","223","223a8","223a8a61",null,"2001-1","6"]
["DISCAPACIDAD MENTAL","3307",null,"_","_",null,"_","_","_","_",null,"FUERZA MOTRIZ","62","8","223","223a8","223a8a62",null,"2001-2","7"]
["PARÁLISIS CEREBRAL","3308",null,"_","_",null,"_","_","_","_",null,"EDUCACION INICIAL-NIÑEZ TEMPRANA","65","8","223","223a8","223a8a65",null,"2001-A","8"]
["DISCAPACIDAD INTELECTUAL","3309",null,"_","_",null,"_","_","_","_",null,"EDUCACION PRIMARIA-EDUCACION BASICA ALTERNATIVA","66","8","223","223a8","223a8a66",null,"2002-0","9"]
["SORDOCEGUERA","3310",null,"_","_",null,"_","_","_","_",null,"MATEMATICA","187","8","223","223a8","223a8a187",null,"2002-1","10"]
["NO CUENTA CON INFORMACION","3983",null,"_","_",null,"_","_","_","_",null,"EDUCACION INICIAL-RETARDO MENTAL","216","8","223","223a8","223a8a216",null,"2002-2","11"]
["OTROS","3987",null,"_","_",null,"_","_","_","_",null,"AGROPECUARIA","217","8","223","223a8","223a8a217",null,"2002-A","12"]
["SINDROME DE ASPERGER","3996",null,"_","_",null,"_","_","_","_",null,"INDUSTRIA ALIMENTARIA Y NUTRICION","218","8","223","223a8","223a8a218",null,"2003-0","13"]
["HEMIPLEJIA NO IDENTIFICADA","3997",null,"_","_",null,"_","_","_","_",null,"DESARROLLO AMBIENTAL","219","8","223","223a8","223a8a219",null,"2003-1","14"]
["ESTENOSIS CONGÉNITA DE LA VÁLVULA AORTICA","3998",null,"_","_",null,"_","_","_","_",null,"NUTRICION HUMANA","220","8","223","223a8","223a8a220",null,"2003-2","15"]
["MULTIDISCAPACIDAD","4028",null,"_","_",null,"_","_","_","_",null,"EDUCACION FISICA-EDUCACION FISICA EN EDADES TEMPRANAS","221","8","223","223a8","223a8a221",null,"2003-A","16"]
["DISCAPACIDAD FISICA","4029",null,"_","_",null,"_","_","_","_",null,"EDUCACION BASICA ALTERNATIVA-EDUCACION PRIMARIA","222","8","223","223a8","223a8a222",null,"2004-0","17"]
["TRASTORNO DEL ESPECTRO AUTISTA","4030",null,"_","_",null,"_","_","_","_",null,"BIOLOGIA-MATEMATICA","285","8","223","223a8","223a8a285",null,"2004-1","18"]
["T. POR DÉFICIT DE ATENCIÓN CON HIPERACTIVIDAD","4031",null,"_","_",null,"_","_","_","_",null,"ARTES INDUSTRIALES-INDUSTRIA DE LA CERAMICA ARTESANIA Y MANUALIDADES","298","8","223","223a8","223a8a298",null,"2004-2","19"]
["T. ESPECIFICO DEL APRENDIZAJE","4032",null,"_","_",null,"_","_","_","_",null,"QUIMICA-INFORMATICA","299","8","223","223a8","223a8a299",null,"2004-A","20"]
["T. MENTALES Y DEL COMPORTAMIENTO","4033",null,"_","_",null,"_","_","_","_",null,"FISICA-INFORMATICA","300","8","223","223a8","223a8a300",null,"2005-0","21"]
["ENFERMEDADES RARAS","4034",null,"_","_",null,"_","_","_","_",null,"FISICA-MATEMATICA","301","8","223","223a8","223a8a301",null,"2005-1","22"]
["TALLA BAJA","4035",null,"_","_",null,"_","_","_","_",null,"INFORMATICA","302","8","223","223a8","223a8a302",null,"2005-2","23"]
["ESTUDIANTE EN CONDICIÓN DE HOSPITALIZAN  TRATAMIENTO AMBULATORIO POR PERIODO PROLONGADO","4036",null,"_","_",null,"_","_","_","_",null,"QUIMICA - CIENCIAS NATURALES","303","8","223","223a8","223a8a303",null,"2005-A","24"]
["TALENTO","4037",null,"_","_",null,"_","_","_","_",null,"QUIMICA FISICA Y BIOLOGIA","304","8","223","223a8","223a8a304",null,"2006-0","25"]
["SUPERDOTACIÓN","4038",null,"_","_",null,"_","_","_","_",null,"LITERATURA-LENGUA ESPAÑOLA","305","8","223","223a8","223a8a305",null,"2006-1","26"]
["_","_",null,"_","_",null,"_","_","_","_",null,"EDUCACION FISICA-EDUCACION FISICA EN POBLACIONES ESPECIALES","308","8","223","223a8","223a8a308",null,"2006-2","27"]
["_","_",null,"_","_",null,"_","_","_","_",null,"ELECTRICIDAD","309","8","223","223a8","223a8a309",null,"2006-A","28"]
["_","_",null,"_","_",null,"_","_","_","_",null,"CONSTRUCCIONES METALICAS","310","8","223","223a8","223a8a310",null,"2007-0","29"]
["_","_",null,"_","_",null,"_","_","_","_",null,"METALURGIA-JOYERIA","311","8","223","223a8","223a8a311",null,"2007-1","30"]
["_","_",null,"_","_",null,"_","_","_","_",null,"MECANICA DE PRODUCCION","312","8","223","223a8","223a8a312",null,"2007-2","31"]
["_","_",null,"_","_",null,"_","_","_","_",null,"EBANISTERIA Y DECORACION","313","8","223","223a8","223a8a313",null,"2007-A","32"]
["_","_",null,"_","_",null,"_","_","_","_",null,"CONSTRUCCION CIVIL","314","8","223","223a8","223a8a314",null,"2008-0","33"]
["_","_",null,"_","_",null,"_","_","_","_",null,"TECNOLOGIA TEXTIL","315","8","223","223a8","223a8a315",null,"2008-1","34"]
["_","_",null,"_","_",null,"_","_","_","_",null,"TECNOLOGIA DEL VESTIDO","318","8","223","223a8","223a8a318",null,"2008-2","35"]
["_","_",null,"_","_",null,"_","_","_","_",null,"DISEÑO INDUSTRIAL Y ARQUITECTONICO","319","8","223","223a8","223a8a319",null,"2008-A","36"]
["_","_",null,"_","_",null,"_","_","_","_",null,"AUTOMATIZACION INDUSTRIAL","320","8","223","223a8","223a8a320",null,"2009-0","37"]
["_","_",null,"_","_",null,"_","_","_","_",null,"ELECTRONICA E INFORMATICA","321","8","223","223a8","223a8a321",null,"2009-1","38"]
["_","_",null,"_","_",null,"_","_","_","_",null,"TELECOMUNICACIONES E INFORMATICA","322","8","223","223a8","223a8a322",null,"2009-2","39"]
["_","_",null,"_","_",null,"_","_","_","_",null,"INGLES-ALEMAN","323","8","223","223a8","223a8a323",null,"2009-A","40"]
["_","_",null,"_","_",null,"_","_","_","_",null,"INGLES-FRANCES","324","8","223","223a8","223a8a324",null,"2010-0","41"]
["_","_",null,"_","_",null,"_","_","_","_",null,"INGLES-ITALIANO","325","8","223","223a8","223a8a325",null,"2010-1","42"]
["_","_",null,"_","_",null,"_","_","_","_",null,"CIENCIAS SOCIALES-HISTORIA","326","8","223","223a8","223a8a326",null,"2010-2","43"]
["_","_",null,"_","_",null,"_","_","_","_",null,"CIENCIAS SOCIALES-GEOGRAFIA","327","8","223","223a8","223a8a327",null,"2010-A","44"]
["_","_",null,"_","_",null,"_","_","_","_",null,"CIENCIAS SOCIALES-FILOSOFIA","328","8","223","223a8","223a8a328",null,"2011-0","45"]
["_","_",null,"_","_",null,"_","_","_","_",null,"CIENCIAS SOCIALES-PSICOLOGIA","329","8","223","223a8","223a8a329",null,"2011-1","46"]
["_","_",null,"_","_",null,"_","_","_","_",null,"EDUCACION ARTISTICA - ARTES PLASTICAS-TEATRO - MUSICA","330","8","223","223a8","223a8a330",null,"2011-2","47"]
["_","_",null,"_","_",null,"_","_","_","_",null,"EDUCACION ARTISTICA - TEATRO-ARTES PLASTICAS - MUSICA","331","8","223","223a8","223a8a331",null,"2011-A","48"]
["_","_",null,"_","_",null,"_","_","_","_",null,"EDUCACION ARTISTICA - MUSICA-TEATRO - ARTES PLASTICAS","332","8","223","223a8","223a8a332",null,"2012-0","49"]
["_","_",null,"_","_",null,"_","_","_","_",null,"LENGUA ESPAÑOLA-LITERATURA","333","8","223","223a8","223a8a333",null,"2012-1","50"]
["_","_",null,"_","_",null,"_","_","_","_",null,"LENGUA ESPAÑOLA-INGLES","334","8","223","223a8","223a8a334",null,"2012-2","51"]
["_","_",null,"_","_",null,"_","_","_","_",null,"INGLES-ESPAÑOL COMO LENGUA EXTRANJERA","335","8","223","223a8","223a8a335",null,"2012-A","52"]
["_","_",null,"_","_",null,"_","_","_","_",null,"FRANCES-INGLES","336","8","223","223a8","223a8a336",null,"2013-0","53"]
["_","_",null,"_","_",null,"_","_","_","_",null,"EDUCACION INTERCULTURAL BILINGUE-LENGUA ESPAÑOLA","337","8","223","223a8","223a8a337",null,"2013-1","54"]
["_","_",null,"_","_",null,"_","_","_","_",null,"EDUCACION INTERCULTURAL BILINGUE-LITERATURA","338","8","223","223a8","223a8a338",null,"2013-2","55"]
["_","_",null,"_","_",null,"_","_","_","_",null,"BIOLOGIA-INFORMATICA","342","8","223","223a8","223a8a342",null,"2013-A","56"]
["_","_",null,"_","_",null,"_","_","_","_",null,"QUIMICA-MATEMATICA","345","8","223","223a8","223a8a345",null,"2014-0","57"]
["_","_",null,"_","_",null,"_","_","_","_",null,"BIOLOGIA - CIENCIAS NATURALES","346","8","223","223a8","223a8a346",null,"2014-1","58"]
["_","_",null,"_","_",null,"_","_","_","_",null,"HISTORIA-CIENCIAS SOCIALES","383","8","223","223a8","223a8a383",null,"2014-2","59"]
["_","_",null,"_","_",null,"_","_","_","_",null,"EDUCACION INICIAL","385","8","223","223a8","223a8a385",null,"2014-A","60"]
["_","_",null,"_","_",null,"_","_","_","_",null,"EDUCACION FISICA","387","8","223","223a8","223a8a387",null,"2015-0","61"]
["_","_",null,"_","_",null,"_","_","_","_",null,"EDUCACION PRIMARIA","388","8","223","223a8","223a8a388",null,"2015-1","62"]
["_","_",null,"_","_",null,"_","_","_","_",null,"ELECTRONICA","4230","8","223","223a8","223a8a4230",null,"2015-2","63"]
["_","_",null,"_","_",null,"_","_","_","_",null,"FISICA - CIENCIAS NATURALES","4231","8","223","223a8","223a8a4231",null,"2015-A","64"]
["_","_",null,"_","_",null,"_","_","_","_",null,"ELECTRONICA","4230","8","225","225a8","225a8a4230",null,"2016-0","65"]
["_","_",null,"_","_",null,"_","_","_","_",null,"_","_","_","_","_","_",null,"2016-1","66"]
["_","_",null,"_","_",null,"_","_","_","_",null,"_","_","_","_","_","_",null,"2016-2","67"]
["_","_",null,"_","_",null,"_","_","_","_",null,"_","_","_","_","_","_",null,"2016-A","68"]
["_","_",null,"_","_",null,"_","_","_","_",null,"_","_","_","_","_","_",null,"2017-0","69"]
["_","_",null,"_","_",null,"_","_","_","_",null,"_","_","_","_","_","_",null,"2017-1","70"]
["_","_",null,"_","_",null,"_","_","_","_",null,"_","_","_","_","_","_",null,"2017-2","71"]
["_","_",null,"_","_",null,"_","_","_","_",null,"_","_","_","_","_","_",null,"2017-A","72"]
["_","_",null,"_","_",null,"_","_","_","_",null,"_","_","_","_","_","_",null,"2018-0","73"]
["_","_",null,"_","_",null,"_","_","_","_",null,"_","_","_","_","_","_",null,"2018-1","74"]
["_","_",null,"_","_",null,"_","_","_","_",null,"_","_","_","_","_","_",null,"2018-2","75"]
["_","_",null,"_","_",null,"_","_","_","_",null,"_","_","_","_","_","_",null,"2018-A","76"]
["_","_",null,"_","_",null,"_","_","_","_",null,"_","_","_","_","_","_",null,"1990-1","77"]
["_","_",null,"_","_",null,"_","_","_","_",null,"_","_","_","_","_","_",null,"1991-1","78"]
["_","_",null,"_","_",null,"_","_","_","_",null,"_","_","_","_","_","_",null,"1992-1","79"]
["_","_",null,"_","_",null,"_","_","_","_",null,"_","_","_","_","_","_",null,"1993-1","80"]
["_","_",null,"_","_",null,"_","_","_","_",null,"_","_","_","_","_","_",null,"1994-1","81"]
["_","_",null,"_","_",null,"_","_","_","_",null,"_","_","_","_","_","_",null,"1995-A","82"]
["_","_",null,"_","_",null,"_","_","_","_",null,"_","_","_","_","_","_",null,"1996-A","83"]
["_","_",null,"_","_",null,"_","_","_","_",null,"_","_","_","_","_","_",null,"1997-A","84"]
["_","_",null,"_","_",null,"_","_","_","_",null,"_","_","_","_","_","_",null,"1998-A","85"]
["_","_",null,"_","_",null,"_","_","_","_",null,"_","_","_","_","_","_",null,"1999-A","86"]
["_","_",null,"_","_",null,"_","_","_","_",null,"_","_","_","_","_","_",null,"1980-A","87"]
["_","_",null,"_","_",null,"_","_","_","_",null,"_","_","_","_","_","_",null,"1981-A","88"]
["_","_",null,"_","_",null,"_","_","_","_",null,"_","_","_","_","_","_",null,"1982-A","89"]
["_","_",null,"_","_",null,"_","_","_","_",null,"_","_","_","_","_","_",null,"1983-A","90"]
["_","_",null,"_","_",null,"_","_","_","_",null,"_","_","_","_","_","_",null,"1984-A","91"]
["_","_",null,"_","_",null,"_","_","_","_",null,"_","_","_","_","_","_",null,"1985-A","92"]
["_","_",null,"_","_",null,"_","_","_","_",null,"_","_","_","_","_","_",null,"1986-A","93"]
["_","_",null,"_","_",null,"_","_","_","_",null,"_","_","_","_","_","_",null,"1987-1","94"]
["_","_",null,"_","_",null,"_","_","_","_",null,"_","_","_","_","_","_",null,"1987-2","95"]
["_","_",null,"_","_",null,"_","_","_","_",null,"_","_","_","_","_","_",null,"1988-1","96"]
["_","_",null,"_","_",null,"_","_","_","_",null,"_","_","_","_","_","_",null,"1988-2","97"]
["_","_",null,"_","_",null,"_","_","_","_",null,"_","_","_","_","_","_",null,"1989-1","98"]
["_","_",null,"_","_",null,"_","_","_","_",null,"_","_","_","_","_","_",null,"1989-2","99"]
["_","_",null,"_","_",null,"_","_","_","_",null,"_","_","_","_","_","_",null,"1990-2","100"]
[null,null,null,"_","_",null,"_","_","_","_",null,"_","_","_","_","_","_",null,"1991-2","101"]
[null,null,null,"_","_",null,"_","_","_","_",null,"_","_","_","_","_","_",null,"1996-1","102"]
[null,null,null,"_","_",null,"_","_","_","_",null,"_","_","_","_","_","_",null,"1999-1","103"]
[null,null,null,"_","_",null,"_","_","_","_",null,"_","_","_","_","_","_",null,"1999-2","104"]
[null,null,null,"_","_",null,"_","_","_","_",null,"_","_","_","_","_","_",null,"1980-1","105"]
[null,null,null,"_","_",null,"_","_","_","_",null,"_","_","_","_","_","_",null,"1980-2","106"]
[null,null,null,"_","_",null,"_","_","_","_",null,"_","_","_","_","_","_",null,"1981-1","107"]
[null,null,null,"_","_",null,"_","_","_","_",null,"_","_","_","_","_","_",null,"1981-2","108"]
[null,null,null,"_","_",null,"_","_","_","_",null,"_","_","_","_","_","_",null,"1982-1","109"]
[null,null,null,"_","_",null,"_","_","_","_",null,"_","_","_","_","_","_",null,"1982-2","110"]
[null,null,null,"_","_",null,"_","_","_","_",null,"_","_","_","_","_","_",null,"1983-1","111"]
[null,null,null,"_","_",null,"_","_","_","_",null,"_","_","_","_","_","_",null,"1983-2","112"]
[null,null,null,"_","_",null,"_","_","_","_",null,"_","_","_","_","_","_",null,"1984-1","113"]
[null,null,null,"_","_",null,"_","_","_","_",null,"_","_","_","_","_","_",null,"1984-2","114"]
[null,null,null,"_","_",null,"_","_","_","_",null,"_","_","_","_","_","_",null,"1985-1","115"]
[null,null,null,"_","_",null,"_","_","_","_",null,"_","_","_","_","_","_",null,"1985-2","116"]
[null,null,null,"_","_",null,"_","_","_","_",null,"_","_","_","_","_","_",null,"1986-1","117"]
[null,null,null,"_","_",null,"_","_","_","_",null,"_","_","_","_","_","_",null,"1986-2","118"]
[null,null,null,"_","_",null,"_","_","_","_",null,"_","_","_","_","_","_",null,"1987-A","119"]
[null,null,null,"_","_",null,"_","_","_","_",null,"_","_","_","_","_","_",null,"1988-A","120"]
[null,null,null,"_","_",null,"_","_","_","_",null,"_","_","_","_","_","_",null,"1989-A","121"]
[null,null,null,"_","_",null,"_","_","_","_",null,"_","_","_","_","_","_",null,"1990-A","122"]
[null,null,null,"_","_",null,"_","_","_","_",null,"_","_","_","_","_","_",null,"1991-A","123"]
[null,null,null,"_","_",null,"_","_","_","_",null,"_","_","_","_","_","_",null,"1992-A","124"]
[null,null,null,"_","_",null,"_","_","_","_",null,"_","_","_","_","_","_",null,"1993-A","125"]
[null,null,null,"_","_",null,"_","_","_","_",null,"_","_","_","_","_","_",null,"1994-A","126"]
[null,null,null,"_","_",null,"_","_","_","_",null,"_","_","_","_","_","_",null,"1992-2","127"]
[null,null,null,"_","_",null,"_","_","_","_",null,"_","_","_","_","_","_",null,"1993-2","128"]
[null,null,null,"_","_",null,"_","_","_","_",null,"_","_","_","_","_","_",null,"1994-2","129"]
[null,null,null,"_","_",null,"_","_","_","_",null,"_","_","_","_","_","_",null,"1995-1","130"]
[null,null,null,"_","_",null,"_","_","_","_",null,"_","_","_","_","_","_",null,"1995-2","131"]
[null,null,null,"_","_",null,"_","_","_","_",null,"_","_","_","_","_","_",null,"1996-2","132"]
[null,null,null,"_","_",null,"_","_","_","_",null,"_","_","_","_","_","_",null,"1997-1","133"]
[null,null,null,"_","_",null,"_","_","_","_",null,"_","_","_","_","_","_",null,"1997-2","134"]
[null,null,null,"_","_",null,"_","_","_","_",null,"_","_","_","_","_","_",null,"1998-1","135"]
[null,null,null,"_","_",null,"_","_","_","_",null,"_","_","_","_","_","_",null,"1998-2","136"]
[null,null,null,"_","_",null,"_","_","_","_",null,"_","_","_","_","_","_",null,"1970-A","137"]
[null,null,null,"_","_",null,"_","_","_","_",null,"_","_","_","_","_","_",null,"1970-1","138"]
[null,null,null,"_","_",null,"_","_","_","_",null,"_","_","_","_","_","_",null,"1970-2","139"]
[null,null,null,"_","_",null,"_","_","_","_",null,"_","_","_","_","_","_",null,"1971-A","140"]
[null,null,null,"_","_",null,"_","_","_","_",null,"_","_","_","_","_","_",null,"1971-1","141"]
[null,null,null,"_","_",null,"_","_","_","_",null,"_","_","_","_","_","_",null,"1972-2","142"]
[null,null,null,"_","_",null,"_","_","_","_",null,"_","_","_","_","_","_",null,"1973-A","143"]
[null,null,null,"_","_",null,"_","_","_","_",null,"_","_","_","_","_","_",null,"1973-2","144"]
[null,null,null,"_","_",null,"_","_","_","_",null,"_","_","_","_","_","_",null,"1971-2","145"]
[null,null,null,"_","_",null,"_","_","_","_",null,"_","_","_","_","_","_",null,"1973-1","146"]
[null,null,null,"_","_",null,"_","_","_","_",null,"_","_","_","_","_","_",null,"1972-A","147"]
[null,null,null,"_","_",null,"_","_","_","_",null,"_","_","_","_","_","_",null,"1972-1","148"]
[null,null,null,"_","_",null,"_","_","_","_",null,"_","_","_","_","_","_",null,"1974-A","149"]
[null,null,null,"_","_",null,"_","_","_","_",null,"_","_","_","_","_","_",null,"1974-1","150"]
[null,null,null,"_","_",null,"_","_","_","_",null,"_","_","_","_","_","_",null,"1974-2","151"]
[null,null,null,"_","_",null,"_","_","_","_",null,"_","_","_","_","_","_",null,"1975-A","152"]
[null,null,null,"_","_",null,"_","_","_","_",null,"_","_","_","_","_","_",null,"1975-1","153"]
[null,null,null,"_","_",null,"_","_","_","_",null,"_","_","_","_","_","_",null,"1975-2","154"]
[null,null,null,"_","_",null,"_","_","_","_",null,"_","_","_","_","_","_",null,"1976-A","155"]
[null,null,null,"_","_",null,"_","_","_","_",null,"_","_","_","_","_","_",null,"1976-1","156"]
[null,null,null,"_","_",null,"_","_","_","_",null,"_","_","_","_","_","_",null,"1976-2","157"]
[null,null,null,"_","_",null,"_","_","_","_",null,"_","_","_","_","_","_",null,"1977-A","158"]
[null,null,null,"_","_",null,"_","_","_","_",null,"_","_","_","_","_","_",null,"1977-1","159"]
[null,null,null,"_","_",null,"_","_","_","_",null,"_","_","_","_","_","_",null,"1977-2","160"]
[null,null,null,"_","_",null,"_","_","_","_",null,"_","_","_","_","_","_",null,"1978-A","161"]
[null,null,null,"_","_",null,"_","_","_","_",null,"_","_","_","_","_","_",null,"1978-1","162"]
[null,null,null,"_","_",null,"_","_","_","_",null,"_","_","_","_","_","_",null,"1978-2","163"]
[null,null,null,"_","_",null,"_","_","_","_",null,"_","_","_","_","_","_",null,"1979-A","164"]
[null,null,null,"_","_",null,"_","_","_","_",null,"_","_","_","_","_","_",null,"1979-1","165"]
[null,null,null,"_","_",null,"_","_","_","_",null,"_","_","_","_","_","_",null,"1979-2","166"]
[null,null,null,"_","_",null,"_","_","_","_",null,"_","_","_","_","_","_",null,"1996-0","167"]
[null,null,null,"_","_",null,"_","_","_","_",null,"_","_","_","_","_","_",null,"1965-1","168"]
[null,null,null,"_","_",null,"_","_","_","_",null,"_","_","_","_","_","_",null,"1965-2","169"]
[null,null,null,"_","_",null,"_","_","_","_",null,"_","_","_","_","_","_",null,"1966-1","170"]
[null,null,null,"_","_",null,"_","_","_","_",null,"_","_","_","_","_","_",null,"1966-2","171"]
[null,null,null,"_","_",null,"_","_","_","_",null,"_","_","_","_","_","_",null,"1966-0","172"]
[null,null,null,"_","_",null,"_","_","_","_",null,"_","_","_","_","_","_",null,"1965-0","173"]
[null,null,null,"_","_",null,"_","_","_","_",null,"_","_","_","_","_","_",null,"1967-1","174"]
[null,null,null,"_","_",null,"_","_","_","_",null,"_","_","_","_","_","_",null,"1967-0","175"]
[null,null,null,"_","_",null,"_","_","_","_",null,"_","_","_","_","_","_",null,"1967-2","176"]
[null,null,null,"_","_",null,"_","_","_","_",null,"_","_","_","_","_","_",null,"1968-0","177"]
[null,null,null,"_","_",null,"_","_","_","_",null,"_","_","_","_","_","_",null,"1968-1","178"]
[null,null,null,"_","_",null,"_","_","_","_",null,"_","_","_","_","_","_",null,"1968-2","179"]
[null,null,null,"_","_",null,"_","_","_","_",null,"_","_","_","_","_","_",null,"1969-0","180"]
[null,null,null,"_","_",null,"_","_","_","_",null,"_","_","_","_","_","_",null,"1969-1","181"]
[null,null,null,"_","_",null,"_","_","_","_",null,"_","_","_","_","_","_",null,"1969-2","182"]
[null,null,null,"_","_",null,"_","_","_","_",null,"_","_","_","_","_","_",null,"1997-0","183"]
[null,null,null,"_","_",null,"_","_","_","_",null,"_","_","_","_","_","_",null,"1995-0","184"]
[null,null,null,"_","_",null,"_","_","_","_",null,"_","_","_","_","_","_",null,"1994-0","185"]
[null,null,null,"_","_",null,"_","_","_","_",null,"_","_","_","_","_","_",null,"1993-0","186"]
[null,null,null,"_","_",null,"_","_","_","_",null,"_","_","_","_","_","_",null,"1992-0","187"]
[null,null,null,"_","_",null,"_","_","_","_",null,"_","_","_","_","_","_",null,"1991-0","188"]
[null,null,null,"_","_",null,"_","_","_","_",null,"_","_","_","_","_","_",null,"1988-0","189"]
[null,null,null,"_","_",null,"_","_","_","_",null,"_","_","_","_","_","_",null,"1999-0","190"]
[null,null,null,"_","_",null,"_","_","_","_",null,"_","_","_","_","_","_",null,"1989-0","191"]
[null,null,null,"_","_",null,"_","_","_","_",null,"_","_","_","_","_","_",null,"1998-0","192"]
[null,null,null,"_","_",null,"_","_","_","_",null,"_","_","_","_","_","_",null,"1990-0","193"]
[null,null,null,"_","_",null,"_","_","_","_",null,"_","_","_","_","_","_",null,"1964-0","194"]
[null,null,null,"_","_",null,"_","_","_","_",null,"_","_","_","_","_","_",null,"1964-1","195"]
[null,null,null,"_","_",null,"_","_","_","_",null,"_","_","_","_","_","_",null,"1964-2","196"]
[null,null,null,"_","_",null,"_","_","_","_",null,"_","_","_","_","_","_",null,"1964-A","197"]
[null,null,null,"_","_",null,"_","_","_","_",null,"_","_","_","_","_","_",null,"1967-A","198"]
[null,null,null,"_","_",null,"_","_","_","_",null,"_","_","_","_","_","_",null,"2019-0","199"]
[null,null,null,"_","_",null,"_","_","_","_",null,"_","_","_","_","_","_",null,"2019-1","200"]
[null,null,null,"_","_",null,"_","_","_","_",null,"_","_","_","_","_","_",null,"2019-2","201"]
[null,null,null,"_","_",null,"_","_","_","_",null,"_","_","_","_","_","_",null,"2019-A","202"]
[null,null,null,"_","_",null,"_","_","_","_",null,"_","_","_","_","_","_",null,"2005-3","203"]
[null,null,null,"_","_",null,"_","_","_","_",null,"_","_","_","_","_","_",null,"2006-3","204"]
[null,null,null,"_","_",null,"_","_","_","_",null,"_","_","_","_","_","_",null,"2007-3","205"]
[null,null,null,"_","_",null,"_","_","_","_",null,"_","_","_","_","_","_",null,"2008-3","206"]
[null,null,null,"_","_",null,"_","_","_","_",null,"_","_","_","_","_","_",null,"2009-3","207"]
[null,null,null,"_","_",null,"_","_","_","_",null,"_","_","_","_","_","_",null,"2010-3","208"]
[null,null,null,"_","_",null,"_","_","_","_",null,"_","_","_","_","_","_",null,"2011-3","209"]
[null,null,null,"_","_",null,"_","_","_","_",null,"_","_","_","_","_","_",null,"2012-3","210"]
[null,null,null,"_","_",null,"_","_","_","_",null,"_","_","_","_","_","_",null,"2013-3","211"]
[null,null,null,"_","_",null,"_","_","_","_",null,"_","_","_","_","_","_",null,"2014-3","212"]
[null,null,null,"_","_",null,"_","_","_","_",null,"_","_","_","_","_","_",null,"2015-3","213"]
[null,null,null,"_","_",null,"_","_","_","_",null,"_","_","_","_","_","_",null,"2016-3","214"]
[null,null,null,"_","_",null,"_","_","_","_",null,"_","_","_","_","_","_",null,"2017-3","215"]
[null,null,null,"_","_",null,"_","_","_","_",null,"_","_","_","_","_","_",null,"2018-3","216"]
[null,null,null,"_","_",null,"_","_","_","_",null,"_","_","_","_","_","_",null,"1999-3","217"]
[null,null,null,"_","_",null,"_","_","_","_",null,"_","_","_","_","_","_",null,"2004-3","218"]
[null,null,null,"_","_",null,"_","_","_","_",null,"_","_","_","_","_","_",null,"1997-3","219"]
[null,null,null,"_","_",null,"_","_","_","_",null,"_","_","_","_","_","_",null,"2003-3","220"]
[null,null,null,"_","_",null,"_","_","_","_",null,"_","_","_","_","_","_",null,"2002-3","221"]
[null,null,null,"_","_",null,"_","_","_","_",null,"_","_","_","_","_","_",null,"2020-0","222"]
[null,null,null,"_","_",null,"_","_","_","_",null,"_","_","_","_","_","_",null,"2020-1","223"]
[null,null,null,"_","_",null,"_","_","_","_",null,"_","_","_","_","_","_",null,"2020-2","224"]
[null,null,null,"_","_",null,"_","_","_","_",null,"_","_","_","_","_","_",null,"2020-A","225"]
[null,null,null,"_","_",null,"_","_","_","_",null,"_","_","_","_","_","_",null,"2020-3","226"]
[null,null,null,"_","_",null,"_","_","_","_",null,"_","_","_","_","_","_",null,"_","_"]
[null,null,null,"_","_",null,"_","_","_","_",null,"_","_","_","_","_","_",null,"_","_"]
[null,null,null,"_","_",null,"_","_","_","_",null,"_","_","_","_","_","_",null,"_","_"]
[null,null,null,"_","_",null,"_","_","_","_",null,"_","_","_","_","_","_",null,"_","_"]
[null,null,null,"_","_",null,"_","_","_","_",null,"_","_","_","_","_","_",null,"_","_"]
[null,null,null,"_","_",null,"_","_","_","_",null,"_","_","_","_","_","_",null,"_","_"]
[null,null,null,"_","_",null,"_","_","_","_",null,"_","_","_","_","_","_",null,"_","_"]
[null,null,null,"_","_",null,"_","_","_","_",null,"_","_","_","_","_","_",null,"_","_"]
[null,null,null,"_","_",null,"_","_","_","_",null,"_","_","_","_","_","_",null,"_","_"]
[null,null,null,"_","_",null,"_","_","_","_",null,"_","_","_","_","_","_",null,"_","_"]
[null,null,null,"_","_",null,"_","_","_","_",null,"_","_","_","_","_","_",null,"_","_"]
[null,null,null,"_","_",null,"_","_","_","_",null,"_","_","_","_","_","_",null,"_","_"]
[null,null,null,"_","_",null,"_","_","_","_",null,"_","_","_","_","_","_",null,"_","_"]
[null,null,null,"_","_",null,"_","_","_","_",null,"_","_","_","_","_","_",null,"_","_"]
[null,null,null,"_","_",null,"_","_","_","_",null,"_","_","_","_","_","_",null,"_","_"]
[null,null,null,"_","_",null,"_","_","_","_",null,"_","_","_","_","_","_",null,"_","_"]
[null,null,null,"_","_",null,"_","_","_","_",null,"_","_","_","_","_","_",null,"_","_"]
[null,null,null,"_","_",null,"_","_","_","_",null,"_","_","_","_","_","_",null,"_","_"]
[null,null,null,"_","_",null,"_","_","_","_",null,"_","_","_","_","_","_",null,"_","_"]
[null,null,null,"_","_",null,"_","_","_","_",null,"_","_","_","_","_","_",null,"_","_"]
[null,null,null,"_","_",null,"_","_","_","_",null,"_","_","_","_","_","_",null,"_","_"]
[null,null,null,"_","_",null,"_","_","_","_",null,"_","_","_","_","_","_",null,"_","_"]
[null,null,null,"_","_",null,"_","_","_","_",null,"_","_","_","_","_","_",null,"_","_"]
[null,null,null,"_","_",null,"_","_","_","_",null,"_","_","_","_","_","_",null,"_","_"]
[null,null,null,"_","_",null,"_","_","_","_",null,"_","_","_","_","_","_",null,"_","_"]
[null,null,null,"_","_",null,"_","_","_","_",null,"_","_","_","_","_","_",null,"_","_"]
[null,null,null,"_","_",null,"_","_","_","_",null,"_","_","_","_","_","_",null,"_","_"]
[null,null,null,"_","_",null,"_","_","_","_",null,"_","_","_","_","_","_",null,"_","_"]
[null,null,null,"_","_",null,"_","_","_","_",null,"_","_","_","_","_","_",null,"_","_"]
[null,null,null,"_","_",null,"_","_","_","_",null,"_","_","_","_","_","_",null,"_","_"]
[null,null,null,"_","_",null,"_","_","_","_",null,"_","_","_","_","_","_",null,"_","_"]
[null,null,null,"_","_",null,"_","_","_","_",null,"_","_","_","_","_","_",null,"_","_"]
[null,null,null,"_","_",null,"_","_","_","_",null,"_","_","_","_","_","_",null,"_","_"]
[null,null,null,"_","_",null,"_","_","_","_",null,"_","_","_","_","_","_",null,"_","_"]
[null,null,null,"_","_",null,"_","_","_","_",null,"_","_","_","_","_","_",null,"_","_"]
[null,null,null,"_","_",null,"_","_","_","_",null,"_","_","_","_","_","_",null,"_","_"]
[null,null,null,"_","_",null,"_","_","_","_",null,"_","_","_","_","_","_",null,"_","_"]
[null,null,null,"_","_",null,"_","_","_","_",null,"_","_","_","_","_","_",null,"_","_"]
[null,null,null,"_","_",null,"_","_","_","_",null,"_","_","_","_","_","_",null,"_","_"]
[null,null,null,"_","_",null,"_","_","_","_",null,"_","_","_","_","_","_",null,"_","_"]
[null,null,null,"_","_",null,"_","_","_","_",null,"_","_","_","_","_","_",null,"_","_"]
[null,null,null,"_","_",null,"_","_","_","_",null,"_","_","_","_","_","_",null,"_","_"]
[null,null,null,"_","_",null,"_","_","_","_",null,"_","_","_","_","_","_",null,"_","_"]
[null,null,null,"_","_",null,"_","_","_","_",null,"_","_","_","_","_","_",null,"_","_"]
[null,null,null,"_","_",null,"_","_","_","_",null,"_","_","_","_","_","_",null,"_","_"]
[null,null,null,"_","_",null,"_","_","_","_",null,"_","_","_","_","_","_",null,"_","_"]
[null,null,null,"_","_",null,"_","_","_","_",null,"_","_","_","_","_","_",null,"_","_"]
[null,null,null,"_","_",null,"_","_","_","_",null,"_","_","_","_","_","_",null,"_","_"]
[null,null,null,"_","_",null,"_","_","_","_",null,"_","_","_","_","_","_",null,"_","_"]
[null,null,null,"_","_",null,"_","_","_","_",null,"_","_","_","_","_","_",null,"_","_"]
[null,null,null,"_","_",null,"_","_","_","_",null,"_","_","_","_","_","_",null,"_","_"]
[null,null,null,"_","_",null,"_","_","_","_",null,"_","_","_","_","_","_",null,"_","_"]
[null,null,null,"_","_",null,"_","_","_","_",null,"_","_","_","_","_","_",null,"_","_"]
[null,null,null,"_","_",null,"_","_","_","_",null,"_","_","_","_","_","_",null,"_","_"]
[null,null,null,"_","_",null,"_","_","_","_",null,"_","_","_","_","_","_",null,"_","_"]
[null,null,null,"_","_",null,"_","_","_","_",null,"_","_","_","_","_","_",null,"_","_"]
[null,null,null,"_","_",null,"_","_","_","_",null,"_","_","_","_","_","_",null,"_","_"]
[null,null,null,"_","_",null,"_","_","_","_",null,"_","_","_","_","_","_",null,"_","_"]
[null,null,null,"_","_",null,"_","_","_","_",null,"_","_","_","_","_","_",null,"_","_"]
[null,null,null,"_","_",null,"_","_","_","_",null,"_","_","_","_","_","_",null,"_","_"]
[null,null,null,"_","_",null,"_","_","_","_",null,"_","_","_","_","_","_",null,"_","_"]
[null,null,null,"_","_",null,"_","_","_","_",null,"_","_","_","_","_","_",null,"_","_"]
[null,null,null,"_","_",null,"_","_","_","_",null,"_","_","_","_","_","_",null,"_","_"]
[null,null,null,"_","_",null,"_","_","_","_",null,"_","_","_","_","_","_",null,"_","_"]
[null,null,null,"_","_",null,"_","_","_","_",null,"_","_","_","_","_","_",null,"_","_"]
[null,null,null,"_","_",null,"_","_","_","_",null,"_","_","_","_","_","_",null,"_","_"]
[null,null,null,"_","_",null,"_","_","_","_",null,"_","_","_","_","_","_",null,"_","_"]
[null,null,null,"_","_",null,"_","_","_","_",null,"_","_","_","_","_","_",null,"_","_"]
[null,null,null,"_","_",null,"_","_","_","_",null,"_","_","_","_","_","_",null,"_","_"]
[null,null,null,"_","_",null,"_","_","_","_",null,"_","_","_","_","_","_",null,"_","_"]
[null,null,null,"_","_",null,"_","_","_","_",null,"_","_","_","_","_","_",null,"_","_"]
[null,null,null,"_","_",null,"_","_","_","_",null,"_","_","_","_","_","_",null,"_","_"]
[null,null,null,"_","_",null,"_","_","_","_",null,"_","_","_","_","_","_",null,"_","_"]
[null,null,null,"_","_",null,"_","_","_","_",null,"_","_","_","_","_","_",null,"_","_"]
[null,null,null,"_","_",null,"_","_","_","_",null,"_","_","_","_","_","_",null,"_","_"]
[null,null,null,"_","_",null,"_","_","_","_",null,"_","_","_","_","_","_",null,"_","_"]
[null,null,null,"_","_",null,"_","_","_","_",null,"_","_","_","_","_","_",null,"_","_"]
[null,null,null,"_","_",null,"_","_","_","_",null,"_","_","_","_","_","_",null,"_","_"]
[null,null,null,"_","_",null,"_","_","_","_",null,"_","_","_","_","_","_",null,"_","_"]
[null,null,null,"_","_",null,"_","_","_","_",null,"_","_","_","_","_","_",null,"_","_"]
[null,null,null,"_","_",null,"_","_","_","_",null,"_","_","_","_","_","_",null,"_","_"]
[null,null,null,"_","_",null,"_","_","_","_",null,"_","_","_","_","_","_",null,"_","_"]
[null,null,null,"_","_",null,"_","_","_","_",null,"_","_","_","_","_","_",null,"_","_"]
[null,null,null,"_","_",null,"_","_","_","_",null,"_","_","_","_","_","_",null,"_","_"]
[null,null,null,"_","_",null,"_","_","_","_",null,"_","_","_","_","_","_",null,"_","_"]
[null,null,null,"_","_",null,"_","_","_","_",null,"_","_","_","_","_","_",null,"_","_"]
[null,null,null,"_","_",null,"_","_","_","_",null,"_","_","_","_","_","_",null,"_","_"]
[null,null,null,"_","_",null,"_","_","_","_",null,"_","_","_","_","_","_",null,"_","_"]
[null,null,null,"_","_",null,"_","_","_","_",null,"_","_","_","_","_","_",null,"_","_"]
[null,null,null,"_","_",null,"_","_","_","_",null,"_","_","_","_","_","_",null,"_","_"]
[null,null,null,"_","_",null,"_","_","_","_",null,"_","_","_","_","_","_",null,"_","_"]
[null,null,null,"_","_",null,"_","_","_","_",null,"_","_","_","_","_","_",null,"_","_"]
[null,null,null,"_","_",null,"_","_","_","_",null,"_","_","_","_","_","_",null,"_","_"]
[null,null,null,"_","_",null,"_","_","_","_",null,"_","_","_","_","_","_",null,"_","_"]
[null,null,null,"_","_",null,"_","_","_","_",null,"_","_","_","_","_","_",null,"_","_"]
[null,null,null,"_","_",null,"_","_","_","_",null,"_","_","_","_","_","_",null,"_","_"]
[null,null,null,"_","_",null,"_","_","_","_",null,"_","_","_","_","_","_",null,"_","_"]
[null,null,null,"_","_",null,"_","_","_","_",null,"_","_","_","_","_","_",null,"_","_"]
[null,null,null,"_","_",null,"_","_","_","_",null,"_","_","_","_","_","_",null,"_","_"]
[null,null,null,"_","_",null,"_","_","_","_",null,"_","_","_","_","_","_",null,"_","_"]
[null,null,null,"_","_",null,"_","_","_","_",null,"_","_","_","_","_","_",null,"_","_"]
[null,null,null,"_","_",null,"_","_","_","_",null,"_","_","_","_","_","_",null,"_","_"]
[null,null,null,"_","_",null,"_","_","_","_",null,"_","_","_","_","_","_",null,"_","_"]
[null,null,null,"_","_",null,"_","_","_","_",null,"_","_","_","_","_","_",null,"_","_"]
[null,null,null,"_","_",null,"_","_","_","_",null,"_","_","_","_","_","_",null,"_","_"]
[null,null,null,"_","_",null,"_","_","_","_",null,"_","_","_","_","_","_",null,"_","_"]
[null,null,null,"_","_",null,"_","_","_","_",null,"_","_","_","_","_","_",null,"_","_"]
[null,null,null,"_","_",null,"_","_","_","_",null,"_","_","_","_","_","_",null,"_","_"]
[null,null,null,"_","_",null,"_","_","_","_",null,"_","_","_","_","_","_",null,"_","_"]
[null,null,null,"_","_",null,"_","_","_","_",null,"_","_","_","_","_","_",null,"_","_"]
[null,null,null,"_","_",null,"_","_","_","_",null,"_","_","_","_","_","_",null,"_","_"]
[null,null,null,"_","_",null,"_","_","_","_",null,"_","_","_","_","_","_",null,"_","_"]
[null,null,null,"_","_",null,"_","_","_","_",null,"_","_","_","_","_","_",null,"_","_"]
[null,null,null,"_","_",null,"_","_","_","_",null,"_","_","_","_","_","_",null,"_","_"]
[null,null,null,"_","_",null,"_","_","_","_",null,"_","_","_","_","_","_",null,"_","_"]
[null,null,null,"_","_",null,"_","_","_","_",null,"_","_","_","_","_","_",null,"_","_"]
[null,null,null,"_","_",null,"_","_","_","_",null,"_","_","_","_","_","_",null,"_","_"]
[null,null,null,"_","_",null,"_","_","_","_",null,"_","_","_","_","_","_",null,"_","_"]
[null,null,null,"_","_",null,"_","_","_","_",null,"_","_","_","_","_","_",null,"_","_"]
[null,null,null,"_","_",null,"_","_","_","_",null,"_","_","_","_","_","_",null,"_","_"]
[null,null,null,"_","_",null,"_","_","_","_",null,"_","_","_","_","_","_",null,"_","_"]
[null,null,null,"_","_",null,"_","_","_","_",null,"_","_","_","_","_","_",null,"_","_"]
[null,null,null,"_","_",null,"_","_","_","_",null,"_","_","_","_","_","_",null,"_","_"]
[null,null,null,"_","_",null,"_","_","_","_",null,"_","_","_","_","_","_",null,"_","_"]
[null,null,null,"_","_",null,"_","_","_","_",null,"_","_","_","_","_","_",null,"_","_"]
[null,null,null,"_","_",null,"_","_","_","_",null,"_","_","_","_","_","_",null,"_","_"]
[null,null,null,"_","_",null,"_","_","_","_",null,"_","_","_","_","_","_",null,"_","_"]
[null,null,null,"_","_",null,"_","_","_","_",null,"_","_","_","_","_","_",null,"_","_"]
[null,null,null,"_","_",null,"_","_","_","_",null,"_","_","_","_","_","_",null,"_","_"]
[null,null,null,"_","_",null,"_","_","_","_",null,"_","_","_","_","_","_",null,"_","_"]
[null,null,null,"_","_",null,"_","_","_","_",null,"_","_","_","_","_","_",null,"_","_"]
[null,null,null,"_","_",null,"_","_","_","_",null,"_","_","_","_","_","_",null,"_","_"]
[null,null,null,"_","_",null,"_","_","_","_",null,"_","_","_","_","_","_",null,"_","_"]
[null,null,null,"_","_",null,"_","_","_","_",null,"_","_","_","_","_","_",null,"_","_"]
[null,null,null,"_","_",null,"_","_","_","_",null,"_","_","_","_","_","_",null,"_","_"]
[null,null,null,"_","_",null,"_","_","_","_",null,"_","_","_","_","_","_",null,"_","_"]
[null,null,null,"_","_",null,"_","_","_","_",null,"_","_","_","_","_","_",null,"_","_"]
[null,null,null,"_","_",null,"_","_","_","_",null,"_","_","_","_","_","_",null,"_","_"]
[null,null,null,"_","_",null,"_","_","_","_",null,"_","_","_","_","_","_",null,"_","_"]
[null,null,null,"_","_",null,"_","_","_","_",null,"_","_","_","_","_","_",null,"_","_"]
[null,null,null,"_","_",null,"_","_","_","_",null,"_","_","_","_","_","_",null,"_","_"]
[null,null,null,"_","_",null,"_","_","_","_",null,"_","_","_","_","_","_",null,"_","_"]
[null,null,null,"_","_",null,"_","_","_","_",null,"_","_","_","_","_","_",null,"_","_"]
[null,null,null,"_","_",null,"_","_","_","_",null,"_","_","_","_","_","_",null,"_","_"]
[null,null,null,"_","_",null,"_","_","_","_",null,"_","_","_","_","_","_",null,"_","_"]
[null,null,null,"_","_",null,"_","_","_","_",null,"_","_","_","_","_","_",null,"_","_"]
[null,null,null,"_","_",null,"_","_","_","_",null,"_","_","_","_","_","_",null,"_","_"]
[null,null,null,"_","_",null,"_","_","_","_",null,"_","_","_","_","_","_",null,"_","_"]
[null,null,null,"_","_",null,"_","_","_","_",null,"_","_","_","_","_","_",null,"_","_"]
[null,null,null,"_","_",null,"_","_","_","_",null,"_","_","_","_","_","_",null,"_","_"]
[null,null,null,"_","_",null,"_","_","_","_",null,"_","_","_","_","_","_",null,"_","_"]
[null,null,null,"_","_",null,"_","_","_","_",null,"_","_","_","_","_","_",null,"_","_"]
[null,null,null,"_","_",null,"_","_","_","_",null,"_","_","_","_","_","_",null,"_","_"]
[null,null,null,"_","_",null,"_","_","_","_",null,"_","_","_","_","_","_",null,"_","_"]
[null,null,null,"_","_",null,"_","_","_","_",null,"_","_","_","_","_","_",null,"_","_"]
[null,null,null,"_","_",null,"_","_","_","_",null,"_","_","_","_","_","_",null,"_","_"]
[null,null,null,"_","_",null,"_","_","_","_",null,"_","_","_","_","_","_",null,"_","_"]
[null,null,null,"_","_",null,"_","_","_","_",null,"_","_","_","_","_","_",null,"_","_"]
[null,null,null,"_","_",null,"_","_","_","_",null,"_","_","_","_","_","_",null,"_","_"]
[null,null,null,"_","_",null,"_","_","_","_",null,"_","_","_","_","_","_",null,"_","_"]
[null,null,null,"_","_",null,"_","_","_","_",null,"_","_","_","_","_","_",null,"_","_"]
[null,null,null,"_","_",null,"_","_","_","_",null,"_","_","_","_","_","_",null,"_","_"]
[null,null,null,"_","_",null,"_","_","_","_",null,"_","_","_","_","_","_",null,"_","_"]
[null,null,null,"_","_",null,"_","_","_","_",null,"_","_","_","_","_","_",null,"_","_"]
[null,null,null,"_","_",null,"_","_","_","_",null,"_","_","_","_","_","_",null,"_","_"]
[null,null,null,"_","_",null,"_","_","_","_",null,"_","_","_","_","_","_",null,"_","_"]
[null,null,null,"_","_",null,"_","_","_","_",null,"_","_","_","_","_","_",null,"_","_"]
[null,null,null,"_","_",null,"_","_","_","_",null,"_","_","_","_","_","_",null,"_","_"]
[null,null,null,"_","_",null,"_","_","_","_",null,"_","_","_","_","_","_",null,"_","_"]
[null,null,null,"_","_",null,"_","_","_","_",null,"_","_","_","_","_","_",null,"_","_"]
[null,null,null,"_","_",null,"_","_","_","_",null,"_","_","_","_","_","_",null,"_","_"]
[null,null,null,"_","_",null,"_","_","_","_",null,"_","_","_","_","_","_",null,"_","_"]
[null,null,null,"_","_",null,"_","_","_","_",null,"_","_","_","_","_","_",null,"_","_"]
[null,null,null,"_","_",null,"_","_","_","_",null,"_","_","_","_","_","_",null,"_","_"]
[null,null,null,"_","_",null,"_","_","_","_",null,"_","_","_","_","_","_",null,"_","_"]
[null,null,null,"_","_",null,"_","_","_","_",null,"_","_","_","_","_","_",null,"_","_"]
[null,null,null,"_","_",null,"_","_","_","_",null,"_","_","_","_","_","_",null,"_","_"]
[null,null,null,"_","_",null,"_","_","_","_",null,"_","_","_","_","_","_",null,"_","_"]
[null,null,null,"_","_",null,"_","_","_","_",null,"_","_","_","_","_","_",null,"_","_"]
[null,null,null,"_","_",null,"_","_","_","_",null,"_","_","_","_","_","_",null,"_","_"]
[null,null,null,"_","_",null,"_","_","_","_",null,"_","_","_","_","_","_",null,"_","_"]
[null,null,null,"_","_",null,"_","_","_","_",null,"_","_","_","_","_","_",null,"_","_"]
[null,null,null,"_","_",null,"_","_","_","_",null,"_","_","_","_","_","_",null,"_","_"]
[null,null,null,"_","_",null,"_","_","_","_",null,"_","_","_","_","_","_",null,"_","_"]
[null,null,null,"_","_",null,"_","_","_","_",null,"_","_","_","_","_","_",null,"_","_"]
[null,null,null,"_","_",null,"_","_","_","_",null,"_","_","_","_","_","_",null,"_","_"]
[null,null,null,"_","_",null,"_","_","_","_",null,"_","_","_","_","_","_",null,"_","_"]
[null,null,null,"_","_",null,"_","_","_","_",null,"_","_","_","_","_","_",null,"_","_"]
[null,null,null,"_","_",null,"_","_","_","_",null,"_","_","_","_","_","_",null,"_","_"]
[null,null,null,"_","_",null,"_","_","_","_",null,"_","_","_","_","_","_",null,"_","_"]
[null,null,null,"_","_",null,"_","_","_","_",null,"_","_","_","_","_","_",null,"_","_"]
[null,null,null,"_","_",null,"_","_","_","_",null,"_","_","_","_","_","_",null,"_","_"]
[null,null,null,"_","_",null,"_","_","_","_",null,"_","_","_","_","_","_",null,"_","_"]
[null,null,null,"_","_",null,"_","_","_","_",null,"_","_","_","_","_","_",null,"_","_"]
[null,null,null,"_","_",null,"_","_","_","_",null,"_","_","_","_","_","_",null,"_","_"]
[null,null,null,"_","_",null,"_","_","_","_",null,"_","_","_","_","_","_",null,"_","_"]
[null,null,null,"_","_",null,"_","_","_","_",null,"_","_","_","_","_","_",null,"_","_"]
[null,null,null,"_","_",null,"_","_","_","_",null,"_","_","_","_","_","_",null,"_","_"]
[null,null,null,"_","_",null,"_","_","_","_",null,"_","_","_","_","_","_",null,"_","_"]
[null,null,null,"_","_",null,"_","_","_","_",null,"_","_","_","_","_","_",null,"_","_"]
[null,null,null,"_","_",null,"_","_","_","_",null,"_","_","_","_","_","_",null,"_","_"]
[null,null,null,"_","_",null,"_","_","_","_",null,"_","_","_","_","_","_",null,"_","_"]
[null,null,null,"_","_",null,"_","_","_","_",null,"_","_","_","_","_","_",null,"_","_"]
[null,null,null,"_","_",null,"_","_","_","_",null,"_","_","_","_","_","_",null,"_","_"]
[null,null,null,"_","_",null,"_","_","_","_",null,"_","_","_","_","_","_",null,"_","_"]
[null,null,null,"_","_",null,"_","_","_","_",null,"_","_","_","_","_","_",null,"_","_"]
[null,null,null,"_","_",null,"_","_","_","_",null,"_","_","_","_","_","_",null,"_","_"]
[null,null,null,"_","_",null,"_","_","_","_",null,"_","_","_","_","_","_",null,"_","_"]
[null,null,null,"_","_",null,"_","_","_","_",null,"_","_","_","_","_","_",null,"_","_"]
[null,null,null,"_","_",null,"_","_","_","_",null,"_","_","_","_","_","_",null,"_","_"]
[null,null,null,"_","_",null,"_","_","_","_",null,"_","_","_","_","_","_",null,"_","_"]
[null,null,null,"_","_",null,"_","_","_","_",null,"_","_","_","_","_","_",null,"_","_"]
[null,null,null,"_","_",null,"_","_","_","_",null,"_","_","_","_","_","_",null,"_","_"]
[null,null,null,"_","_",null,"_","_","_","_",null,"_","_","_","_","_","_",null,"_","_"]
[null,null,null,"_","_",null,"_","_","_","_",null,"_","_","_","_","_","_",null,"_","_"]
[null,null,null,"_","_",null,"_","_","_","_",null,"_","_","_","_","_","_",null,"_","_"]
[null,null,null,"_","_",null,"_","_","_","_",null,"_","_","_","_","_","_",null,"_","_"]
[null,null,null,"_","_",null,"_","_","_","_",null,"_","_","_","_","_","_",null,"_","_"]
[null,null,null,"_","_",null,"_","_","_","_",null,"_","_","_","_","_","_",null,"_","_"]
[null,null,null,"_","_",null,"_","_","_","_",null,"_","_","_","_","_","_",null,"_","_"]
[null,null,null,"_","_",null,"_","_","_","_",null,"_","_","_","_","_","_",null,"_","_"]
[null,null,null,"_","_",null,"_","_","_","_",null,"_","_","_","_","_","_",null,"_","_"]
[null,null,null,"_","_",null,"_","_","_","_",null,"_","_","_","_","_","_",null,"_","_"]
[null,null,null,"_","_",null,"_","_","_","_",null,"_","_","_","_","_","_",null,"_","_"]
[null,null,null,"_","_",null,"_","_","_","_",null,"_","_","_","_","_","_",null,"_","_"]
[null,null,null,"_","_",null,"_","_","_","_",null,"_","_","_","_","_","_",null,"_","_"]
[null,null,null,"_","_",null,"_","_","_","_",null,"_","_","_","_","_","_",null,"_","_"]
[null,null,null,"_","_",null,"_","_","_","_",null,"_","_","_","_","_","_",null,"_","_"]
[null,null,null,"_","_",null,"_","_","_","_",null,"_","_","_","_","_","_",null,"_","_"]
[null,null,null,"_","_",null,"_","_","_","_",null,"_","_","_","_","_","_",null,"_","_"]
[null,null,null,"_","_",null,"_","_","_","_",null,"_","_","_","_","_","_",null,"_","_"]
[null,null,null,"_","_",null,"_","_","_","_",null,"_","_","_","_","_","_",null,"_","_"]
[null,null,null,"_","_",null,"_","_","_","_",null,"_","_","_","_","_","_",null,"_","_"]
[null,null,null,"_","_",null,"_","_","_","_",null,"_","_","_","_","_","_",null,"_","_"]
[null,null,null,"_","_",null,"_","_","_","_",null,"_","_","_","_","_","_",null,"_","_"]
[null,null,null,"_","_",null,"_","_","_","_",null,"_","_","_","_","_","_",null,"_","_"]
[null,null,null,"_","_",null,"_","_","_","_",null,"_","_","_","_","_","_",null,"_","_"]
[null,null,null,"_","_",null,"_","_","_","_",null,"_","_","_","_","_","_",null,"_","_"]
[null,null,null,"_","_",null,"_","_","_","_",null,"_","_","_","_","_","_",null,"_","_"]
[null,null,null,"_","_",null,"_","_","_","_",null,"_","_","_","_","_","_",null,"_","_"]
[null,null,null,"_","_",null,"_","_","_","_",null,"_","_","_","_","_","_",null,"_","_"]
[null,null,null,"_","_",null,"_","_","_","_",null,"_","_","_","_","_","_",null,"_","_"]
[null,null,null,"_","_",null,"_","_","_","_",null,"_","_","_","_","_","_",null,"_","_"]
[null,null,null,"_","_",null,"_","_","_","_",null,"_","_","_","_","_","_",null,"_","_"]
[null,null,null,"_","_",null,"_","_","_","_",null,"_","_","_","_","_","_",null,"_","_"]
[null,null,null,"_","_",null,"_","_","_","_",null,"_","_","_","_","_","_",null,"_","_"]
[null,null,null,"_","_",null,"_","_","_","_",null,"_","_","_","_","_","_",null,"_","_"]
[null,null,null,"_","_",null,"_","_","_","_",null,"_","_","_","_","_","_",null,"_","_"]
[null,null,null,"_","_",null,"_","_","_","_",null,"_","_","_","_","_","_",null,"_","_"]
[null,null,null,"_","_",null,"_","_","_","_",null,"_","_","_","_","_","_",null,"_","_"]
[null,null,null,"_","_",null,"_","_","_","_",null,"_","_","_","_","_","_",null,"_","_"]
[null,null,null,"_","_",null,"_","_","_","_",null,"_","_","_","_","_","_",null,"_","_"]
[null,null,null,"_","_",null,"_","_","_","_",null,"_","_","_","_","_","_",null,"_","_"]
[null,null,null,"_","_",null,"_","_","_","_",null,"_","_","_","_","_","_",null,"_","_"]
[null,null,null,"_","_",null,"_","_","_","_",null,"_","_","_","_","_","_",null,"_","_"]
[null,null,null,"_","_",null,"_","_","_","_",null,"_","_","_","_","_","_",null,"_","_"]
[null,null,null,"_","_",null,"_","_","_","_",null,"_","_","_","_","_","_",null,"_","_"]
[null,null,null,"_","_",null,"_","_","_","_",null,"_","_","_","_","_","_",null,"_","_"]
[null,null,null,"_","_",null,"_","_","_","_",null,"_","_","_","_","_","_",null,"_","_"]
[null,null,null,"_","_",null,"_","_","_","_",null,"_","_","_","_","_","_",null,"_","_"]
[null,null,null,"_","_",null,"_","_","_","_",null,"_","_","_","_","_","_",null,"_","_"]
[null,null,null,"_","_",null,"_","_","_","_",null,"_","_","_","_","_","_",null,"_","_"]
[null,null,null,"_","_",null,"_","_","_","_",null,"_","_","_","_","_","_",null,"_","_"]
[null,null,null,"_","_",null,"_","_","_","_",null,"_","_","_","_","_","_",null,"_","_"]
[null,null,null,"_","_",null,"_","_","_","_",null,"_","_","_","_","_","_",null,"_","_"]
[null,null,null,"_","_",null,"_","_","_","_",null,"_","_","_","_","_","_",null,"_","_"]
[null,null,null,"_","_",null,"_","_","_","_",null,"_","_","_","_","_","_",null,"_","_"]
[null,null,null,"_","_",null,"_","_","_","_",null,"_","_","_","_","_","_",null,"_","_"]
[null,null,null,"_","_",null,"_","_","_","_",null,"_","_","_","_","_","_",null,"_","_"]
[null,null,null,"_","_",null,"_","_","_","_",null,"_","_","_","_","_","_",null,"_","_"]
[null,null,null,"_","_",null,"_","_","_","_",null,"_","_","_","_","_","_",null,"_","_"]
[null,null,null,"_","_",null,"_","_","_","_",null,"_","_","_","_","_","_",null,"_","_"]
[null,null,null,"_","_",null,"_","_","_","_",null,"_","_","_","_","_","_",null,"_","_"]
[null,null,null,"_","_",null,"_","_","_","_",null,"_","_","_","_","_","_",null,"_","_"]
[null,null,null,null,null,null,"_","_","_","_",null,"_","_","_","_","_","_"]
[null,null,null,null,null,null,"_","_","_","_",null,"_","_","_","_","_","_"]
[null,null,null,null,null,null,"_","_","_","_",null,"_","_","_","_","_","_"]
[null,null,null,null,null,null,"_","_","_","_",null,"_","_","_","_","_","_"]
[null,null,null,null,null,null,"_","_","_","_",null,"_","_","_","_","_","_"]
[null,null,null,null,null,null,"_","_","_","_",null,"_","_","_","_","_","_"]
[null,null,null,null,null,null,"_","_","_","_",null,"_","_","_","_","_","_"]
[null,null,null,null,null,null,"_","_","_","_",null,"_","_","_","_","_","_"]
[null,null,null,null,null,null,"_","_","_","_",null,"_","_","_","_","_","_"]
[null,null,null,null,null,null,"_","_","_","_",null,"_","_","_","_","_","_"]
[null,null,null,null,null,null,"_","_","_","_",null,"_","_","_","_","_","_"]
[null,null,null,null,null,null,"_","_","_","_",null,"_","_","_","_","_","_"]
[null,null,null,null,null,null,"_","_","_","_",null,"_","_","_","_","_","_"]
[null,null,null,null,null,null,"_","_","_","_",null,"_","_","_","_","_","_"]
[null,null,null,null,null,null,"_","_","_","_",null,"_","_","_","_","_","_"]
[null,null,null,null,null,null,"_","_","_","_",null,"_","_","_","_","_","_"]
[null,null,null,null,null,null,"_","_","_","_",null,"_","_","_","_","_","_"]
[null,null,null,null,null,null,"_","_","_","_",null,"_","_","_","_","_","_"]
[null,null,null,null,null,null,"_","_","_","_",null,"_","_","_","_","_","_"]
[null,null,null,null,null,null,"_","_","_","_",null,"_","_","_","_","_","_"]
[null,null,null,null,null,null,"_","_","_","_",null,"_","_","_","_","_","_"]
[null,null,null,null,null,null,"_","_","_","_",null,"_","_","_","_","_","_"]
[null,null,null,null,null,null,"_","_","_","_",null,"_","_","_","_","_","_"]
[null,null,null,null,null,null,"_","_","_","_",null,"_","_","_","_","_","_"]
[null,null,null,null,null,null,"_","_","_","_",null,"_","_","_","_","_","_"]
[null,null,null,null,null,null,"_","_","_","_",null,"_","_","_","_","_","_"]
[null,null,null,null,null,null,"_","_","_","_",null,"_","_","_","_","_","_"]
[null,null,null,null,null,null,"_","_","_","_",null,"_","_","_","_","_","_"]
[null,null,null,null,null,null,"_","_","_","_",null,"_","_","_","_","_","_"]
[null,null,null,null,null,null,"_","_","_","_",null,"_","_","_","_","_","_"]
[null,null,null,null,null,null,"_","_","_","_",null,"_","_","_","_","_","_"]
[null,null,null,null,null,null,"_","_","_","_",null,"_","_","_","_","_","_"]
[null,null,null,null,null,null,"_","_","_","_",null,"_","_","_","_","_","_"]
[null,null,null,null,null,null,"_","_","_","_",null,"_","_","_","_","_","_"]
[null,null,null,null,null,null,"_","_","_","_",null,"_","_","_","_","_","_"]
[null,null,null,null,null,null,"_","_","_","_",null,"_","_","_","_","_","_"]
[null,null,null,null,null,null,"_","_","_","_",null,"_","_","_","_","_","_"]
[null,null,null,null,null,null,"_","_","_","_",null,"_","_","_","_","_","_"]
[null,null,null,null,null,null,"_","_","_","_",null,"_","_","_","_","_","_"]
[null,null,null,null,null,null,"_","_","_","_",null,"_","_","_","_","_","_"]
[null,null,null,null,null,null,"_","_","_","_",null,"_","_","_","_","_","_"]
[null,null,null,null,null,null,"_","_","_","_",null,"_","_","_","_","_","_"]
[null,null,null,null,null,null,"_","_","_","_",null,"_","_","_","_","_","_"]
[null,null,null,null,null,null,"_","_","_","_",null,"_","_","_","_","_","_"]
[null,null,null,null,null,null,"_","_","_","_",null,"_","_","_","_","_","_"]
[null,null,null,null,null,null,"_","_","_","_",null,"_","_","_","_","_","_"]
[null,null,null,null,null,null,"_","_","_","_",null,"_","_","_","_","_","_"]
[null,null,null,null,null,null,"_","_","_","_",null,"_","_","_","_","_","_"]
[null,null,null,null,null,null,"_","_","_","_",null,"_","_","_","_","_","_"]
[null,null,null,null,null,null,"_","_","_","_",null,"_","_","_","_","_","_"]
[null,null,null,null,null,null,"_","_","_","_",null,"_","_","_","_","_","_"]
[null,null,null,null,null,null,"_","_","_","_",null,"_","_","_","_","_","_"]
[null,null,null,null,null,null,"_","_","_","_",null,"_","_","_","_","_","_"]
[null,null,null,null,null,null,"_","_","_","_",null,"_","_","_","_","_","_"]
[null,null,null,null,null,null,"_","_","_","_",null,"_","_","_","_","_","_"]
[null,null,null,null,null,null,"_","_","_","_",null,"_","_","_","_","_","_"]
[null,null,null,null,null,null,"_","_","_","_",null,"_","_","_","_","_","_"]
[null,null,null,null,null,null,"_","_","_","_",null,"_","_","_","_","_","_"]
[null,null,null,null,null,null,"_","_","_","_",null,"_","_","_","_","_","_"]
[null,null,null,null,null,null,"_","_","_","_",null,"_","_","_","_","_","_"]
[null,null,null,null,null,null,"_","_","_","_",null,"_","_","_","_","_","_"]
[null,null,null,null,null,null,"_","_","_","_",null,"_","_","_","_","_","_"]
[null,null,null,null,null,null,"_","_","_","_",null,"_","_","_","_","_","_"]
[null,null,null,null,null,null,"_","_","_","_",null,"_","_","_","_","_","_"]
[null,null,null,null,null,null,"_","_","_","_",null,"_","_","_","_","_","_"]
[null,null,null,null,null,null,"_","_","_","_",null,"_","_","_","_","_","_"]
[null,null,null,null,null,null,"_","_","_","_",null,"_","_","_","_","_","_"]
[null,null,null,null,null,null,"_","_","_","_",null,"_","_","_","_","_","_"]
[null,null,null,null,null,null,"_","_","_","_",null,"_","_","_","_","_","_"]
[null,null,null,null,null,null,"_","_","_","_",null,"_","_","_","_","_","_"]
[null,null,null,null,null,null,"_","_","_","_",null,"_","_","_","_","_","_"]
[null,null,null,null,null,null,"_","_","_","_",null,"_","_","_","_","_","_"]
[null,null,null,null,null,null,"_","_","_","_",null,"_","_","_","_","_","_"]
[null,null,null,null,null,null,"_","_","_","_",null,"_","_","_","_","_","_"]
[null,null,null,null,null,null,"_","_","_","_",null,"_","_","_","_","_","_"]
[null,null,null,null,null,null,"_","_","_","_",null,"_","_","_","_","_","_"]
[null,null,null,null,null,null,"_","_","_","_",null,"_","_","_","_","_","_"]
[null,null,null,null,null,null,"_","_","_","_",null,"_","_","_","_","_","_"]
[null,null,null,null,null,null,"_","_","_","_",null,"_","_","_","_","_","_"]
[null,null,null,null,null,null,"_","_","_","_",null,"_","_","_","_","_","_"]
[null,null,null,null,null,null,"_","_","_","_",null,"_","_","_","_","_","_"]
[null,null,null,null,null,null,"_","_","_","_",null,"_","_","_","_","_","_"]
[null,null,null,null,null,null,"_","_","_","_",null,"_","_","_","_","_","_"]
[null,null,null,null,null,null,"_","_","_","_",null,"_","_","_","_","_","_"]
[null,null,null,null,null,null,"_","_","_","_",null,"_","_","_","_","_","_"]
[null,null,null,null,null,null,"_","_","_","_",null,"_","_","_","_","_","_"]
[null,null,null,null,null,null,"_","_","_","_",null,"_","_","_","_","_","_"]
[null,null,null,null,null,null,"_","_","_","_",null,"_","_","_","_","_","_"]
[null,null,null,null,null,null,"_","_","_","_",null,"_","_","_","_","_","_"]
[null,null,null,null,null,null,"_","_","_","_",null,"_","_","_","_","_","_"]
[null,null,null,null,null,null,"_","_","_","_",null,"_","_","_","_","_","_"]
[null,null,null,null,null,null,"_","_","_","_",null,"_","_","_","_","_","_"]
[null,null,null,null,null,null,"_","_","_","_",null,"_","_","_","_","_","_"]
[null,null,null,null,null,null,"_","_","_","_",null,"_","_","_","_","_","_"]
[null,null,null,null,null,null,"_","_","_","_",null,"_","_","_","_","_","_"]
[null,null,null,null,null,null,"_","_","_","_",null,"_","_","_","_","_","_"]
[null,null,null,null,null,null,"_","_","_","_",null,"_","_","_","_","_","_"]
[null,null,null,null,null,null,"_","_","_","_",null,"_","_","_","_","_","_"]
[null,null,null,null,null,null,"_","_","_","_",null,"_","_","_","_","_","_"]
[null,null,null,null,null,null,"_","_","_","_",null,"_","_","_","_","_","_"]
[null,null,null,null,null,null,"_","_","_","_",null,"_","_","_","_","_","_"]
[null,null,null,null,null,null,"_","_","_","_",null,"_","_","_","_","_","_"]
[null,null,null,null,null,null,"_","_","_","_",null,"_","_","_","_","_","_"]
[null,null,null,null,null,null,"_","_","_","_",null,"_","_","_","_","_","_"]
[null,null,null,null,null,null,"_","_","_","_",null,"_","_","_","_","_","_"]
[null,null,null,null,null,null,"_","_","_","_",null,"_","_","_","_","_","_"]
[null,null,null,null,null,null,"_","_","_","_",null,"_","_","_","_","_","_"]
[null,null,null,null,null,null,"_","_","_","_",null,"_","_","_","_","_","_"]
[null,null,null,null,null,null,"_","_","_","_",null,"_","_","_","_","_","_"]
[null,null,null,null,null,null,"_","_","_","_",null,"_","_","_","_","_","_"]
[null,null,null,null,null,null,"_","_","_","_",null,"_","_","_","_","_","_"]
[null,null,null,null,null,null,"_","_","_","_",null,"_","_","_","_","_","_"]
[null,null,null,null,null,null,"_","_","_","_",null,"_","_","_","_","_","_"]
[null,null,null,null,null,null,"_","_","_","_",null,"_","_","_","_","_","_"]
[null,null,null,null,null,null,"_","_","_","_",null,"_","_","_","_","_","_"]
[null,null,null,null,null,null,"_","_","_","_",null,"_","_","_","_","_","_"]
[null,null,null,null,null,null,"_","_","_","_",null,"_","_","_","_","_","_"]
[null,null,null,null,null,null,"_","_","_","_",null,"_","_","_","_","_","_"]
[null,null,null,null,null,null,"_","_","_","_",null,"_","_","_","_","_","_"]
[null,null,null,null,null,null,"_","_","_","_",null,"_","_","_","_","_","_"]
[null,null,null,null,null,null,"_","_","_","_",null,"_","_","_","_","_","_"]
[null,null,null,null,null,null,"_","_","_","_",null,"_","_","_","_","_","_"]
[null,null,null,null,null,null,"_","_","_","_",null,"_","_","_","_","_","_"]
[null,null,null,null,null,null,"_","_","_","_",null,"_","_","_","_","_","_"]
[null,null,null,null,null,null,"_","_","_","_",null,"_","_","_","_","_","_"]
[null,null,null,null,null,null,"_","_","_","_",null,"_","_","_","_","_","_"]
[null,null,null,null,null,null,"_","_","_","_",null,"_","_","_","_","_","_"]
[null,null,null,null,null,null,"_","_","_","_",null,"_","_","_","_","_","_"]
[null,null,null,null,null,null,"_","_","_","_",null,"_","_","_","_","_","_"]
[null,null,null,null,null,null,"_","_","_","_",null,"_","_","_","_","_","_"]
[null,null,null,null,null,null,"_","_","_","_",null,"_","_","_","_","_","_"]
[null,null,null,null,null,null,"_","_","_","_",null,"_","_","_","_","_","_"]
[null,null,null,null,null,null,"_","_","_","_",null,"_","_","_","_","_","_"]
[null,null,null,null,null,null,"_","_","_","_",null,"_","_","_","_","_","_"]
[null,null,null,null,null,null,"_","_","_","_",null,"_","_","_","_","_","_"]
[null,null,null,null,null,null,"_","_","_","_",null,"_","_","_","_","_","_"]
[null,null,null,null,null,null,"_","_","_","_",null,"_","_","_","_","_","_"]
[null,null,null,null,null,null,"_","_","_","_",null,"_","_","_","_","_","_"]
[null,null,null,null,null,null,"_","_","_","_",null,"_","_","_","_","_","_"]
[null,null,null,null,null,null,"_","_","_","_",null,"_","_","_","_","_","_"]
[null,null,null,null,null,null,"_","_","_","_",null,"_","_","_","_","_","_"]
[null,null,null,null,null,null,"_","_","_","_",null,"_","_","_","_","_","_"]
[null,null,null,null,null,null,"_","_","_","_",null,"_","_","_","_","_","_"]
[null,null,null,null,null,null,"_","_","_","_",null,"_","_","_","_","_","_"]
[null,null,null,null,null,null,"_","_","_","_",null,"_","_","_","_","_","_"]
[null,null,null,null,null,null,"_","_","_","_",null,"_","_","_","_","_","_"]
[null,null,null,null,null,null,"_","_","_","_",null,"_","_","_","_","_","_"]
[null,null,null,null,null,null,"_","_","_","_",null,"_","_","_","_","_","_"]
[null,null,null,null,null,null,"_","_","_","_",null,"_","_","_","_","_","_"]
[null,null,null,null,null,null,"_","_","_","_",null,"_","_","_","_","_","_"]
[null,null,null,null,null,null,"_","_","_","_",null,"_","_","_","_","_","_"]
[null,null,null,null,null,null,"_","_","_","_",null,"_","_","_","_","_","_"]
[null,null,null,null,null,null,"_","_","_","_",null,"_","_","_","_","_","_"]
[null,null,null,null,null,null,"_","_","_","_",null,"_","_","_","_","_","_"]
[null,null,null,null,null,null,"_","_","_","_",null,"_","_","_","_","_","_"]
[null,null,null,null,null,null,"_","_","_","_",null,"_","_","_","_","_","_"]
[null,null,null,null,null,null,"_","_","_","_",null,"_","_","_","_","_","_"]
[null,null,null,null,null,null,"_","_","_","_",null,"_","_","_","_","_","_"]
[null,null,null,null,null,null,"_","_","_","_",null,"_","_","_","_","_","_"]
[null,null,null,null,null,null,"_","_","_","_",null,"_","_","_","_","_","_"]
[null,null,null,null,null,null,"_","_","_","_",null,"_","_","_","_","_","_"]
[null,null,null,null,null,null,"_","_","_","_",null,"_","_","_","_","_","_"]
[null,null,null,null,null,null,"_","_","_","_",null,"_","_","_","_","_","_"]
[null,null,null,null,null,null,"_","_","_","_",null,"_","_","_","_","_","_"]
[null,null,null,null,null,null,"_","_","_","_",null,"_","_","_","_","_","_"]
[null,null,null,null,null,null,"_","_","_","_",null,"_","_","_","_","_","_"]
[null,null,null,null,null,null,"_","_","_","_",null,"_","_","_","_","_","_"]
[null,null,null,null,null,null,"_","_","_","_",null,"_","_","_","_","_","_"]
[null,null,null,null,null,null,"_","_","_","_",null,"_","_","_","_","_","_"]
[null,null,null,null,null,null,"_","_","_","_",null,"_","_","_","_","_","_"]
[null,null,null,null,null,null,"_","_","_","_",null,"_","_","_","_","_","_"]
[null,null,null,null,null,null,"_","_","_","_",null,"_","_","_","_","_","_"]
[null,null,null,null,null,null,"_","_","_","_",null,"_","_","_","_","_","_"]
[null,null,null,null,null,null,"_","_","_","_",null,"_","_","_","_","_","_"]
[null,null,null,null,null,null,"_","_","_","_",null,"_","_","_","_","_","_"]
[null,null,null,null,null,null,"_","_","_","_",null,"_","_","_","_","_","_"]
[null,null,null,null,null,null,"_","_","_","_",null,"_","_","_","_","_","_"]
[null,null,null,null,null,null,"_","_","_","_",null,"_","_","_","_","_","_"]
[null,null,null,null,null,null,"_","_","_","_",null,"_","_","_","_","_","_"]
[null,null,null,null,null,null,"_","_","_","_",null,"_","_","_","_","_","_"]
[null,null,null,null,null,null,"_","_","_","_",null,"_","_","_","_","_","_"]
[null,null,null,null,null,null,"_","_","_","_",null,"_","_","_","_","_","_"]
[null,null,null,null,null,null,"_","_","_","_",null,"_","_","_","_","_","_"]
[null,null,null,null,null,null,"_","_","_","_",null,"_","_","_","_","_","_"]
[null,null,null,null,null,null,"_","_","_","_",null,"_","_","_","_","_","_"]
[null,null,null,null,null,null,"_","_","_","_",null,"_","_","_","_","_","_"]
[null,null,null,null,null,null,"_","_","_","_",null,"_","_","_","_","_","_"]
[null,null,null,null,null,null,"_","_","_","_",null,"_","_","_","_","_","_"]
[null,null,null,null,null,null,"_","_","_","_",null,"_","_","_","_","_","_"]
[null,null,null,null,null,null,"_","_","_","_",null,"_","_","_","_","_","_"]
[null,null,null,null,null,null,"_","_","_","_",null,"_","_","_","_","_","_"]
[null,null,null,null,null,null,"_","_","_","_",null,"_","_","_","_","_","_"]
[null,null,null,null,null,null,"_","_","_","_",null,"_","_","_","_","_","_"]
[null,null,null,null,null,null,"_","_","_","_",null,"_","_","_","_","_","_"]
[null,null,null,null,null,null,"_","_","_","_",null,"_","_","_","_","_","_"]
[null,null,null,null,null,null,"_","_","_","_",null,"_","_","_","_","_","_"]
[null,null,null,null,null,null,"_","_","_","_",null,"_","_","_","_","_","_"]
[null,null,null,null,null,null,"_","_","_","_",null,"_","_","_","_","_","_"]
[null,null,null,null,null,null,"_","_","_","_",null,"_","_","_","_","_","_"]
[null,null,null,null,null,null,"_","_","_","_",null,"_","_","_","_","_","_"]
[null,null,null,null,null,null,"_","_","_","_",null,"_","_","_","_","_","_"]
[null,null,null,null,null,null,"_","_","_","_",null,"_","_","_","_","_","_"]
[null,null,null,null,null,null,"_","_","_","_",null,"_","_","_","_","_","_"]
[null,null,null,null,null,null,"_","_","_","_",null,"_","_","_","_","_","_"]
[null,null,null,null,null,null,"_","_","_","_",null,"_","_","_","_","_","_"]
[null,null,null,null,null,null,"_","_","_","_",null,"_","_","_","_","_","_"]
[null,null,null,null,null,null,"_","_","_","_",null,"_","_","_","_","_","_"]
[null,null,null,null,null,null,"_","_","_","_",null,"_","_","_","_","_","_"]
[null,null,null,null,null,null,"_","_","_","_",null,"_","_","_","_","_","_"]
[null,null,null,null,null,null,"_","_","_","_",null,"_","_","_","_","_","_"]
[null,null,null,null,null,null,"_","_","_","_",null,"_","_","_","_","_","_"]
[null,null,null,null,null,null,"_","_","_","_",null,"_","_","_","_","_","_"]
[null,null,null,null,null,null,"_","_","_","_",null,"_","_","_","_","_","_"]
[null,null,null,null,null,null,"_","_","_","_",null,"_","_","_","_","_","_"]
[null,null,null,null,null,null,"_","_","_","_",null,"_","_","_","_","_","_"]
[null,null,null,null,null,null,"_","_","_","_",null,"_","_","_","_","_","_"]
[null,null,null,null,null,null,"_","_","_","_",null,"_","_","_","_","_","_"]
[null,null,null,null,null,null,"_","_","_","_",null,"_","_","_","_","_","_"]
[null,null,null,null,null,null,"_","_","_","_",null,"_","_","_","_","_","_"]
[null,null,null,null,null,null,"_","_","_","_",null,"_","_","_","_","_","_"]
[null,null,null,null,null,null,"_","_","_","_",null,"_","_","_","_","_","_"]
[null,null,null,null,null,null,"_","_","_","_",null,"_","_","_","_","_","_"]
[null,null,null,null,null,null,"_","_","_","_",null,"_","_","_","_","_","_"]
[null,null,null,null,null,null,"_","_","_","_",null,"_","_","_","_","_","_"]
[null,null,null,null,null,null,"_","_","_","_",null,"_","_","_","_","_","_"]
[null,null,null,null,null,null,"_","_","_","_",null,"_","_","_","_","_","_"]
[null,null,null,null,null,null,"_","_","_","_",null,"_","_","_","_","_","_"]
[null,null,null,null,null,null,"_","_","_","_",null,"_","_","_","_","_","_"]
[null,null,null,null,null,null,"_","_","_","_",null,"_","_","_","_","_","_"]
[null,null,null,null,null,null,"_","_","_","_",null,"_","_","_","_","_","_"]
[null,null,null,null,null,null,"_","_","_","_",null,"_","_","_","_","_","_"]
[null,null,null,null,null,null,"_","_","_","_",null,"_","_","_","_","_","_"]
[null,null,null,null,null,null,"_","_","_","_",null,"_","_","_","_","_","_"]
[null,null,null,null,null,null,"_","_","_","_",null,"_","_","_","_","_","_"]
[null,null,null,null,null,null,"_","_","_","_",null,"_","_","_","_","_","_"]
[null,null,null,null,null,null,"_","_","_","_",null,"_","_","_","_","_","_"]
[null,null,null,null,null,null,"_","_","_","_",null,"_","_","_","_","_","_"]
[null,null,null,null,null,null,"_","_","_","_",null,"_","_","_","_","_","_"]
[null,null,null,null,null,null,"_","_","_","_",null,"_","_","_","_","_","_"]
[null,null,null,null,null,null,"_","_","_","_",null,"_","_","_","_","_","_"]
[null,null,null,null,null,null,"_","_","_","_",null,"_","_","_","_","_","_"]
[null,null,null,null,null,null,"_","_","_","_",null,"_","_","_","_","_","_"]
[null,null,null,null,null,null,"_","_","_","_",null,"_","_","_","_","_","_"]
[null,null,null,null,null,null,"_","_","_","_",null,"_","_","_","_","_","_"]
[null,null,null,null,null,null,"_","_","_","_",null,"_","_","_","_","_","_"]
[null,null,null,null,null,null,"_","_","_","_",null,"_","_","_","_","_","_"]
[null,null,null,null,null,null,"_","_","_","_",null,"_","_","_","_","_","_"]
[null,null,null,null,null,null,"_","_","_","_",null,"_","_","_","_","_","_"]
[null,null,null,null,null,null,"_","_","_","_",null,"_","_","_","_","_","_"]
[null,null,null,null,null,null,"_","_","_","_",null,"_","_","_","_","_","_"]
[null,null,null,null,null,null,"_","_","_","_",null,"_","_","_","_","_","_"]
[null,null,null,null,null,null,"_","_","_","_",null,"_","_","_","_","_","_"]
[null,null,null,null,null,null,"_","_","_","_",null,"_","_","_","_","_","_"]
[null,null,null,null,null,null,"_","_","_","_",null,"_","_","_","_","_","_"]
[null,null,null,null,null,null,"_","_","_","_",null,"_","_","_","_","_","_"]
[null,null,null,null,null,null,"_","_","_","_",null,"_","_","_","_","_","_"]
[null,null,null,null,null,null,"_","_","_","_",null,"_","_","_","_","_","_"]
[null,null,null,null,null,null,"_","_","_","_",null,"_","_","_","_","_","_"]
[null,null,null,null,null,null,"_","_","_","_",null,"_","_","_","_","_","_"]
[null,null,null,null,null,null,"_","_","_","_",null,"_","_","_","_","_","_"]
[null,null,null,null,null,null,"_","_","_","_",null,"_","_","_","_","_","_"]
[null,null,null,null,null,null,"_","_","_","_",null,"_","_","_","_","_","_"]
[null,null,null,null,null,null,"_","_","_","_",null,"_","_","_","_","_","_"]
[null,null,null,null,null,null,"_","_","_","_",null,"_","_","_","_","_","_"]
[null,null,null,null,null,null,"_","_","_","_",null,"_","_","_","_","_","_"]
[null,null,null,null,null,null,"_","_","_","_",null,"_","_","_","_","_","_"]
[null,null,null,null,null,null,"_","_","_","_",null,"_","_","_","_","_","_"]
[null,null,null,null,null,null,"_","_","_","_",null,"_","_","_","_","_","_"]
[null,null,null,null,null,null,"_","_","_","_",null,"_","_","_","_","_","_"]
[null,null,null,null,null,null,"_","_","_","_",null,"_","_","_","_","_","_"]
[null,null,null,null,null,null,"_","_","_","_",null,"_","_","_","_","_","_"]
[null,null,null,null,null,null,"_","_","_","_",null,"_","_","_","_","_","_"]
[null,null,null,null,null,null,"_","_","_","_",null,"_","_","_","_","_","_"]
[null,null,null,null,null,null,"_","_","_","_",null,"_","_","_","_","_","_"]
[null,null,null,null,null,null,"_","_","_","_",null,"_","_","_","_","_","_"]
[null,null,null,null,null,null,"_","_","_","_",null,"_","_","_","_","_","_"]
[null,null,null,null,null,null,"_","_","_","_",null,"_","_","_","_","_","_"]
[null,null,null,null,null,null,"_","_","_","_",null,"_","_","_","_","_","_"]
[null,null,null,null,null,null,"_","_","_","_",null,"_","_","_","_","_","_"]
[null,null,null,null,null,null,"_","_","_","_",null,"_","_","_","_","_","_"]
[null,null,null,null,null,null,"_","_","_","_",null,"_","_","_","_","_","_"]
[null,null,null,null,null,null,"_","_","_","_",null,"_","_","_","_","_","_"]
[null,null,null,null,null,null,"_","_","_","_",null,"_","_","_","_","_","_"]
[null,null,null,null,null,null,"_","_","_","_",null,"_","_","_","_","_","_"]
[null,null,null,null,null,null,"_","_","_","_",null,"_","_","_","_","_","_"]
[null,null,null,null,null,null,"_","_","_","_",null,"_","_","_","_","_","_"]
[null,null,null,null,null,null,"_","_","_","_",null,"_","_","_","_","_","_"]
[null,null,null,null,null,null,"_","_","_","_",null,"_","_","_","_","_","_"]
[null,null,null,null,null,null,"_","_","_","_",null,"_","_","_","_","_","_"]
[null,null,null,null,null,null,"_","_","_","_",null,"_","_","_","_","_","_"]
[null,null,null,null,null,null,"_","_","_","_",null,"_","_","_","_","_","_"]
[null,null,null,null,null,null,"_","_","_","_",null,"_","_","_","_","_","_"]
[null,null,null,null,null,null,"_","_","_","_",null,"_","_","_","_","_","_"]
[null,null,null,null,null,null,"_","_","_","_",null,"_","_","_","_","_","_"]
[null,null,null,null,null,null,"_","_","_","_",null,"_","_","_","_","_","_"]
[null,null,null,null,null,null,"_","_","_","_",null,"_","_","_","_","_","_"]
[null,null,null,null,null,null,"_","_","_","_",null,"_","_","_","_","_","_"]
[null,null,null,null,null,null,"_","_","_","_",null,"_","_","_","_","_","_"]
[null,null,null,null,null,null,"_","_","_","_",null,"_","_","_","_","_","_"]
[null,null,null,null,null,null,"_","_","_","_",null,"_","_","_","_","_","_"]
[null,null,null,null,null,null,"_","_","_","_",null,"_","_","_","_","_","_"]
[null,null,null,null,null,null,"_","_","_","_",null,"_","_","_","_","_","_"]
[null,null,null,null,null,null,"_","_","_","_",null,"_","_","_","_","_","_"]
[null,null,null,null,null,null,"_","_","_","_",null,"_","_","_","_","_","_"]
[null,null,null,null,null,null,"_","_","_","_",null,"_","_","_","_","_","_"]
[null,null,null,null,null,null,"_","_","_","_",null,"_","_","_","_","_","_"]
[null,null,null,null,null,null,"_","_","_","_",null,"_","_","_","_","_","_"]
[null,null,null,null,null,null,"_","_","_","_",null,"_","_","_","_","_","_"]
[null,null,null,null,null,null,"_","_","_","_",null,"_","_","_","_","_","_"]
[null,null,null,null,null,null,"_","_","_","_",null,"_","_","_","_","_","_"]
[null,null,null,null,null,null,"_","_","_","_",null,"_","_","_","_","_","_"]
[null,null,null,null,null,null,"_","_","_","_",null,"_","_","_","_","_","_"]
[null,null,null,null,null,null,"_","_","_","_",null,"_","_","_","_","_","_"]
[null,null,null,null,null,null,"_","_","_","_",null,"_","_","_","_","_","_"]
[null,null,null,null,null,null,"_","_","_","_",null,"_","_","_","_","_","_"]
[null,null,null,null,null,null,"_","_","_","_",null,"_","_","_","_","_","_"]
[null,null,null,null,null,null,"_","_","_","_",null,"_","_","_","_","_","_"]
[null,null,null,null,null,null,"_","_","_","_",null,"_","_","_","_","_","_"]
[null,null,null,null,null,null,"_","_","_","_",null,"_","_","_","_","_","_"]
[null,null,null,null,null,null,"_","_","_","_",null,"_","_","_","_","_","_"]
[null,null,null,null,null,null,"_","_","_","_",null,"_","_","_","_","_","_"]
[null,null,null,null,null,null,"_","_","_","_",null,"_","_","_","_","_","_"]
[null,null,null,null,null,null,"_","_","_","_",null,"_","_","_","_","_","_"]
[null,null,null,null,null,null,"_","_","_","_",null,"_","_","_","_","_","_"]
[null,null,null,null,null,null,"_","_","_","_",null,"_","_","_","_","_","_"]
[null,null,null,null,null,null,"_","_","_","_",null,"_","_","_","_","_","_"]
[null,null,null,null,null,null,"_","_","_","_",null,"_","_","_","_","_","_"]
[null,null,null,null,null,null,"_","_","_","_",null,"_","_","_","_","_","_"]
[null,null,null,null,null,null,"_","_","_","_",null,"_","_","_","_","_","_"]
[null,null,null,null,null,null,"_","_","_","_",null,"_","_","_","_","_","_"]
[null,null,null,null,null,null,"_","_","_","_",null,"_","_","_","_","_","_"]
[null,null,null,null,null,null,"_","_","_","_",null,"_","_","_","_","_","_"]
[null,null,null,null,null,null,"_","_","_","_",null,"_","_","_","_","_","_"]
[null,null,null,null,null,null,"_","_","_","_",null,"_","_","_","_","_","_"]
[null,null,null,null,null,null,"_","_","_","_",null,"_","_","_","_","_","_"]
[null,null,null,null,null,null,"_","_","_","_",null,"_","_","_","_","_","_"]
[null,null,null,null,null,null,"_","_","_","_",null,"_","_","_","_","_","_"]
[null,null,null,null,null,null,"_","_","_","_",null,"_","_","_","_","_","_"]
[null,null,null,null,null,null,"_","_","_","_",null,"_","_","_","_","_","_"]
[null,null,null,null,null,null,"_","_","_","_",null,"_","_","_","_","_","_"]
[null,null,null,null,null,null,"_","_","_","_",null,"_","_","_","_","_","_"]
[null,null,null,null,null,null,"_","_","_","_",null,"_","_","_","_","_","_"]
[null,null,null,null,null,null,"_","_","_","_",null,"_","_","_","_","_","_"]
[null,null,null,null,null,null,"_","_","_","_",null,"_","_","_","_","_","_"]
[null,null,null,null,null,null,"_","_","_","_",null,"_","_","_","_","_","_"]
[null,null,null,null,null,null,"_","_","_","_",null,"_","_","_","_","_","_"]
[null,null,null,null,null,null,"_","_","_","_",null,"_","_","_","_","_","_"]
[null,null,null,null,null,null,"_","_","_","_",null,"_","_","_","_","_","_"]
[null,null,null,null,null,null,"_","_","_","_",null,"_","_","_","_","_","_"]
[null,null,null,null,null,null,"_","_","_","_",null,"_","_","_","_","_","_"]
[null,null,null,null,null,null,"_","_","_","_",null,"_","_","_","_","_","_"]
[null,null,null,null,null,null,"_","_","_","_",null,"_","_","_","_","_","_"]
[null,null,null,null,null,null,"_","_","_","_",null,"_","_","_","_","_","_"]
[null,null,null,null,null,null,"_","_","_","_",null,"_","_","_","_","_","_"]
[null,null,null,null,null,null,"_","_","_","_",null,"_","_","_","_","_","_"]
[null,null,null,null,null,null,"_","_","_","_",null,"_","_","_","_","_","_"]
[null,null,null,null,null,null,"_","_","_","_",null,"_","_","_","_","_","_"]
[null,null,null,null,null,null,"_","_","_","_",null,"_","_","_","_","_","_"]
[null,null,null,null,null,null,"_","_","_","_",null,"_","_","_","_","_","_"]
[null,null,null,null,null,null,"_","_","_","_",null,"_","_","_","_","_","_"]
[null,null,null,null,null,null,"_","_","_","_",null,"_","_","_","_","_","_"]
[null,null,null,null,null,null,"_","_","_","_",null,"_","_","_","_","_","_"]
[null,null,null,null,null,null,"_","_","_","_",null,"_","_","_","_","_","_"]
[null,null,null,null,null,null,"_","_","_","_",null,"_","_","_","_","_","_"]
[null,null,null,null,null,null,"_","_","_","_",null,"_","_","_","_","_","_"]
[null,null,null,null,null,null,"_","_","_","_",null,"_","_","_","_","_","_"]
[null,null,null,null,null,null,"_","_","_","_",null,"_","_","_","_","_","_"]
[null,null,null,null,null,null,"_","_","_","_",null,"_","_","_","_","_","_"]
[null,null,null,null,null,null,"_","_","_","_",null,"_","_","_","_","_","_"]
[null,null,null,null,null,null,"_","_","_","_",null,"_","_","_","_","_","_"]
[null,null,null,null,null,null,"_","_","_","_",null,"_","_","_","_","_","_"]
[null,null,null,null,null,null,"_","_","_","_",null,"_","_","_","_","_","_"]
[null,null,null,null,null,null,"_","_","_","_",null,"_","_","_","_","_","_"]
[null,null,null,null,null,null,"_","_","_","_",null,"_","_","_","_","_","_"]
[null,null,null,null,null,null,"_","_","_","_",null,"_","_","_","_","_","_"]
[null,null,null,null,null,null,"_","_","_","_",null,"_","_","_","_","_","_"]
[null,null,null,null,null,null,"_","_","_","_",null,"_","_","_","_","_","_"]
[null,null,null,null,null,null,"_","_","_","_",null,"_","_","_","_","_","_"]
[null,null,null,null,null,null,"_","_","_","_",null,"_","_","_","_","_","_"]
[null,null,null,null,null,null,"_","_","_","_",null,"_","_","_","_","_","_"]
[null,null,null,null,null,null,"_","_","_","_",null,"_","_","_","_","_","_"]
[null,null,null,null,null,null,"_","_","_","_",null,"_","_","_","_","_","_"]
[null,null,null,null,null,null,"_","_","_","_",null,"_","_","_","_","_","_"]
[null,null,null,null,null,null,"_","_","_","_",null,"_","_","_","_","_","_"]
[null,null,null,null,null,null,"_","_","_","_",null,"_","_","_","_","_","_"]
[null,null,null,null,null,null,"_","_","_","_",null,"_","_","_","_","_","_"]
[null,null,null,null,null,null,"_","_","_","_",null,"_","_","_","_","_","_"]
[null,null,null,null,null,null,"_","_","_","_",null,"_","_","_","_","_","_"]
[null,null,null,null,null,null,"_","_","_","_",null,"_","_","_","_","_","_"]
[null,null,null,null,null,null,"_","_","_","_",null,"_","_","_","_","_","_"]
[null,null,null,null,null,null,"_","_","_","_",null,"_","_","_","_","_","_"]
[null,null,null,null,null,null,"_","_","_","_",null,"_","_","_","_","_","_"]
[null,null,null,null,null,null,"_","_","_","_",null,"_","_","_","_","_","_"]
[null,null,null,null,null,null,"_","_","_","_",null,"_","_","_","_","_","_"]
[null,null,null,null,null,null,"_","_","_","_",null,"_","_","_","_","_","_"]
[null,null,null,null,null,null,"_","_","_","_",null,"_","_","_","_","_","_"]
[null,null,null,null,null,null,"_","_","_","_",null,"_","_","_","_","_","_"]
[null,null,null,null,null,null,"_","_","_","_",null,"_","_","_","_","_","_"]
[null,null,null,null,null,null,"_","_","_","_",null,"_","_","_","_","_","_"]
[null,null,null,null,null,null,"_","_","_","_",null,"_","_","_","_","_","_"]
[null,null,null,null,null,null,"_","_","_","_",null,"_","_","_","_","_","_"]
[null,null,null,null,null,null,"_","_","_","_",null,"_","_","_","_","_","_"]
[null,null,null,null,null,null,"_","_","_","_",null,"_","_","_","_","_","_"]
[null,null,null,null,null,null,"_","_","_","_",null,"_","_","_","_","_","_"]
[null,null,null,null,null,null,"_","_","_","_",null,"_","_","_","_","_","_"]
[null,null,null,null,null,null,"_","_","_","_",null,"_","_","_","_","_","_"]
[null,null,null,null,null,null,"_","_","_","_",null,"_","_","_","_","_","_"]
[null,null,null,null,null,null,"_","_","_","_",null,"_","_","_","_","_","_"]
[null,null,null,null,null,null,"_","_","_","_",null,"_","_","_","_","_","_"]
[null,null,null,null,null,null,"_","_","_","_",null,"_","_","_","_","_","_"]
[null,null,null,null,null,null,"_","_","_","_",null,"_","_","_","_","_","_"]
[null,null,null,null,null,null,"_","_","_","_",null,"_","_","_","_","_","_"]
[null,null,null,null,null,null,"_","_","_","_",null,"_","_","_","_","_","_"]
[null,null,null,null,null,null,"_","_","_","_",null,"_","_","_","_","_","_"]
[null,null,null,null,null,null,"_","_","_","_",null,"_","_","_","_","_","_"]
[null,null,null,null,null,null,"_","_","_","_",null,"_","_","_","_","_","_"]
[null,null,null,null,null,null,"_","_","_","_",null,"_","_","_","_","_","_"]
[null,null,null,null,null,null,"_","_","_","_",null,"_","_","_","_","_","_"]
[null,null,null,null,null,null,"_","_","_","_",null,"_","_","_","_","_","_"]
[null,null,null,null,null,null,"_","_","_","_",null,"_","_","_","_","_","_"]
[null,null,null,null,null,null,"_","_","_","_",null,"_","_","_","_","_","_"]
[null,null,null,null,null,null,"_","_","_","_",null,"_","_","_","_","_","_"]
[null,null,null,null,null,null,"_","_","_","_",null,"_","_","_","_","_","_"]
[null,null,null,null,null,null,"_","_","_","_",null,"_","_","_","_","_","_"]
[null,null,null,null,null,null,"_","_","_","_",null,"_","_","_","_","_","_"]
[null,null,null,null,null,null,"_","_","_","_",null,"_","_","_","_","_","_"]
[null,null,null,null,null,null,"_","_","_","_",null,"_","_","_","_","_","_"]
[null,null,null,null,null,null,"_","_","_","_",null,"_","_","_","_","_","_"]
[null,null,null,null,null,null,"_","_","_","_",null,"_","_","_","_","_","_"]
[null,null,null,null,null,null,"_","_","_","_",null,"_","_","_","_","_","_"]
[null,null,null,null,null,null,"_","_","_","_",null,"_","_","_","_","_","_"]
[null,null,null,null,null,null,"_","_","_","_",null,"_","_","_","_","_","_"]
[null,null,null,null,null,null,"_","_","_","_",null,"_","_","_","_","_","_"]
[null,null,null,null,null,null,"_","_","_","_",null,"_","_","_","_","_","_"]
[null,null,null,null,null,null,"_","_","_","_",null,"_","_","_","_","_","_"]
[null,null,null,null,null,null,"_","_","_","_",null,"_","_","_","_","_","_"]
[null,null,null,null,null,null,"_","_","_","_",null,"_","_","_","_","_","_"]
[null,null,null,null,null,null,"_","_","_","_",null,"_","_","_","_","_","_"]
[null,null,null,null,null,null,"_","_","_","_",null,"_","_","_","_","_","_"]
[null,null,null,null,null,null,"_","_","_","_",null,"_","_","_","_","_","_"]
[null,null,null,null,null,null,"_","_","_","_",null,"_","_","_","_","_","_"]
[null,null,null,null,null,null,"_","_","_","_",null,"_","_","_","_","_","_"]
[null,null,null,null,null,null,"_","_","_","_",null,"_","_","_","_","_","_"]
[null,null,null,null,null,null,"_","_","_","_",null,"_","_","_","_","_","_"]
[null,null,null,null,null,null,"_","_","_","_",null,"_","_","_","_","_","_"]
[null,null,null,null,null,null,"_","_","_","_",null,"_","_","_","_","_","_"]
[null,null,null,null,null,null,"_","_","_","_",null,"_","_","_","_","_","_"]
[null,null,null,null,null,null,"_","_","_","_",null,"_","_","_","_","_","_"]
[null,null,null,null,null,null,"_","_","_","_",null,"_","_","_","_","_","_"]
[null,null,null,null,null,null,"_","_","_","_",null,"_","_","_","_","_","_"]
[null,null,null,null,null,null,"_","_","_","_",null,"_","_","_","_","_","_"]
[null,null,null,null,null,null,"_","_","_","_",null,"_","_","_","_","_","_"]
[null,null,null,null,null,null,"_","_","_","_",null,"_","_","_","_","_","_"]
[null,null,null,null,null,null,"_","_","_","_",null,"_","_","_","_","_","_"]
[null,null,null,null,null,null,"_","_","_","_",null,"_","_","_","_","_","_"]
[null,null,null,null,null,null,"_","_","_","_",null,"_","_","_","_","_","_"]
[null,null,null,null,null,null,"_","_","_","_",null,"_","_","_","_","_","_"]
[null,null,null,null,null,null,"_","_","_","_",null,"_","_","_","_","_","_"]
[null,null,null,null,null,null,"_","_","_","_",null,"_","_","_","_","_","_"]
[null,null,null,null,null,null,"_","_","_","_",null,"_","_","_","_","_","_"]
[null,null,null,null,null,null,"_","_","_","_",null,"_","_","_","_","_","_"]
[null,null,null,null,null,null,"_","_","_","_",null,"_","_","_","_","_","_"]
[null,null,null,null,null,null,"_","_","_","_",null,"_","_","_","_","_","_"]
[null,null,null,null,null,null,"_","_","_","_",null,"_","_","_","_","_","_"]
[null,null,null,null,null,null,"_","_","_","_",null,"_","_","_","_","_","_"]
[null,null,null,null,null,null,"_","_","_","_",null,"_","_","_","_","_","_"]
[null,null,null,null,null,null,"_","_","_","_",null,"_","_","_","_","_","_"]
[null,null,null,null,null,null,"_","_","_","_",null,"_","_","_","_","_","_"]
[null,null,null,null,null,null,"_","_","_","_",null,"_","_","_","_","_","_"]
[null,null,null,null,null,null,"_","_","_","_",null,"_","_","_","_","_","_"]
[null,null,null,null,null,null,"_","_","_","_",null,"_","_","_","_","_","_"]
[null,null,null,null,null,null,"_","_","_","_",null,"_","_","_","_","_","_"]
[null,null,null,null,null,null,"_","_","_","_",null,"_","_","_","_","_","_"]
[null,null,null,null,null,null,"_","_","_","_",null,"_","_","_","_","_","_"]
[null,null,null,null,null,null,"_","_","_","_",null,"_","_","_","_","_","_"]
[null,null,null,null,null,null,"_","_","_","_",null,"_","_","_","_","_","_"]
[null,null,null,null,null,null,"_","_","_","_",null,"_","_","_","_","_","_"]
[null,null,null,null,null,null,"_","_","_","_",null,"_","_","_","_","_","_"]
[null,null,null,null,null,null,"_","_","_","_",null,"_","_","_","_","_","_"]
[null,null,null,null,null,null,"_","_","_","_",null,"_","_","_","_","_","_"]
[null,null,null,null,null,null,"_","_","_","_",null,"_","_","_","_","_","_"]
[null,null,null,null,null,null,"_","_","_","_",null,"_","_","_","_","_","_"]
[null,null,null,null,null,null,"_","_","_","_",null,"_","_","_","_","_","_"]
[null,null,null,null,null,null,"_","_","_","_",null,"_","_","_","_","_","_"]
[null,null,null,null,null,null,"_","_","_","_",null,"_","_","_","_","_","_"]
[null,null,null,null,null,null,"_","_","_","_",null,"_","_","_","_","_","_"]
[null,null,null,null,null,null,"_","_","_","_",null,"_","_","_","_","_","_"]
[null,null,null,null,null,null,"_","_","_","_",null,"_","_","_","_","_","_"]
[null,null,null,null,null,null,"_","_","_","_",null,"_","_","_","_","_","_"]
[null,null,null,null,null,null,"_","_","_","_",null,"_","_","_","_","_","_"]
[null,null,null,null,null,null,"_","_","_","_",null,"_","_","_","_","_","_"]
[null,null,null,null,null,null,"_","_","_","_",null,"_","_","_","_","_","_"]
[null,null,null,null,null,null,"_","_","_","_",null,"_","_","_","_","_","_"]
[null,null,null,null,null,null,"_","_","_","_",null,"_","_","_","_","_","_"]
[null,null,null,null,null,null,"_","_","_","_",null,"_","_","_","_","_","_"]
[null,null,null,null,null,null,"_","_","_","_",null,"_","_","_","_","_","_"]
[null,null,null,null,null,null,"_","_","_","_",null,"_","_","_","_","_","_"]
[null,null,null,null,null,null,"_","_","_","_",null,"_","_","_","_","_","_"]
[null,null,null,null,null,null,"_","_","_","_",null,"_","_","_","_","_","_"]
[null,null,null,null,null,null,"_","_","_","_",null,"_","_","_","_","_","_"]